Workbook

Sheet Титульна сторінка
J1: Додаток 1 до Інструкції з організації обліку особового складу в системі Міністерства оборони України (пункт 3 розділ II)
K3: Гриф обмеження доступу
C7: МІНІСТЕРСТВО ОБОРОНИ УКРАЇНИ
C11: ЕЛЕКТРОННИЙ ЖУРНАЛ обліку особового складу
C14: 1 навчального батальйону | F14: в/ч А2900 | K14: 45839

Sheet 1. ШПО
A1: 2
G2: Продовження додатка 1
A3: 45778 | B3: № штату ###### | C3: 1. Штатно-посадовий облік
A4: Індекс посади | B4: Посада | C4: ШПК | D4: ВОС | E4: Тариф | F4: Звання | G4: ПРІЗВИЩЕ (за наявності) Ім'я По батькові (за наявності)
A5: 1 | B5: 2 | C5: 3 | D5: 4 | E5: 5 | F5: 6 | G5: 7
A6: УПРАВЛІННЯ
B7: Командир батальйону | C7: підполковник | D7: 0212003 | E7: 25 | F7: майор | G7: МОРОЗ Віктор Васильович
B8: Заступник командира батальйону | C8: майор | D8: 0212003 | E8: 24 | F8: капітан | G8: МАЛАШКЕВИЧ Андрій Тарасович
B9: Заступник командира батальйону з психологічної підтримки персоналу | C9: майор | D9: 3420003 | E9: 24 | F9: майор | G9: СЕМЕНІЙ Святослав Миколайович
B10: Головний сержант | C10: штаб-сержант | D10: 929982Д | E10: 18 | F10: головний сержант | G10: ВОЛОВИКОВ Євген Юрійович
B11: Інструктор з фізичної підготовки і спорту | C11: сержант | D11: 906115Д | E11: 11 | F11: солдат | G11: БЕРЕЖНИЙ Сергій Григорович
B12: Фельдшер | C12: старший сержант | D12: 879962Д | E12: 8 | F12: старший сержант | G12: ПЛАХТИНА Олена Петрівна
B13: Начальник штабу - заступник командира батальйону | C13: майор | D13: 0212003 | E13: 24 | F13: майор | G13: ДОВБИШ Володимир Володимирович
B14: Офіцер | C14: старший лейтенант | D14: 2905003
B15: Діловод | C15: старший солдат | D15: 901074Д | E15: 4/4 | F15: старший солдат | G15: ЯЛОВЕГА Юрій Вікторович
A16: 1 НАВЧАЛЬНА РОТА
B17: Командир роти - старший викладач | C17: майор | D17: 0212003 | E17: 20 | F17: капітан | G17: СТЕПАНЮК Дмитро Миколайович
B18: Заступник командира роти з психологічної підтримки персоналу | C18: капітан | D18: 3420003 | E18: 19 | F18: лейтенант | G18: ДЕМЯНЧУК Наталія Василівна
B19: Сержант - інструктор | C19: головний сержант | D19: 100657Д | E19: 12 | F19: сержант | G19: ПОТАПОВ Олександр Євгенович
B20: Сержант з матеріального забезпечення | C20: старший сержант | D20: 787089Д | E20: 10 | F20: старший сержант | G20: КАРПУК Богдан Михайлович
B21: Інструктор із тактичної медицини | C21: сержант | D21: 878127Д | E21: 6/5
B22: Інструктор | C22: Старший сержант | D22: 100119Д | E22: 11/6 | F22: молодший сержант | G22: ЧЕРНЕНКО Андрій Юрійович
B23: Інструктор | C23: Старший сержант | D23: 100119Д | E23: 11/6 | F23: сержант | G23: ВАСИЛЮК Андрій Васильович
B24: Інструктор | C24: Старший сержант | D24: 100119Д | E24: 11/6 | F24: сержант | G24: ПРОСТАПЧУК Валентин Іванович
B25: Інструктор | C25: Старший сержант | D25: 100119Д | E25: 11/6 | F25: сержант | G25: КАЗАКОВ Євген Іванович
B26: Інструктор | C26: Старший сержант | D26: 100119Д | E26: 11/6 | F26: старший сержант | G26: ШИМАНСЬКИЙ Георгій Георгійович
B27: Інструктор | C27: Старший сержант | D27: 100119Д | E27: 11/6 | F27: старший сержант | G27: ДІДОВЕЦЬ Дмитро Юрійович
B28: Інструктор | C28: Старший сержант | D28: 100119Д | E28: 11/6 | F28: сержант | G28: ВОЛЧКОВ Віктор Вікторович
B29: Інструктор | C29: Старший сержант | D29: 100119Д | E29: 11/6 | F29: молодший сержант | G29: ІВАНЧІКОВ Андрій Андрійович
B30: Інструктор | C30: Старший сержант | D30: 100119Д | E30: 11/6 | F30: сержант | G30: КОВАЛЬЧУК Андрій Леонідович
B31: 1 навчальний взвод | C31: п | D31: п | E31: п | F31: п | G31: п
B32: Командир взводу-викладач | C32: Капітан | D32: 0212003 | E32: 13 | F32: старший сержант | G32: БОРОДАВКІН Микола Михайлович
B33: Головний сержант | C33: Старший сержант | D33: 100975Д | E33: 9
B34: 2 навчальний взвод | C34: п | D34: п | E34: п | F34: п | G34: п
B35: Командир взводу-викладач | C35: Капітан | D35: 0212003 | E35: 13 | F35: молодший лейтенант | G35: ГЕНЗЕЛЬ Богдан Васильович
B36: Головний сержант | C36: Старший сержант | D36: 100975Д | E36: 9 | F36: солдат | G36: ЗЕНЧЕНКО Олександр Миколайович
B37: 3 навчальний взвод | C37: п | D37: п | E37: п | F37: п | G37: п
B38: Командир взводу-викладач | C38: Капітан | D38: 0212003 | E38: 13 | F38: лейтенант | G38: БРИГА Олександр Геннадійович
B39: Головний сержант | C39: Старший сержант | D39: 100975Д | E39: 9 | F39: солдат | G39: ЖУРАВЕЛЬ Ігор Юрійович
B40: 4 навчальний взвод | C40: п | D40: п | E40: п | F40: п | G40: п
B41: Командир взводу-викладач | C41: Капітан | D41: 0212003 | E41: 13 | F41: капітан | G41: МЕРКУЛОВ Богдан Юрійович
B42: Головний сержант | C42: Старший сержант | D42: 100975Д | E42: 9 | F42: старший сержант | G42: АВГУСТОВИЧ Олександр Олександрович
B43: 5 навчальний взвод | C43: п | D43: п | E43: п | F43: п | G43: п
B44: Командир взводу-викладач | C44: Капітан | D44: 0212003 | E44: 13
B45: Головний сержант | C45: Старший сержант | D45: 100975Д | E45: 9 | F45: солдат | G45: ПОДОПРИГОРА Олександр Васильович
B46: 6 навчальний взвод | C46: п | D46: п | E46: п | F46: п | G46: п
B47: Командир взводу-викладач | C47: Капітан | D47: 0212003 | E47: 13 | F47: старший лейтенант | G47: ШЕРЕМЕТА Олег Андрійович
B48: Головний сержант | C48: Старший сержант | D48: 100975Д | E48: 9 | F48: молодший сержант | G48: МИНАЙЛЮК Ігор Миколайович
B49: 7 навчальний взвод | C49: п | D49: п | E49: п | F49: п | G49: п
B50: Командир взводу-викладач | C50: Капітан | D50: 0212003 | E50: 13 | F50: капітан | G50: БАШИНСЬКИЙ Павло Миколайович
B51: Головний сержант | C51: Старший сержант | D51: 100975Д | E51: 9
A52: 2 НАВЧАЛЬНА РОТА
B53: Командир роти - старший викладач | C53: майор | D53: 0212003 | E53: 20 | F53: молодший лейтенант | G53: ГУБРЕНКО Роман Тарасович
B54: Заступник командира роти з психологічної підтримки персоналу | C54: капітан | D54: 3420003 | E54: 19 | F54: лейтенант | G54: БАРТКО Сергій Сергійович
B55: Сержант - інструктор | C55: головний сержант | D55: 100657Д | E55: 12 | F55: сержант | G55: БОЛЬШАКОВ Антон Юрійович
B56: Сержант з матеріального забезпечення | C56: старший сержант | D56: 787089Д | E56: 10 | F56: старший солдат | G56: БОБОШКО Юрій Вікторович
B57: Інструктор із тактичної медицини | C57: сержант | D57: 878127Д | E57: 6/5 | F57: солдат | G57: ВІЛІВАЛЬД Дмитро Євгенович
B58: Інструктор | C58: Старший сержант | D58: 100119Д | E58: 11/6 | F58: молодший сержант | G58: ПАВЛИШ Олег Григорович
B59: Інструктор | C59: Старший сержант | D59: 100119Д | E59: 11/6 | F59: молодший сержант | G59: КУЛИК Андрій Петрович
B60: Інструктор | C60: Старший сержант | D60: 100119Д | E60: 11/6 | F60: молодший сержант | G60: СПІВАК Віктор Вікторович
B61: Інструктор | C61: Старший сержант | D61: 100119Д | E61: 11/6 | F61: майстер-сержант | G61: ЮЩИШИН Ігор Дмитрович
B62: Інструктор | C62: Старший сержант | D62: 100119Д | E62: 11/6 | F62: старший сержант | G62: ТХОРЖЕВСЬКИЙ Андрій Ігорович
B63: Інструктор | C63: Старший сержант | D63: 100119Д | E63: 11/6 | F63: молодший сержант | G63: ХАРЧЕНКО Юрій Миколайович
B64: Інструктор | C64: Старший сержант | D64: 100119Д | E64: 11/6 | F64: солдат | G64: МЕЛЬНИКОВИЧ Михайло Михайлович
... B68: Командир взводу-викладач | C68: Капітан | D68: 0212003 | E68: 13 | F68: молодший лейтенант | G68: ДМИТРИШИН Сергій Вікторович
B69: Головний сержант | C69: Старший сержант | D69: 100975Д | E69: 9 | F69: молодший сержант | G69: РОЖОВЕЦЬКИЙ Дмитро Миколайович
B70: 2 навчальний взвод | C70: п | D70: п | E70: п | F70: п | G70: п
B71: Командир взводу-викладач | C71: Капітан | D71: 0212003 | E71: 13
B72: Головний сержант | C72: Старший сержант | D72: 100975Д | E72: 9 | F72: солдат | G72: КУЧЕРЕНКО Олександр Васильович
B73: 3 навчальний взвод | C73: п | D73: п | E73: п | F73: п | G73: п
B74: Командир взводу-викладач | C74: Капітан | D74: 0212003 | E74: 13
B75: Головний сержант | C75: Старший сержант | D75: 100975Д | E75: 9 | F75: молодший сержант | G75: СОЛОМКО Микола Васильович
B76: 4 навчальний взвод | C76: п | D76: п | E76: п | F76: п | G76: п
B77: Командир взводу-викладач | C77: Капітан | D77: 0212003 | E77: 13
B78: Головний сержант | C78: Старший сержант | D78: 100975Д | E78: 9 | F78: солдат | G78: ЛИСАЙЧУК Артем Олександрович
B79: 5 навчальний взвод | C79: п | D79: п | E79: п | F79: п | G79: п
B80: Командир взводу-викладач | C80: Капітан | D80: 0212003 | E80: 13
B81: Головний сержант | C81: Старший сержант | D81: 100975Д | E81: 9 | F81: молодший сержант | G81: САВОТЧЕНКО Ігор Петрович
B82: 6 навчальний взвод | C82: п | D82: п | E82: п | F82: п | G82: п
B83: Командир взводу-викладач | C83: Капітан | D83: 0212003 | E83: 13
B84: Головний сержант | C84: Старший сержант | D84: 100975Д | E84: 9 | F84: старший солдат | G84: ПРУТ Микола Анатолійович
B85: 7 навчальний взвод | C85: п | D85: п | E85: п | F85: п | G85: п
B86: Командир взводу-викладач | C86: Капітан | D86: 0212003 | E86: 13 | F86: капітан | G86: МЕДИНСЬКИЙ Андрій Ігорович
B87: Головний сержант | C87: Старший сержант | D87: 100975Д | E87: 9
A88: 3 НАВЧАЛЬНА РОТА
B89: Командир роти - старший викладач | C89: майор | D89: 0212003 | E89: 20 | F89: лейтенант | G89: БОРБЛИК Владислав Миколайович
B90: Заступник командира роти з психологічної підтримки персоналу | C90: капітан | D90: 3420003 | E90: 19 | F90: лейтенант | G90: СТЕПАНСЬКИЙ Анатолій Анатолійович
B91: Сержант - інструктор | C91: головний сержант | D91: 100657Д | E91: 12 | F91: сержант | G91: ЖОЛУДЄВ Костянтин Олександрович
B92: Сержант з матеріального забезпечення | C92: старший сержант | D92: 787089Д | E92: 10 | F92: головний сержант | G92: БІЛЯНЦЕВ Іван Генадійович
B93: Інструктор із тактичної медицини | C93: сержант | D93: 878127Д | E93: 6/5 | F93: солдат | G93: БУКРЕНЬОВ Дмитро Юрійович
B94: Інструктор | C94: Старший сержант | D94: 100119Д | E94: 11/6 | F94: молодший сержант | G94: МУРАШЕВСЬКИЙ Михайло Сергійович
B95: Інструктор | C95: Старший сержант | D95: 100119Д | E95: 11/6 | F95: молодший сержант | G95: МИРОНЮКОлександр Васильович
B96: Інструктор | C96: Старший сержант | D96: 100119Д | E96: 11/6 | F96: молодший сержант | G96: МИХАЙЛИШИН Андрій Вікторович
B97: Інструктор | C97: Старший сержант | D97: 100119Д | E97: 11/6 | F97: сержант | G97: ЦАРАЛУНГА Денис Дмитрович
B98: Інструктор | C98: Старший сержант | D98: 100119Д | E98: 11/6 | F98: сержант | G98: ДЕСЯТНИК Олександр Вікторович
B99: Інструктор | C99: Старший сержант | D99: 100119Д | E99: 11/6 | F99: молодший сержант | G99: БАТАНОВ Іван Сергійович
B100: Інструктор | C100: Старший сержант | D100: 100119Д | E100: 11/6 | F100: старший сержант | G100: КОСТЯНЕЦЬ Роман Іванович
... B104: Командир взводу-викладач | C104: Капітан | D104: 0212003 | E104: 13 | F104: молодший лейтенант | G104: МЄЩАНІН Євген Миколайович
B105: Головний сержант | C105: Старший сержант | D105: 100975Д | E105: 9 | F105: сержант | G105: КАРМАЗІН Роман Петрович
B106: 2 навчальний взвод | C106: п | D106: п | E106: п | F106: п | G106: п
...

Sheet 2. ООС
A1: 3
Z2: Продовження додатка 1
A3: 45809 | B3: 2. Облік особового складу
A4: Звання | B4: ПРІЗВИЩЕ (за наявності) Ім'я По батькові (за наявності) | C4: Індекс посади / Індексм посад, які обіймав(ла) | D4: Дати прийняття посади / посад | E4: Звідки прибув | F4: Дата зарахування до списків частини | G4: Наказ про зарахування до списків (дата і номер) | I4: Наказ, на призначення на посаду (дата, чий і номер) | K4: Наказ, на присвоєння останнього звання (дата, чий і номер) | M4: Вид служби | N4: Дата укладання контракту | O4: Дата закінчення контракту / Період призову (для базової військової служби) | P4: РНОКПП (за наявності) | Q4: Серія (за наявності) і номер документа, що посвідчує особу та назва документа | S4: Дата народження | T4: Місце народження | U4: Стать | V4: Ким і коли призваний (прийнятий) на військову службу | X4: Освіта | Y4: Дані про родичів | Z4: Додаткова інформація
A5: =MAX('1. ШПО'!5:5)+1 -> 8 | B5: =A5+1 -> 9 | C5: =B5+1 -> 10 | D5: =C5+1 -> 11 | E5: =D5+1 -> 12 | F5: =E5+1 -> 13 | G5: =F5+1 -> 14 | I5: =G5+1 -> 15 | K5: =I5+1 -> 16 | M5: =K5+1 -> 17 | N5: =M5+1 -> 18 | O5: =N5+1 -> 19 | P5: =O5+1 -> 20 | Q5: =P5+1 -> 21 | S5: =Q5+1 -> 22 | T5: =S5+1 -> 23 | U5: =T5+1 -> 24 | V5: =U5+1 -> 25 | X5: =V5+1 -> 26 | Y5: =X5+1 -> 27 | Z5: =Y5+1 -> 28
A6: майор | B6: МОРОЗ Віктор Васильович | D6: 45584 | F6: 45584 | G6: 45584 | H6: № 336 | M6: мобілізація | P6: 2950618298 | Q6: ЕО492995 | R6: паспорт | S6: 29507 | T6: м.Миколіїв | U6: Ч | V6: Дубенським РТЦК та СП | W6: 44621 | Y6: Одружений: | Z6: 380675785313
A7: майор | B7: ВАСИЛЮК Дмитро Васильович | D7: … | E7: А0224 | F7: 45425 | G7: 45425 | H7: № 119 | M7: контракт | P7: 3537507811 | Q7: УК №241786 | R7: військовий квиток | S7: 35376 | U7: Ч | V7: Приморським РВК Одеської обл. | W7: 42976 | X7: Вища. Військова. м. Одеса | Y7: Дружина: Василюк Світлана Сергіївна. 05.11.1998. м.Житомир | Z7: 380966855391
A8: майор | B8: СЕМЕНІЙ Святослав Миколайович | D8: 16.08.2024 04.03.2022 | E8: Житомирський ОМТЦК та СП | F8: 44624 | G8: 44624 | H8: № 49 | I8: 45597 | J8: в/ч А2900 16.08.2024. № 252 | K8: 45597 | L8: КДШВ ЗСУ 11.09.2019. № 107 | M8: мобілізація | N8: - | O8: - | P8: 2963715775 | Q8: ВМ 416744 УК 241332 | R8: паспорт посвідчення офіцера | S8: 29638 | T8: Житомирська обл. Володарсько-Волинський р-н. с. Гацьківка | U8: Ч | V8: Житомирським ОМТЦК та СП | W8: 44624 | X8: Вища Чернігівське юридичне училище Державного департаменту України з питань виконання покарань | Y8: Дружина - Оксана Іваненко Житомирська обл., м. Коростень (068)6558441 | Z8: 380934492116
A9: старший лейтенант | B9: ГОРКУН Олександра Вікторівна | E9: ВІКНУ | M9: контракт | P9: 3496904540 | Q9: 1275034 | R9: паспорт | S9: 34970 | T9: м. Діпропетровськ | U9: Ж | V9: Шевченківський РТЦК та СП | W9: 42538 | X9: Вища ВІКНУ | Y9: Мати - Галина Кущенко Батько - Віктор Кущенко м.Дніпро вул.Василя Сліпака, буд. 25 кв.10 0631911610 | Z9: 380932255893
A10: головний сержант | B10: ВОЛОВИКОВ Євген Юрійович | D10: 45327 | E10: А2900 | F10: 45327 | G10: 45327 | H10: № 36 | I10: 45327 | J10: № 36 | K10: 45642 | L10: Командира в/ч А2900 № 275-РС | M10: контракт | P10: 3405000633 | Q10: 005813679 АВ365862 | R10: паспорт військовий квиток | S10: 34051 | T10: Донецька обл., м. Горлівка, бульвар Демитрова, буд. 39, кв. 13 | U10: Ч | V10: Констянтинівським ОМТЦК та СП Донецької обл | W10: 44321 | X10: Середня-спеціальна. Горлівське Вище професійне училище | Y10: Не одружений. Мати. Воловикова Інна Володимирівна. м. Слов'янськ вул. Світла Дарська 9. кв. 57 | Z10: 380933950725
A11: старший сержант | B11: ПЛАХТИНА Олена Петрівна | D11: 45716 | E11: А1910 | F11: 44414 | G11: 44414 | H11: № 157 | I11: 44414 | J11: в/ч А2900 06.08.2021. № 157 | K11: 38699 | L11: Командира в/ч А1910 № 257-РС | M11: контракт | N11: - | O11: - | P11: 2951408780 | Q11: ВН642133 МО529213 | R11: паспорт військовий квиток | S11: 29515 | T11: Житомирська обл. Чуднівський р-н с.Красногірка | U11: Ж | V11: Житомирським МВК | W11: 37853 | X11: Вища. Житомирський військовий інститут імені Корольова | Y11: Розлучена. Мама- Кравець Євгенія Дмитрівна. Житомирська обл. Чуднвааський р-н смт. Вакулинчук буд 28кв28 тел.0687232915 | Z11: 0977045992 0632697699
A12: майор | B12: ДОВБИШ Володимир Володимирович | D12: 45117 | E12: А2900 | G12: 45117 | H12: № 159 | I12: 45117 | J12: в/ч А2900 № 169 | K12: 45470 | L12: Командира в/ч А2900 № 168-РС | M12: контракт | P12: 3338218755 | Q12: №251122 | R12: посвідчення офіцера | S12: 33383 | T12: Житомирська обл. Житомирський р-н., с. Левків | U12: Ч | V12: Житомирським ОМТЦК та СП | W12: 42516 | X12: Вища. Віськова. Львівська академія сухопутніх військ | Y12: Розлучений. Житомирська обл. Житомирський р-н., с.Левків вул. Івана Мазепи 92А | Z12: 380634301644
A13: Старший солдат | B13: ЯЛОВЕГА Юрій Вікторович | D13: 45507 | E13: Полтавський ОМТЦК та СП | F13: 45470 | G13: 45470 | H13: № 183 | I13: 45507 | J13: в/ч А2900 № 223 | K13: 45631 | L13: Командира в/ч А2900 № 264-РС | M13: мобілізація | P13: 3700408434 | Q13: 006003158 АГ049699 | R13: паспорт військовий квиток | S13: 37005 | T13: с. Удовиченки Зінківський р-н, Полтавська обл. | U13: Ч | V13: Полтавський ОМТЦК та СП | W13: 45469 | X13: Вища Національний університет Полтавська Політехніка імені Юрія Кондратюка | Y13: Дружина - Яловега Анастасія Олександрівна м.Полтава, прос.Віталія Грицаєнка 27 | Z13: 380664255072
A14: капітан | B14: СТЕПАНЮК Дмитро Миколайович | D14: 10.07.2023 №169 | E14: В/Ч А4350 | F14: 44910 | G14: 44910 | H14: №316 | I14: 45117 | J14: №169 | K14: 45552 | L14: №296 | M14: мобілізація | N14: _ | O14: _ | Q14: УК № 283288 | R14: посвідчення офіцера | S14: 31295 | T14: Вінецька обл. С.Свитинці | U14: Ч | V14: Погребищенським РТЦК та СП | W14: 44734 | X14: Вища КНТУ | Y14: Мати - Степанюк Галина Єфремівна, Вінецька обл. с.Свитинці, вул. Ковалівна 4 | Z14: н 380977401325
A15: лейтенант | B15: ДЕМЯНЧУК Наталія Василівна | D15: 14.11.2024 №370 | E15: Чуднівський РТЦК та СП | F15: 42536 | G15: 42536 | I15: 45610 | J15: №370 | K15: 45529 | L15: №265 | M15: Контракт | N15: 45163 | O15: 46990 | P15: 3191813887 | Q15: УК № 334128 | R15: посвідчення офіцера | S15: 31919 | T15: Житомирська обл. м. Чуднів | U15: Ж | V15: Чуднівський РТЦК та СП | X15: Вища , ЖПУ | Y15: Мати - Кротюк Світлана Василівна , Житомирська обл. , Житомирський рн. , с. Бабушки , вул.Центральна 41 | Z15: н 380977427783
A16: сержант | B16: ПОТАПОВ Олександр Євгенович | D16: 45645 | E16: В/Ч 2582 | F16: 44665 | G16: 45030 | H16: №99 | I16: 45645 | K16: 45652 | L16: №286 | M16: контракт | N16: 45044 | P16: 3725107391 | Q16: АВ 536435 | R16: військовий квиток | S16: 12.27.2001 | T16: м.Приморськ Запоріжської обл | U16: Ч | V16: Приморським РТЦК та СП | W16: 44393 | X16: Середня технічна | Y16: дружина Потапова Ганна Юрієвна М.Житомир вул.старий бульвар 6 кв26 | Z16: _
A17: старший сержант | B17: КАРПУК Богдан Михайлович | E17: А7021 | K17: 37379 | L17: №103 | M17: мобілізація | N17: _ | O17: _ | P17: 3000119857 | Q17: МО493792 | R17: військовий квиток | S17: 30002 | T17: Житомирська обл. , с. Серби | U17: Ч | V17: Ємельчинським РТЦК та СП | W17: 44623 | X17: Середня спеціальна , Машинобудівний технікум | Y17: Дружина - Карпук Ольга Володимирівна , м. Житомир , вул. Бориса Тена 99 , 380987987251 | Z17: н 380508344001
A18: сержант | B18: ВАСИЛЮК Андрій Васильович | D18: 27.08.2024 №246 | E18: 1 відділ Вараського РТЦК та СП | F18: 45531 | G18: 27.08.2024 | I18: 45531 | J18: №246 | K18: 45652 | L18: №286РС | M18: мобілізація | N18: _ | O18: _ | P18: 3725506292 | Q18: АВ624948 | R18: військовий квиток | S18: 37256 | T18: Рівненська обл., с. Володимирець | U18: Ч | V18: 1 відділ Вараського РТЦК та СП | W18: 45531 | X18: Середня-спеціальна | Y18: _ | Z18: Н 380509924716
A19: сержант | B19: БОРОДАВКІН Микола Михайлович | D19: 45371 | E19: Деснянський РТЦК та СП м.Києва | F19: 45007 | G19: 45007 | H19: №82 | I19: 45371 | J19: №80 | K19: 45652 | L19: 286 | M19: контракт | N19: 43913 | O19: 45008 | P19: 3340416053 | Q19: СО №514802 | R19: військовий квиток | S19: 33405 | T19: Казахстанська СРСР, Тургайська обл., Аркаликський р-н, с.Сариузен | U19: Ч | V19: Деснянським РВК м.Києва | W19: 43913 | X19: Середня спеціальна, ПТУ№5 м.Біла Церква | Y19: Дружина_ СЕМЕНОВА Євгенія Олександрівна, м. Київ, вул. Путивльська 42, кв.47, тел-0936634823 | Z19: н 380939143706
A20: солдат | B20: ЧЕРНЕНКО Андрій Юрійович | D20: 26.02.2025 №58 | E20: Житомирський ОМТЦК та СП | F20: 45714 | G20: 45714 | I20: 45714 | J20: №58 | K20: 40505 | L20: №93 | M20: мобілізація | N20: _ | O20: _ | P20: 3139101050 | Q20: АГ078097 | R20: військовий квиток | S20: 31392 | T20: Одеська обл., Білгород-Дністровський р-н, с. Шабо | U20: Ч | V20: Житомирський ОМТЦК та СП | W20: 45714 | X20: Середня технічна | Y20: Дружина - Черненко Ліля Сергійовна, м. Житомир, вул. Лесі Українки, буд. 63, кв. 47, 0964335049 | Z20: Н 380961426877
A21: старший сержант | B21: СУСЛЕНКО Сергій Володимирович | D21: 16.11.2021 , № 236 | E21: В/Ч А2900 | F21: 43250 | G21: 43250 | H21: №128 | I21: 44516 | J21: № 236 | K21: 44428 | L21: №3916 | M21: Контракт | N21: 43250 | O21: 44711 | P21: 3111921776 | Q21: МО749563 | R21: військовий квиток | S21: 31120 | T21: Житомирська обл. , с.Симаківка | U21: Ч | V21: Ємільчинським РТЦК та СП | W21: 43250 | X21: Молодший спеціаліст , Житомирський автомобільно-дорожній коледж | Y21: Мати - Сусленко Майя Миколаївна , Житомирська обл. , с.Симаківка. Вул.1 Травня буд.27 , н 3800974752517 | Z21: н 380638112809
A22: капітан | B22: МЕРКУЛОВ Богдан Юрійович | D22: 26.03.2024 , №73 | E22: А2582 | F22: 45377 | G22: 45377 | H22: №73 | I22: 45377 | J22: №73 | K22: 44761 | L22: №130 | M22: Контракт | N22: 43253 | O22: 45079 | P22: 3545608416 | Q22: УК №1044797 | R22: посвідчення офіцера | S22: 35457 | T22: Житомирська обл. , м. Житомир | U22: Ч | V22: Житомирський ОМВК та СП | W22: 41835 | X22: Виша , НАСВ | Y22: Мати - Меркулова Жанна Олександрівна , м. Житомир , вул. Саєнка 128 буд.3, 380972514981 | Z22: н 380994161700
A23: молодший сержант | B23: ПРОСТАПЧУК Валентин Іванович | D23: 21.06.2024 №150 | E23: В/ч А2120 | F23: 45072 | G23: 45072 | H23: №150 | I23: 45464 | J23: №177 | K23: 45652 | L23: №286 | M23: мобілізація | N23: _ | O23: _ | P23: 3625111574 | Q23: АВ378396 | R23: військовий квиток | S23: 36252 | T23: Хмельницька область село Марачівка | U23: Ч | V23: Шепетівським РТЦК та СП | W23: 44760 | X23: середня спеціальна , Острозьке ВПУ | Y23: Простапчук Наталя Володимирівна Хмельницька область місто Славута вулиця Сокола 1А/43 | Z23: н 380983781045
A24: молодший сержант | B24: КАЗАКОВ Євген Іванович | D24: 44776 | E24: А2120 | F24: 44776 | G24: 44776 | H24: №205 | K24: 45308 | L24: №101 | M24: мобілізація | N24: _ | O24: _ | P24: 3238115012 | Q24: АВ076567 | R24: військовий квиток | S24: 32382 | T24: М. Вінниця | U24: Ч | V24: Вінницьким ОМ ТЦК та СП | W24: 44620 | X24: Вища, Вінницький Державний Педагогічний Університет | Y24: Батько - Казаков Іван Миколайович, м. Вінниця, вул. Ширшова, буд. 16, кв. 79 | Z24: н 38097521 98 84
A25: молодший лейтенант | B25: ГЕНЗЕЛЬ Богдан Васильович | E25: А0310 | F25: 45224 | G25: 45224 | H25: №306 | K25: 45730 | L25: №245 | M25: мобілізація | N25: _ | O25: _ | P25: 3324413571 | Q25: ВН387570 | R25: Паспорт | S25: 33245 | T25: Хжитомирська обл. с.Йосипівка | U25: Ч | V25: Чуднівсько-Любарським РТЦК та СП | W25: 44636 | X25: Вища , ПУЕТ | Y25: Дружина - Гензель Тетяна Василівна , Житомирська обл. смт.Новогуйвінське, вул. Центральна 1а, 38068052575 | Z25: н 380960576993
A26: старший сержант | B26: ШИМАНСЬКИЙ Георгій Георгійович | D26: 21.08.2024 №240 | E26: А0310 | F26: 45525 | G26: 45525 | H26: №240 | I26: 45525 | J26: №240 | K26: 45563 | L26: №190 | M26: мобілізація | N26: _ | O26: _ | P26: 2906511931 | Q26: МО121658 | R26: військовий квиток | S26: 29066 | T26: Житомирська обл. м.Житомир | U26: Ч | V26: Житомирським РТЦК та СП | W26: 44617 | X26: Середня , СПТУ №6 | Y26: Дружина - ШИМАНСЬКА Ольга лЕонідівна , м. Житомир , вул.Чуднівська 102 к.31 , 380634631304 | Z26: н 380931620845
A27: молодший сержант | B27: ВОЛЧКОВ Віктор Вікторович | D27: 26.11.2024 №337 | E27: А0641 | F27: 45622 | G27: 45622 | H27: №337 | I27: 45622 | J27: №337 | K27: 42332 | L27: №370 | M27: контракт | N27: 44209 | O27: 44939 | P27: 3263802633 | Q27: СО247146 | R27: військовий квиток | S27: 32639 | T27: Донецька обл., м. Селидове | U27: Ч | V27: Красноармійсько-селідовським РВК | W27: 39554 | X27: Середня | Y27: _ | Z27: н 380663010203
A28: старший солдат | B28: ІВАНЧІКОВ Андрій Андрійович | D28: 17.03.2025 №77 | E28: А4674 | F28: 45733 | I28: 45733 | J28: №77 | K28: 45045 | L28: №16РС | M28: контракт | N28: 43979 | O28: 45074 | P28: 3705909736 | Q28: АВ513458 | R28: військовий квиток | S28: 37060 | T28: Луганська обл., с. Вільхове | U28: Ч | V28: Біловодський РВК | W28: 43976 | X28: Середня, вища незакінчена | Y28: Мати - Іванчікова Тетяна Олексіївна, м. Харків, пров. Шевченківський, буд. 40, кв. 132, 0955393946 | Z28: н 380506156554
A29: капітан | B29: БАШИНСЬКИЙ Павло Миколайович | D29: 27.02.2023 №38 | E29: А7021 | I29: 44984 | J29: №38 | K29: 45544 | L29: №285 | M29: Мобілізація | N29: _ | O29: _ | P29: 3333719458 | Q29: УК № 241308 | R29: посвідчення офіцера | S29: 33338 | T29: Житомирська обл. м. Коростень | U29: Ч | V29: Коростинським РТЦК та СП | W29: 44623 | X29: Вища , ДУЖП | Y29: Мати - Башинська Галина Анатоліївна , Житомирська обл. , с. Поліське , вул. Краснопільська буд.6 , 380969079367 | Z29: н 380967053512
A30: молодший сержант | B30: КОВАЛЬЧУК Андрій Леонідович | D30: 05.03.2025 №65 | E30: А7306 | F30: 45721 | G30: 45721 | H30: №65 | I30: 45721 | J30: №65 | K30: 45323 | L30: №31-рс | M30: мобілізація | N30: _ | O30: _ | P30: 3406308178 | Q30: АВ725243 | R30: військовий квиток | S30: 34064 | T30: Житомирська обл., смт. Першотравенськ | U30: Ч | V30: Новоград-Волинським РТЦК та СП | W30: 44616 | X30: середня спеціальна ,Житомирський ВПУ | Y30: Сестра - Калюжникова Аліна Вікторівна , Житомирська м. Баранівка, вул Соборна 47 кв1 380968906895 | Z30: н 380951809466
A31: старший сержант | B31: АВГУСТОВИЧ Олександр Олександрович | D31: 07.03.2022 №52 | E31: Житомирським ОМТЦК та СП | F31: 44627 | G31: 44627 | H31: №52 | I31: 44627 | J31: №52 | K31: немає запису | L31: немає запису | M31: Мобілізація | N31: _ | O31: _ | P31: 3340117097 | Q31: АВ179358 | R31: військовий квиток | S31: 33402 | T31: Житомирська обл. , с.Тетерівка | U31: Ч | V31: Житомирським ОМТЦК та СП | W31: 44627 | X31: середня | Y31: Батько - Августович Олександр Миколайович , Житомирська обл. , с. Тетерівка , пр. Третій Поліський 2 , 380979234804 | Z31: н 380635489403
A32: Капітан | B32: МАЛАШКЕВИЧ Андрій Тарасович | D32: 45568 | E32: в/ч А0281 | F32: 45447 | G32: 45447 | H32: №150 | I32: 45568 | J32: КДШВ №318 | K32: 45492 | L32: КДШВ ЗСУ №207 | M32: контракт | N32: 44063 | O32: 45889 | P32: 3504908916 | Q32: 007771980 | R32: паспорт | S32: 35050 | T32: смт. Миропіль, Житомирська обл. | U32: Ч | V32: Романівським РТЦК та СП | W32: 42412 | X32: вища, ПДУіГС | Y32: мати: Случіч Наталія Михайлівна, Житомирська обл., смт Міропіль, вул. Паркова, 2а, кв1 | Z32: 0671672195
A33: Лейтенант | B33: БАРТКО Сергій Сергійович | D33: 45610 | E33: А0339 | F33: 45520 | G33: 45520 | H33: №252 | I33: 45610 | J33: КДШВ №370 | K33: 45894 | L33: КДШВ №265 | M33: мобілізація | N33: - | O33: - | P33: 3156619697 | Q33: 008260920 | R33: паспорт | S33: 31567 | T33: смт. Вовковинці, Хмельницька обл. | U33: Ч | V33: ІІІ відділом Хмельницького РТЦК та Сп м. Деражня | W33: 06.2023 | X33: вища, ВІКНУ, 2023 | Y33: дружина - Бартко Віталія Ігорівна. Адреса проживання: Хмельницька обл., м. Деражня вул. Соломчука 6, кв.5 | Z33: 0633145312
A34: Старший сержант | B34: БОЛЬШАКОВ Антон Юрійович | D34: 45308 | E34: А1493 | F34: 44868 | G34: 44868 | H34: №297 | I34: 45308 | J34: А2900 №17 | K34: 45696 | L34: в/ч А2900 №4-РС | M34: контракт | N34: 44047 | O34: 45142 | P34: 3626801771 | Q34: АВ 719996 | R34: військовий квиток | S34: 36269 | T34: м. Селидове, Донецька обл. | U34: Ч | V34: Полтавським РВК | W34: 44049 | X34: вища, ДНТУ, гор. інженер, 2021 | Y34: дружина: Большакова Юлія Анатоліївна, м. Житомир, вул. Корольова, 44 кв 20 | Z34: 0631879947
A35: Старший солдат | B35: БОБОШКО Юрій Вікторович | D35: 45542 | E35: Черкаським РТЦК та СП, м. Черкаси. | F35: 45482 | G35: 45482 | H35: №191 | I35: 45542 | J35: в/ч А2900 №257 | K35: 41326 | L35: в/ч А3990 №47 | M35: мобілізація | N35: - | O35: - | P35: 3294316692 | Q35: МО 567007 | R35: військовий квиток | S35: 32944 | T35: м. Черкаси | U35: Ч | V35: Черкаським РТЦК та СП, м. Черкаси. | W35: 41190 | X35: вища, ЧАПБ, 2012 | Y35: дружина: Зайцева Катерина Володимирівна, м. Черкаси, пров. Матросова, буд 80 кв 1 0734057944 | Z35: 0930423929
A36: солдат | B36: ВІЛІВАЛЬД Дмитро Євгенович | D36: 45597 | E36: Київський РТЦК та СП м. Харкова | F36: 45535 | G36: 45535 | H36: №250 | I36: 45597 | J36: в/ч А2900 №312 | K36: 45534 | L36: РТЦК та СП №229 | M36: мобілізація | N36: - | O36: - | P36: 3443814810 | Q36: АГ 551339 | R36: військовий квиток | S36: 34439 | T36: м.Тернівка, Дніпропетровська обл. | U36: Ч | V36: Київський РТЦК, м. Харкова | W36: 45534 | X36: вища, МФУ України, провізор, 2017 | Y36: батько: Вілівальд Євген Євгенович, м. Харків, вул. Валентинівська, 13в кв 66 | Z36: 0951406647
A37: молодший сержант | B37: ДЕРКАЧ Ілля Володимирович | D37: 45695 | E37: А2298 | F37: 45695 | G37: 45695 | H37: №39 | I37: 45695 | J37: в/ч А2900 №39 | M37: мобілізація | N37: - | O37: - | P37: 3357110437 | Q37: 004505953 | R37: паспорт | S37: 33572 | T37: смт. Баришівка, Київська обл. | U37: Ч | V37: 2-й відділ Броварського РТЦК та СП | W37: 44757 | X37: вища, МАУ упр. Перс. 2017 | Y37: мати: Деркач Роза Багітовна, Київська обл., смт. Баришівка, пров. Воздвиженський 4 | Z37: 0990963126
A38: молодший сержант | B38: ПАВЛИШ Олег Григорович | D38: 45590 | E38: А0284 | F38: 45590 | G38: 45590 | H38: №305 | I38: 45590 | J38: в/ч А2900 №305 | K38: 40480 | L38: в/ч А3283 №238 | M38: мобілізація | N38: - | O38: - | P38: 3343709038 | Q38: СО 735260 | R38: військовий квиток | S38: 33438 | T38: с-ще Талаївка Чернігівська обл. | U38: Ч | V38: Прилуцьким РТЦК та СП, Чернігівська обл. | W38: 44922 | X38: сер. спец., ПТУ №14, каменщ., 2012 | Y38: дружина: Павлиш Марія Олександівна, Чернігвіська обл., Прилуцький р-н, смт.Талалаївка, вул. Мічурина, 14/1 0955884931 | Z38: 0666287232
A39: лейтенант | B39: ЩЕРБАЦЬКИЙ Сергій Олександрович | D39: 45284 | E39: А4350 | F39: 45284 | G39: 45284 | H39: №373 | I39: 45284 | J39: КДШВ №373 | K39: 45528 | L39: КДШВ ЗСУ №264 | M39: мобілізація | N39: - | O39: - | P39: 3214318789 | Q39: УК 302597 | R39: посвідчення офіцера | S39: 32382 | T39: с. Парипси, Житомирська обл. | U39: Ч | V39: Житомирським РТЦК та СП | W39: 44773 | X39: вища, ЖНАУ, інженер, 2010 | Y39: дружина: Щербацька Христина Василівна, Житомирська обл., Житомирський р-н, с. Парипси, вул. Молодіжна, 1 кв 15 | Z39: 0977708006
A40: молодший сержант | B40: КУЛИК Андрій Петрович | D40: 45537 | E40: Яворівський РТЦК та СП | F40: 45425 | G40: 45425 | H40: №137 | I40: 45537 | J40: в/ч А2900 №252 | K40: 45688 | L40: 37-РС | M40: мобілізація | N40: - | O40: - | P40: 3614409216 | Q40: АГ 206778 | R40: військовий квиток | S40: 36145 | T40: м. Львів | U40: Ч | V40: Яворівський РТЦК та СП | W40: 45422 | X40: неповна вища, стоматолог, 2017 | Y40: мати: Кулик Марія Андріївна, м. Львів, вул. Лазаренка, 38 кв 47 | Z40: 0937470763
A41: солдат | B41: ГОДЛЕВСЬКИЙ Віталій Володимирович | E41: Житомирський РТЦК та СП | F41: 45595 | G41: 45595 | H41: №310 | K41: 45482 | L41: ЖОМТЦК та СП №194 | M41: мобілізація | N41: - | O41: - | P41: 3628300372 | Q41: АВ 999419 | R41: військовий квиток | S41: 36284 | T41: м. Житомир | U41: Ч | V41: Житомирським РТЦК та СП | W41: 45594 | X41: середня спеціальна, 2017 | Y41: мати : Верещак Ірина Вікторівна м.Житомир вул . Селецька 13 кв 21 0963278670 | Z41: 80963278670
A42: молодший сержант | B42: СПІВАК Віктор Вікторович | D42: 45744 | E42: А7304 | I42: 45744 | K42: 42181 | L42: №1087 | M42: мобілізація | N42: - | O42: - | P42: 3264408514 | Q42: СО 269269 | R42: військовий квиток | S42: 32645 | T42: смт. Леніно, АР Крим | U42: Ч | V42: Білгород-Дністровським РВК Одеської обл. | W42: 39553 | X42: середня-спеціальна, Одеське Провтех училище, 2017 | Y42: Дружина: Співак Інна Миколаївна м. Житомир вул. Парникова 20 Тел.067-893-24-81 | Z42: 0987870451
A43: молодший лейтенант | B43: ГУБРЕНКО Роман Тарасович | D43: 45357 | E43: А2120 | F43: 43689 | G43: 45357 | H43: №37-РС | I43: 45357 | J43: КДШВ №37-РС | K43: 45489 | L43: КДШВ №201 | M43: контракт | N43: - | O43: - | P43: 3613302057 | Q43: УК 394831 | R43: посвідчення офіцера | S43: 36134 | T43: с. Вищий Булотець, Полтавська облю | U43: Ч | V43: Лубецький РТЦК | W43: 43689 | X43: середня спеціальна, 2019 | Y43: мати: Губренко Інна Іванівна, Полтавська обл., Лубеуький р-н, с. Вищий Булатець, 1мр, Тракторна 6. | Z43: 0666155686
A44: майстер сержант | B44: ЮЩИШИН Ігор Дмитрович | D44: 45664 | E44: Дарницький ТЦК СП м .Київ | F44: 45482 | G44: 45482 | H44: №191 | I44: 45664 | J44: в/ч А2900 №7 | K44: 45652 | L44: в/ч А2900 №216-РС | M44: мобілізація | N44: - | O44: - | P44: 2856800958 | Q44: НК 6257961 | R44: військовий квиток | S44: 28569 | T44: м. Київ | U44: Ч | V44: Харківський РВК м. Києва | W44: 35205 | X44: середня спеціальна, СПТУ №17, м. Київ, 1995 | Y44: дружина: Ющишина Ольга Володимирівна, м. Київ, просп. Червоної Калини, 79 кв 10 | Z44: 0685375555
A45: старший сержант | B45: ТХОРЖЕВСЬКИЙ Андрій Ігорович | D45: 44918 | E45: Житомирський РТЦК та СП | F45: 44643 | G45: 44643 | H45: №70 | I45: 44918 | J45: в/ч А2900 №347 | K45: 45652 | L45: в/ч А2900 №286-РС | M45: мобілізація | N45: - | O45: - | P45: 3341512398 | Q45: АВ 739134 | R45: військовий квиток | S45: 33416 | T45: м. Житомир | U45: Ч | V45: Житомирським РТЦК та СП, м. Житомир | W45: 44642 | X45: середня спеціальна, звар., 2010 | Y45: дружина: Тхожевська Валентина Вікторівна, м. Житомир, просп. Короленка 4 | Z45: 0973463423
A46: молодший лейтенант | B46: ДМИТРИШИН Сергій Вікторович | E46: А0281 | F46: 45506 | G46: 45506 | H46: №221 | M46: мобілізація | N46: - | O46: - | P46: 3324707374 | S46: 33248 | T46: с. Середи, Житомирська обл. | U46: Ч | V46: Ємільчинським РВК Житомирської області | W46: 39863 | X46: вища, ДУЖП, еколог, 2023 | Y46: дружина: Дмитришина Юлія Сергійовна, м. Житомир, проспект миру 22 | Z46: 0988176081
A47: молодший сержант | B47: ХАРЧЕНКО Юрій Миколайович | D47: 45496 | E47: А1126 | F47: 45496 | G47: 45496 | H47: №209 | I47: 45496 | J47: в/ч А2900 №209 | K47: 45688 | L47: 37-РС | M47: мобілізація | N47: - | O47: - | P47: 3325508397 | Q47: АВ 508077 | R47: військовий квиток | S47: 33256 | T47: м. Харків | U47: Ч | V47: Московський РТЦК та СП, м. Харьків | W47: 43370 | X47: середньо спеціальна, Харківське ПТУ 22, 2010 | Y47: Тітка: Савенец Ольга Олександрівна, м. Житомир, Ціолковского, 14, 0965825488 | Z47: 0996236393
A48: капітан | B48: МЕДИНСЬКИЙ Андрій Ігорович | D48: 44512 | E48: А0281 | F48: 44512 | G48: 44512 | H48: №161 | I48: 44512 | J48: КДШВ №161 | K48: 45205 | L48: КДШВ №278 | M48: мобілізація | N48: - | O48: - | P48: 3270521799 | Q48: СМ 816237 | R48: паспорт | S48: 32706 | T48: с. Сопіт, Львівська обл. | U48: Ч | V48: Бориспільсько-Баришивський РВК Київської обл. | W48: 44349 | X48: вища, НАВС, 2013 | Y48: дружина: Федюшина Тетяна Анатоліївна, м. Житомир, вул. Клосовського 14, кв. 57 | Z48: 0931990520
A49: солдат | B49: КРИВОБОК Вадим Олегович | D49: 45726 | E49: Обухівський РТЦК та СП Київської обл. | F49: 45596 | G49: 45596 | H49: №311 | I49: 45726 | J49: А2900 №70 | K49: 45035 | L49: Обухівський РТЦК та СП №153 | M49: мобілізація | N49: - | O49: - | P49: 3566006592 | Q49: АГ 177535 | R49: військовий квиток | S49: 35661 | T49: с. Іванковичі, Київська обл. | U49: Ч | V49: 1й відділ Обухівського РТЦК та СП Київської обл. | W49: 45595 | X49: повна середня, 2014 | Y49: Дружина: Кривобок Сніжана Олегівна, с. Іванковичі, вул. Соборна 100А. 0967089200 | Z49: 0978335019
A50: молодший сержант | B50: ВОЙТОВИЧ Євген Валерійович | H50: №
A51: Лейтенант | B51: БОРБЛИК Владислав Миколайович | D51: 45379 | E51: А1493 с. Терентіївка | F51: 23.08.2022 | G51: 23.08.2022 | H51: - | I51: 45379 | J51: КДШВ ЗСУ №73 | K51: 45578 | L51: КДШВ ЗСУ №330 | M51: контракт | N51: 45182 | O51: 45913 | P51: 3402808115 | Q51: 010716342 | R51: паспорт | S51: 34029 | T51: м. Полтава, Полтавська обл. | U51: Ч | V51: Полтавським ОМВК | W51: 41378 | X51: Вища. Харківський національний університет Повітряних Сил імені Івана Кожедуба | Y51: Дружина - Борблик Олександра Ігорівна. | Z51: +380977977794
A52: Лейтенант | B52: СТЕПАНСЬКИЙ Анатолій Анатолійович | D52: 45610 | E52: в/ч А0281 м. Житомир | F52: 45164 | G52: 45164 | H52: 1943 | I52: 45610 | J52: в/ч А2900 № 370 | K52: 45529 | L52: № 255 | M52: мобілізація | N52: - | O52: - | P52: 2993202212 | Q52: СО036984 | R52: паспорт | S52: 29933 | T52: м. Київ, Київська обл. | U52: Ч | V52: Вишгородський РТЦК та СП Київської області | W52: 45047 | X52: Вища. Переяслав-Хмельницький державний педагогічний університет ім. Г. Сковороди | Y52: Дружина - Степанська Тетяна Валеріївна Київська область, Вишгородський район, село Нові Петрівці (095)0520068 | Z52: +380501320122
A53: Сержант | B53: ЖОЛУДЄВ Костянтин Олександрович | D53: 45587 | E53: в/ч А0281 м. Житомир | F53: 44662 | G53: 44662 | H53: 92 | I53: 45612 | J53: в/ч А2900 № 327 | K53: 45445 | L53: в/ч А2900 №94-рс | M53: контракт | N53: 44974 | O53: 46070 | P53: 3733304719 | Q53: 007117759 | R53: паспорт | S53: 37334 | T53: с. Закітне, Лиманський р-н, Донецька обл. | U53: Ч | V53: Слов'янським ОВК Донецької області | W53: 44135 | X53: Середня-спеціальна. Лиманське професійно-технічне училище | Y53: Батько - Жолудєв Олександр Миколайович Мати - Жолудева Наталія Миколаївна Донецька область, Лиманський район, село Закітне | Z53: +380983580593
A54: Головний сержант | B54: БЄЛЯНЦЕВ Іван Генадійович | D54: 45663 | E54: в/ч А4355 м. Кривий Ріг | F54: 45663 | G54: 45663 | H54: 6 | I54: 45663 | J54: в/ч А2900 № 6 | K54: 45616 | L54: в/ч А4355 № 341-РС | M54: контракт | N54: 43768 | O54: до закінчення військового стану | P54: 2590610339 | Q54: АВ734287 | R54: військовий квиток | S54: 25907 | T54: с. Чорне, Лебяжинський р-н, Павлодарська обл. | U54: Ч | V54: Попільнянським РВК Житомирської обл. | W54: 43755 | X54: Середньо-технічна. Технікум, судоводіння. | Y54: Мати - Бєлянцева Раїса Андріївна Житомирська обл., с. Мохначка (066)6607706 | Z54: +380992545196
A55: Молодший сержант | B55: СМАГЛІЙ Катерина Юріївна | D55: 45567 | E55: Інгулецький РТЦК та СП | F55: 45567 | G55: 45567 | H55: 282 | I55: 45567 | J55: в/ч А2900 № 282 | K55: 45712 | L55: в/ч А2900 №61-рс | M55: мобілізація | N55: - | O55: - | P55: 3698410967 | Q55: 006917339 | R55: паспорт | S55: 36985 | T55: м. Новомосковськ, Дніпропетровська обл. | U55: Ж | V55: Інгулецький РТЦК та СП | W55: 45510 | X55: Середньо-спеціальна. Медсестринство | Y55: Мати - Мех Олена Василівна Дніпропетровська обл., м. Новомосковськ (067)7302964 | Z55: +380637141608
A56: Молодший сержант | B56: РЕБРОВ Микола Валерійович | D56: 45729 | E56: в/ч А0139 | F56: 45283 | G56: 45283 | H56: 369 | I56: 45283 | J56: в/ч А2900 №369 | K56: 45385 | L56: в/ч А2900 № 47-РС | M56: мобілізація | N56: - | O56: - | P56: 3271809098 | Q56: ВН310069 | R56: паспорт | S56: 32719 | T56: м. Бердичів, Житомирська обл. | U56: Ч | V56: Бердичівський РТЦК та СП | W56: 45283 | X56: Середньо-спеціальна. Бердичівський професійно-будівельний ліцей | Y56: Дружина - Реброва Анастасія Аркадіївна м. Бердичів (093)9159215 | Z56: +380932558362
A57: Солдат | B57: МУРАШЕВСЬКИЙ Михайло Сергійович | D57: 45730 | E57: Івано-Франківський МТЦК та СП | F57: 45398 | G57: 45398 | H57: 107 | I57: 45731 | J57: в/ч А2900 № 75 | K57: 44043 | L57: Івано-Франківський МВК | M57: мобілізація | N57: - | O57: - | P57: 3412616695 | Q57: 002947828 | R57: паспорт | S57: 34127 | T57: м. Івано-Франківськ, Івано-Франківська обл. | U57: Ч | V57: Івано-Франківський МТЦК та СП м. Івано-Франківськ | W57: 44936 | X57: Середньо-спеціальна. | Y57: Батько - Мурашевський Сергій Михайлович Мати - Мурашевська Світлана Павлівна Івано-Франківська обл., м. Івано-Франківськ (050)7120988 (099)3237666 | Z57: +380667141801
A58: Молодший сержант | B58: МИРОНЮК Олександр Васильович | D58: 45419 | E58: В/ч А3316 м. Житомир | F58: 45419 | G58: 45419 | H58: 127 | I58: 45419 | J58: в/ч А2900 № 127 | K58: 45563 | L58: в/ч А2900 №190-РС | M58: контракт | N58: 44393 | O58: 45489 | P58: 3659410754 | Q58: 000045207 | R58: паспорт | S58: 36595 | T58: м. Луцьк, Волинська обл. | U58: Ч | V58: Луцький ОМВК | W58: 44109 | X58: Вища. Луцький біотехнічний інститут | Y58: Мати - Миронюк Вікторія Олексіївна Волинська обл., м. Луцьк (099)3668098 | Z58: +380934204883
A59: Молодший лейтенант | B59: МЄЩАНІН Євген Миколайович | D59: 45731 | E59: Військова академія м. Одеса | F59: 45731 | G59: 45731 | H59: 245 | I59: 45730 | J59: в/ч А2900 № 245 | K59: 45730 | L59: в/ч А2900 № 245 | M59: контракт | N59: 45730 | O59: 46460 | P59: 3276301216 | Q59: ВК249669 | R59: паспорт | S59: 32764 | T59: м. Донецьк, Донецька обл. | U59: Ч | V59: Печерським РТЦК та СП м. Київа | W59: 44721 | X59: Вища. ДоННУ | Y59: Батько - Мєщанін Микола Петрович Мати - Мєщаніна Сусанна Борисівна с. Вишеньки, вул. Велика Набережна | Z59: +380500177028
A60: Молодший сержант | B60: ДЕМУЦЬКИЙ Кирило Сергійович | D60: 45679 | E60: Бучанський РТЦК та СП | F60: 44106 | G60: 45567 | H60: 282 | I60: 45679 | J60: в/ч А2900 № 23 | K60: 45712 | L60: в/ч А2900 №61-рс | M60: мобілізація | N60: - | O60: - | P60: 3595903155 | Q60: 007870986 | R60: паспорт | S60: 35960 | T60: м. Буча, Київська обл. | U60: Ч | V60: Бучанським РТЦК та СП | W60: 45567 | X60: Середньо-спеціальна. Вище професійне училище №33. | Y60: Мати - Демуцька Світлана Миколаївна Київська обл., м. Буча (068)5949054 | Z60: +380660573692
A61: Сержант | B61: ЦАРАЛУНГА Денис Дмитрович | D61: 45169 | E61: в/ч А0224 м. Миколаїв | F61: 45169 | G61: 45169 | H61: 250 | I61: 45169 | J61: в/ч А2900 № 250 | K61: 45712 | L61: в/ч А2900 №61-рс | M61: контракт | N61: 45169 | O61: 46265 | P61: 3696906494 | Q61: 010417075 | R61: паспорт | S61: 36970 | T61: с. Лиса Гора, Первомайський р-н, Миколаївська обл. | U61: Ч | V61: Первомайський РТЦК та СП | W61: 44476 | X61: Середньо-спеціальна. Миколаївський політехнічний коледж | Y61: Мати - Царалунга Наталія Олександрівна с. Лиса Гора, Первомайський р-н, Миколаївська обл. (050)8702329 | Z61: +380685817387
A62: Молодший лейтенант | B62: ЖУРАВСЬКИЙ Роман Володимирович | D62: 45357 | E62: Житомирський РТЦК та СП в/ч А2900 | F62: 44791 | G62: 44791 | H62: 230 | I62: 45357 | J62: КДШВ ЗСУ #37-РС | K62: 45608 | L62: КДШВ ЗСУ №367 | M62: контракт | N62: 44075 | O62: - | P62: 3624706251 | Q62: 001078892 | R62: паспорт | S62: 36248 | T62: м. Житомир, Житомирська обл. | U62: Ч | V62: Житомирським РТЦК та СП | W62: 44075 | X62: Середньо-спеціальна. Житомирський Агротехнічний коледж | Y62: Дружина - Журавська Аліса Валеріївна (096)2600910 | Z62: +380987103229
A63: Старший солдат | B63: ШИБАНОВ Олександр Яковлевич | D63: 45649 | E63: в/ч А4030 | F63: 44630 | G63: 45579 | H63: 294 | I63: 45641 | J63: 356 | K63: 45712 | L63: в/ч А2900 №61-рс | M63: мобілізація | N63: - | O63: - | P63: 3000811053 | Q63: МО362361 | R63: паспорт | S63: 30009 | T63: м. Кременчук, Полтавська обл. | U63: Ч | V63: Кременчуцький РВК | W63: 44630 | X63: Середньо-спеціальна, Кременчуцьке ПТУ №26 | Y63: Дружина - Шибанова Анна Сергіївна Полтавська обл., м. Кременчук (097)1068595 | Z63: +380972207489
A64: Молодший сержант | B64: БАТАНОВ Іван Сергійович | D64: 45645 | E64: Стрийській РТЦК та СП | F64: 45373 | G64: 45373 | H64: 82 | I64: 45645 | J64: в/ч А2900 № 360 | K64: 45712 | L64: в/ч А2900 №61-рс | M64: мобілізація | N64: - | O64: - | P64: 3452408755 | Q64: 000565074 | R64: паспорт | S64: 34525 | T64: м. Кілія, Одеська область | U64: Ч | V64: Стрийській РТЦК та СП | W64: 45372 | X64: Середньо-спеціальна | Y64: Дружина - Левицька Наталія Михайлівна Львівська обл., м. Новий Розділ (063)9903561 | Z64: +380935721381
A65: Сержант | B65: ЗАЄЦЬ Дмитро Станіславович | D65: 44974 | E65: в/ч А0281 м. Житомир | F65: 44665 | G65: 44665 | H65: 92 | I65: 44974 | J65: в/ч А2900 № 24-РС | K65: 45445 | L65: в/ч А2900 № 94-РС | M65: контракт | N65: 44974 | O65: 45339 | P65: 3683301251 | Q65: 003134156 | R65: паспорт | S65: 36834 | T65: м. Тальне, Тальнівський р-н, Черкаська обл. | U65: Ч | V65: Тальнівський РВК | W65: 44109 | X65: Середньо-спеціальна. Тальнівський будівельно-економічний коледж Уманського національного університету садівництва | Y65: Мати - Заєць Ольга Олександрівна Батько - Заєць Станіслав Черкаська обл., м. Тальне | Z65: +380937750495
A66: Капітан | B66: ОСАДЧУК Максим Олександрович | D66: 27.02.2023 28.03.2024 14.11.2024 | E66: Новоград-Волинський РВК Житомирської області | F66: 44623 | G66: 44623 | H66: 41 | I66: 45610 | J66: КДШВ ЗСУ № 370 | K66: 45544 | L66: КДШВ ЗСУ № 285 | M66: мобілізація | N66: - | O66: - | P66: 3257419552 | Q66: 0025022539 | R66: паспорт | S66: 32575 | T66: с. Нова Романівка, Новоград-Волинський р-н, Житомирська область | U66: Ч | V66: Новоград-Волинський РВК Житомирської області | W66: 44619 | X66: Вища. Житомирський університет "Україна". Житомирський військовий інститут імені С.П. Корольова. | Y66: Дружина - Осадчук Наталья Михайлівна Данія, Хадерслер (098)6081077 | Z66: +380982125875
A67: Сержант | B67: КУР'ЯТА Микола Сергійович | D67: 45593 | E67: в/ч 4350 | F67: 45366 | G67: 45366 | H67: 75 | I67: 45593 | J67: в/ч А2900 № 221-РС | K67: 45642 | L67: № 275-РС | M67: мобілізація | N67: - | O67: - | P67: 3724309833 | Q67: 007377557 | R67: паспорт | S67: 37244 | T67: смт. Городниця, Новоград-Волинський р-н, Житомирська область | U67: Ч | V67: Звягельським РТЦК та СП Житомирської області | W67: 45103 | X67: Середньо-спеціальна. Новоград-Волинський Промислово-Економічний технікум | Y67: Батько - Кур'ята Сергій Іванович Житомирська область, Звягельський район, смт. Городниця (098)0254667
A68: Старший сержант | B68: КОСТЯНЕЦЬ Роман Іванович | D68: 45412 | E68: в/ч А1910 | F68: 45412 | G68: 45412 | H68: 121 | I68: 45412 | J68: в/ч А2900 121 | K68: 44873 | L68: 130 ДШВ № 70-рс | M68: контракт | N68: 41284 | O68: - | P68: 3361709057 | Q68: ЕН 703160 | R68: паспорт | S68: 33618 | T68: м. Первомайськ, Луганська обл. | U68: Ч | V68: Луганський ТЦК | W68: 40652 | X68: Середньо-технічна. Первомайський Індустріально-педагогічний технікум | Y68: Дружина - Костянець Олена Олегівна (098)5257029 | Z68: +380965539513
A69: майор | B69: Пігалков Дмитро Миколайович | C69: … | D69: 12.12.2021 10.07.2023 | E69: в/ч А1910, м. Житомир, Житомирська обл. | F69: 44512 | G69: 44512 | H69: № 161 | I69: 45117 | J69: КДШВ ЗСУ № 169 | K69: 45571 | L69: КДШВ ЗСУ № 322 | M69: контракт | N69: 45474 | O69: 46569 | P69: 3503008294 | Q69: УК 277724 | R69: посвідчення офіцера | S69: 35031 | T69: Запорізька обл., Куйбишевський р-н., смт Куйбишеве | U69: Ч | V69: Більмацько-Розівським ОРВК Запорізька обл., | W69: 44348 | X69: Вища Запорізький національний університет політехніка | Y69: Батько – Пігалков Микола Геннадійович 18.02.1960. тел. 0990555168 Мати – Пігалкова Любов Іванівна 15.01.1961. тел. 0663838916 | Z69: 0952471944
A70: молодший лейтенант | B70: Мар'яниченко Олександр Валерійович | C70: … | D70: 16.09.2023 26.10.2023 16.12.2024 | E70: ТЦК та СП | F70: 45642 | G70: 45642 | H70: № 162 | I70: 45642 | J70: ЗСУ № 1626 | K70: 45642 | L70: ЗСУ № 1626 | M70: мобілізація | N70: … | O70: 45184 | P70: 3323111597 | Q70: УК 394885 | R70: посвідчення офіцера | S70: 33232 | T70: м. Дніпро, вул. Тітова 47/26 | U70: Ч | V70: Шевченківським РТЦК м. Львів | W70: 45184 | X70: Вища (Запорізький Національний Університет, "Фінанси та кредит") | Y70: Мати - Маряниченко Світлана Миколаївна 23.08.1953 тел. 0987604165. цивільна дружина - Зеніна Олександра Геннадіївна тел. 0934031351 | Z70: 0987647835
A71: головний сержант | B71: Романюк Юрій Олександрович | C71: … | D71: 30.07.2019 26.08.2019 30.07.2022 | E71: А0281 м. Житомир, Житомирська обл. | F71: 43676 | G71: 43676 | H71: № 160 | I71: 44772 | J71: в/ч А2900 № 201 | K71: 44794 | L71: в/ч А2900 № 79-РС | M71: контракт | N71: 44615 | O71: 45345 | P71: 3445916853 | Q71: СО 448525 | R71: військовий квиток | S71: 34460 | T71: Житомирська обл., Житомирський р-н., смт Миропіль, вул. Дружня, буд. 25. | U71: Ч | V71: Романівським РВК, Житомирської обл. | W71: 43676 | X71: Повна середня Миропільська гімназія 11-класів 30.05.11 | Y71: Батько – Романюк Олександр Дмитрович 24.04.1964. Мати – Романюк Наталія Олександрівна 24.03.1965. тел.0979717549 | Z71: 0930307921
A72: старший сержант | B72: Луцик Валентин Федорович | C72: … | D72: 03.04.2019 02.06.2021 | E72: ТЦК та СП | F72: 43558 | G72: 43558 | H72: № 23 | I72: 44349 | J72: в/ч А2900 № 101 | K72: 44428 | L72: в/ч А2900 № 39-РС | M72: контракт | N72: 44333 | O72: 46159 | P72: 2983120378 | Q72: МО 189386 | R72: військовий квиток | S72: 29832 | T72: Хмельницька обл., м. Ізяслав, вул. Новосадибна, буд. 19. | U72: Ч | V72: Із’яславським РВК, Хмельницької обл. | W72: 36452 | X72: Незакінчена вища Житомирська політехніка | Y72: Дружина – Луцик Тетяна Володимирівна 08.07.1985. тел. 0976342151 Син – Луцик Максим Валентинович 16.07.2003. | Z72: 0672131364
A73: сержант | B73: Овчарук Анастасія Олексіївна | C73: … | D73: 45655 | E73: А2298 м. Житомир, Житомирська обл. | F73: 45655 | G73: 45655 | H73: № 371 | I73: 45655 | J73: КДШВ ЗСУ № 371 | K73: 45666 | L73: в/ч А2900 № 10-РС | M73: мобілізація | N73: 21.05.2022 | O73: 21.05.2022 | P73: 3237119565 | Q73: АВ 821028 | R73: військовий квиток | S73: 32372 | T73: м. Житмир, вул. М. Грушевського, 13, кв. 209а, 212 | U73: Ж | V73: Житмирськм ОМТЦК та СП Житомирської обл. | W73: 21.05.2022 | X73: Повна вища ДУ Житомирська політехніка, Публічне управління та адміністрування, 2020 | Y73: мати - Березюк Ірина Миколаївна, 03.02.1969 р.н.,тел. 097-595-83-89 | Z73: 0671003252
A74: старший сержант | B74: Кузьмич Вадим Антонович | C74: … | D74: 19.02.2024 30.03.2024 08.06.2024 06.12.2024 | E74: А 2120 | F74: 45341 | G74: 45341 | H74: № 50 | I74: 45632 | J74: КДШВ ЗСУ № 347 | K74: 45642 | L74: в/ч А2900 № 275-РС | M74: контракт | N74: 44287 | O74: 45383 | P74: 3618505672 | Q74: АВ721227 | R74: військовий квиток | S74: 36186 | T74: Полтавська обл. Пирятинський р-н.,с.Нові Мартиновічі вул.Котляревського буд. 1 | U74: Ч | V74: Пирятинським РВК Полтавська обл. | W74: 44110 | X74: Середня- спеціальна БДФДБерезево рудька Агроном 10.07.2020 | Y74: Мати - Бобир Марія Ростиславівна 03.11.1987р. Тел.0668766204 | Z74: 0954371953
A75: сержант | B75: Сегедин Ігор Євгенович | C75: … | D75: 44839 | E75: ТЦК та СП | F75: 44784 | G75: 44784 | H75: № 213 | I75: 44839 | J75: в/ч А2900 № 268 | K75: 45600 | L75: в/ч А2900 № 229-РС | M75: мобілізація | N75: … | O75: 09.08.2022. | P75: 2986306256 | Q75: АВ 635359 | R75: військовий квиток | S75: 29864 | T75: Івано-Франківська обл., м. Тлумач, вул. Довженка, буд. 4, кв. 3. | U75: Ч | V75: Тлумацьким РТЦК та СП, Івано-Франківської обл. | W75: 09.08.2022. | X75: Вища БАТІ Бережанський Економіка підприємства 30.06.2004 | Y75: Дружина – Сегедин Ольга Ігорівна 08.06.1985. тел. 0992967064 Син – Сегедин Дмитро Ігорович 29.09.2004. | Z75: 0992944781
A76: сержант | B76: Філіпов Микола Анатолієвич | C76: … | D76: 19.02.2025 | E76: А4355 | F76: 19.02.2025 | G76: 19.02.2025 | H76: № 51 | I76: 19.02.2025 | J76: КДШВ ЗСУ № 51 | K76: 45031 | L76: КДШВ № 126-РС | M76: контракт | N76: 44287 | O76: 45383 | P76: 3652003157 | Q76: АВ 817146 | R76: військовий квиток | S76: 36521 | T76: Полтавська обл. Миргородський р-н, с. Христанівка бул.14 | U76: Ч | V76: Полтавським ТЦК Полтавської обл. | W76: 44287 | X76: Середня - спеціальна тракторист-машиніст, слюсар сільськогосподарської техніки Миргородське професійно технічне училище № 44 Полтавська обл. Миргород 2018 році | Y76: жінка: Філіпова Марина Миколаївна 23.10.1998 р. тел:0661277894 | Z76: 0958041016
A77: старший лейтенант | B77: Шеремета Олег Андрійович | C77: … | D77: 45184 | E77: А2120 | F77: 45184 | G77: 45184 | H77: № 251 | I77: 45184 | J77: КДШВ ЗСУ № 251 | K77: 45441 | L77: КДШВ ЗСУ № 141 | M77: мобілізація | N77: … | O77: 44937 | P77: 3376107335 | Q77: УК 345279 | R77: посвідчення офіцера | S77: 33762 | T77: м. Львів, вул. О.Теліги Буд 21 кв 30 | U77: Ч | V77: Личаківським РТЦК та СП, Львівська обл. | W77: 44937 | X77: Вища ЛНУ м.Івана Франка Єкономіка підприємств 29.06.2010 | Y77: Батько-Шеремета Андрій Мирославович 07.12.1968 тел. 0954089989 | Z77: 0673844044
A78: сержант | B78: Бойко Олег Олегович | C78: … | D78: 45019 | E78: А2120 | F78: 45019 | G78: 45019 | H78: № 94 | I78: 45019 | J78: КДШВ ЗСУ № 94 | K78: 45631 | L78: в/ч А2900 № 264-РС | M78: контракт | N78: 44484 | O78: 45580 | P78: 3509403831 | Q78: АВ 350857 | R78: військовий квиток | S78: 35095 | T78: м. Краматорськ вул. Леоніда Бикова буд. 6, кв.117 | U78: Ч | V78: Краматорським ТЦК Донецька обл. | W78: 15.11.2021. | X78: Середньо-технічна КТТ м.Краматорск Мастер з ремонту побутової техніки 01.02.2015 | Y78: Батько – Бойко Олег Миколайович 17.08.1973 тел. 0507142141 Мати-Бойко Анастасія Вікторівна 28.01.1972 тел. 0999800715 | Z78: 0660878845
A79: капітан | B79: Фотій Ярослав Сидорович | C79: … | D79: 45184 | E79: А4350 | F79: 45184 | G79: 45184 | H79: № 251 | I79: 45184 | J79: КДШВ ЗСУ № 251 | M79: мобілізація | N79: … | O79: 20.05.2022. | P79: 2613403857 | Q79: УК 287879 | R79: посвідчення офіцера | S79: 26135 | T79: м. Чернівці вул. Машинобудівників 22Б/5 | U79: Ч | V79: Чернівецьким РТЦК м. Чернівці | W79: 20.05.2022. | X79: Вища УДУ м.Чернівці Матиматик 30.06.1994 | Y79: Мати - Фотій Марія Дмитрівна 04.10.1947р. тел. 0991244721 Брат - Фотій Олександр Сидорович тел. 0951371221 | Z79: 0660595696
A80: сержант | B80: Ковтун Констянтин Олександрович | C80: … | D80: 44984 | E80: А0281 м. Житомир, Житомирська обл. | F80: 44984 | G80: 44984 | H80: № 58 | I80: 44984 | J80: КДШВ ЗСУ № 58 | K80: 45666 | L80: в/ч А2900 № 10-РС | M80: контракт | N80: 43661 | O80: 44757 | P80: 3170015915 | Q80: СО 081389 | R80: військовий квиток | S80: 31691 | T80: м. Житомир, проспект Миру, буд. 19, кв. 115. | U80: Ч | V80: Лисичанським МВК, Луганської обл. | W80: 27.07.2017. | X80: Незакінчена вища ПНУ м.Житомир Енергетик 30.06.2022 | Y80: Дружина – Тімченко Євгенія Юріївна 10.05.1985. тел. 0975098153 Син – Ковтун Михайло Костянтинович 19.09.2021. | Z80: 0967429436
A81: сержант | B81: Затварніцький Андрій Петрович | C81: … | D81: 22.05.2023 10.07.2023 13.01.2025 | E81: А0284 | F81: 45068 | G81: 45652 | H81: № 216 | I81: 45652 | J81: КДШВ ЗСУ № РС-216 | K81: 45423 | L81: в/ч А2900 № 78-РС | M81: мобілізація | N81: … | O81: 44616 | P81: 3245009116 | Q81: СО 664087 | R81: військовий квиток | S81: 36103 | T81: Львівська обл., Стрийський р-н, с. Березина, вул. Марунчака 21 | U81: Ч | V81: Другий відділ Стрийського РТЦК та СП у Львівській обл. | W81: 44616 | X81: Повна вища Львівський Національний університет ім. Івана Франка викладач історії 10.06.2011 | Y81: батько Затварніцький Петро Євгенович 18.02.1957 тел.0988785381 | Z81: 0669184106
A82: сержант | B82: Романенко Станіслав Михайлович | C82: … | D82: 45679 | E82: А0281 м. Житомир, Житомирська обл. | F82: 45679 | G82: 45679 | H82: №23 | I82: 45679 | J82: КДШВ ЗСУ № 23 | K82: 42217 | L82: КДШВ ЗСУ № 701 | M82: мобілізація | N82: … | O82: 44936 | P82: 2884118333 | Q82: НК 5652529 | R82: військовий квиток | S82: 28842 | T82: Віницька обл. м. Гнівань вул. Європейська буд.73 | U82: Ч | V82: Тиврівським РВК Віницької обл. | W82: 44936 | X82: Середня- спеціальна ППУ №12 м.Гнівань газо-електро зварювальник 1998 р | Y82: дружина: Романенко Ольга Михайлівна 14.07.1982р. Тел:0969351597 | Z82: 0685528164
A83: старший сержант | B83: Журавський Денис Сергійович | C83: … | D83: 45425 | E83: А4350 | F83: 45425 | G83: 45425 | H83: № 134 | I83: 45667 | J83: в/ч А2900 № 12-РС | M83: мобілізація | N83: … | O83: 44628 | P83: 3590508413 | Q83: АВ 430732 | R83: військовий квиток | S83: 35906 | T83: Хорошивський р-н Житомирська обл с.Кропивня вул Комарова 1 | U83: Ч | V83: Хорошивський РВК Житомирська обл. | W83: 44628 | X83: Середня-спеціальна ЖППЛ №6 електрогазозварник 10.10.2017 | Y83: Мати-Журавська Валентина Миколаївна 12.11.1973 тел:0975278930 Батько-Журавський Сергій Адольович 10.02.1968 тел 0961773434 | Z83: 0687390964
A84: старший сержант | B84: Гайдук Андрій Анатолійович | C84: … | D84: 15.08.2022 07.09.2022 13.06.2024 01.11.2024 | E84: А1126 | F84: 44788 | G84: 45456 | H84: № 168 | I84: 45727 | J84: КДШВ ЗСУ № 71 | K84: 45631 | L84: в/ч А2900 № 264-РС | M84: контракт | N84: 43631 | O84: 44727 | P84: 3381118955 | Q84: АВ 486303 | R84: військовий квиток | S84: 33812 | T84: м. Житомир вул. Михайла Грушевського 78 кв.41 | U84: Ч | V84: Нікопольським РТЦК та СП | W84: 44362 | X84: Середня- спеціальна Нікопольський коледж землевпорядник 26.06.2013р | Y84: мама Гайдук Валентина Борисівна 09.08.1972 тел.0996567362 | Z84: 0995171575
A85: молодший сержант | B85: Гаркуша Юрій Володимирович | C85: … | D85: 45229 | E85: А0339 м. Житомир, Житомирська обл. | F85: 45229 | G85: 45229 | H85: № 312 | I85: 45229 | J85: КДШВ ЗСУ № 312 | K85: 45385 | L85: в/ч А2900 № 47-РС | M85: мобілізація | N85: … | O85: 03.03.2022 | P85: 3022513517 | Q85: АВ 393854 | R85: військовий квиток | S85: 30226 | T85: м. Рівне вул. Полуботка буд.8, кв.28 | U85: Ч | V85: Рівненським ОМТЦК та СП м.Рівне | W85: 03.03.2022 | X85: Вища РЕГІ м.Рівне Фізична культура та спорт 30.06.2004 | Y85: Мати-Гаркуша Надія Василівна 03.09.1958 тел.0980834928 Батько-Гаркуша Володимир Петрович 09.02.1956 тел.0960949281 | Z85: 0685459755
A86: молодший сержант | B86: Іщук Богдан Сергійович | C86: … | D86: 09.11.2023 23.11.2023 | E86: ТЦК та СП | F86: 45253 | G86: 45253 | H86: № 338 | I86: 45253 | J86: в/ч А2900 № 338 | K86: 45445 | L86: в/ч А2900 № 94-РС | M86: мобілізація | N86: … | O86: 44699 | P86: 3213417977 | Q86: АВ912915 | R86: військовий квиток | S86: 32135 | T86: м.Старокостянтинів.вул.Франка 39.кв 87 | U86: Ч | V86: Хмельницьким РТЦК та СП Хмельницької обл. | W86: 44699 | X86: Вища НУВГП м.Рівне Рибвод іхтеолог 30.06.2013 | Y86: Мати-Миколайчук Катерина Дмитрівна 04.10 1963 тел 0684296601 | Z86: 0660725594
A87: старший сержант | B87: ДІДОВЕЦЬ Дмитро Юрійович | D87: 24.03.2025 №84 | E87: А1414 | F87: 45740 | G87: 45740 | H87: №84 | I87: 45740 | J87: №84 | K87: 45632 | L87: №145-ЗС | M87: Мобілізація | N87: _ | O87: _ | P87: 3534110451 | Q87: АВ184396 | R87: військовий квиток | S87: 35342 | T87: Житомирська обл. ,с.Жадьки | U87: Ч | V87: Житомирський РТЦК та СП | W87: 45275 | X87: середня спеціальна , ВВПУ НТ | Y87: Дружина - Сафонова Надія Олексіївна , Житомирська обл. , с. Жадьки , вул.Шевченка 56 , 380664044837 | Z87: н 380983970149
A88: молодший сержант | B88: СОЛОМКО Микола Васильович | D88: 45757 | E88: Звягельського РТЦК та СП | F88: 45596 | G88: 45596 | H88: № 311 | I88: 45757 | J88: в/ч А2900 | K88: 37587 | L88: №920 | M88: мобілізація | N88: - | O88: - | P88: 3048025011 | Q88: СР 684721 | R88: паспорт | S88: 30481 | T88: Рівненська обл Заріченський р-н с. Кухче | U88: Ч | V88: Зарічненським РТЦК та СП Рівненської обл. | W88: 37194 | X88: середня ЗОШ, 2000 | Y88: Дружина: Дорохова Таїсія Володимирівна, м. Житомир, вул Князів Острозькиї 112 кв 121. Тел. +380673943909. | Z88: 0686902808
A89: сержант | B89: ДЕСЯТНИК Олександр Вікторович | D89: 45762 | E89: в/ч А4355 м. Кривий Ріг | F89: 45762 | G89: 45762 | H89: 106 | I89: 45762 | J89: в/ч А2900 106 | K89: 45412 | L89: в/ч А4355 № 115-рс | M89: мобілізація | N89: - | O89: - | P89: 3225121419 | Q89: АВ 628279 | R89: паспорт | S89: 32252 | T89: с. Лісниче, Бершадський р-н, Вінницька обл. | U89: Ч | V89: 1 відділом Гайсинського РТЦК та СП | W89: 44788 | X89: Вища Луганський державний університет внутрішніх справ | Y89: Мати - Десятник Катерина Панфилівна Вінницька область, Гайсинський р-н, с. Лісниче (098)8387720 | Z89: +380984763192
A90: солдат | B90: МИЧКІВСЬКИЙ Максим Русланович | D90: 45749 | E90: Житомирський ОМТЦК та СП Житомирської області | F90: 45665 | G90: 45665 | H90: 8 | I90: 45748 | J90: в/ч А2900 № 92 | K90: 44552 | L90: 4-ий відділ Житомирського РТЦК та СП №137 | M90: мобілізація | N90: - | O90: - | P90: 3456816316 | Q90: ВН 504534 | R90: паспорт | S90: 34569 | T90: смт Любар, Любарського р-ну, Житомирської обл. | U90: Ч | V90: Житомирський ОМТЦК та СП Житомирської області | W90: 45664 | X90: Вища Національна академія внутрішніх справ м. Київ | Y90: Дружина - Мичківська Вероніка Павлівна (068)6095483 | Z90: +380734008768
A91: солдат | B91: ЛИСАЙЧУК Артем Олександрович | D91: 45776 | E91: Звягельський РТЦК та СП | F91: 45596 | G91: 45596 | H91: № 311 | I91: 45776 | J91: в/ч А2900 №130 | K91: 43824 | L91: №169 | M91: мобілізація | N91: - | O91: - | P91: 3287213256 | Q91: АГ 359591 | R91: військовий квиток | S91: 32873 | T91: м. Житомир | U91: Ч | V91: Звягельський РТЦК та СП Житомирської обл. | W91: 45596 | X91: вища, Національна академя внутрішних справ м. Київ, 2013 | Y91: ціивільна дружина: Устимович Ксенія Олександрівна, м. Житомир, вул. Театральна 5б кв 4, Тел. +380938459537. | Z91: 0985992133
A92: солдат | B92: ШЕВЧЕНКО Іван Миколайович | D92: 45776 | E92: Ізяславське віділення РТЦК та СП Хмельницької обл. | F92: 45672 | G92: 45672 | H92: №16 | I92: 45776 | J92: в/ч А2900 №130 | K92: 41703 | L92: №23 | M92: мобілізація | N92: - | O92: - | P92: 325119297 | Q92: АВ858417 | R92: військовий квиток | S92: 32552 | T92: Черкаська обл с. Яворівка | U92: Ч | V92: Ізяславське віділення РТЦК та СП Хмельницької обл. | W92: 45672 | X92: середня, ЗОШ с. Яворівка, 2004 | Y92: цивільна дружина : Мазур Валентина Юріївна Хмельницька обл с. Сахнівці вул Партизанська 13, Тел. +380960726279 | Z92: 80685971695
A93: солдат | B93: ЗЕНЧЕНКО Олександр Миколайович | D93: 45772 | E93: Полтавський РТЦК та СП в Полтавській обл. | F93: 45717 | G93: 45717 | H93: №61 | K93: 39457 | L93: №5 | M93: мобілізація | N93: - | O93: - | P93: 3229420494 | Q93: АВ 963126 | R93: військовий квиток | S93: 32295 | T93: Сумська обл., м. Шостка | U93: Ч | V93: Полтавський РТЦК та СП в Полтавській обл. | W93: 45716 | X93: середня спеціальна, Шостинське ВПУ и№19, 2007 | Y93: мати- Кравченко Тетяна Анатоліївна, 04.06.1963, Сумська обл., м. Шостка , вул. Миру буд.10а к.39, 380952448136 | Z93: н 380990566122
A94: солдат | B94: ПОДОПРИГОРА Олександр Васильович | D94: 45772 | E94: Дарницький РТЦК та СП м. Київ | F94: 45370 | G94: 45370 | H94: №79 | K94: 45352 | L94: №22 | M94: мобілізація | N94: - | O94: - | P94: 3226815576 | Q94: 7668077 | R94: паспорт | S94: 32269 | T94: Сумська обл., м. Ромни | U94: Ч | V94: Дарницький РТЦК та СП м. Київ | W94: 45369 | X94: вища, Сумський НАУ | Y94: мама- Подопригора Лідія Дмитрівна, 08.02.1954,Сумська обл. Роминський р-н., с. Перекопівка , вул. Космонавтів буд.70., 0632410419 | Z94: н 380932614622
A95: солдат | B95: ЖУРАВЕЛЬ Ігор Юрійович | D95: 45772 | E95: Сихівський РТЦК та СП м. Львів | F95: 45710 | G95: 45710 | H95: №57 | K95: 45667 | L95: №9 | M95: мобілізація | N95: - | O95: - | P95: 3581806313 | Q95: АГ515217 | R95: військовий квиток | S95: 35819 | T95: Тернопільська обл., с .Криниця | U95: Ч | V95: Сихівський РТЦК та СП м. Львів | W95: 45712 | X95: вища , | Y95: мати - Журавель Галина Миколаївна , 03.06.1972, місце проживання : США , 380664756140 | Z95: н 380660833559
A96: лейтенант | B96: ЩЕРБАЦЬКИЙ Сергій Олександрович | D96: 45772 | E96: А4350 | F96: 45284 | G96: 45284 | H96: №373 | I96: 45754 | J96: КДШВ №132 | K96: 45528 | L96: КДШВ ЗСУ №264 | M96: мобілізація | N96: - | O96: - | P96: 3214318789 | Q96: УК 302597 | R96: посвідчення офіцера | S96: 32382 | T96: с. Парипси, Житомирська обл. | U96: Ч | V96: Житомирським РТЦК та СП | W96: 44773 | X96: вища, ЖНАУ, інженер, 2010 | Y96: дружина: Щербацька Христина Василівна, Житомирська обл., Житомирський р-н, с. Парипси, вул. Молодіжна, 1 кв 15 | Z96: 0977708006
A97: солдат | B97: БУКРЕНЬОВ Дмитро Юрійович | E97: в/ч А2900 м.Житомир | F97: 45682 | G97: 45682 | H97: 26 | I97: 45764 | J97: в/ч А2900 108 | K97: 45712 | L97: ПОМ ТЦК та СП № 48 | M97: моюілізація | Q97: ВК 340636 | R97: паспорт | S97: 33178 | T97: м.Дзержинськ Донецької обл. | U97: Ч | V97: Полтавським РТЦК та СП | W97: 45684 | X97: Середня - технічна Дзержинський Горний технікум | Y97: Дружина - Букреньова Катерина Олександрівна Полтавська область, смт. Білики, вул. Гопко 8 (093)1150800 | Z97: 380681254220
A98: старший солдат | B98: МАРТИНЮК Роман Петрович | D98: 45783 | E98: в/ч А0224 м. Миколаїв | F98: 45783 | K98: 45398 | L98: 79 ОДШБ №125 | M98: мобілізація | P98: 3015019171 | Q98: НС 554192 | R98: паспорт | S98: 30151 | T98: м.Монастирище Черкаськоі обл. | U98: Ч | V98: Монастиришенським РТЦК та СП | W98: 37200 | X98: середньо-спеціальна | Y98: Дружина: Мартинюк Тетяна Григорьєвна Черкаська обл. Уманський р-он. С. Бачкурене вул. Вишнева 7 тел: 0968518806 | Z98: +380507846820
A99: старший солдат | B99: ПРУТ Микола Анатолійович | D99: 45798 | E99: А4350 | F99: 45798 | G99: 45798 | H99: №145 | I99: 45798 | J99: А2900 №145 | K99: 45483 | L99: №182-РС | M99: мобілізація | N99: - | O99: - | P99: 3178520732 | Q99: 2066120 | R99: паспорт | S99: 31970 | T99: м. Київ | U99: Ч | V99: 44643 | W99: ЖитомирськимОМТЦК та СП | X99: повна середня, Житомирський професійно-політехнічний ліцей №6, 2005 рік | Y99: дружина: Прут Тетяна Григорівна, м. Житомир, вул. Малікова, 12, кв. 241. Тел. 0983304631 | Z99: 0974383934
A100: лейтенант | B100: БРИГА Олександр Генадійович | C100: 212003 | D100: 45723 | E100: Вінницький РТЦК та СП м. Вінниця | F100: 45782 | G100: 45782 | I100: 45782 | K100: 45723 | M100: мобілізація | N100: - | O100: - | P100: 2933407416 | Q100: УК334311 | R100: військовий квиток | S100: 29335 | T100: Вінницька обл. м. Вінниця | U100: Ч | V100: Вінницький РТЦК та СП м. Вінниця | W100: 45008 | X100: вища Вінницький державний технічний університет | Y100: Сестра: Брига Ольга Генадіївна. Вінницька обл., м. Вінниця, другий провулок Топольського, буд. 1Б. Тел: 0673668653 | Z100: н 0980553675
...

Sheet 3. Виключені
A1: 4
AD2: Продовження додатка 1
A3: 45778 | B3: 3. Виключений особовий склад
A4: Звання | B4: ПРІЗВИЩЕ (за наявності) Ім'я По батькові (за наявності) | C4: Індекс посади / Індексм посад, які обіймав(ла) | D4: Дати прийняття посади / посад | E4: Звідки прибув | F4: Дата зарахування до списків частини | G4: Наказ про зарахування до списків (дата і номер) | I4: Наказ, на призначення на посаду (дата, чий і номе) | K4: Наказ, на присвоєння останнього звання (дата, чий і номер) | M4: Вид служби | N4: Дата укладання контракту | O4: Дата закінчення контракту / Період призову (для базової військової служби) | P4: РНОКПП (за наявності) | Q4: Серія (за наявності) і номер документа, що посвідчує особу та назва документа | S4: Дата народження | T4: Місце народження | U4: Стать | V4: Ким і коли призваний (прийнятий) на військову службу | X4: Освіта | Y4: Дані про родичів | Z4: Додаткова інформація | AA4: Дата виключення із списків та номер наказу | AB4: Наказ про виключення із списків (дата і номер) | AD4: Куди вибув / Куди направлені документи | AE4: Підстава виключення зі списків
A5: =MAX('2. ООС'!5:5)+1 -> 29 | B5: =A5+1 -> 30 | C5: =B5+1 -> 31 | D5: =C5+1 -> 32 | E5: =D5+1 -> 33 | F5: =E5+1 -> 34 | G5: =F5+1 -> 35 | I5: =G5+1 -> 36 | K5: =I5+1 -> 37 | M5: =K5+1 -> 38 | N5: =M5+1 -> 39 | O5: =N5+1 -> 40 | P5: =O5+1 -> 41 | Q5: =P5+1 -> 42 | R5: =Q5+1 -> 43 | S5: =R5+1 -> 44 | T5: =S5+1 -> 45 | U5: =T5+1 -> 46 | V5: =U5+1 -> 47 | X5: =V5+1 -> 48 | Y5: =X5+1 -> 49 | Z5: =Y5+1 -> 50 | AA5: =Z5+1 -> 51 | AB5: =AA5+1 -> 52 | AD5: =AB5+1 -> 53 | AE5: =AD5+1 -> 54
A12: Командир 1 навчального батальйону
A13: підполковник | C13: Віктор МОРОЗ
A14: 45839

Sheet 4. Тимчасово прибулі
A1: 5
L2: Продовження додатка 1
A3: 45778 | B3: 4. Тимчасово прибулий особовий склад
A4: Звання | B4: ПРІЗВИЩЕ (за наявності) Ім'я По батькові (за наявності) | C4: Посада | D4: Звідки прибув | E4: Підстава прибуття | F4: Дата прибуття | G4: Дата і номер наказу на прибуття | I4: Дата вибуття | J4: Дата і номер наказу на вибуття | L4: Додаткова інформація
A5: =MAX('3. Виключені'!5:5)+1 -> 55 | B5: =A5+1 -> 56 | C5: =B5+1 -> 57 | D5: =C5+1 -> 58 | E5: =D5+1 -> 59 | F5: =E5+1 -> 60 | G5: =F5+1 -> 61 | I5: =G5+1 -> 62 | J5: =I5+1 -> 63 | L5: =J5+1 -> 64
A6: Солдат | B6: САГАЙДАК Микола Миколайович | C6: Курсант | D6: А2900 (ФУГАС) | E6: Наказ командира в\ч А2900 | F6: 45588 | G6: 45588 | H6: № 303 | L6: (095)5643784
A7: Солдат | B7: БУТКОВСЬКИЙ Рустам Олегович | C7: Курсант | D7: А2900 (ФУГАС) | E7: Наказ командира в\ч А2900 | F7: 45353 | G7: 45353 | H7: № 62 | L7: (095)0219929
A8: Солдат | B8: ДЕРЕПАЩУК Максим Миколайович | C8: Курсант | D8: А2900 (ФУГАС) | E8: Наказ командира в\ч А2900 | F8: 45485 | G8: 45485 | H8: № 198 | L8: (098)0817683
A9: Солдат | B9: КОВАЛЕНКО Віктор Анатолійович | C9: Курсант | D9: А2900 (ФУГАС) | E9: Наказ командира в\ч А2900 | F9: 45665 | G9: 45665 | H9: №8 | L9: (0977578813
A10: Солдат | B10: КОСТИРЕВ Констянтин Анатолійович | C10: Курсант | D10: А2900 (ФУГАС) | E10: Наказ командира в\ч А2900 | F10: 45530 | G10: 45530 | H10: №245 | I10: 19.03.2025 | J10: 19.03.2025 | K10: № 577 | L10: (063)5860989
A11: Солдат | B11: ТИХОМИРОВ Євгеній Валерійович | C11: Курсант | D11: А2900 (ФУГАС) | E11: Наказ командира в\ч А2900 | F11: 45589 | G11: 45589 | H11: №304 | L11: (096)5390639
A12: Солдат | B12: ПОДОПРИГОРА Олександр Васильович | C12: Курсант | D12: А2900 (ФУГАС) | E12: Наказ командира в\ч А2900 | F12: 45370 | G12: 45370 | H12: №79
A13: Солдат | B13: ПЕЛЕХ Олег Михайлович | C13: Курсант | D13: А2900 (ФУГАС) | E13: Наказ командира в\ч А2900 | F13: 45665 | G13: 45665 | H13: №8 | L13: (068)0423890
A14: Солдат | B14: ЯНОВСЬКИЙ Андрій В'ячеславович | C14: Курсант | D14: А2900 (ФУГАС) | E14: Наказ командира в\ч А2900 | F14: 45488 | G14: 45488 | H14: №201 | I14: 19.03.2025 | J14: 19.03.2025 | K14: № 577 | L14: (096)1159957
A15: Солдат | B15: ВАРЬОНОВ Олександр Валентинович | C15: Курсант | D15: А2900 (ФУГАС) | E15: Наказ командира в\ч А2900 | F15: 45642 | G15: 45643 | H15: №368
A16: Старший солдат | B16: МИРОНЕНКО Євгеній Олександрович | C16: Курсант | D16: А2900 (ФУГАС) | E16: Наказ командира в\ч А2900 | F16: 45475 | G16: 45460 | H16: №652022 | L16: (066)7707230
A17: Солдат | B17: ПЕРЕВЬОРТОВ Яніс Юрійович | C17: Курсант | D17: А2900 (ФУГАС) | E17: Наказ командира в\ч А2900 | L17: Втрачений військовий квиток (095)6962417
A18: Солдат | B18: НІКОЛЬЧЕНКО Євгеній Олександрович | C18: Курсант | D18: А2900 (ФУГАС) | E18: Наказ командира в\ч А2900 | F18: 45600 | G18: 45600 | H18: №315 | L18: (096)5858979
A19: Солдат | B19: ДОБРОБОЖЕНКО Олег Іванович | C19: Курсант | D19: А2900 (ФУГАС) | E19: Наказ командира в\ч А2900 | K19: № 88
A20: Солдат | B20: ФЕСЕНКО Андрій Олегович | C20: Курсант | D20: А2900 (ФУГАС) | E20: Наказ командира в\ч А2900 | L20: +380675354881
A21: Молодший сержант | B21: МУРАВНИКОВ Олексій Геннадійович | C21: Курсант | D21: А2900 (ФУГАС) | E21: Наказ командира в\ч А2900 | L21: +380939602973
A22: Старший солдат | B22: ГОВДІ Василь Васильович | C22: Курсант | D22: А2900 (ФУГАС) | E22: Наказ командира в\ч А2900 | F22: 45680 | L22: +380980189100
A23: Старший солдат | B23: ТАРАНЮК Сергій Віталійович | C23: Курсант | D23: А2900 (ФУГАС) | E23: Наказ командира в\ч А2900 | F23: 45691 | L23: +380984141377 +380938837505
A24: Солдат | B24: ІВАНИК Вадим Юрійович | C24: Курсант | D24: А2900 (ФУГАС) | E24: Наказ командира в\ч А2900 | F24: 45691 | L24: 0509987302
A25: Солдат | B25: УРАЙЧИК Антон Констянтинович | C25: Курсант | D25: А2900 (ФУГАС) | E25: Наказ командира в\ч А2900 | F25: 45691 | L25: 0665580971
A26: Солдат | B26: НЕКРАСОВ Олексій Володимирович | C26: Курсант | D26: А2900 (ФУГАС) | E26: Наказ командира в\ч А2900 | F26: 45691 | L26: 0933690418
A27: Солдат | B27: СТЕПАНОВ Олександр Вікторович | C27: Курсант | D27: А2900 (ФУГАС) | E27: Наказ командира в\ч А2900 | F27: 45705 | L27: 0995540877
A28: Солдат | B28: ГОРБУНЕНКО Андрій Миколайович | C28: Курсант | D28: А2900 (ФУГАС) | E28: Наказ командира в\ч А2900 | F28: 45577 | G28: 45577 | H28: № 292 | L28: +380938819731
A29: Солдат | B29: ГРОМ'ЯК Дмитро Степанович | C29: Курсант | D29: А2900 (ФУГАС) | E29: Наказ командира в\ч А2900 | F29: 45665 | G29: 45665 | H29: № 8 | L29: +380974100291
A30: Молодший сержант | B30: ДЯДЕНКО Олександр Олександрович | C30: Курсант | D30: А2900 (ФУГАС) | E30: Наказ командира в\ч А2900 | F30: 45344 | G30: 45344 | H30: № 53 | I30: 19.03.2025 | J30: 19.03.2025 | K30: № 577 | L30: +380682104483
A31: Солдат | B31: ЛАВРИНЕНКО Валерій Вікторович | C31: Курсант | D31: А2900 (ФУГАС) | E31: Наказ командира в\ч А2900 | F31: 45259 | G31: 45259 | H31: № 544 | L31: +380974100291
A32: Солдат | B32: ПЄНЧУК Павло Анатолійович | C32: Курсант | D32: А2900 (ФУГАС) | E32: Наказ командира в\ч А2900 | F32: 45220 | G32: 45220 | H32: № 302 | I32: 19.03.2025 | J32: 19.03.2025 | K32: № 577 | L32: +380501494513
A33: Старший солдат | B33: СТОРОЩУК Володимир Валерійович | C33: Курсант | D33: А2900 (ФУГАС) | E33: Наказ командира в\ч А2900 | F33: 45289 | G33: 45289 | H33: № 375 | L33: +380681497326
A34: Солдат | B34: ЄЩЕНКО Сергій Петрович | C34: Курсант | D34: А2900 (ФУГАС) | E34: Наказ командира в\ч А2900 | F34: 45691 | G34: 45689
A35: Солдат | B35: ЯРМОЛЮК Сергій Анатолійович | C35: Курсант | D35: А2900 (ФУГАС) | E35: Наказ командира в\ч А2900 | F35: 45691 | G35: 45689
A36: Солдат | B36: ПАВЛЮЧЕНКО Сергій Вікторович | C36: Курсант | D36: А2900 (ФУГАС) | E36: Наказ командира в\ч А2900 | F36: 45691 | G36: 45689
A37: Солдат | B37: ЗЮБР Роман Миколайович | C37: Курсант | D37: А2900 (ФУГАС) | E37: Наказ командира в\ч А2900 | F37: 45691 | G37: 45689
A38: Солдат | B38: РУДЧЕНКО Дмитро Григорович | C38: Курсант | D38: А2900 (ФУГАС) | E38: Наказ командира в\ч А2900 | F38: 45691 | G38: 45689
A39: Солдат | B39: ДАВИД Андрій Олександрович | C39: Курсант | D39: А2900 (ФУГАС) | E39: Наказ командира в\ч А2900 | F39: 45691 | G39: 45689
A40: Солдат | B40: МОСІЙЧУК Вадим Юрійович | C40: Курсант | D40: А2900 (ФУГАС) | E40: Наказ ком. в/ч А2900 | F40: 45691 | G40: 45689
A41: Молодший сержант | B41: СЕРЕБРЯНІКОВ Олег Василійович | C41: Курсант | D41: А2900 (ФУГАС) | E41: Наказ ком. в/ч А2900 | F41: 45691 | G41: 45689 | I41: 19.03.2025 | J41: 19.03.2025 | K41: № 577
A42: Солдат | B42: БОНДАРЕЦЬ Олег Васильович | C42: Курсант | D42: А2900 (ФУГАС) | E42: Наказ ком. в/ч А2900 | F42: 45691 | G42: 45689
A43: Солдат | B43: ПОЦЕЛУЙКО Микола Валерійови | C43: Курсант | D43: А2900 (ФУГАС) | E43: Наказ ком. в/ч А2900 | F43: 45691 | G43: 45689
A44: Солдат | B44: ДАНІВ Валерій Богданович | C44: Курсант | D44: А2900 (ФУГАС) | E44: Наказ ком. в/ч А2900 | F44: 45691 | G44: 45689
A45: Солдат | B45: КРАСНОШИК Володимир Іванович | C45: Курсант | D45: А2900 (ФУГАС) | E45: Наказ ком. в/ч А2900 | F45: 45691 | G45: 45689
A46: Солдат | B46: КОВАЛЬЧУК Федір Тіханович | C46: Курсант | D46: А2900 (ФУГАС) | E46: Наказ ком. в/ч А2900 | F46: 45691 | G46: 45689
A47: Молодший сержант | B47: ДАНІН Олександр Анатолійович | C47: Курсант | D47: А2900 (ФУГАС) | E47: Наказ ком. в/ч А2900 | F47: 45691 | G47: 45689
A48: Солдат | B48: АНТОНЮК Руслан Михайлович | C48: Курсант | D48: А2900 (ФУГАС) | E48: Наказ ком. в/ч А2900 | F48: 45691 | G48: 45689
A49: Солдат | B49: СЕНИШИН Степан Григорович | C49: Курсант | D49: А2900 (ФУГАС) | E49: Наказ ком. в/ч А2900 | F49: 45691 | G49: 45689
A50: Солдат | B50: СТЕФАНИШИН Андрій Михайлович | C50: Курсант | D50: А2900 (ФУГАС) | E50: Наказ ком. в/ч А2900 | F50: 45691 | G50: 45689
A51: Солдат | B51: ГЕТЬМАН Олександр Вікторович | C51: Курсант | D51: А2900 (ФУГАС) | E51: Наказ ком. в/ч А2900 | F51: 45691 | G51: 45689
A52: Солдат | B52: КОСТЕНКО Іван Володимерович | C52: Курсант | D52: А2900 (ФУГАС) | E52: Наказ ком. в/ч А2900 | F52: 45691 | G52: 45689
A53: Солдат | B53: КАГАНЕЦЬ Денис Сергійович | C53: Курсант | D53: А2900 (ФУГАС) | E53: Наказ ком. в/ч А2900 | F53: 45691 | G53: 45689
A54: Солдат | B54: ПЕТРИШИН Іван Степанович | C54: Курсант | D54: А2900 (ФУГАС) | E54: Наказ ком. в/ч А2900 | F54: 45691 | G54: 45689 | I54: 19.03.2025 | J54: 19.03.2025 | K54: № 577
A58: Командир 1 навчального батальйону
A59: підполковник | C59: Віктор МОРОЗ
A60: 45839

Sheet 5. Тимчасово відсутні
A1: 6
N2: Продовження додатка 1
A3: 45748 | B3: 5. Тимчасово відсутній особовий склад
A4: Звання | B4: ПРІЗВИЩЕ (за наявності) Ім'я По батькові (за наявності) | C4: Індекс посади | D4: Підстава вибуття | E4: Місце вибуття | F4: Дата вибуття | G4: Дата і номер наказу на вибуття | I4: Строк вибуття (якщо невідомо - "?") | J4: Дата планового повернення (якщо невідомо - "?") | K4: Фактична дата прибуття | L4: Дата і номер наказу на прибуття | N4: Додаткова інформація
A5: =MAX('4. Тимчасово прибулі'!5:5)+1 -> 65 | B5: =A5+1 -> 66 | C5: =B5+1 -> 67 | D5: =C5+1 -> 68 | E5: =D5+1 -> 69 | F5: =E5+1 -> 70 | G5: =F5+1 -> 71 | I5: =G5+1 -> 72 | J5: =I5+1 -> 73 | K5: =J5+1 -> 74 | L5: =K5+1 -> 75 | N5: =L5+1 -> 76
A6: сержант | B6: ВАСИЛЮК Андрій Васильович | D6: Відрядження | E6: А2900 | F6: 45735 | G6: 45735 | H6: №480 | J6: 45763 | K6: 45763 | N6: Підвищення кваліфікації
A7: сержант | B7: ФІЛІПОВ Микола Анатолієвич | D7: Навчання | E7: м. Житомир | F7: 45735 | G7: 45735 | H7: №79 | J7: 45763 | K7: 45763
A8: майор | B8: МОРОЗ Віктор Васильович | D8: Відпустка | E8: м.Житомир | F8: 45742 | G8: 45742 | H8: №193 | I8: 30 діб | J8: 45772 | K8: 45772 | N8: Відпустка за станом здоров'я
A9: молодший сержант | B9: ВОЙТОВИЧ Євген Валерійович | D9: Відрядження | E9: ЦПСС | F9: 45731 | J9: 45763 | K9: 45763 | N9: Навчання
A10: капітан | B10: БАШИНСЬКИЙ Павло Миколайович | D10: Відпустка | E10: м. Коростень | F10: 45724 | G10: 45724 | H10: №145 | I10: 30 діб | J10: 45754 | K10: 45754 | N10: Реабілітація
A11: капітан | B11: МЕРКУЛОВ Богдан Юрійович | D11: Відпустка | E11: м. Житомир | F11: 45708 | G11: 45708 | I11: 30 діб | J11: 45738 | K11: 45739 | N11: Реабілітація
A12: молодший сержант | B12: КОВАЛЬЧУК Андрій Леонідович | D12: Відрядження | E12: Велика Британія | F12: 45735 | G12: 45734 | H12: №78 | J12: 45773 | K12: 45773
A13: молодший сержант | B13: КУЛИК Андрій Петрович | D13: Відрядження | F13: 45735 | J13: 45763 | K13: 45763 | N13: Проходження курсів
A14: солдат | B14: МУРАШЕВСЬКИЙ Михайло Сергійович | D14: Відрядження | E14: Королівство Велика Британія | F14: 45734 | G14: 45734 | H14: №78 | I14: ? | J14: 45773 | K14: 45773 | N14: Навчання
A15: молодший сержант | B15: МИРОНЮК Олександр Васильович | D15: Відрядження | E15: в/ч А4909 | F15: 45735 | I15: ? | J15: 45763 | K15: 45763
A16: молодший сержант | B16: РЕБРОВ Микола Валерійович | D16: Лікування | E16: в/ч А1065 | F16: 45780 | I16: 5 | J16: 45724 | K16: 08..03.2025
A17: лейтенант | B17: БОРБЛИК Владислав Миколайович | D17: Лікування | E17: в/ч А1065 | F17: 45740 | J17: 45749 | K17: 45749
A18: молодший лейтенант | B18: МАРЯНИЧЕНКО Олександр Валерійович | D18: Відпустка | E18: м.Житомир | F18: 45740 | G18: 45740 | H18: №211 | I18: 15 + 2 | J18: 45757 | K18: 45757 | N18: Відпустка
A19: молодший лейтенант | B19: ЖУРАВСЬКИЙ Роман Володимирович | D19: Лікування | E19: м.Житомир | F19: 45748 | I19: ? | J19: 45811 | K19: 45811 | N19: Лікування
A20: молодший сержант | B20: ДЕМУЦЬКИЙ Кирило Сергійович | D20: Відрядження | E20: БПСС | F20: 45751 | G20: 45751 | H20: №95 | I20: ? | J20: 45788 | K20: 45788 | N20: Відрядження БПСС
A21: капітан | B21: МЕРКУЛОВ Богдан Юрійович | D21: Лікування | E21: м. Житомир | F21: 45748 | I21: 4 доби | J21: 45751 | K21: 45751 | N21: ВЛК
A22: капітан | B22: МЕРКУЛОВ Богдан Юрійович | D22: Відпустка | E22: м. Житомир | F22: 45752 | I22: 30 діб | J22: 45783 | K22: 45783 | N22: Реабілітація
A23: майор | B23: ПІГАЛКОВ Дмитро Миколайович | D23: Відрядження | E23: м. Львів | F23: 45753 | G23: 45753 | H23: №97 | I23: 14 діб | J23: 45767 | K23: 45767 | N23: Навчання
A24: майор | B24: ШЕРЕМЕТА Олег Андрійович | D24: Відрядження | E24: м. Львів | F24: 45753 | G24: 45753 | H24: №97 | I24: 14 діб | J24: 45767 | K24: 45767 | N24: Навчання
A25: майстер сержант | B25: ЮЩИШИН Ігор Дмитрович | D25: Відрядження | E25: Королівство Велика Британія | F25: 45754 | G25: 45734 | H25: №78 | I25: ? | J25: 45793 | K25: 45793 | N25: Навчання
A26: солдат | B26: ЧЕРНЕНКО Андрій Юрійович | D26: Відрядження | E26: в/ч А4909 | F26: 45754 | G26: 45754 | H26: №117/9170 | I26: ? | J26: 45787 | K26: 45787 | N26: Навчання
A27: солдат | B27: ВОЛЧКОВ Віктор Вікторович | D27: Відрядження | E27: в/ч А4909 | F27: 45754 | G27: 45754 | H27: №117/9170 | I27: ? | J27: 45787 | K27: 45787 | N27: Навчання
A28: старший сержант | B28: ДІДОВЕЦЬ Дмитро Юрійович | D28: Відрядження | E28: ОМЕГА | F28: 45755 | G28: 45755 | H28: №99 | I28: ? | J28: 45770 | K28: 45770 | N28: Навчання
A29: солдат | B29: ВІЛІВАЛЬД Дмитро Євгенович | D29: Відрядження | E29: ОМЕГА | F29: 45755 | G29: 45755 | H29: №99 | I29: ? | J29: 45770 | K29: 45770 | N29: Навчання
A30: молодший сержант | B30: БАТАНОВ Іван Сергійович | D30: Відрядження | E30: ОМЕГА | F30: 45755 | G30: 45755 | H30: №99 | I30: ? | J30: 45770 | K30: 45770 | N30: Навчання
A31: сержант | B31: ТХОРЖЕВСЬКИЙ Андрій Ігорович | D31: Лікування | E31: КНП Черняківське ТМО | F31: 45755 | G31: 45755 | H31: №1976 | I31: 14 діб | J31: 45769 | K31: 45769 | N31: Лікування
A32: лейтенант | B32: ДЕМЯНЧУК Наталія Василівна | D32: Лікування | E32: КНП Чуднівська лікарня | F32: 45755 | G32: 45754 | H32: №4020 | I32: 8 діб | J32: 45763 | K32: 45763 | N32: Лікування
A33: сержант | B33: СЕГЕДИН Ігор Євгенович | D33: Відпустка | E33: м. Івано-Франківськ | F33: 45761 | G33: 45761 | H33: №342 | I33: 15 + 2 | J33: 45778 | K33: 45778 | N33: Відпустка
A34: головний сержант | B34: РОМАНЮК Юрій Олександрович | D34: Відпустка | E34: Німеччина | F34: 45760 | G34: 45760 | H34: №328 | I34: 15 + 2 | J34: 45777 | K34: 45777 | N34: Відпустка
A35: сержант | B35: КУР'ЯТА Микола Сергійович | D35: Лікування | E35: м. Житомир | F35: 45762 | G35: 45761 | H35: №4292 | I35: 7 діб | J35: 45769 | K35: 45769 | N35: Лікування
A36: молодший лейтенант | B36: МЄЩАНІН Євген Миколайович | D36: Відрядження | E36: Німеччина | F36: 45768 | G36: 45768 | H36: №112 | J36: 45805 | K36: 45805 | N36: Навчання
A37: молодший сержант | B37: ДЕСЯТНИК Олександр Вікторович | D37: Відрядження | E37: А4909 | F37: 45768 | G37: 45768 | H37: №735 | N37: Навчання
A38: старший сержант | B38: ЖУРАВСЬКИЙ Денис Сергійович | D38: Відпустка за с/о | E38: м.Житомир | F38: 45768 | G38: 45765 | H38: №70-с | I38: 7 діб | J38: 45772 | K38: 45772 | N38: Відпустка за о/с
A39: старший сержант | B39: КУЗЬМИЧ Вадим Антонович | D39: Відпустка | E39: м.Полтава | F39: 45768 | G39: 45768 | H39: №399 | I39: 15 + 2 | J39: 45785 | K39: 45785 | N39: Відпустка
A40: сержант | B40: ЗАТВАРНІЦЬКИЙ Андрій Петрович | D40: Відпустка | E40: м.Стрий Львівська обл. | F40: 45768 | G40: 45768 | H40: №408 | I40: 15 + 2 | J40: 45783 | K40: 45783 | N40: Відпустка
A41: сержант | B41: ЦАРАЛУНГА Денис Дмитрович | D41: Відпустка | E41: м.Житомир | F41: 45768 | G41: 45768 | H41: №405 | I41: 15 | J41: 45783 | K41: 45783 | N41: Відпустка
A42: молодший сержант | B42: ПАВЛИШ Олег Григорович | D42: Відпустка | E42: м.Житомир | F42: 45769 | G42: 45769 | H42: №411 | J42: 45784 | K42: 45784 | N42: Відпустка
A43: солдат | B43: ГОДЛЕВСЬКИЙ Юрій Володимирович | D43: Відрядження | E43: ОМЕГА | F43: 45769 | G43: 45769 | H43: №113 | J43: 45785 | K43: 45785 | N43: Навчання
A44: солдат | B44: КРИВОБОК Вадим Олегович | D44: Відрядження | E44: ОМЕГА | F44: 45769 | G44: 45769 | H44: №113 | J44: 45785 | K44: 45785 | N44: Навчання
A45: сержант | B45: КУР'ЯТА Микола Сергійович | D45: Відпустка | E45: м. Житомир | F45: 45770 | G45: 45770 | H45: №259 | I45: 30 діб | J45: 45800 | K45: 45800 | N45: Відпустка за с/з
A46: сержант | B46: ЗАЄЦЬ Дмитро Станіславович | D46: Відпустка | E46: м.Житомир | F46: 45775 | G46: 45775 | H46: №429 | J46: 45790 | K46: 45790 | N46: Відпустка
A47: молодший лейтенант | B47: ГЕНЗЕЛЬ Богдан Васильович | D47: Відрядження | E47: Центр оперативних стандартів і методики підготовки ЗСУ | F47: 45775 | G47: 45773 | H47: №753 | J47: 45797 | K47: 45797 | N47: Навчання
A48: молодший сержант | B48: РЕБРОВ Микола Валерійович | D48: Відрядження | E48: БПСС | F48: 45778 | I48: ? | J48: 45806 | K48: 45806 | N48: Відрядження БПСС
A49: майор | B49: МОРОЗ Віктор Васильович | D49: Відрядження | E49: Литва | F49: 45783 | G49: 45783 | H49: №128 | J49: 45787 | K49: 45787 | N49: Навчання
A50: головний сержант | B50: ВОЛОВИКОВ Євген Юрійович | D50: Відрядження | E50: Литва | F50: 45783 | G50: 45783 | H50: №128 | J50: 45787 | K50: 45787 | N50: Навчання
A51: капітан | B51: ФОТІЙ Ярослав Сидорович | D51: Відрядження | E51: Львів | F51: 45788 | G51: 45788 | H51: № 847 | J51: 45804 | K51: 45804 | N51: Національна Академія сухопутніх військ імені Петра Сегайдачного м. Львів
A52: молодший сержант | B52: ГАРКУША Юрій Володимирович | D52: Відпустка | E52: Івано-Франківськ | F52: 45789 | G52: 45789 | H52: №531 | J52: 45806 | K52: 45806 | N52: Відпустка
A53: старший сержант | B53: ШИМАНСЬКИЙ Георгій Георгійович | D53: Відрядження | E53: ОМЕГА | F53: 45784 | G53: 45784 | J53: 45801 | K53: 45801 | N53: Здобуття бойового досвіду
A54: солдат | B54: КУЛИК Андрій Петрович | D54: Відрядження | E54: ОМЕГА | F54: 45784 | G54: 45784 | J54: 45801 | K54: 45801 | N54: Здобуття бойового досвіду
A55: солдат | B55: ШЕВЧЕНКО Іван Миколайович | D55: Відрядження | E55: ОМЕГА | F55: 45784 | G55: 45784 | J55: 45801 | K55: 45801 | N55: Здобуття бойового досвіду
A56: солдат | B56: СОЛОМКО Микола Васильович | D56: Відрядження | E56: ОМЕГА | F56: 45784 | G56: 45784 | J56: 45801 | K56: 45801 | N56: Здобуття бойового досвіду
A57: старший лейтенант | B57: ГОРКУН Олександра Вікторівна | D57: Відрядження | E57: Військовий інститут КНУ імені Т.Шевченка | F57: 45789 | J57: 45798 | K57: 45798 | N57: Навчання
A58: солдат | B58: ЧЕРНЕНКО Андрій Юрійович | D58: Відрядження | E58: в/ч А7021 | F58: 45790 | G58: 45790 | N58: Курси офіцерів
A59: молодший сержант | B59: ПАВЛИШ Олег Григорович | D59: Відрядження | E59: в/ч А7021 | F59: 45790 | G59: 45790 | N59: Курси офіцерів
A60: старший сержант | B60: КОСТЯНЕЦЬ Роман Іванович | D60: Відрядження | E60: в/ч А7021 | F60: 45790 | G60: 45790 | N60: Курси офіцерів
A61: солдат | B61: ВІЛІВАЛЬД Дмитро Євгенович | D61: Відрядження | E61: Велика Британія | F61: 45794 | G61: 45794 | H61: №140 | J61: 45835 | K61: 45835 | N61: Навчання
A62: солдат | B62: ГОДЛЕВСЬКИЙ Віталій Володимирович | D62: Відрядження | E62: Велика Британія | F62: 45794 | G62: 45794 | H62: №140 | J62: 45835 | K62: 45835 | N62: Навчання
A63: майор | B63: ВАСИЛЮК Дмитро Васильович | D63: Відрядження | E63: Естонія | F63: 45794 | G63: Наказ КДШВ №117/49555 | H63: 45786 | J63: 45803 | K63: 45803 | N63: Навчання
A64: сержант | B64: ВОЛЧКОВ Віктор Вікторович | D64: Відпустка | E64: Львівська обл.м.Шептицький, пр. Шевченка, буд. 11., кв.119 | F64: 45797 | G64: 45797 | H64: №599 | I64: 15 діб | J64: 45812 | K64: 45812 | N64: Відпустка
A65: молодший сержант | B65: ІЩУК Богдан Сергійович | D65: Відпустка | E65: Хмельницька обл., м. Старокостянтинів, вул. Франка 39, кв. 87 | F65: 45796 | G65: 45796 | H65: №584 | I65: 15 діб | J65: 45811 | K65: 45811 | N65: Відпустка
A66: молодий сержант | B66: МУРАШЕВСЬКИЙ Михайло Сергійович | D66: Відпустка | E66: м.Івано-Франківськ, вул. Паркова, буд. 8, кв. 72. | F66: 45799 | G66: 45799 | H66: № 608 | I66: 15 діб | J66: 45814 | K66: 45814 | N66: Відпустка
A67: лейтенант | B67: СТЕПАНСЬКИЙ Анатолій Анатолійович | D67: Відпустка | E67: Київська обл.с. Нові Петрівці | F67: 45795 | G67: 45795 | H67: № 576 | I67: 15 діб | J67: 45810 | K67: 45810 | N67: Відпустка
A68: старший лейтенант | B68: ГОРКУН Олександра Вікторівна | D68: Звільнення | E68: м. Житомир | F68: 45799 | G68: 45799 | H68: № 5545 | I68: 3 доби | J68: 45802 | K68: 45802 | N68: Звільнення від виконання службових обов'язків.
A69: солдат | B69: ЗЕНЧЕНКО Олександр Миколайович | D69: Відрядження | E69: ОМЕГА | F69: 45800 | J69: 45817 | K69: 45817 | N69: Здобуття бойового досвіду
A70: солдат | B70: ЖУРАВЕЛЬ Ігор Юрійович | D70: Відрядження | E70: ОМЕГА | F70: 45800 | J70: 45817 | K70: 45817 | N70: Здобуття бойового досвіду
A71: майстер сержант | B71: ЮЩИШИН Ігор Дмитрович | D71: Відрядження | E71: ОМЕГА | F71: 45800 | J71: 45817 | K71: 45817 | N71: Здобуття бойового досвіду
A72: солдат | B72: БУКРЕНЬОВ Дмитро Юрійович | D72: Відрядження | E72: ОМЕГА | F72: 45800 | J72: 45817 | K72: 45817 | N72: Здобуття бойового досвіду
A73: солдат | B73: МИЧКІВСЬКИЙ Максим Русланович | D73: Відрядження | E73: ОМЕГА | F73: 45800 | J73: 45817 | K73: 45817 | N73: Здобуття бойового досвіду
A74: головний сержант | B74: БЄЛЯНЦЕВ Іван Геннадійович | D74: Відпустка | E74: Полтавська обл., с. Терентіївка, вул. Котляревська, буд. 2 | F74: 45804 | G74: 45804 | H74: №631 | I74: 15 діб | J74: 45819 | K74: 45819 | N74: Відпустка
A75: старший сержант | B75: ЖУРАВСЬКИЙ Денис Сергійович | D75: Відпустка | E75: Житомирська обл., Хорошивський р-н., с. Кропивная, вул. Комарова, буд. 1 | F75: 45803 | G75: 45803 | H75: №628 | I75: 15 діб | J75: 45818 | K75: 45818 | N75: Відпустка
A76: старший сержант | B76: КОВТУН Констянтин Олександрович | D76: Відпустка | E76: м. Житомир, просп. Миру, буд. 19, кв. 115 | F76: 45803 | G76: 45803 | H76: №614 | I76: 15 діб | J76: 45818 | K76: 45818 | N76: Відпустка
A77: сержант | B77: КАЗАКОВ Євген Іванович | D77: Відпустка | E77: Вінницька обл., м. Вінниця, вул. Ширшова, буд. 16, кв. 79 | F77: 45812 | G77: 45812 | H77: №670 | I77: 15 діб | J77: 45827 | K77: 45827 | N77: Відпустка
A78: лейтенант | B78: ДЕМЯНЧУК Наталія Василівна | D78: Лікування | E78: КНП Житомирська обл. лікарня ім. О.Ф. Гербачевського | F78: 45804 | G78: 45798 | H78: №5556 | J78: 45812 | K78: 45812 | N78: Лікування
A79: капітан | B79: ФОТІЙ Ярослав Сидорович | D79: Відпустка | E79: Чернівецька обл., Чернівецький р-н., с.Кадубівці, вул. Українська, буд. 20 | F79: 45815 | G79: 45815 | H79: №684 | I79: 15 + 2 | J79: 45832 | K79: 45832 | N79: Відпустка
A80: лейтенант | B80: БАРТКО Сергій Сергійович | D80: Відпустка | E80: Хмельницька обл., м. Деражня, вул. Соломчука, буд. 14, кв. 60 | F80: 45823 | G80: 45823 | H80: №742 | I80: 15 діб | J80: 45838 | K80: 45838 | N80: Відпустка
A81: лейтенант | B81: ДЕМЯНЧУК Наталія Василівна | D81: Відпустка за с/з | E81: м.Житомир, вул. Вітрука, буд. 57, кв. 71 | F81: 45812 | G81: 45812 | H81: №374 | I81: 30 діб | J81: 45842 | K81: 45842 | N81: Реабілітація
A82: солдат | B82: СОЛОМКО Микола Васильович | D82: Відрядження | E82: А1126 | F82: 45815 | N82: Здобуття бойового досвіду
A83: солдат | B83: ЛИСАЙЧУК Артем Олександрович | D83: Відрядження | E83: А1126 | F83: 45815 | N83: Здобуття бойового досвіду
A84: головний сержант | B84: ВОЛОВИКОВ Євген Юрійович | D84: Відрядження | E84: ОМЕГА | F84: 45815 | G84: 45815 | J84: 45840 | K84: 45840 | N84: Здобуття бойового досвіду
A85: капітан | B85: ШЕРЕМЕТА Олег Андрійович | D85: Відрядження | E85: Німеччина | F85: 45809 | N85: Навчання
A86: молодший сержант | B86: ІЩУК Богдан Сергійович | D86: Відрядження | E86: 184НЦ А2615 | F86: 45811 | J86: 45837 | K86: 45837 | N86: Навчання
A87: молодший сержант | B87: ГАРКУША Юрій Володимирович | D87: Відрядження | E87: 184НЦ А2615 | F87: 45811 | J87: 45837 | K87: 45837 | N87: Навчання
A88: старший сержант | B88: ДІДОВЕЦЬ Дмитро Юрійович | D88: Відрядження | E88: Республіка Польща | F88: 45822 | N88: Навчання
A89: старший сержант | B89: ПЛАХТИНА Олена Петрівна | D89: Шпиталь | E89: КП Лікарня №2 імені В.П. Павлусенка Житомирської обл. | F89: 45819 | G89: 45817 | H89: №6242 | J89: 45833 | K89: 45833 | N89: Лікування
A90: старший лейтенант | B90: ГОРКУН Олександра Вікторівна | D90: Відрядження | E90: Київський ТЦК та СП | F90: 45821 | G90: 45821 | H90: №1114 | J90: 45833 | K90: 45833 | N90: Відрядження
A91: молодший сержант | B91: РЕБРОВ Микола Валерійович | D91: Відпустка | E91: Житомирська обл., м. Бердичів | F91: 45824 | G91: 45824 | H91: №765 | I91: 15 діб | J91: 45839 | K91: 45839 | N91: Відпустка
A92: старший сержант | B92: ШЕВЧУК Андрій Миколайович | D92: Відрядження | E92: Національна академія Сухопутніх військ імені Петра Сагайдачного м. Львів | F92: 45825 | G92: 45825 | H92: №1128 | J92: 45831 | K92: 45831 | N92: Відрядження
A93: капітан | B93: СТЕПАНЮК Дмитро Миколайович | D93: Шпиталь | E93: КПН Київська міська клінічна лікарня м. Київ | F93: 45824 | G93: 45820 | H93: №6353 | J93: 45835 | K93: 45835 | N93: Лікування
A94: молодший сержант | B94: МИХАЙЛИШИН Андрій Вікторович | D94: Відрядження | E94: БПСС | F94: 45827 | N94: Відрядження
A95: молодший сержант | B95: ЛІЩЕНКО Олексанлр Валерійович | D95: Відрядження | E95: БПСС | F95: 45827 | N95: Відрядження
A96: солдат | B96: БУКРЕНЬОВ Дмитро Юрійович | D96: Відрядження | E96: БПСС | F96: 45827 | N96: Відрядження
A97: старший сержант | B97: ШЕВЧУК Андрій Миколайович | D97: Відрядження | E97: А3618 | F97: 45837 | G97: 45837 | H97: №1211 | J97: 45840 | K97: 45840 | N97: Відрядження
A98: старший сержант | B98: КУЗЬМИЧ Вадим Антонович | D98: Відрядження | E98: А3618 | F98: 45837 | G98: 45837 | H98: №1212 | J98: 45840 | K98: 45840 | N98: Відрядження
A99: молодший лейтенант | B99: ДРОБІТЬКО Олександр Іванович | D99: Відпустка за с/о | E99: Дніпорпетровська обл., м. Дніпро, провулок Днецький 9А | F99: 45833 | G99: 45833 | H99: № 142 | J99: 45840 | K99: 45840 | N99: Відпустка за с/о
A100: старший солдат | B100: ПРУТ Микола Васильович | D100: Шпиталь | E100: КНЗ Житомирський обласний спеціалізований медичний центр | F100: 45834 | G100: 45833 | H100: №6757 | N100: Лікування
...

Sheet 6. Табель
A1: 7
AE2: Продовження додатка 1
A3: 45839 | B3: 6. Табель особового складу
A4: Звання | B4: ПРІЗВИЩЕ (за наявності) Ім'я По батькові (за наявності) | C4: 1 | D4: 2 | E4: 3 | F4: 4 | G4: 5 | H4: 6 | I4: 7 | J4: 8 | K4: 9 | L4: 10 | M4: 11 | N4: 12 | O4: 13 | P4: 14 | Q4: 15 | R4: 16 | S4: 17 | T4: 18 | U4: 19 | V4: 20 | W4: 21 | X4: 22 | Y4: 23 | Z4: 24 | AA4: 25 | AB4: 26 | AC4: 27 | AD4: 28 | AE4: 29 | AF4: 30 | AG4: 31
A5: УПРАВЛІННЯ БАТАЛЬЙОНУ
A6: майор | B6: МОРОЗ Віктор Васильович | C6: + | D6: + | E6: + | F6: + | G6: + | H6: + | I6: від
A7: капітан | B7: МАЛАШКЕВИЧ Андрій Тарасович | C7: + | D7: + | E7: + | F7: + | G7: + | H7: + | I7: +
A8: майор | B8: СЕМЕНІЙ Святослав Миколайович | C8: + | D8: + | E8: + | F8: + | G8: + | H8: + | I8: +
A9: головний сержант | B9: ВОЛОВИКОВ Євген Юрійович | C9: + | D9: + | E9: + | F9: + | G9: + | H9: + | I9: +
A10: солдат | B10: БЕРЕЖНИЙ Сергій Григорович | C10: + | D10: + | E10: + | F10: + | G10: + | H10: + | I10: +
A11: старший сержант | B11: ПЛАХТИНА Олена Петрівна | C11: + | D11: + | E11: + | F11: + | G11: + | H11: + | I11: +
A12: майор | B12: ДОВБИШ Володимир Володимирович | C12: + | D12: + | E12: + | F12: + | G12: + | H12: + | I12: +
A14: старший солдат | B14: ЯЛОВЕГА Юрій Вікторович | C14: + | D14: + | E14: + | F14: + | G14: + | H14: + | I14: +
A15: На продовольчому забезпеченні в УПРАВЛІННІ БАТАЛЬЙОНУ перебуває | C15: =COUNTIF(C6:C14,"+") -> 8 | D15: =COUNTIF(D6:D14,"+") -> 8 | E15: =COUNTIF(E6:E14,"+") -> 8 | F15: =COUNTIF(F6:F14,"+") -> 8 | G15: =COUNTIF(G6:G14,"+") -> 8 | H15: =COUNTIF(H6:H14,"+") -> 8 | I15: =COUNTIF(I6:I14,"+") -> 7 | J15: =COUNTIF(J6:J14,"+") -> 0 | ... AG15: =COUNTIF(AG6:AG14,"+") -> 0
A16: 1 НАВЧАЛЬНА РОТА
A17: УПРАВЛІННЯ
A18: капітан | B18: СТЕПАНЮК Дмитро Миколайович | C18: + | D18: + | E18: + | F18: + | G18: + | H18: + | I18: +
A19: лейтенант | B19: ДЕМЯНЧУК Наталія Василівна | C19: від за с/з | D19: від за с/з | E19: від за с/з | F19: + | G19: + | H19: + | I19: +
A20: сержант | B20: ПОТАПОВ Олександр Євгенович | C20: + | D20: + | E20: + | F20: + | G20: + | H20: + | I20: +
A21: старший сержант | B21: КАРПУК Богдан Михайлович | C21: + | D21: + | E21: + | F21: + | G21: + | H21: + | I21: +
A22: солдат | B22: СІРЕНКО Максим Ігорович | H22: +
A23: молодший сержант | B23: КОВАЛЬЧУК Андрій Леонідович | F23: + | G23: + | H23: + | I23: +
A24: старший солдат | B24: ІВАНЧІКОВ Андрій Андрійович | C24: + | D24: + | E24: + | F24: + | G24: + | H24: + | I24: +
A25: молодший сержант | B25: ВОЛЧКОВ Віктор Вікторович | C25: =+D25 -> + | D25: =+E25 -> + | E25: =+F25 -> + | F25: + | G25: + | H25: + | I25: +
A26: старший сержант | B26: ШИМАНСЬКИЙ Георгій Георгійович | C26: =+D26 -> + | D26: =+E26 -> + | E26: =+F26 -> + | F26: + | G26: + | H26: + | I26: +
A27: молодший сержант | B27: КАЗАКОВ Євген Іванович | C27: вдр | D27: вдр | E27: вдр | F27: вдр | G27: вдр | H27: вдр | I27: вдр
A28: молодший сержант | B28: ПРОСТАПЧУК Валентин Іванович | C28: + | D28: + | E28: + | F28: + | G28: + | H28: + | I28: +
A29: сержант | B29: ВАСИЛЮК Андрій Васильович | C29: + | D29: + | E29: + | F29: + | G29: + | H29: + | I29: +
A30: солдат | B30: ЧЕРНЕНКО Андрій Юрійович | C30: вдр | D30: вдр | E30: вдр | F30: вдр | G30: вдр | H30: вдр | I30: вдр
A31: старший сержант | B31: ДІДОВЕЦЬ Дмитро Юрійович | C31: вдр | D31: вдр | E31: вдр | F31: вдр | G31: вдр | H31: вдр | I31: вдр
A32: 1 НАВЧАЛЬНИЙ ВЗВОД
A33: старший сержант | B33: БОРОДАВКІН Микола Михайлович | C33: + | D33: + | E33: + | F33: + | G33: + | H33: + | I33: +
A35: 2 НАВЧАЛЬНИЙ ВЗВОД
A36: капітан | B36: МЕРКУЛОВ Богдан Юрійович | C36: + | D36: + | E36: + | F36: + | G36: + | H36: + | I36: +
A37: солдат | B37: ЗЕНЧЕНКО Олександр Миколайович | C37: + | D37: + | E37: + | F37: + | G37: + | H37: + | I37: +
A38: 3 НАВЧАЛЬНИЙ ВЗВОД
A39: лейтенант | B39: БРИГА Олександр Генадійович | C39: + | D39: + | E39: + | F39: + | G39: + | H39: + | I39: +
A40: солдат | B40: ЖУРАВЕЛЬ Ігор Юрійович | C40: + | D40: + | E40: + | F40: + | G40: + | H40: + | I40: +
A41: 4 НАВЧАЛЬНИЙ ВЗВОД
A42: молодший лейтенант | B42: МАМОНТОВ Володимир Іванович | C42: + | D42: + | E42: + | F42: + | G42: + | H42: + | I42: +
A43: старший сержант | B43: АВГУСТОВИЧ Олександр Олександрович | C43: + | D43: + | E43: + | F43: + | G43: + | H43: + | I43: +
A44: 5 НАВЧАЛЬНИЙ ВЗВОД
A45: молодший лейтенант | B45: ДРОБІТЬКО Олександр Іванович
A46: солдат | B46: ПОДОПРИГОРА Олександр Васильович | C46: + | D46: + | E46: від | F46: від | G46: від | H46: від | I46: від
A47: 6 НАВЧАЛЬНИЙ ВЗВОД
A48: молодший лейтенант | B48: МУЛЬКО Андрій Іванович | C48: + | D48: + | E48: + | F48: + | G48: + | H48: + | I48: +
A49: молодший сержант | B49: МИНАЙЛЮК Ігор Миколайович | C49: + | D49: + | E49: + | F49: + | G49: + | H49: + | I49: +
A50: 7 НАВЧАЛЬНИЙ ВЗВОД
A51: молодший лейтенант | B51: ГЕНЗЕЛЬ Богдан Васильович | C51: + | D51: + | E51: + | F51: від | G51: від | H51: від | I51: від
A53: На продовольчому забезпеченні в 1 НАВЧАЛЬНІЙ РОТІ перебуває | C53: =COUNTIF(C18:C52,"+") -> 19 | D53: =COUNTIF(D18:D52,"+") -> 19 | E53: =COUNTIF(E18:E52,"+") -> 18 | F53: =COUNTIF(F18:F52,"+") -> 19 | G53: =COUNTIF(G18:G52,"+") -> 19 | H53: =COUNTIF(H18:H52,"+") -> 20 | I53: =COUNTIF(I18:I52,"+") -> 19 | J53: =COUNTIF(J18:J52,"+") -> 0 | ... AG53: =COUNTIF(AG18:AG52,"+") -> 0
A54: 2 НАВЧАЛЬНА РОТА
A55: УПРАВЛІННЯ
A56: молодший лейтенант | B56: ГУБРЕНКО Роман Тарасович | C56: + | D56: + | E56: + | F56: + | G56: + | H56: + | I56: +
A57: лейтенант | B57: БАРТКО Сергій Сергійович | C57: + | D57: + | E57: + | F57: + | G57: + | H57: + | I57: +
A58: сержант | B58: БОЛЬШАКОВ Антон Юрійович | C58: + | D58: + | E58: + | F58: + | G58: + | H58: + | I58: +
A59: солдат | B59: ШЕВЧЕНКО Іван Миколайович | C59: + | D59: + | E59: + | F59: + | G59: + | H59: + | I59: +
A60: солдат | B60: ВІЛІВАЛЬД Дмитро Євгенович | C60: + | D60: + | E60: + | F60: + | G60: + | H60: + | I60: +
A61: солдат | B61: КРИВОБОК Вадим Олегович | C61: + | D61: + | E61: + | F61: + | G61: + | H61: + | I61: +
A62: сержант | B62: ТХОРЖЕВСЬКИЙ Андрій Ігорович | C62: + | D62: + | E62: + | F62: + | G62: + | H62: + | I62: +
A63: солдат | B63: МЕЛЬНИКОВИЧ Михайло Михайлович | C63: + | D63: + | E63: + | F63: + | G63: + | H63: + | I63: +
A64: молодший сержант | B64: ХАРЧЕНКО Юрій Миколайович | C64: + | D64: + | E64: + | F64: + | G64: + | H64: + | I64: +
A65: майстер сержант | B65: ЮЩИШИН Ігор Дмитрович | C65: + | D65: + | E65: + | F65: + | G65: + | H65: + | I65: +
A66: старший солдат | B66: СПІВАК Віктор Вікторович | C66: + | D66: + | E66: + | F66: + | G66: + | H66: + | I66: +
A67: молодший сержант | B67: КУЛИК Андрій Петрович | C67: + | D67: + | E67: + | F67: + | G67: + | H67: + | I67: +
... A69: солдат | B69: ГОДЛЕВСЬКИЙ Віталій Володимирович | C69: + | D69: + | E69: + | F69: + | G69: + | H69: + | I69: +
A70: 1 НАВЧАЛЬНИЙ ВЗВОД
A71: молодший лейтенант | B71: ДМИТРИШИН Сергій Вікторович | C71: + | D71: + | E71: + | F71: + | G71: + | H71: + | I71: +
A72: молодший сержант | B72: РОЖОВЕЦЬКИЙ Дмитро Миколайович | C72: + | D72: + | E72: + | F72: + | G72: + | H72: + | I72: +
A73: 2 НАВЧАЛЬНИЙ ВЗВОД
A74: капітан | B74: БАШИНСЬКИЙ Павло Миколайович | C74: + | D74: + | E74: + | F74: + | G74: + | H74: + | I74: +
A75: солдат | B75: КУЧЕРЕНКО Олександр Васильович | C75: + | D75: + | E75: + | F75: + | G75: + | H75: + | I75: +
A76: 3 НАВЧАЛЬНИЙ ВЗВОД
A77: молодший лейтенант | B77: МАКОВІН Ілля Валерійович | C77: + | D77: + | E77: + | F77: + | G77: + | H77: + | I77: +
A78: молодший сержант | B78: СОЛОМКО Микола Васильович | C78: вдр | D78: вдр | E78: вдр | F78: вдр | G78: вдр | H78: вдр | I78: вдр
A79: 4 НАВЧАЛЬНИЙ ВЗВОД
A80: молодший лейтенант | B80: СЯГАЙЛО Микола Віталійович | C80: + | D80: + | E80: + | F80: + | G80: + | H80: + | I80: +
A81: солдат | B81: ЛИСАЙЧУК Артем Олександрович | C81: вдр | D81: вдр | E81: вдр | F81: вдр | G81: вдр | H81: вдр | I81: вдр
A82: 5 НАВЧАЛЬНИЙ ВЗВОД
A83: молодший лейтенант | B83: КУЛІШОВ Максим Валерійович | C83: + | D83: + | E83: + | F83: + | G83: + | H83: + | I83: +
A84: молодший сержант | B84: САВОТЧЕНКО Ігор Петрович | C84: + | D84: + | E84: + | F84: + | G84: + | H84: + | I84: +
A85: 6 НАВЧАЛЬНИЙ ВЗВОД
A87: старший солдат | B87: ПРУТ Микола Анатолієвич | C87: лік | D87: лік | E87: лік | F87: лік | G87: лік | H87: лік | I87: лік
A88: 7 НАВЧАЛЬНИЙ ВЗВОД
A89: капітан | B89: МЕДИНСЬКИЙ Андрій Ігорович | C89: + | D89: + | E89: + | F89: + | G89: + | H89: + | I89: +
A91: На продовольчому забезпеченні в 2 НАВЧАЛЬНІЙ РОТІ перебуває | C91: =COUNTIF(C56:C90,"+") -> 22 | D91: =COUNTIF(D56:D90,"+") -> 22 | E91: =COUNTIF(E56:E90,"+") -> 22 | F91: =COUNTIF(F56:F90,"+") -> 22 | G91: =COUNTIF(G56:G90,"+") -> 22 | H91: =COUNTIF(H56:H90,"+") -> 22 | I91: =COUNTIF(I56:I90,"+") -> 22 | J91: =COUNTIF(J56:J90,"+") -> 0 | ... AG91: =COUNTIF(AG56:AG90,"+") -> 0
A92: 3 НАВЧАЛЬНА РОТА
A93: УПРАВЛІННЯ
A94: лейтенант | B94: ЩЕРБАЦЬКИЙ Сергій Олександрович | C94: + | D94: + | E94: + | F94: + | G94: + | H94: + | I94: +
A95: лейтенант | B95: СТЕПАНСЬКИЙ Анатолій Анатолійович | C95: + | D95: + | E95: + | F95: + | G95: + | H95: + | I95: +
A96: сержант | B96: ЖОЛУДЄВ Костянтин Олександрович | C96: + | D96: + | E96: + | F96: + | G96: + | H96: + | I96: +
A97: головний сержант | B97: БЄЛЯНЦЕВ Іван Генадійович | C97: + | D97: + | E97: + | F97: + | G97: + | H97: + | I97: +
A98: солдат | B98: БУКРЕНЬОВ Дмитро Юрійович | C98: вдр | D98: вдр | E98: вдр | F98: вдр | G98: вдр | H98: вдр | I98: вдр
A99: молодший сержант | B99: БАТАНОВ Іван Сергійович | C99: вдр | D99: вдр | E99: вдр | F99: вдр | G99: вдр | H99: вдр | I99: вдр
A100: сержант | B100: КУР'ЯТА Микола Сергійович | C100: + | D100: + | E100: + | F100: + | G100: + | H100: + | I100: +
A101: сержант | B101: ЗАЄЦЬ Дмитро Станіславович | C101: + | D101: + | E101: + | F101: + | G101: + | H101: + | I101: +
A102: сержант | B102: ДЕСЯТНИК Олександр Вікторович | C102: + | D102: + | E102: + | F102: + | G102: + | H102: + | I102: +
A103: сержант | B103: ЦАРАЛУНГА Денис Дмитрович | C103: + | D103: + | E103: + | F103: + | G103: + | H103: + | I103: +
A104: молодший сержант | B104: МИХАЙЛИШИН Андрій Вікторович | C104: вдр | D104: вдр | E104: вдр | F104: вдр | G104: вдр | H104: вдр | I104: вдр
A105: молодший сержант | B105: МИРОНЮК Олександр Васильович | C105: + | D105: + | E105: + | F105: + | G105: + | H105: + | I105: +
... A107: солдат | B107: МУРАШЕВСЬКИЙ Михайло Сергійович | C107: вдр | D107: вдр | E107: вдр | F107: вдр | G107: вдр | H107: вдр | I107: вдр
...

Sheet 7. Безповоротні втрати
A1: 8
T2: Продовження додатка 1
A3: 45778 | B3: 7. Облік безповоротніх втрат
A4: Військове звання | B4: ПРІЗВИЩЕ (за наявності) Ім'я По батькові (за наявності) | C4: Індекс посади | D4: Вид військової служби | E4: РНОКПП (за наявності) | F4: Серія (за наявності) і номер документа, що посвідчує особу та назва документа | H4: Дата народження | I4: Місце народження | J4: Ким і коли призваний (прийнятий) на військову службу | L4: Прізвище (за наявності), власне ім’я, по батькові (за наявності) дружини (чоловіка), батька, матері або близького родича, місце проживання (перебування) членів сім’ї (близьких родичів) | M4: Вид втрати | N4: Дата безповоротної втрати | O4: Обставини, що призвели до втрат особового складу | P4: Місце втрат особового складу | Q4: Дата виключення із списків | R4: Наказ про виключення із списків (дата і номер) | T4: Кому, за яким номером і коли надіслано сповіщення | U4: Місце і дата поховання (імовірне місце перебування)
A5: =MAX('5. Тимчасово відсутні'!5:5)+1 -> 77 | B5: =A5+1 -> 78 | C5: =B5+1 -> 79 | D5: =C5+1 -> 80 | E5: =D5+1 -> 81 | F5: =E5+1 -> 82 | H5: =F5+1 -> 83 | I5: =H5+1 -> 84 | J5: =I5+1 -> 85 | L5: =J5+1 -> 86 | M5: =L5+1 -> 87 | N5: =M5+1 -> 88 | O5: =N5+1 -> 89 | P5: =O5+1 -> 90 | Q5: =P5+1 -> 91 | R5: =Q5+1 -> 92 | T5: =R5+1 -> 93 | U5: =T5+1 -> 94
A6: майор | B6: КОТЛЯРЕВСЬКИЙ Іван Петрович | C6: 000110 | D6: мобіліація | E6: 1001001001 | F6: КО101138 | G6: паспорт | H6: 09.09.1769 | I6: м. Полтава | J6: Полтавським ОМТЦК та СП | K6: 44616 | L6: Жуковська Параска Леонтіївна м. Полтава, вул. Котляревського, 12а (0532) 665678 | M6: загинув | N6: 44875 | O6: Близько 7:00, в результаті артилерійського обстрілу противника отримав осколкові поранення несумісні з життям. | P6: м. Полтава | Q6: 44876 | R6: 44896 | S6: №285 | T6: Полтавський ОМТЦК та СП № 101 10.11.2022 | U6: м. Полтава, 15.11.2022
B8: Командир підрозділу
B9: звання | C9: підпис | I9: Дата

Sheet 8. Статистичний облік
A1: 9
AW2: Продовження додатка 1
A3: 45778 | B3: 8. Зведений статистичний облік
A4: Підрозділи | B4: По штату | F4: По списку | J4: В наявності | N4: На продовольчому забезпеченні | O4: Відсутні | S4: Причини відсутності
S5: Відпустка | W5: Лікування | AA5: Відрядження | AE5: СЗЧ | AI5: Загиблі | AM5: Зниклі безвісти | AQ5: Полон | AU5: Інші
B6: Офіцери | C6: Сержанти | D6: Солдати | E6: Працівники | F6: Офіцери | G6: Сержанти | H6: Солдати | I6: Працівники | J6: Офіцери | K6: Сержанти | L6: Солдати | M6: Працівники | O6: Офіцери | P6: Сержанти | Q6: Солдати | R6: Працівники | S6: Офіцери | T6: Сержанти | U6: Солдати | V6: Працівники | W6: Офіцери | X6: Сержанти | Y6: Солдати | Z6: Працівники | AA6: Офіцери | AB6: Сержанти | AC6: Солдати | AD6: Працівники | AE6: Офіцери | AF6: Сержанти | AG6: Солдати | AH6: Працівники | AI6: Офіцери | AJ6: Сержанти | AK6: Солдати | AL6: Працівники | AM6: Офіцери | AN6: Сержанти | AO6: Солдати | AP6: Працівники | AQ6: Офіцери | AR6: Сержанти | AS6: Солдати | AT6: Працівники | AU6: Офіцери | AV6: Сержанти | AW6: Солдати | AX6: Працівники
A7: =MAX('[1]7. Безповоротні втрати'!5:5)+1 -> 95 | B7: =A7+1 -> 96 | F7: =B7+1 -> 97 | J7: =F7+1 -> 98 | N7: =J7+1 -> 99 | O7: =N7+1 -> 100 | S7: =O7+1 -> 101 | W7: =S7+1 -> 102 | AA7: =W7+1 -> 103 | AE7: =AA7+1 -> 104 | AI7: =AE7+1 -> 105 | AM7: =AI7+1 -> 106 | AQ7: =AM7+1 -> 107 | AU7: =AQ7+1 -> 108
A8: ВСЬОГО | B8: =SUM(B9:B13) -> 45 | C8: =SUM(C9:C13) -> 67 | D8: =SUM(D9:D13) -> 1 | E8: =SUM(E9:E13) -> 0 | F8: =SUM(F9:F13) -> 29 | G8: =SUM(G9:G13) -> 57 | H8: =SUM(H9:H13) -> 1 | I8: =SUM(I9:I13) -> 0 | ... M8: =SUM(M9:M13) -> 0 | N8: =J8+K8+L8+M8 -> 70 | O8: =SUM(O9:O13) -> 3 | P8: =SUM(P9:P13) -> 14 | Q8: =SUM(Q9:Q13) -> 0 | R8: =SUM(R9:R13) -> 0 | S8: =SUM(S9:S13) -> 3 | T8: =SUM(T9:T13) -> 4 | U8: =SUM(U9:U13) -> 0 | V8: =SUM(V9:V13) -> 0 | ... AX8: =SUM(AX9:AX13) -> 0
A9: УПРАВЛІННЯ | B9: 5 | C9: 3 | D9: 1 | E9: 0 | F9: 5 | G9: 2 | H9: 1 | I9: 0 | J9: 5 | K9: 2 | L9: 1 | M9: 0 | N9: =J9+K9+L9+M9 -> 8 | O9: 0 | P9: 0 | Q9: 0 | R9: 0 | S9: 0 | T9: 0 | U9: 0 | V9: 0 | W9: 0 | X9: 0 | Y9: 0 | Z9: 0 | AA9: 0 | AB9: 0 | AC9: 0 | AD9: 0
A10: 1 НАВЧАЛЬНА РОТА | B10: 11 | C10: 17 | D10: 0 | E10: 0 | F10: 6 | G10: 15 | H10: 0 | I10: 0 | J10: 4 | K10: 13 | L10: 0 | M10: 0 | N10: =J10+K10+L10+M10 -> 17 | O10: 1 | P10: 3 | Q10: 0 | R10: 0 | S10: 1 | T10: 0 | U10: 0 | V10: 0 | W10: 0 | X10: 1 | Y10: 0 | Z10: 0 | AA10: 0 | AB10: 3 | AC10: 0 | AD10: 0
A11: 2 НАВЧАЛЬНА РОТА | B11: 11 | C11: 17 | D11: 0 | E11: 0 | F11: 5 | G11: 15 | H11: 0 | I11: 0 | J11: 5 | K11: 11 | L11: 0 | M11: 0 | N11: =J11+K11+L11+M11 -> 16 | O11: 0 | P11: 4 | Q11: 0 | R11: 0 | S11: 0 | T11: 1 | U11: 0 | V11: 0 | W11: 0 | X11: 0 | Y11: 0 | Z11: 0 | AA11: 0 | AB11: 3 | AC11: 0 | AD11: 0
A12: 3 НАВЧАЛЬНА РОТА | B12: 11 | C12: 17 | D12: 0 | E12: 0 | F12: 6 | G12: 14 | H12: 0 | I12: 0 | J12: 4 | K12: 9 | L12: 0 | M12: 0 | N12: =J12+K12+L12+M12 -> 13 | O12: 2 | P12: 5 | Q12: 0 | R12: 0 | S12: 0 | T12: 3 | U12: 0 | V12: 0 | W12: 1 | X12: 0 | Y12: 0 | Z12: 0 | AA12: 1 | AB12: 2 | AC12: 0 | AD12: 0
A13: 1 НАВЧАЛЬНА БАТАРЕЯ | B13: 7 | C13: 13 | D13: 0 | E13: 0 | F13: 7 | G13: 11 | H13: 0 | I13: 0 | J13: 5 | K13: 11 | L13: 0 | M13: 0 | N13: =J13+K13+L13+M13 -> 16 | O13: 0 | P13: 2 | Q13: 0 | R13: 0 | S13: 2 | T13: 0 | U13: 0 | V13: 0 | W13: 0 | X13: 0 | Y13: 0 | Z13: 0 | AA13: 0 | AB13: 3 | AC13: 0 | AD13: 0
A16: Командир 1 навчального батальйону
A17: підполковник | C17: Віктор МОРОЗ
A18: 45839

Sheet 9. Перелік індексів посад
A1: 10
G2: Продовження додатка 1
A3: 45778 | B3: 9. Перелік індексів посад
A4: Індекс посади | B4: Назва посади | C4: ШПК | D4: ВОС | E4: Тариф | F4: № штату | G4: Дата введення посади в штат | H4: Дата виведення посади зі штату
A5: =MAX('8. Статистичний облік'!7:7)+1 -> 109 | B5: =A5+1 -> 110 | C5: =B5+1 -> 111 | D5: =C5+1 -> 112 | E5: =D5+1 -> 113 | F5: =E5+1 -> 114 | G5: =F5+1 -> 115 | H5: =G5+1 -> 116
B6: Командир батальйону | C6: підполковник | D6: 0212003 | E6: 25
B7: Заступник командира батальйону | C7: майор | D7: 0212003 | E7: 24
B8: Заступник командира батальйону з психологічної підтримки персоналу | C8: майор | D8: 3420003 | E8: 24
B9: Головний сержант | C9: штаб-сержант | D9: 929982Д | E9: 18
B10: Інструктор з фізичної підготовки і спорту | C10: сержант | D10: 906115Д | E10: 11
B11: Фельдшер | C11: старший сержант | D11: 879962Д | E11: 8
B12: Начальник штабу - заступник командира батальйону | C12: майор | D12: 0212003 | E12: 24
B13: Офіцер | C13: старший лейтенант | D13: 2905003 | E13: 4
B14: Діловод | C14: старший солдат | D14: 901074Д | E14: 4/4
B15: 1 НАВЧАЛЬНА РОТА
B16: Командир роти - старший викладач | C16: майор | D16: 0212003 | E16: 20
B17: Заступник командира роти з психологічної підтримки персоналу | C17: капітан | D17: 3420003 | E17: 19
B18: Сержант - інструктор | C18: головний сержант | D18: 100657Д | E18: 12
B19: Сержант з матеріального забезпечення | C19: старший сержант | D19: 787089Д | E19: 10
B20: Інструктор із тактичної медицини | C20: сержант | D20: 878127Д | E20: 6/5
B21: Інструктор | C21: старший сержант | D21: 100119Д | E21: 11/6
B22: Інструктор | C22: старший сержант | D22: 100119Д | E22: 11/7
B23: Інструктор | C23: старший сержант | D23: 100119Д | E23: 11/8
B24: Інструктор | C24: старший сержант | D24: 100119Д | E24: 11/9
B25: Інструктор | C25: старший сержант | D25: 100119Д | E25: 11/10
B26: Інструктор | C26: старший сержант | D26: 100119Д | E26: 11/11
B27: Інструктор | C27: старший сержант | D27: 100119Д | E27: 11/12
... B50: Головний сержант | C50: старший сержант | D50: 100975Д | E50: 9
B51: 2 НАВЧАЛЬНА РОТА
B52: Командир роти - старший викладач | C52: майор | D52: 0212003 | E52: 20
B53: Заступник командира роти з психологічної підтримки персоналу | C53: капітан | D53: 3420003 | E53: 19
B54: Сержант - інструктор | C54: головний сержант | D54: 100657Д | E54: 12
B55: Сержант з матеріального забезпечення | C55: старший сержант | D55: 787089Д | E55: 10
B56: Інструктор із тактичної медицини | C56: сержант | D56: 878127Д | E56: 6/5
B57: Інструктор | C57: старший сержант | D57: 100119Д | E57: 11/6
B58: Інструктор | C58: старший сержант | D58: 100119Д | E58: 11/7
B59: Інструктор | C59: старший сержант | D59: 100119Д | E59: 11/8
B60: Інструктор | C60: старший сержант | D60: 100119Д | E60: 11/9
B61: Інструктор | C61: старший сержант | D61: 100119Д | E61: 11/10
B62: Інструктор | C62: старший сержант | D62: 100119Д | E62: 11/11
B63: Інструктор | C63: старший сержант | D63: 100119Д | E63: 11/12
... B86: Головний сержант | C86: старший сержант | D86: 100975Д | E86: 9
B87: 3 НАВЧАЛЬНА РОТА
B88: Командир роти - старший викладач | C88: майор | D88: 0212003 | E88: 20
B89: Заступник командира роти з психологічної підтримки персоналу | C89: капітан | D89: 3420003 | E89: 19
B90: Сержант - інструктор | C90: головний сержант | D90: 100657Д | E90: 12
B91: Сержант з матеріального забезпечення | C91: старший сержант | D91: 787089Д | E91: 10
B92: Інструктор із тактичної медицини | C92: сержант | D92: 878127Д | E92: 6/5
B93: Інструктор | C93: старший сержант | D93: 100119Д | E93: 11/6
B94: Інструктор | C94: старший сержант | D94: 100119Д | E94: 11/7
B95: Інструктор | C95: старший сержант | D95: 100119Д | E95: 11/8
B96: Інструктор | C96: старший сержант | D96: 100119Д | E96: 11/9
B97: Інструктор | C97: старший сержант | D97: 100119Д | E97: 11/10
B98: Інструктор | C98: старший сержант | D98: 100119Д | E98: 11/11
B99: Інструктор | C99: старший сержант | D99: 100119Д | E99: 11/12
... B122: Головний сержант | C122: старший сержант | D122: 100975Д | E122: 9
B123: 1 НАВЧАЛЬНА БАТАРЕЯ
B124: Командир роти - старший викладач | C124: майор | D124: 0304003 | E124: 20
B125: Заступник командира роти з психологічної підтримки персоналу | C125: капітан | D125: 3420003 | E125: 19
B126: Сержант - інструктор | C126: головний сержант | D126: 134657Д | E126: 12
B127: Сержант з матеріального забезпечення | C127: старший сержант | D127: 787089Д | E127: 10
B128: Інструктор із тактичної медицини | C128: сержант | D128: 878127Д | E128: 6/5
B129: 1 навчальний взвод | C129: п | D129: п | E129: п
B130: Командир взводу - викладач | C130: капітан | D130: 0306003 | E130: 13
B131: Інструктор | C131: старший сержант | D131: 134119Д | E131: 11/6
B132: Інструктор | C132: старший сержант | D132: 136119Д | E132: 11/6
B133: 2 навчальний взвод | C133: п | D133: п | E133: п
B134: Командир взводу - викладач | C134: капітан | D134: 0304003 | E134: 13
B135: Інструктор | C135: старший сержант | D135: 133119Д | E135: 11/6
... B148: Інструктор | C148: старший сержант | D148: 143119Д | E148: 11/6
A151: Командир 1 навчального батальйону
A152: підполковник | C152: Віктор МОРОЗ
A153: 45839

Sheet Примітки
A1: 11
A2: Продовження додатка 1
A3: Примітки
A4: 1. Електронний журнал обліку особового складу військової частини/підрозділу (далі - ЕЖООС) ведеться в електронній формі на пристрої, який не має модулю підʼєднання до локальної мережі.
A5: 2. Стовпці і поля, визначені в ЕЖООС, є обов'язковими для ведення обліку. Заборонено видаляти, змінювати нумерацію чи редагувати назви стовпців, визначені в ЕЖООС. При цьому дозволено додавати стовпці з інформацією, яка необхідна для здійснення більш якісного обліку особового складу військовою частиною, органом військового управління чи їхніми підрозділами (такі стовпці можна додавати у будь-якому порядку, але при цьому залишати їх непронумерованими і не друкувати їх під час передання друкованої версії до штабу військової частини чи до Галузевого архіву).
A6: 3. ЕЖООС ведеться протягом 1 календарного місяця. У перший день нового місяця створюється новий файл журналу, в якому ведуться усі зміни за поточний місяць (файл-шаблон зберігається з новою назвою (наприклад, "2024-11 ЕЖООС СР1" для обліку особового складу 1-ої стрілецької роти за листопад 2024 р.). Файл журналу за попередній місяць зберігається на пристрої. 1 січня та 1 червня звітного року титульна сторінка та вкладки ЕЖ роздруковуються (вкладка "6. Табель" роздруковується за кожен з цих 6 місяців, вкладки "8. Статистичний облік", "9. Перелік індексів посад" і "Примітки" не друкується), на роздрукованому примірнику зазначається кількість аркушів. Командир підрозділу підписує роздрукований журнал та передає у службу персоналу.
A7: 4. Вкладка "1. Штатно-посадовий облік" ведеться в усіх структурних підрозділах починаючи з роти. Штаб окремої військової частини присвоює кожній посаді унікальний індекс (у тому числі посадам змінного складу, посадам держслубовців та працівників ЗСУ) і фіксує цей перелік у Вкладці "9. Перелік індексів посад". Рекомендовано на рівні окремої бригади використовувати 6-тизначний індекс, на рівні окремого батальйону - 4-ьохзначний. Також дозволено використовувати літери (наприклад, для позначення посад змінного складу, курсантів, слухачів, державних службовців чи працівників ЗСУ). Важливо! При зміні (заміні) посади їй присвоюється новий унікальний індекс У разі наявності в штаті цивільних посад стовпець 4. "ВОС" має залишитися пустим, а в стовпці 6. "Звання" проставляється відповідно цивільний статус персоналу (наприклад, «працівник ЗСУ», «державний службовець 4 рангу» і т.д.). Порядок записів може змінюватися в залежності від введення або скасування посад. Усі записи (рядки таблиці) розташовуються за підпорядкованістю у підрозділі. Рекомендовано відділяти структурні підрозділи їхніми назвами, записаними в об'єднаних комірках в стовпцях від 1 до 7, так як це зроблено у даному прикладі (це необхідно для автоматичного виведення підрозділів до вкладки "8. Статистичний облік").
A8: 5. Вкладка "2. Облік особового складу" ведеться на весь підпорядкований особовий склад. Записи ведуться у порядку зарахування військовослужбовців до списків, потім за званнями. У разі наявності в штаті цивільних посад в колонці 8. "Звання" проставляється відповідно цивільний статус персоналу (наприклад, «працівник ЗСУ», «державний службовець 4 рангу» і т.д.). Стовпець 10 "Індекс посади / Індекси посад, які обіймав(ла)" та 11 "Дати призначення на посади" ведуться за такими правилами: - індекс і дата призначення на поточну посаду записується зверху звичайним шрифтом; - індекси і дати попередніх посад записуються у стовпець (Alt+Enter), курсивом, у зворотному порядку до призначень (актуальна посада буде першою у стовпці, найперша посада буде останньою). - у разі, якщо військовослужбовець перебуває у списках військової частини, але не займає штатну посаду у Стовпці 10 ставиться відповідний статус (н/д "у розпорядженні"), а у Стовпці 11 дата встановлення цього статусу (наприклад, зарахування в розпорядження). У Стовпці 17, окрім контрактної чи служби по мобілізації, може також зазначатись і вид державної служби. У Стовпці 20 іноземцям прописується його громадянство (наприклад, "США", "Італійська Республіка", "Республіка Колумбія" і т.д).
A9: 6. Вкладка "3. Виключені" має такий же набір стовпців як і Вкладка "2. Облік особового складу", але до неї додано ще стовпці, які ведуть тільки у електронному журналі обліку особового складу окремої військової частини: 51. Дата виключення зі списків - фактична дата виключення зі списків; 52. Дата і номер наказу по стройовій частині про виключення із списків 53. Куди вибув / Куди направлені документи - у випадку загибелі/смерті вказується ТЦК та СП, до якого були направлені документи; 54. Підстава виключення зі списків - пишеться інформація, яка необхідна для ідентифікації події (наприклад: у разі загибелі/смерті може писатися дата і вид події, у випадку звільнення - причина звільнення і наказ по особовому складу, у разі перемішення до інщої в/ч - наказ по особовому складу, у випадку призупинення служби - № і дата витягу з ЄРДР). Рекомендовано при виключенні військовослужбовця зі списків переміщувати інформацію з Вкладки 2 до Вкладки 3, використовувати функції "Вирізати" і "Додати скопійовані клітинки", додавши і заповнивши при цьому стовпці 51, 52, 53, 54. Вкладка ведеться в алфавітному порядку. Роздрукований і підписаний варіант Вкладки "3. Виключені" підлягає передачі в Державний галузевий архів МОУ.
A10: 7. Вкладка "4. Тимчасово прибулий особовий склад" ведеться на рівні батальйону та на рівні окремої військової частини. Записи робляться у порядку прибуття військовослужбовців до військової частини, потім за званнями.
A11: 8. Вкладка "5. Тимчасово відсутній особовий склад" ведеться в усіх структурних підрозділах починаючи з роти. Записи робляться у порядку вибуття військовослужбовців з військової частини, потім за званнями. У Стовпці 76 можна уточнюється підстави вибуття або іншу необхідну інформацію.
A12: 9. Вкладка "6. Табель" ведеться в усіх структурних підрозділах починаючи з роти на кожен місяць. Рекомендовано вживати такі позначки: + - присутній/ня; вдр - відрядження; від - відпустка щорічна, за сімейними обставинами, для лікування у зв’язку з хворобою; ВП - відпустка для лікування після поранення (контузії, травми або каліцтва); лік - лікування у звʼязку з хворобою; ЛП - лікування після поранення (контузії, травми або каліцтва); СЗЧ - самовільне залишення частини; ЗБ - зниклий безвісти; пол - в полоні; заг - загибель (проставляється тільки в дату події); пом - помер (проставляється тільки в дату події). Ведення вкладки "6. Табель" на управління (командування) військової частини (органу військового управління чи їм рівні) покладається на відділення персоналу штабу або відповідний орган (посадову особу), на який покладені функції ведення обліку особового складу. На рівні окремої військової частини Вкладка "6. Табель особового сакладу" ведеться по підрозділам, які безпосередньо підпорядковуються командиру військової частини із зазначенням кількость осіб, які перебувають на продовольчому забезпеченні кожного підрозділу, станом на кожен день місяця.
A13: 10. Вкладка "7. Безповоротні втрати" ведеться на рівні окремої військової частини. Записи робляться у порядку дат подій, які призвели до безповротніх втрат військовослужбовців. Рекомендовано Стовпці 77-86 заповнювати методом копіювання інформації зі Стовпців, відповідно, 8-10, 17, 20-23, 25 та 27 (зверніть увагу, що в Стовпці 79, на відміну, від Стовпця 10, зазначається тільки індекс останньої зайнманої посади).
... A17: 14. Важливо! Всі приклади записів зроблені станом на 12 листопада 2024 року і являються вигаданими. Будь яке співпадіння з реально існуючими людьми - випадковість.

Sheet Звання
A1: Генерал | C1: Генерал | D1: Головний майстер-сержант | E1: Старший солдат | F1: Генерал | G1: Головний майстер-сержант | H1: Старший солдат | I1: Генерал | J1: Головний майстер-сержант | K1: Старший солдат
A2: Генерал-лейтенант | C2: Генерал-майор | D2: Майстер-сержант | E2: Старший матрос | F2: Генерал-майор | G2: Майстер-сержант | H2: Старший матрос | I2: Генерал-майор | J2: Майстер-сержант | K2: Старший матрос
A3: Генерал-лейтенант медичної служби | C3: Бригадний генерал | D3: Штаб-сержант | E3: Матрос | F3: Бригадний генерал | G3: Штаб-сержант | H3: Матрос | I3: Бригадний генерал | J3: Штаб-сержант | K3: Матрос
A4: Генерал-майор | C4: Полковник | D4: Головний сержант | E4: Рекрут | F4: Полковник | G4: Головний сержант | H4: Рекрут | I4: Полковник | J4: Головний сержант | K4: Рекрут
A5: Генерал-майор медичної служби | C5: Полковник медичної служби | D5: Старший сержант | E5: --- | F5: Полковник медичної служби | G5: Старший сержант | H5: --- | I5: Полковник медичної служби | J5: Старший сержант | K5: ---
A6: Бригадний генерал | C6: Полковник юстиції | D6: Сержант | E6: --- | F6: Полковник юстиції | G6: Сержант | H6: --- | I6: Полковник юстиції | J6: Сержант | K6: ---
A7: Бригадний генерал медичної служби | C7: Полковник капеланської служби | D7: Молодший сержант | E7: --- | F7: Полковник капеланської служби | G7: Молодший сержант | H7: --- | I7: Полковник капеланської служби | J7: Молодший сержант | K7: ---
A8: Полковник | C8: Підполковник | D8: Головний майстер-старшина | E8: --- | F8: Підполковник | G8: Головний майстер-старшина | H8: --- | I8: Підполковник | J8: Головний майстер-старшина | K8: ---
A9: Полковник медичної служби | C9: Підполковник медичної служби | D9: Старший майстер-старшина | E9: --- | F9: Підполковник медичної служби | G9: Старший майстер-старшина | H9: --- | I9: Підполковник медичної служби | J9: Старший майстер-старшина | K9: ---
A10: Полковник юстиції | C10: Підполковник юстиції | D10: Майстер-старшина | E10: --- | F10: Підполковник юстиції | G10: Майстер-старшина | H10: --- | I10: Підполковник юстиції | J10: Майстер-старшина | K10: ---
A11: Полковник капеланської служби | C11: Підполковник капеланської служби | D11: Штаб-старшина | E11: --- | F11: Підполковник капеланської служби | G11: Штаб-старшина | H11: --- | I11: Підполковник капеланської служби | J11: Штаб-старшина | K11: ---
A12: Підполковник | C12: Майор | D12: Головний корабельний старшина | E12: --- | F12: Майор | G12: Головний корабельний старшина | H12: --- | I12: Майор | J12: Головний корабельний старшина | K12: ---
... A42: Сержант | C42: Молодший лейтенант | D42: --- | E42: --- | F42: Молодший лейтенант | G42: --- | H42: --- | I42: Молодший лейтенант | J42: --- | K42: ---
A43: Молодший сержант
A44: Старший солдат
A45: Солдат
A46: Адмірал
A47: Віце-адмірал
A48: Контр-адмірал
A49: Коммодор
A50: Капітан 1 рангу
A51: Капітан 2 рангу
A52: Капітан 3 рангу
A53: Капітан-лейтенант
A54: Старший-лейтенант
... A67: Рекрут
