Workbook

Sheet Титульна сторінка
J1: Додаток 1 до Інструкції з організації обліку особового складу в системі Міністерства оборони України (пункт 3 розділ II)
K3: Гриф обмеження доступу
C7: МІНІСТЕРСТВО ОБОРОНИ УКРАЇНИ
C11: ЕЛЕКТРОННИЙ ЖУРНАЛ обліку особового складу
C14: 1 навчального батальйону | F14: в/ч А2900 | K14: 45839

Sheet 1. ШПО
A1: 2
G2: Продовження додатка 1
A3: 45778 | B3: № штату ###### | C3: 1. Штатно-посадовий облік
A4: Індекс посади | B4: Посада | C4: ШПК | D4: ВОС | E4: Тариф | F4: Звання | G4: ПРІЗВИЩЕ (за наявності) Ім'я По батькові (за наявності)
A5: 1 | B5: 2 | C5: 3 | D5: 4 | E5: 5 | F5: 6 | G5: 7
A6: УПРАВЛІННЯ
B7: Командир батальйону | C7: підполковник | D7: 0212003 | E7: 25 | F7: майор | G7: МОРОЗ Віктор Васильович
B8: Заступник командира батальйону | C8: майор | D8: 0212003 | E8: 24 | F8: капітан | G8: МАЛАШКЕВИЧ Андрій Тарасович
B9: Заступник командира батальйону з психологічної підтримки персоналу | C9: майор | D9: 3420003 | E9: 24 | F9: майор | G9: СЕМЕНІЙ Святослав Миколайович
B10: Головний сержант | C10: штаб-сержант | D10: 929982Д | E10: 18 | F10: головний сержант | G10: ВОЛОВИКОВ Євген Юрійович
B11: Інструктор з фізичної підготовки і спорту | C11: сержант | D11: 906115Д | E11: 11 | F11: солдат | G11: БЕРЕЖНИЙ Сергій Григорович
B12: Фельдшер | C12: старший сержант | D12: 879962Д | E12: 8 | F12: старший сержант | G12: ПЛАХТИНА Олена Петрівна
B13: Начальник штабу - заступник командира батальйону | C13: майор | D13: 0212003 | E13: 24 | F13: майор | G13: ДОВБИШ Володимир Володимирович
B14: Офіцер | C14: старший лейтенант | D14: 2905003
B15: Діловод | C15: старший солдат | D15: 901074Д | E15: 4/4 | F15: старший солдат | G15: ЯЛОВЕГА Юрій Вікторович
A16: 1 НАВЧАЛЬНА РОТА
B17: Командир роти - старший викладач | C17: майор | D17: 0212003 | E17: 20 | F17: капітан | G17: СТЕПАНЮК Дмитро Миколайович
B18: Заступник командира роти з психологічної підтримки персоналу | C18: капітан | D18: 3420003 | E18: 19 | F18: лейтенант | G18: ДЕМЯНЧУК Наталія Василівна
B19: Сержант - інструктор | C19: головний сержант | D19: 100657Д | E19: 12 | F19: сержант | G19: ПОТАПОВ Олександр Євгенович
B20: Сержант з матеріального забезпечення | C20: старший сержант | D20: 787089Д | E20: 10 | F20: старший сержант | G20: КАРПУК Богдан Михайлович
B21: Інструктор із тактичної медицини | C21: сержант | D21: 878127Д | E21: 6/5
B22: Інструктор | C22: Старший сержант | D22: 100119Д | E22: 11/6 | F22: молодший сержант | G22: ЧЕРНЕНКО Андрій Юрійович
B23: Інструктор | C23: Старший сержант | D23: 100119Д | E23: 11/6 | F23: сержант | G23: ВАСИЛЮК Андрій Васильович
B24: Інструктор | C24: Старший сержант | D24: 100119Д | E24: 11/6 | F24: сержант | G24: ПРОСТАПЧУК Валентин Іванович
B25: Інструктор | C25: Старший сержант | D25: 100119Д | E25: 11/6 | F25: сержант | G25: КАЗАКОВ Євген Іванович
B26: Інструктор | C26: Старший сержант | D26: 100119Д | E26: 11/6 | F26: старший сержант | G26: ШИМАНСЬКИЙ Георгій Георгійович
B27: Інструктор | C27: Старший сержант | D27: 100119Д | E27: 11/6 | F27: старший сержант | G27: ДІДОВЕЦЬ Дмитро Юрійович
B28: Інструктор | C28: Старший сержант | D28: 100119Д | E28: 11/6 | F28: сержант | G28: ВОЛЧКОВ Віктор Вікторович
B29: Інструктор | C29: Старший сержант | D29: 100119Д | E29: 11/6 | F29: молодший сержант | G29: ІВАНЧІКОВ Андрій Андрійович
B30: Інструктор | C30: Старший сержант | D30: 100119Д | E30: 11/6 | F30: сержант | G30: КОВАЛЬЧУК Андрій Леонідович
B31: 1 навчальний взвод | C31: п | D31: п | E31: п | F31: п | G31: п
B32: Командир взводу-викладач | C32: Капітан | D32: 0212003 | E32: 13 | F32: старший сержант | G32: БОРОДАВКІН Микола Михайлович
B33: Головний сержант | C33: Старший сержант | D33: 100975Д | E33: 9
B34: 2 навчальний взвод | C34: п | D34: п | E34: п | F34: п | G34: п
B35: Командир взводу-викладач | C35: Капітан | D35: 0212003 | E35: 13 | F35: молодший лейтенант | G35: ГЕНЗЕЛЬ Богдан Васильович
B36: Головний сержант | C36: Старший сержант | D36: 100975Д | E36: 9 | F36: солдат | G36: ЗЕНЧЕНКО Олександр Миколайович
B37: 3 навчальний взвод | C37: п | D37: п | E37: п | F37: п | G37: п
B38: Командир взводу-викладач | C38: Капітан | D38: 0212003 | E38: 13 | F38: лейтенант | G38: БРИГА Олександр Геннадійович
B39: Головний сержант | C39: Старший сержант | D39: 100975Д | E39: 9 | F39: солдат | G39: ЖУРАВЕЛЬ Ігор Юрійович
B40: 4 навчальний взвод | C40: п | D40: п | E40: п | F40: п | G40: п
...

Sheet 2. ООС
A1: 3
Z2: Продовження додатка 1
A3: 45809 | B3: 2. Облік особового складу
A4: Звання | B4: ПРІЗВИЩЕ (за наявності) Ім'я По батькові (за наявності) | C4: Індекс посади / Індексм посад, які обіймав(ла) | D4: Дати прийняття посади / посад | E4: Звідки прибув | F4: Дата зарахування до списків частини | G4: Наказ про зарахування до списків (дата і номер) | I4: Наказ, на призначення на посаду (дата, чий і номер) | K4: Наказ, на присвоєння останнього звання (дата, чий і номер) | M4: Вид служби | N4: Дата укладання контракту | O4: Дата закінчення контракту / Період призову (для базової військової служби) | P4: РНОКПП (за наявності) | Q4: Серія (за наявності) і номер документа, що посвідчує особу та назва документа | S4: Дата народження | T4: Місце народження | U4: Стать | V4: Ким і коли призваний (прийнятий) на військову службу | X4: Освіта | Y4: Дані про родичів | Z4: Додаткова інформація
A5: =MAX('1. ШПО'!5:5)+1 -> 8 | B5: =A5+1 -> 9 | C5: =B5+1 -> 10 | D5: =C5+1 -> 11 | E5: =D5+1 -> 12 | F5: =E5+1 -> 13 | G5: =F5+1 -> 14 | I5: =G5+1 -> 15 | K5: =I5+1 -> 16 | M5: =K5+1 -> 17 | N5: =M5+1 -> 18 | O5: =N5+1 -> 19 | P5: =O5+1 -> 20 | Q5: =P5+1 -> 21 | S5: =Q5+1 -> 22 | T5: =S5+1 -> 23 | U5: =T5+1 -> 24 | V5: =U5+1 -> 25 | X5: =V5+1 -> 26 | Y5: =X5+1 -> 27 | Z5: =Y5+1 -> 28
A6: майор | B6: МОРОЗ Віктор Васильович | D6: 45584 | F6: 45584 | G6: 45584 | H6: № 336 | M6: мобілізація | P6: 2950618298 | Q6: ЕО492995 | R6: паспорт | S6: 29507 | T6: м.Миколіїв | U6: Ч | V6: Дубенським РТЦК та СП | W6: 44621 | Y6: Одружений: | Z6: 380675785313
A7: майор | B7: ВАСИЛЮК Дмитро Васильович | D7: … | E7: А0224 | F7: 45425 | G7: 45425 | H7: № 119 | M7: контракт | P7: 3537507811 | Q7: УК №241786 | R7: військовий квиток | S7: 35376 | U7: Ч | V7: Приморським РВК Одеської обл. | W7: 42976 | X7: Вища. Військова. м. Одеса | Y7: Дружина: Василюк Світлана Сергіївна. 05.11.1998. м.Житомир | Z7: 380966855391
A8: майор | B8: СЕМЕНІЙ Святослав Миколайович | D8: 16.08.2024 04.03.2022 | E8: Житомирський ОМТЦК та СП | F8: 44624 | G8: 44624 | H8: № 49 | I8: 45597 | J8: в/ч А2900 16.08.2024. № 252 | K8: 45597 | L8: КДШВ ЗСУ 11.09.2019. № 107 | M8: мобілізація | N8: - | O8: - | P8: 2963715775 | Q8: ВМ 416744 УК 241332 | R8: паспорт посвідчення офіцера | S8: 29638 | T8: Житомирська обл. Володарсько-Волинський р-н. с. Гацьківка | U8: Ч | V8: Житомирським ОМТЦК та СП | W8: 44624 | X8: Вища Чернігівське юридичне училище Державного департаменту України з питань виконання покарань | Y8: Дружина - Оксана Іваненко Житомирська обл., м. Коростень (068)6558441 | Z8: 380934492116
A9: старший лейтенант | B9: ГОРКУН Олександра Вікторівна | E9: ВІКНУ | M9: контракт | P9: 3496904540 | Q9: 1275034 | R9: паспорт | S9: 34970 | T9: м. Діпропетровськ | U9: Ж | V9: Шевченківський РТЦК та СП | W9: 42538 | X9: Вища ВІКНУ | Y9: Мати - Галина Кущенко Батько - Віктор Кущенко м.Дніпро вул.Василя Сліпака, буд. 25 кв.10 0631911610 | Z9: 380932255893
A10: головний сержант | B10: ВОЛОВИКОВ Євген Юрійович | D10: 45327 | E10: А2900 | F10: 45327 | G10: 45327 | H10: № 36 | I10: 45327 | J10: № 36 | K10: 45642 | L10: Командира в/ч А2900 № 275-РС | M10: контракт | P10: 3405000633 | Q10: 005813679 АВ365862 | R10: паспорт військовий квиток | S10: 34051 | T10: Донецька обл., м. Горлівка, бульвар Демитрова, буд. 39, кв. 13 | U10: Ч | V10: Констянтинівським ОМТЦК та СП Донецької обл | W10: 44321 | X10: Середня-спеціальна. Горлівське Вище професійне училище | Y10: Не одружений. Мати. Воловикова Інна Володимирівна. м. Слов'янськ вул. Світла Дарська 9. кв. 57 | Z10: 380933950725
A11: старший сержант | B11: ПЛАХТИНА Олена Петрівна | D11: 45716 | E11: А1910 | F11: 44414 | G11: 44414 | H11: № 157 | I11: 44414 | J11: в/ч А2900 06.08.2021. № 157 | K11: 38699 | L11: Командира в/ч А1910 № 257-РС | M11: контракт | N11: - | O11: - | P11: 2951408780 | Q11: ВН642133 МО529213 | R11: паспорт військовий квиток | S11: 29515 | T11: Житомирська обл. Чуднівський р-н с.Красногірка | U11: Ж | V11: Житомирським МВК | W11: 37853 | X11: Вища. Житомирський військовий інститут імені Корольова | Y11: Розлучена. Мама- Кравець Євгенія Дмитрівна. Житомирська обл. Чуднвааський р-н смт. Вакулинчук буд 28кв28 тел.0687232915 | Z11: 0977045992 0632697699
A12: майор | B12: ДОВБИШ Володимир Володимирович | D12: 45117 | E12: А2900 | G12: 45117 | H12: № 159 | I12: 45117 | J12: в/ч А2900 № 169 | K12: 45470 | L12: Командира в/ч А2900 № 168-РС | M12: контракт | P12: 3338218755 | Q12: №251122 | R12: посвідчення офіцера | S12: 33383 | T12: Житомирська обл. Житомирський р-н., с. Левків | U12: Ч | V12: Житомирським ОМТЦК та СП | W12: 42516 | X12: Вища. Віськова. Львівська академія сухопутніх військ | Y12: Розлучений. Житомирська обл. Житомирський р-н., с.Левків вул. Івана Мазепи 92А | Z12: 380634301644
A13: Старший солдат | B13: ЯЛОВЕГА Юрій Вікторович | D13: 45507 | E13: Полтавський ОМТЦК та СП | F13: 45470 | G13: 45470 | H13: № 183 | I13: 45507 | J13: в/ч А2900 № 223 | K13: 45631 | L13: Командира в/ч А2900 № 264-РС | M13: мобілізація | P13: 3700408434 | Q13: 006003158 АГ049699 | R13: паспорт військовий квиток | S13: 37005 | T13: с. Удовиченки Зінківський р-н, Полтавська обл. | U13: Ч | V13: Полтавський ОМТЦК та СП | W13: 45469 | X13: Вища Національний університет Полтавська Політехніка імені Юрія Кондратюка | Y13: Дружина - Яловега Анастасія Олександрівна м.Полтава, прос.Віталія Грицаєнка 27 | Z13: 380664255072
A14: капітан | B14: СТЕПАНЮК Дмитро Миколайович | D14: 10.07.2023 №169 | E14: В/Ч А4350 | F14: 44910 | G14: 44910 | H14: №316 | I14: 45117 | J14: №169 | K14: 45552 | L14: №296 | M14: мобілізація | N14: _ | O14: _ | Q14: УК № 283288 | R14: посвідчення офіцера | S14: 31295 | T14: Вінецька обл. С.Свитинці | U14: Ч | V14: Погребищенським РТЦК та СП | W14: 44734 | X14: Вища КНТУ | Y14: Мати - Степанюк Галина Єфремівна, Вінецька обл. с.Свитинці, вул. Ковалівна 4 | Z14: н 380977401325
A15: лейтенант | B15: ДЕМЯНЧУК Наталія Василівна | D15: 14.11.2024 №370 | E15: Чуднівський РТЦК та СП | F15: 42536 | G15: 42536 | I15: 45610 | J15: №370 | K15: 45529 | L15: №265 | M15: Контракт | N15: 45163 | O15: 46990 | P15: 3191813887 | Q15: УК № 334128 | R15: посвідчення офіцера | S15: 31919 | T15: Житомирська обл. м. Чуднів | U15: Ж | V15: Чуднівський РТЦК та СП | X15: Вища , ЖПУ | Y15: Мати - Кротюк Світлана Василівна , Житомирська обл. , Житомирський рн. , с. Бабушки , вул.Центральна 41 | Z15: н 380977427783
A16: сержант | B16: ПОТАПОВ Олександр Євгенович | D16: 45645 | E16: В/Ч 2582 | F16: 44665 | G16: 45030 | H16: №99 | I16: 45645 | K16: 45652 | L16: №286 | M16: контракт | N16: 45044 | P16: 3725107391 | Q16: АВ 536435 | R16: військовий квиток | S16: 12.27.2001 | T16: м.Приморськ Запоріжської обл | U16: Ч | V16: Приморським РТЦК та СП | W16: 44393 | X16: Середня технічна | Y16: дружина Потапова Ганна Юрієвна М.Житомир вул.старий бульвар 6 кв26 | Z16: _
A17: старший сержант | B17: КАРПУК Богдан Михайлович | E17: А7021 | K17: 37379 | L17: №103 | M17: мобілізація | N17: _ | O17: _ | P17: 3000119857 | Q17: МО493792 | R17: військовий квиток | S17: 30002 | T17: Житомирська обл. , с. Серби | U17: Ч | V17: Ємельчинським РТЦК та СП | W17: 44623 | X17: Середня спеціальна , Машинобудівний технікум | Y17: Дружина - Карпук Ольга Володимирівна , м. Житомир , вул. Бориса Тена 99 , 380987987251 | Z17: н 380508344001
A18: сержант | B18: ВАСИЛЮК Андрій Васильович | D18: 27.08.2024 №246 | E18: 1 відділ Вараського РТЦК та СП | F18: 45531 | G18: 27.08.2024 | I18: 45531 | J18: №246 | K18: 45652 | L18: №286РС | M18: мобілізація | N18: _ | O18: _ | P18: 3725506292 | Q18: АВ624948 | R18: військовий квиток | S18: 37256 | T18: Рівненська обл., с. Володимирець | U18: Ч | V18: 1 відділ Вараського РТЦК та СП | W18: 45531 | X18: Середня-спеціальна | Y18: _ | Z18: Н 380509924716
A19: сержант | B19: БОРОДАВКІН Микола Михайлович | D19: 45371 | E19: Деснянський РТЦК та СП м.Києва | F19: 45007 | G19: 45007 | H19: №82 | I19: 45371 | J19: №80 | K19: 45652 | L19: 286 | M19: контракт | N19: 43913 | O19: 45008 | P19: 3340416053 | Q19: СО №514802 | R19: військовий квиток | S19: 33405 | T19: Казахстанська СРСР, Тургайська обл., Аркаликський р-н, с.Сариузен | U19: Ч | V19: Деснянським РВК м.Києва | W19: 43913 | X19: Середня спеціальна, ПТУ№5 м.Біла Церква | Y19: Дружина_ СЕМЕНОВА Євгенія Олександрівна, м. Київ, вул. Путивльська 42, кв.47, тел-0936634823 | Z19: н 380939143706
A20: солдат | B20: ЧЕРНЕНКО Андрій Юрійович | D20: 26.02.2025 №58 | E20: Житомирський ОМТЦК та СП | F20: 45714 | G20: 45714 | I20: 45714 | J20: №58 | K20: 40505 | L20: №93 | M20: мобілізація | N20: _ | O20: _ | P20: 3139101050 | Q20: АГ078097 | R20: військовий квиток | S20: 31392 | T20: Одеська обл., Білгород-Дністровський р-н, с. Шабо | U20: Ч | V20: Житомирський ОМТЦК та СП | W20: 45714 | X20: Середня технічна | Y20: Дружина - Черненко Ліля Сергійовна, м. Житомир, вул. Лесі Українки, буд. 63, кв. 47, 0964335049 | Z20: Н 380961426877
A21: старший сержант | B21: СУСЛЕНКО Сергій Володимирович | D21: 16.11.2021 , № 236 | E21: В/Ч А2900 | F21: 43250 | G21: 43250 | H21: №128 | I21: 44516 | J21: № 236 | K21: 44428 | L21: №3916 | M21: Контракт | N21: 43250 | O21: 44711 | P21: 3111921776 | Q21: МО749563 | R21: військовий квиток | S21: 31120 | T21: Житомирська обл. , с.Симаківка | U21: Ч | V21: Ємільчинським РТЦК та СП | W21: 43250 | X21: Молодший спеціаліст , Житомирський автомобільно-дорожній коледж | Y21: Мати - Сусленко Майя Миколаївна , Житомирська обл. , с.Симаківка. Вул.1 Травня буд.27 , н 3800974752517 | Z21: н 380638112809
A22: капітан | B22: МЕРКУЛОВ Богдан Юрійович | D22: 26.03.2024 , №73 | E22: А2582 | F22: 45377 | G22: 45377 | H22: №73 | I22: 45377 | J22: №73 | K22: 44761 | L22: №130 | M22: Контракт | N22: 43253 | O22: 45079 | P22: 3545608416 | Q22: УК №1044797 | R22: посвідчення офіцера | S22: 35457 | T22: Житомирська обл. , м. Житомир | U22: Ч | V22: Житомирський ОМВК та СП | W22: 41835 | X22: Виша , НАСВ | Y22: Мати - Меркулова Жанна Олександрівна , м. Житомир , вул. Саєнка 128 буд.3, 380972514981 | Z22: н 380994161700
A23: молодший сержант | B23: ПРОСТАПЧУК Валентин Іванович | D23: 21.06.2024 №150 | E23: В/ч А2120 | F23: 45072 | G23: 45072 | H23: №150 | I23: 45464 | J23: №177 | K23: 45652 | L23: №286 | M23: мобілізація | N23: _ | O23: _ | P23: 3625111574 | Q23: АВ378396 | R23: військовий квиток | S23: 36252 | T23: Хмельницька область село Марачівка | U23: Ч | V23: Шепетівським РТЦК та СП | W23: 44760 | X23: середня спеціальна , Острозьке ВПУ | Y23: Простапчук Наталя Володимирівна Хмельницька область місто Славута вулиця Сокола 1А/43 | Z23: н 380983781045
A24: молодший сержант | B24: КАЗАКОВ Євген Іванович | D24: 44776 | E24: А2120 | F24: 44776 | G24: 44776 | H24: №205 | K24: 45308 | L24: №101 | M24: мобілізація | N24: _ | O24: _ | P24: 3238115012 | Q24: АВ076567 | R24: військовий квиток | S24: 32382 | T24: М. Вінниця | U24: Ч | V24: Вінницьким ОМ ТЦК та СП | W24: 44620 | X24: Вища, Вінницький Державний Педагогічний Університет | Y24: Батько - Казаков Іван Миколайович, м. Вінниця, вул. Ширшова, буд. 16, кв. 79 | Z24: н 38097521 98 84
A25: молодший лейтенант | B25: ГЕНЗЕЛЬ Богдан Васильович | E25: А0310 | F25: 45224 | G25: 45224 | H25: №306 | K25: 45730 | L25: №245 | M25: мобілізація | N25: _ | O25: _ | P25: 3324413571 | Q25: ВН387570 | R25: Паспорт | S25: 33245 | T25: Хжитомирська обл. с.Йосипівка | U25: Ч | V25: Чуднівсько-Любарським РТЦК та СП | W25: 44636 | X25: Вища , ПУЕТ | Y25: Дружина - Гензель Тетяна Василівна , Житомирська обл. смт.Новогуйвінське, вул. Центральна 1а, 38068052575 | Z25: н 380960576993
A26: старший сержант | B26: ШИМАНСЬКИЙ Георгій Георгійович | D26: 21.08.2024 №240 | E26: А0310 | F26: 45525 | G26: 45525 | H26: №240 | I26: 45525 | J26: №240 | K26: 45563 | L26: №190 | M26: мобілізація | N26: _ | O26: _ | P26: 2906511931 | Q26: МО121658 | R26: військовий квиток | S26: 29066 | T26: Житомирська обл. м.Житомир | U26: Ч | V26: Житомирським РТЦК та СП | W26: 44617 | X26: Середня , СПТУ №6 | Y26: Дружина - ШИМАНСЬКА Ольга лЕонідівна , м. Житомир , вул.Чуднівська 102 к.31 , 380634631304 | Z26: н 380931620845
A27: молодший сержант | B27: ВОЛЧКОВ Віктор Вікторович | D27: 26.11.2024 №337 | E27: А0641 | F27: 45622 | G27: 45622 | H27: №337 | I27: 45622 | J27: №337 | K27: 42332 | L27: №370 | M27: контракт | N27: 44209 | O27: 44939 | P27: 3263802633 | Q27: СО247146 | R27: військовий квиток | S27: 32639 | T27: Донецька обл., м. Селидове | U27: Ч | V27: Красноармійсько-селідовським РВК | W27: 39554 | X27: Середня | Y27: _ | Z27: н 380663010203
A28: старший солдат | B28: ІВАНЧІКОВ Андрій Андрійович | D28: 17.03.2025 №77 | E28: А4674 | F28: 45733 | I28: 45733 | J28: №77 | K28: 45045 | L28: №16РС | M28: контракт | N28: 43979 | O28: 45074 | P28: 3705909736 | Q28: АВ513458 | R28: військовий квиток | S28: 37060 | T28: Луганська обл., с. Вільхове | U28: Ч | V28: Біловодський РВК | W28: 43976 | X28: Середня, вища незакінчена | Y28: Мати - Іванчікова Тетяна Олексіївна, м. Харків, пров. Шевченківський, буд. 40, кв. 132, 0955393946 | Z28: н 380506156554
A29: капітан | B29: БАШИНСЬКИЙ Павло Миколайович | D29: 27.02.2023 №38 | E29: А7021 | I29: 44984 | J29: №38 | K29: 45544 | L29: №285 | M29: Мобілізація | N29: _ | O29: _ | P29: 3333719458 | Q29: УК № 241308 | R29: посвідчення офіцера | S29: 33338 | T29: Житомирська обл. м. Коростень | U29: Ч | V29: Коростинським РТЦК та СП | W29: 44623 | X29: Вища , ДУЖП | Y29: Мати - Башинська Галина Анатоліївна , Житомирська обл. , с. Поліське , вул. Краснопільська буд.6 , 380969079367 | Z29: н 380967053512
A30: молодший сержант | B30: КОВАЛЬЧУК Андрій Леонідович | D30: 05.03.2025 №65 | E30: А7306 | F30: 45721 | G30: 45721 | H30: №65 | I30: 45721 | J30: №65 | K30: 45323 | L30: №31-рс | M30: мобілізація | N30: _ | O30: _ | P30: 3406308178 | Q30: АВ725243 | R30: військовий квиток | S30: 34064 | T30: Житомирська обл., смт. Першотравенськ | U30: Ч | V30: Новоград-Волинським РТЦК та СП | W30: 44616 | X30: середня спеціальна ,Житомирський ВПУ | Y30: Сестра - Калюжникова Аліна Вікторівна , Житомирська м. Баранівка, вул Соборна 47 кв1 380968906895 | Z30: н 380951809466
A31: старший сержант | B31: АВГУСТОВИЧ Олександр Олександрович | D31: 07.03.2022 №52 | E31: Житомирським ОМТЦК та СП | F31: 44627 | G31: 44627 | H31: №52 | I31: 44627 | J31: №52 | K31: немає запису | L31: немає запису | M31: Мобілізація | N31: _ | O31: _ | P31: 3340117097 | Q31: АВ179358 | R31: військовий квиток | S31: 33402 | T31: Житомирська обл. , с.Тетерівка | U31: Ч | V31: Житомирським ОМТЦК та СП | W31: 44627 | X31: середня | Y31: Батько - Августович Олександр Миколайович , Житомирська обл. , с. Тетерівка , пр. Третій Поліський 2 , 380979234804 | Z31: н 380635489403
A32: Капітан | B32: МАЛАШКЕВИЧ Андрій Тарасович | D32: 45568 | E32: в/ч А0281 | F32: 45447 | G32: 45447 | H32: №150 | I32: 45568 | J32: КДШВ №318 | K32: 45492 | L32: КДШВ ЗСУ №207 | M32: контракт | N32: 44063 | O32: 45889 | P32: 3504908916 | Q32: 007771980 | R32: паспорт | S32: 35050 | T32: смт. Миропіль, Житомирська обл. | U32: Ч | V32: Романівським РТЦК та СП | W32: 42412 | X32: вища, ПДУіГС | Y32: мати: Случіч Наталія Михайлівна, Житомирська обл., смт Міропіль, вул. Паркова, 2а, кв1 | Z32: 0671672195
A33: Лейтенант | B33: БАРТКО Сергій Сергійович | D33: 45610 | E33: А0339 | F33: 45520 | G33: 45520 | H33: №252 | I33: 45610 | J33: КДШВ №370 | K33: 45894 | L33: КДШВ №265 | M33: мобілізація | N33: - | O33: - | P33: 3156619697 | Q33: 008260920 | R33: паспорт | S33: 31567 | T33: смт. Вовковинці, Хмельницька обл. | U33: Ч | V33: ІІІ відділом Хмельницького РТЦК та Сп м. Деражня | W33: 06.2023 | X33: вища, ВІКНУ, 2023 | Y33: дружина - Бартко Віталія Ігорівна. Адреса проживання: Хмельницька обл., м. Деражня вул. Соломчука 6, кв.5 | Z33: 0633145312
A34: Старший сержант | B34: БОЛЬШАКОВ Антон Юрійович | D34: 45308 | E34: А1493 | F34: 44868 | G34: 44868 | H34: №297 | I34: 45308 | J34: А2900 №17 | K34: 45696 | L34: в/ч А2900 №4-РС | M34: контракт | N34: 44047 | O34: 45142 | P34: 3626801771 | Q34: АВ 719996 | R34: військовий квиток | S34: 36269 | T34: м. Селидове, Донецька обл. | U34: Ч | V34: Полтавським РВК | W34: 44049 | X34: вища, ДНТУ, гор. інженер, 2021 | Y34: дружина: Большакова Юлія Анатоліївна, м. Житомир, вул. Корольова, 44 кв 20 | Z34: 0631879947
A35: Старший солдат | B35: БОБОШКО Юрій Вікторович | D35: 45542 | E35: Черкаським РТЦК та СП, м. Черкаси. | F35: 45482 | G35: 45482 | H35: №191 | I35: 45542 | J35: в/ч А2900 №257 | K35: 41326 | L35: в/ч А3990 №47 | M35: мобілізація | N35: - | O35: - | P35: 3294316692 | Q35: МО 567007 | R35: військовий квиток | S35: 32944 | T35: м. Черкаси | U35: Ч | V35: Черкаським РТЦК та СП, м. Черкаси. | W35: 41190 | X35: вища, ЧАПБ, 2012 | Y35: дружина: Зайцева Катерина Володимирівна, м. Черкаси, пров. Матросова, буд 80 кв 1 0734057944 | Z35: 0930423929
A36: солдат | B36: ВІЛІВАЛЬД Дмитро Євгенович | D36: 45597 | E36: Київський РТЦК та СП м. Харкова | F36: 45535 | G36: 45535 | H36: №250 | I36: 45597 | J36: в/ч А2900 №312 | K36: 45534 | L36: РТЦК та СП №229 | M36: мобілізація | N36: - | O36: - | P36: 3443814810 | Q36: АГ 551339 | R36: військовий квиток | S36: 34439 | T36: м.Тернівка, Дніпропетровська обл. | U36: Ч | V36: Київський РТЦК, м. Харкова | W36: 45534 | X36: вища, МФУ України, провізор, 2017 | Y36: батько: Вілівальд Євген Євгенович, м. Харків, вул. Валентинівська, 13в кв 66 | Z36: 0951406647
A37: молодший сержант | B37: ДЕРКАЧ Ілля Володимирович | D37: 45695 | E37: А2298 | F37: 45695 | G37: 45695 | H37: №39 | I37: 45695 | J37: в/ч А2900 №39 | M37: мобілізація | N37: - | O37: - | P37: 3357110437 | Q37: 004505953 | R37: паспорт | S37: 33572 | T37: смт. Баришівка, Київська обл. | U37: Ч | V37: 2-й відділ Броварського РТЦК та СП | W37: 44757 | X37: вища, МАУ упр. Перс. 2017 | Y37: мати: Деркач Роза Багітовна, Київська обл., смт. Баришівка, пров. Воздвиженський 4 | Z37: 0990963126
A38: молодший сержант | B38: ПАВЛИШ Олег Григорович | D38: 45590 | E38: А0284 | F38: 45590 | G38: 45590 | H38: №305 | I38: 45590 | J38: в/ч А2900 №305 | K38: 40480 | L38: в/ч А3283 №238 | M38: мобілізація | N38: - | O38: - | P38: 3343709038 | Q38: СО 735260 | R38: військовий квиток | S38: 33438 | T38: с-ще Талаївка Чернігівська обл. | U38: Ч | V38: Прилуцьким РТЦК та СП, Чернігівська обл. | W38: 44922 | X38: сер. спец., ПТУ №14, каменщ., 2012 | Y38: дружина: Павлиш Марія Олександівна, Чернігвіська обл., Прилуцький р-н, смт.Талалаївка, вул. Мічурина, 14/1 0955884931 | Z38: 0666287232
A39: лейтенант | B39: ЩЕРБАЦЬКИЙ Сергій Олександрович | D39: 45284 | E39: А4350 | F39: 45284 | G39: 45284 | H39: №373 | I39: 45284 | J39: КДШВ №373 | K39: 45528 | L39: КДШВ ЗСУ №264 | M39: мобілізація | N39: - | O39: - | P39: 3214318789 | Q39: УК 302597 | R39: посвідчення офіцера | S39: 32382 | T39: с. Парипси, Житомирська обл. | U39: Ч | V39: Житомирським РТЦК та СП | W39: 44773 | X39: вища, ЖНАУ, інженер, 2010 | Y39: дружина: Щербацька Христина Василівна, Житомирська обл., Житомирський р-н, с. Парипси, вул. Молодіжна, 1 кв 15 | Z39: 0977708006
A40: молодший сержант | B40: КУЛИК Андрій Петрович | D40: 45537 | E40: Яворівський РТЦК та СП | F40: 45425 | G40: 45425 | H40: №137 | I40: 45537 | J40: в/ч А2900 №252 | K40: 45688 | L40: 37-РС | M40: мобілізація | N40: - | O40: - | P40: 3614409216 | Q40: АГ 206778 | R40: військовий квиток | S40: 36145 | T40: м. Львів | U40: Ч | V40: Яворівський РТЦК та СП | W40: 45422 | X40: неповна вища, стоматолог, 2017 | Y40: мати: Кулик Марія Андріївна, м. Львів, вул. Лазаренка, 38 кв 47 | Z40: 0937470763
...

Sheet 3. Виключені
A1: 4
AD2: Продовження додатка 1
A3: 45778 | B3: 3. Виключений особовий склад
A4: Звання | B4: ПРІЗВИЩЕ (за наявності) Ім'я По батькові (за наявності) | C4: Індекс посади / Індексм посад, які обіймав(ла) | D4: Дати прийняття посади / посад | E4: Звідки прибув | F4: Дата зарахування до списків частини | G4: Наказ про зарахування до списків (дата і номер) | I4: Наказ, на призначення на посаду (дата, чий і номе) | K4: Наказ, на присвоєння останнього звання (дата, чий і номер) | M4: Вид служби | N4: Дата укладання контракту | O4: Дата закінчення контракту / Період призову (для базової військової служби) | P4: РНОКПП (за наявності) | Q4: Серія (за наявності) і номер документа, що посвідчує особу та назва документа | S4: Дата народження | T4: Місце народження | U4: Стать | V4: Ким і коли призваний (прийнятий) на військову службу | X4: Освіта | Y4: Дані про родичів | Z4: Додаткова інформація | AA4: Дата виключення із списків та номер наказу | AB4: Наказ про виключення із списків (дата і номер) | AD4: Куди вибув / Куди направлені документи | AE4: Підстава виключення зі списків
A5: =MAX('2. ООС'!5:5)+1 -> 29 | B5: =A5+1 -> 30 | C5: =B5+1 -> 31 | D5: =C5+1 -> 32 | E5: =D5+1 -> 33 | F5: =E5+1 -> 34 | G5: =F5+1 -> 35 | I5: =G5+1 -> 36 | K5: =I5+1 -> 37 | M5: =K5+1 -> 38 | N5: =M5+1 -> 39 | O5: =N5+1 -> 40 | P5: =O5+1 -> 41 | Q5: =P5+1 -> 42 | R5: =Q5+1 -> 43 | S5: =R5+1 -> 44 | T5: =S5+1 -> 45 | U5: =T5+1 -> 46 | V5: =U5+1 -> 47 | X5: =V5+1 -> 48 | Y5: =X5+1 -> 49 | Z5: =Y5+1 -> 50 | AA5: =Z5+1 -> 51 | AB5: =AA5+1 -> 52 | AD5: =AB5+1 -> 53 | AE5: =AD5+1 -> 54
A12: Командир 1 навчального батальйону
A13: підполковник | C13: Віктор МОРОЗ
A14: 45839

Sheet 4. Тимчасово прибулі
A1: 5
L2: Продовження додатка 1
A3: 45778 | B3: 4. Тимчасово прибулий особовий склад
A4: Звання | B4: ПРІЗВИЩЕ (за наявності) Ім'я По батькові (за наявності) | C4: Посада | D4: Звідки прибув | E4: Підстава прибуття | F4: Дата прибуття | G4: Дата і номер наказу на прибуття | I4: Дата вибуття | J4: Дата і номер наказу на вибуття | L4: Додаткова інформація
A5: =MAX('3. Виключені'!5:5)+1 -> 55 | B5: =A5+1 -> 56 | C5: =B5+1 -> 57 | D5: =C5+1 -> 58 | E5: =D5+1 -> 59 | F5: =E5+1 -> 60 | G5: =F5+1 -> 61 | I5: =G5+1 -> 62 | J5: =I5+1 -> 63 | L5: =J5+1 -> 64
A6: Солдат | B6: САГАЙДАК Микола Миколайович | C6: Курсант | D6: А2900 (ФУГАС) | E6: Наказ командира в\ч А2900 | F6: 45588 | G6: 45588 | H6: № 303 | L6: (095)5643784
A7: Солдат | B7: БУТКОВСЬКИЙ Рустам Олегович | C7: Курсант | D7: А2900 (ФУГАС) | E7: Наказ командира в\ч А2900 | F7: 45353 | G7: 45353 | H7: № 62 | L7: (095)0219929
A8: Солдат | B8: ДЕРЕПАЩУК Максим Миколайович | C8: Курсант | D8: А2900 (ФУГАС) | E8: Наказ командира в\ч А2900 | F8: 45485 | G8: 45485 | H8: № 198 | L8: (098)0817683
A9: Солдат | B9: КОВАЛЕНКО Віктор Анатолійович | C9: Курсант | D9: А2900 (ФУГАС) | E9: Наказ командира в\ч А2900 | F9: 45665 | G9: 45665 | H9: №8 | L9: (0977578813
A10: Солдат | B10: КОСТИРЕВ Констянтин Анатолійович | C10: Курсант | D10: А2900 (ФУГАС) | E10: Наказ командира в\ч А2900 | F10: 45530 | G10: 45530 | H10: №245 | I10: 19.03.2025 | J10: 19.03.2025 | K10: № 577 | L10: (063)5860989
A11: Солдат | B11: ТИХОМИРОВ Євгеній Валерійович | C11: Курсант | D11: А2900 (ФУГАС) | E11: Наказ командира в\ч А2900 | F11: 45589 | G11: 45589 | H11: №304 | L11: (096)5390639
A12: Солдат | B12: ПОДОПРИГОРА Олександр Васильович | C12: Курсант | D12: А2900 (ФУГАС) | E12: Наказ командира в\ч А2900 | F12: 45370 | G12: 45370 | H12: №79
A13: Солдат | B13: ПЕЛЕХ Олег Михайлович | C13: Курсант | D13: А2900 (ФУГАС) | E13: Наказ командира в\ч А2900 | F13: 45665 | G13: 45665 | H13: №8 | L13: (068)0423890
A14: Солдат | B14: ЯНОВСЬКИЙ Андрій В'ячеславович | C14: Курсант | D14: А2900 (ФУГАС) | E14: Наказ командира в\ч А2900 | F14: 45488 | G14: 45488 | H14: №201 | I14: 19.03.2025 | J14: 19.03.2025 | K14: № 577 | L14: (096)1159957
A15: Солдат | B15: ВАРЬОНОВ Олександр Валентинович | C15: Курсант | D15: А2900 (ФУГАС) | E15: Наказ командира в\ч А2900 | F15: 45642 | G15: 45643 | H15: №368
A16: Старший солдат | B16: МИРОНЕНКО Євгеній Олександрович | C16: Курсант | D16: А2900 (ФУГАС) | E16: Наказ командира в\ч А2900 | F16: 45475 | G16: 45460 | H16: №652022 | L16: (066)7707230
A17: Солдат | B17: ПЕРЕВЬОРТОВ Яніс Юрійович | C17: Курсант | D17: А2900 (ФУГАС) | E17: Наказ командира в\ч А2900 | L17: Втрачений військовий квиток (095)6962417
A18: Солдат | B18: НІКОЛЬЧЕНКО Євгеній Олександрович | C18: Курсант | D18: А2900 (ФУГАС) | E18: Наказ командира в\ч А2900 | F18: 45600 | G18: 45600 | H18: №315 | L18: (096)5858979
A19: Солдат | B19: ДОБРОБОЖЕНКО Олег Іванович | C19: Курсант | D19: А2900 (ФУГАС) | E19: Наказ командира в\ч А2900 | K19: № 88
A20: Солдат | B20: ФЕСЕНКО Андрій Олегович | C20: Курсант | D20: А2900 (ФУГАС) | E20: Наказ командира в\ч А2900 | L20: +380675354881
A21: Молодший сержант | B21: МУРАВНИКОВ Олексій Геннадійович | C21: Курсант | D21: А2900 (ФУГАС) | E21: Наказ командира в\ч А2900 | L21: +380939602973
A22: Старший солдат | B22: ГОВДІ Василь Васильович | C22: Курсант | D22: А2900 (ФУГАС) | E22: Наказ командира в\ч А2900 | F22: 45680 | L22: +380980189100
A23: Старший солдат | B23: ТАРАНЮК Сергій Віталійович | C23: Курсант | D23: А2900 (ФУГАС) | E23: Наказ командира в\ч А2900 | F23: 45691 | L23: +380984141377 +380938837505
A24: Солдат | B24: ІВАНИК Вадим Юрійович | C24: Курсант | D24: А2900 (ФУГАС) | E24: Наказ командира в\ч А2900 | F24: 45691 | L24: 0509987302
A25: Солдат | B25: УРАЙЧИК Антон Констянтинович | C25: Курсант | D25: А2900 (ФУГАС) | E25: Наказ командира в\ч А2900 | F25: 45691 | L25: 0665580971
A26: Солдат | B26: НЕКРАСОВ Олексій Володимирович | C26: Курсант | D26: А2900 (ФУГАС) | E26: Наказ командира в\ч А2900 | F26: 45691 | L26: 0933690418
A27: Солдат | B27: СТЕПАНОВ Олександр Вікторович | C27: Курсант | D27: А2900 (ФУГАС) | E27: Наказ командира в\ч А2900 | F27: 45705 | L27: 0995540877
A28: Солдат | B28: ГОРБУНЕНКО Андрій Миколайович | C28: Курсант | D28: А2900 (ФУГАС) | E28: Наказ командира в\ч А2900 | F28: 45577 | G28: 45577 | H28: № 292 | L28: +380938819731
A29: Солдат | B29: ГРОМ'ЯК Дмитро Степанович | C29: Курсант | D29: А2900 (ФУГАС) | E29: Наказ командира в\ч А2900 | F29: 45665 | G29: 45665 | H29: № 8 | L29: +380974100291
A30: Молодший сержант | B30: ДЯДЕНКО Олександр Олександрович | C30: Курсант | D30: А2900 (ФУГАС) | E30: Наказ командира в\ч А2900 | F30: 45344 | G30: 45344 | H30: № 53 | I30: 19.03.2025 | J30: 19.03.2025 | K30: № 577 | L30: +380682104483
A31: Солдат | B31: ЛАВРИНЕНКО Валерій Вікторович | C31: Курсант | D31: А2900 (ФУГАС) | E31: Наказ командира в\ч А2900 | F31: 45259 | G31: 45259 | H31: № 544 | L31: +380974100291
A32: Солдат | B32: ПЄНЧУК Павло Анатолійович | C32: Курсант | D32: А2900 (ФУГАС) | E32: Наказ командира в\ч А2900 | F32: 45220 | G32: 45220 | H32: № 302 | I32: 19.03.2025 | J32: 19.03.2025 | K32: № 577 | L32: +380501494513
A33: Старший солдат | B33: СТОРОЩУК Володимир Валерійович | C33: Курсант | D33: А2900 (ФУГАС) | E33: Наказ командира в\ч А2900 | F33: 45289 | G33: 45289 | H33: № 375 | L33: +380681497326
A34: Солдат | B34: ЄЩЕНКО Сергій Петрович | C34: Курсант | D34: А2900 (ФУГАС) | E34: Наказ командира в\ч А2900 | F34: 45691 | G34: 45689
A35: Солдат | B35: ЯРМОЛЮК Сергій Анатолійович | C35: Курсант | D35: А2900 (ФУГАС) | E35: Наказ командира в\ч А2900 | F35: 45691 | G35: 45689
A36: Солдат | B36: ПАВЛЮЧЕНКО Сергій Вікторович | C36: Курсант | D36: А2900 (ФУГАС) | E36: Наказ командира в\ч А2900 | F36: 45691 | G36: 45689
A37: Солдат | B37: ЗЮБР Роман Миколайович | C37: Курсант | D37: А2900 (ФУГАС) | E37: Наказ командира в\ч А2900 | F37: 45691 | G37: 45689
A38: Солдат | B38: РУДЧЕНКО Дмитро Григорович | C38: Курсант | D38: А2900 (ФУГАС) | E38: Наказ командира в\ч А2900 | F38: 45691 | G38: 45689
A39: Солдат | B39: ДАВИД Андрій Олександрович | C39: Курсант | D39: А2900 (ФУГАС) | E39: Наказ командира в\ч А2900 | F39: 45691 | G39: 45689
A40: Солдат | B40: МОСІЙЧУК Вадим Юрійович | C40: Курсант | D40: А2900 (ФУГАС) | E40: Наказ ком. в/ч А2900 | F40: 45691 | G40: 45689
...

Sheet 5. Тимчасово відсутні
A1: 6
N2: Продовження додатка 1
A3: 45748 | B3: 5. Тимчасово відсутній особовий склад
A4: Звання | B4: ПРІЗВИЩЕ (за наявності) Ім'я По батькові (за наявності) | C4: Індекс посади | D4: Підстава вибуття | E4: Місце вибуття | F4: Дата вибуття | G4: Дата і номер наказу на вибуття | I4: Строк вибуття (якщо невідомо - "?") | J4: Дата планового повернення (якщо невідомо - "?") | K4: Фактична дата прибуття | L4: Дата і номер наказу на прибуття | N4: Додаткова інформація
A5: =MAX('4. Тимчасово прибулі'!5:5)+1 -> 65 | B5: =A5+1 -> 66 | C5: =B5+1 -> 67 | D5: =C5+1 -> 68 | E5: =D5+1 -> 69 | F5: =E5+1 -> 70 | G5: =F5+1 -> 71 | I5: =G5+1 -> 72 | J5: =I5+1 -> 73 | K5: =J5+1 -> 74 | L5: =K5+1 -> 75 | N5: =L5+1 -> 76
A6: сержант | B6: ВАСИЛЮК Андрій Васильович | D6: Відрядження | E6: А2900 | F6: 45735 | G6: 45735 | H6: №480 | J6: 45763 | K6: 45763 | N6: Підвищення кваліфікації
A7: сержант | B7: ФІЛІПОВ Микола Анатолієвич | D7: Навчання | E7: м. Житомир | F7: 45735 | G7: 45735 | H7: №79 | J7: 45763 | K7: 45763
A8: майор | B8: МОРОЗ Віктор Васильович | D8: Відпустка | E8: м.Житомир | F8: 45742 | G8: 45742 | H8: №193 | I8: 30 діб | J8: 45772 | K8: 45772 | N8: Відпустка за станом здоров'я
A9: молодший сержант | B9: ВОЙТОВИЧ Євген Валерійович | D9: Відрядження | E9: ЦПСС | F9: 45731 | J9: 45763 | K9: 45763 | N9: Навчання
A10: капітан | B10: БАШИНСЬКИЙ Павло Миколайович | D10: Відпустка | E10: м. Коростень | F10: 45724 | G10: 45724 | H10: №145 | I10: 30 діб | J10: 45754 | K10: 45754 | N10: Реабілітація
A11: капітан | B11: МЕРКУЛОВ Богдан Юрійович | D11: Відпустка | E11: м. Житомир | F11: 45708 | G11: 45708 | I11: 30 діб | J11: 45738 | K11: 45739 | N11: Реабілітація
A12: молодший сержант | B12: КОВАЛЬЧУК Андрій Леонідович | D12: Відрядження | E12: Велика Британія | F12: 45735 | G12: 45734 | H12: №78 | J12: 45773 | K12: 45773
A13: молодший сержант | B13: КУЛИК Андрій Петрович | D13: Відрядження | F13: 45735 | J13: 45763 | K13: 45763 | N13: Проходження курсів
A14: солдат | B14: МУРАШЕВСЬКИЙ Михайло Сергійович | D14: Відрядження | E14: Королівство Велика Британія | F14: 45734 | G14: 45734 | H14: №78 | I14: ? | J14: 45773 | K14: 45773 | N14: Навчання
A15: молодший сержант | B15: МИРОНЮК Олександр Васильович | D15: Відрядження | E15: в/ч А4909 | F15: 45735 | I15: ? | J15: 45763 | K15: 45763
A16: молодший сержант | B16: РЕБРОВ Микола Валерійович | D16: Лікування | E16: в/ч А1065 | F16: 45780 | I16: 5 | J16: 45724 | K16: 08..03.2025
A17: лейтенант | B17: БОРБЛИК Владислав Миколайович | D17: Лікування | E17: в/ч А1065 | F17: 45740 | J17: 45749 | K17: 45749
A18: молодший лейтенант | B18: МАРЯНИЧЕНКО Олександр Валерійович | D18: Відпустка | E18: м.Житомир | F18: 45740 | G18: 45740 | H18: №211 | I18: 15 + 2 | J18: 45757 | K18: 45757 | N18: Відпустка
A19: молодший лейтенант | B19: ЖУРАВСЬКИЙ Роман Володимирович | D19: Лікування | E19: м.Житомир | F19: 45748 | I19: ? | J19: 45811 | K19: 45811 | N19: Лікування
A20: молодший сержант | B20: ДЕМУЦЬКИЙ Кирило Сергійович | D20: Відрядження | E20: БПСС | F20: 45751 | G20: 45751 | H20: №95 | I20: ? | J20: 45788 | K20: 45788 | N20: Відрядження БПСС
A21: капітан | B21: МЕРКУЛОВ Богдан Юрійович | D21: Лікування | E21: м. Житомир | F21: 45748 | I21: 4 доби | J21: 45751 | K21: 45751 | N21: ВЛК
A22: капітан | B22: МЕРКУЛОВ Богдан Юрійович | D22: Відпустка | E22: м. Житомир | F22: 45752 | I22: 30 діб | J22: 45783 | K22: 45783 | N22: Реабілітація
A23: майор | B23: ПІГАЛКОВ Дмитро Миколайович | D23: Відрядження | E23: м. Львів | F23: 45753 | G23: 45753 | H23: №97 | I23: 14 діб | J23: 45767 | K23: 45767 | N23: Навчання
A24: майор | B24: ШЕРЕМЕТА Олег Андрійович | D24: Відрядження | E24: м. Львів | F24: 45753 | G24: 45753 | H24: №97 | I24: 14 діб | J24: 45767 | K24: 45767 | N24: Навчання
A25: майстер сержант | B25: ЮЩИШИН Ігор Дмитрович | D25: Відрядження | E25: Королівство Велика Британія | F25: 45754 | G25: 45734 | H25: №78 | I25: ? | J25: 45793 | K25: 45793 | N25: Навчання
A26: солдат | B26: ЧЕРНЕНКО Андрій Юрійович | D26: Відрядження | E26: в/ч А4909 | F26: 45754 | G26: 45754 | H26: №117/9170 | I26: ? | J26: 45787 | K26: 45787 | N26: Навчання
A27: солдат | B27: ВОЛЧКОВ Віктор Вікторович | D27: Відрядження | E27: в/ч А4909 | F27: 45754 | G27: 45754 | H27: №117/9170 | I27: ? | J27: 45787 | K27: 45787 | N27: Навчання
A28: старший сержант | B28: ДІДОВЕЦЬ Дмитро Юрійович | D28: Відрядження | E28: ОМЕГА | F28: 45755 | G28: 45755 | H28: №99 | I28: ? | J28: 45770 | K28: 45770 | N28: Навчання
A29: солдат | B29: ВІЛІВАЛЬД Дмитро Євгенович | D29: Відрядження | E29: ОМЕГА | F29: 45755 | G29: 45755 | H29: №99 | I29: ? | J29: 45770 | K29: 45770 | N29: Навчання
A30: молодший сержант | B30: БАТАНОВ Іван Сергійович | D30: Відрядження | E30: ОМЕГА | F30: 45755 | G30: 45755 | H30: №99 | I30: ? | J30: 45770 | K30: 45770 | N30: Навчання
A31: сержант | B31: ТХОРЖЕВСЬКИЙ Андрій Ігорович | D31: Лікування | E31: КНП Черняківське ТМО | F31: 45755 | G31: 45755 | H31: №1976 | I31: 14 діб | J31: 45769 | K31: 45769 | N31: Лікування
A32: лейтенант | B32: ДЕМЯНЧУК Наталія Василівна | D32: Лікування | E32: КНП Чуднівська лікарня | F32: 45755 | G32: 45754 | H32: №4020 | I32: 8 діб | J32: 45763 | K32: 45763 | N32: Лікування
A33: сержант | B33: СЕГЕДИН Ігор Євгенович | D33: Відпустка | E33: м. Івано-Франківськ | F33: 45761 | G33: 45761 | H33: №342 | I33: 15 + 2 | J33: 45778 | K33: 45778 | N33: Відпустка
A34: головний сержант | B34: РОМАНЮК Юрій Олександрович | D34: Відпустка | E34: Німеччина | F34: 45760 | G34: 45760 | H34: №328 | I34: 15 + 2 | J34: 45777 | K34: 45777 | N34: Відпустка
A35: сержант | B35: КУР'ЯТА Микола Сергійович | D35: Лікування | E35: м. Житомир | F35: 45762 | G35: 45761 | H35: №4292 | I35: 7 діб | J35: 45769 | K35: 45769 | N35: Лікування
A36: молодший лейтенант | B36: МЄЩАНІН Євген Миколайович | D36: Відрядження | E36: Німеччина | F36: 45768 | G36: 45768 | H36: №112 | J36: 45805 | K36: 45805 | N36: Навчання
A37: молодший сержант | B37: ДЕСЯТНИК Олександр Вікторович | D37: Відрядження | E37: А4909 | F37: 45768 | G37: 45768 | H37: №735 | N37: Навчання
A38: старший сержант | B38: ЖУРАВСЬКИЙ Денис Сергійович | D38: Відпустка за с/о | E38: м.Житомир | F38: 45768 | G38: 45765 | H38: №70-с | I38: 7 діб | J38: 45772 | K38: 45772 | N38: Відпустка за о/с
A39: старший сержант | B39: КУЗЬМИЧ Вадим Антонович | D39: Відпустка | E39: м.Полтава | F39: 45768 | G39: 45768 | H39: №399 | I39: 15 + 2 | J39: 45785 | K39: 45785 | N39: Відпустка
A40: сержант | B40: ЗАТВАРНІЦЬКИЙ Андрій Петрович | D40: Відпустка | E40: м.Стрий Львівська обл. | F40: 45768 | G40: 45768 | H40: №408 | I40: 15 + 2 | J40: 45783 | K40: 45783 | N40: Відпустка
...

Sheet 6. Табель
A1: 7
AE2: Продовження додатка 1
A3: 45839 | B3: 6. Табель особового складу
A4: Звання | B4: ПРІЗВИЩЕ (за наявності) Ім'я По батькові (за наявності) | C4: 1 | D4: 2 | E4: 3 | F4: 4 | G4: 5 | H4: 6 | I4: 7 | J4: 8 | K4: 9 | L4: 10 | M4: 11 | N4: 12 | O4: 13 | P4: 14 | Q4: 15 | R4: 16 | S4: 17 | T4: 18 | U4: 19 | V4: 20 | W4: 21 | X4: 22 | Y4: 23 | Z4: 24 | AA4: 25 | AB4: 26 | AC4: 27 | AD4: 28 | AE4: 29 | AF4: 30 | AG4: 31
A5: УПРАВЛІННЯ БАТАЛЬЙОНУ
A6: майор | B6: МОРОЗ Віктор Васильович | C6: + | D6: + | E6: + | F6: + | G6: + | H6: + | I6: від
A7: капітан | B7: МАЛАШКЕВИЧ Андрій Тарасович | C7: + | D7: + | E7: + | F7: + | G7: + | H7: + | I7: +
A8: майор | B8: СЕМЕНІЙ Святослав Миколайович | C8: + | D8: + | E8: + | F8: + | G8: + | H8: + | I8: +
A9: головний сержант | B9: ВОЛОВИКОВ Євген Юрійович | C9: + | D9: + | E9: + | F9: + | G9: + | H9: + | I9: +
A10: солдат | B10: БЕРЕЖНИЙ Сергій Григорович | C10: + | D10: + | E10: + | F10: + | G10: + | H10: + | I10: +
A11: старший сержант | B11: ПЛАХТИНА Олена Петрівна | C11: + | D11: + | E11: + | F11: + | G11: + | H11: + | I11: +
A12: майор | B12: ДОВБИШ Володимир Володимирович | C12: + | D12: + | E12: + | F12: + | G12: + | H12: + | I12: +
A14: старший солдат | B14: ЯЛОВЕГА Юрій Вікторович | C14: + | D14: + | E14: + | F14: + | G14: + | H14: + | I14: +
A15: На продовольчому забезпеченні в УПРАВЛІННІ БАТАЛЬЙОНУ перебуває | C15: =COUNTIF(C6:C14,"+") -> 8 | D15: =COUNTIF(D6:D14,"+") -> 8 | E15: =COUNTIF(E6:E14,"+") -> 8 | F15: =COUNTIF(F6:F14,"+") -> 8 | G15: =COUNTIF(G6:G14,"+") -> 8 | H15: =COUNTIF(H6:H14,"+") -> 8 | I15: =COUNTIF(I6:I14,"+") -> 7 | J15: =COUNTIF(J6:J14,"+") -> 0 | ... AG15: =COUNTIF(AG6:AG14,"+") -> 0
A16: 1 НАВЧАЛЬНА РОТА
A17: УПРАВЛІННЯ
A18: капітан | B18: СТЕПАНЮК Дмитро Миколайович | C18: + | D18: + | E18: + | F18: + | G18: + | H18: + | I18: +
A19: лейтенант | B19: ДЕМЯНЧУК Наталія Василівна | C19: від за с/з | D19: від за с/з | E19: від за с/з | F19: + | G19: + | H19: + | I19: +
A20: сержант | B20: ПОТАПОВ Олександр Євгенович | C20: + | D20: + | E20: + | F20: + | G20: + | H20: + | I20: +
A21: старший сержант | B21: КАРПУК Богдан Михайлович | C21: + | D21: + | E21: + | F21: + | G21: + | H21: + | I21: +
A22: солдат | B22: СІРЕНКО Максим Ігорович | H22: +
A23: молодший сержант | B23: КОВАЛЬЧУК Андрій Леонідович | F23: + | G23: + | H23: + | I23: +
A24: старший солдат | B24: ІВАНЧІКОВ Андрій Андрійович | C24: + | D24: + | E24: + | F24: + | G24: + | H24: + | I24: +
A25: молодший сержант | B25: ВОЛЧКОВ Віктор Вікторович | C25: =+D25 -> + | D25: =+E25 -> + | E25: =+F25 -> + | F25: + | G25: + | H25: + | I25: +
A26: старший сержант | B26: ШИМАНСЬКИЙ Георгій Георгійович | C26: =+D26 -> + | D26: =+E26 -> + | E26: =+F26 -> + | F26: + | G26: + | H26: + | I26: +
A27: молодший сержант | B27: КАЗАКОВ Євген Іванович | C27: вдр | D27: вдр | E27: вдр | F27: вдр | G27: вдр | H27: вдр | I27: вдр
A28: молодший сержант | B28: ПРОСТАПЧУК Валентин Іванович | C28: + | D28: + | E28: + | F28: + | G28: + | H28: + | I28: +
A29: сержант | B29: ВАСИЛЮК Андрій Васильович | C29: + | D29: + | E29: + | F29: + | G29: + | H29: + | I29: +
A30: солдат | B30: ЧЕРНЕНКО Андрій Юрійович | C30: вдр | D30: вдр | E30: вдр | F30: вдр | G30: вдр | H30: вдр | I30: вдр
A31: старший сержант | B31: ДІДОВЕЦЬ Дмитро Юрійович | C31: вдр | D31: вдр | E31: вдр | F31: вдр | G31: вдр | H31: вдр | I31: вдр
A32: 1 НАВЧАЛЬНИЙ ВЗВОД
A33: старший сержант | B33: БОРОДАВКІН Микола Михайлович | C33: + | D33: + | E33: + | F33: + | G33: + | H33: + | I33: +
A35: 2 НАВЧАЛЬНИЙ ВЗВОД
A36: капітан | B36: МЕРКУЛОВ Богдан Юрійович | C36: + | D36: + | E36: + | F36: + | G36: + | H36: + | I36: +
A37: солдат | B37: ЗЕНЧЕНКО Олександр Миколайович | C37: + | D37: + | E37: + | F37: + | G37: + | H37: + | I37: +
A38: 3 НАВЧАЛЬНИЙ ВЗВОД
A39: лейтенант | B39: БРИГА Олександр Генадійович | C39: + | D39: + | E39: + | F39: + | G39: + | H39: + | I39: +
A40: солдат | B40: ЖУРАВЕЛЬ Ігор Юрійович | C40: + | D40: + | E40: + | F40: + | G40: + | H40: + | I40: +
A41: 4 НАВЧАЛЬНИЙ ВЗВОД
A42: молодший лейтенант | B42: МАМОНТОВ Володимир Іванович | C42: + | D42: + | E42: + | F42: + | G42: + | H42: + | I42: +
...

Sheet 7. Безповоротні втрати
A1: 8
T2: Продовження додатка 1
A3: 45778 | B3: 7. Облік безповоротніх втрат
A4: Військове звання | B4: ПРІЗВИЩЕ (за наявності) Ім'я По батькові (за наявності) | C4: Індекс посади | D4: Вид військової служби | E4: РНОКПП (за наявності) | F4: Серія (за наявності) і номер документа, що посвідчує особу та назва документа | H4: Дата народження | I4: Місце народження | J4: Ким і коли призваний (прийнятий) на військову службу | L4: Прізвище (за наявності), власне ім’я, по батькові (за наявності) дружини (чоловіка), батька, матері або близького родича, місце проживання (перебування) членів сім’ї (близьких родичів) | M4: Вид втрати | N4: Дата безповоротної втрати | O4: Обставини, що призвели до втрат особового складу | P4: Місце втрат особового складу | Q4: Дата виключення із списків | R4: Наказ про виключення із списків (дата і номер) | T4: Кому, за яким номером і коли надіслано сповіщення | U4: Місце і дата поховання (імовірне місце перебування)
A5: =MAX('5. Тимчасово відсутні'!5:5)+1 -> 77 | B5: =A5+1 -> 78 | C5: =B5+1 -> 79 | D5: =C5+1 -> 80 | E5: =D5+1 -> 81 | F5: =E5+1 -> 82 | H5: =F5+1 -> 83 | I5: =H5+1 -> 84 | J5: =I5+1 -> 85 | L5: =J5+1 -> 86 | M5: =L5+1 -> 87 | N5: =M5+1 -> 88 | O5: =N5+1 -> 89 | P5: =O5+1 -> 90 | Q5: =P5+1 -> 91 | R5: =Q5+1 -> 92 | T5: =R5+1 -> 93 | U5: =T5+1 -> 94
A6: майор | B6: КОТЛЯРЕВСЬКИЙ Іван Петрович | C6: 000110 | D6: мобіліація | E6: 1001001001 | F6: КО101138 | G6: паспорт | H6: 09.09.1769 | I6: м. Полтава | J6: Полтавським ОМТЦК та СП | K6: 44616 | L6: Жуковська Параска Леонтіївна м. Полтава, вул. Котляревського, 12а (0532) 665678 | M6: загинув | N6: 44875 | O6: Близько 7:00, в результаті артилерійського обстрілу противника отримав осколкові поранення несумісні з життям. | P6: м. Полтава | Q6: 44876 | R6: 44896 | S6: №285 | T6: Полтавський ОМТЦК та СП № 101 10.11.2022 | U6: м. Полтава, 15.11.2022
B8: Командир підрозділу
B9: звання | C9: підпис | I9: Дата

Sheet 8. Статистичний облік
A1: 9
AW2: Продовження додатка 1
A3: 45778 | B3: 8. Зведений статистичний облік
A4: Підрозділи | B4: По штату | F4: По списку | J4: В наявності | N4: На продовольчому забезпеченні | O4: Відсутні | S4: Причини відсутності
S5: Відпустка | W5: Лікування | AA5: Відрядження | AE5: СЗЧ | AI5: Загиблі | AM5: Зниклі безвісти | AQ5: Полон | AU5: Інші
B6: Офіцери | C6: Сержанти | D6: Солдати | E6: Працівники | F6: Офіцери | G6: Сержанти | H6: Солдати | I6: Працівники | J6: Офіцери | K6: Сержанти | L6: Солдати | M6: Працівники | O6: Офіцери | P6: Сержанти | Q6: Солдати | R6: Працівники | S6: Офіцери | T6: Сержанти | U6: Солдати | V6: Працівники | W6: Офіцери | X6: Сержанти | Y6: Солдати | Z6: Працівники | AA6: Офіцери | AB6: Сержанти | AC6: Солдати | AD6: Працівники | AE6: Офіцери | AF6: Сержанти | AG6: Солдати | AH6: Працівники | AI6: Офіцери | AJ6: Сержанти | AK6: Солдати | AL6: Працівники | AM6: Офіцери | AN6: Сержанти | AO6: Солдати | AP6: Працівники | AQ6: Офіцери | AR6: Сержанти | AS6: Солдати | AT6: Працівники | AU6: Офіцери | AV6: Сержанти | AW6: Солдати | AX6: Працівники
A7: =MAX('[1]7. Безповоротні втрати'!5:5)+1 -> 95 | B7: =A7+1 -> 96 | F7: =B7+1 -> 97 | J7: =F7+1 -> 98 | N7: =J7+1 -> 99 | O7: =N7+1 -> 100 | S7: =O7+1 -> 101 | W7: =S7+1 -> 102 | AA7: =W7+1 -> 103 | AE7: =AA7+1 -> 104 | AI7: =AE7+1 -> 105 | AM7: =AI7+1 -> 106 | AQ7: =AM7+1 -> 107 | AU7: =AQ7+1 -> 108
A8: ВСЬОГО | B8: =SUM(B9:B13) -> 45 | C8: =SUM(C9:C13) -> 67 | D8: =SUM(D9:D13) -> 1 | E8: =SUM(E9:E13) -> 0 | F8: =SUM(F9:F13) -> 29 | G8: =SUM(G9:G13) -> 57 | H8: =SUM(H9:H13) -> 1 | I8: =SUM(I9:I13) -> 0 | ... M8: =SUM(M9:M13) -> 0 | N8: =J8+K8+L8+M8 -> 70 | O8: =SUM(O9:O13) -> 3 | P8: =SUM(P9:P13) -> 14 | Q8: =SUM(Q9:Q13) -> 0 | R8: =SUM(R9:R13) -> 0 | S8: =SUM(S9:S13) -> 3 | T8: =SUM(T9:T13) -> 4 | U8: =SUM(U9:U13) -> 0 | V8: =SUM(V9:V13) -> 0 | ... AX8: =SUM(AX9:AX13) -> 0
A9: УПРАВЛІННЯ | B9: 5 | C9: 3 | D9: 1 | E9: 0 | F9: 5 | G9: 2 | H9: 1 | I9: 0 | J9: 5 | K9: 2 | L9: 1 | M9: 0 | N9: =J9+K9+L9+M9 -> 8 | O9: 0 | P9: 0 | Q9: 0 | R9: 0 | S9: 0 | T9: 0 | U9: 0 | V9: 0 | W9: 0 | X9: 0 | Y9: 0 | Z9: 0 | AA9: 0 | AB9: 0 | AC9: 0 | AD9: 0
A10: 1 НАВЧАЛЬНА РОТА | B10: 11 | C10: 17 | D10: 0 | E10: 0 | F10: 6 | G10: 15 | H10: 0 | I10: 0 | J10: 4 | K10: 13 | L10: 0 | M10: 0 | N10: =J10+K10+L10+M10 -> 17 | O10: 1 | P10: 3 | Q10: 0 | R10: 0 | S10: 1 | T10: 0 | U10: 0 | V10: 0 | W10: 0 | X10: 1 | Y10: 0 | Z10: 0 | AA10: 0 | AB10: 3 | AC10: 0 | AD10: 0
A11: 2 НАВЧАЛЬНА РОТА | B11: 11 | C11: 17 | D11: 0 | E11: 0 | F11: 5 | G11: 15 | H11: 0 | I11: 0 | J11: 5 | K11: 11 | L11: 0 | M11: 0 | N11: =J11+K11+L11+M11 -> 16 | O11: 0 | P11: 4 | Q11: 0 | R11: 0 | S11: 0 | T11: 1 | U11: 0 | V11: 0 | W11: 0 | X11: 0 | Y11: 0 | Z11: 0 | AA11: 0 | AB11: 3 | AC11: 0 | AD11: 0
A12: 3 НАВЧАЛЬНА РОТА | B12: 11 | C12: 17 | D12: 0 | E12: 0 | F12: 6 | G12: 14 | H12: 0 | I12: 0 | J12: 4 | K12: 9 | L12: 0 | M12: 0 | N12: =J12+K12+L12+M12 -> 13 | O12: 2 | P12: 5 | Q12: 0 | R12: 0 | S12: 0 | T12: 3 | U12: 0 | V12: 0 | W12: 1 | X12: 0 | Y12: 0 | Z12: 0 | AA12: 1 | AB12: 2 | AC12: 0 | AD12: 0
A13: 1 НАВЧАЛЬНА БАТАРЕЯ | B13: 7 | C13: 13 | D13: 0 | E13: 0 | F13: 7 | G13: 11 | H13: 0 | I13: 0 | J13: 5 | K13: 11 | L13: 0 | M13: 0 | N13: =J13+K13+L13+M13 -> 16 | O13: 0 | P13: 2 | Q13: 0 | R13: 0 | S13: 2 | T13: 0 | U13: 0 | V13: 0 | W13: 0 | X13: 0 | Y13: 0 | Z13: 0 | AA13: 0 | AB13: 3 | AC13: 0 | AD13: 0
A16: Командир 1 навчального батальйону
A17: підполковник | C17: Віктор МОРОЗ
A18: 45839

Sheet 9. Перелік індексів посад
A1: 10
G2: Продовження додатка 1
A3: 45778 | B3: 9. Перелік індексів посад
A4: Індекс посади | B4: Назва посади | C4: ШПК | D4: ВОС | E4: Тариф | F4: № штату | G4: Дата введення посади в штат | H4: Дата виведення посади зі штату
A5: =MAX('8. Статистичний облік'!7:7)+1 -> 109 | B5: =A5+1 -> 110 | C5: =B5+1 -> 111 | D5: =C5+1 -> 112 | E5: =D5+1 -> 113 | F5: =E5+1 -> 114 | G5: =F5+1 -> 115 | H5: =G5+1 -> 116
B6: Командир батальйону | C6: підполковник | D6: 0212003 | E6: 25
B7: Заступник командира батальйону | C7: майор | D7: 0212003 | E7: 24
B8: Заступник командира батальйону з психологічної підтримки персоналу | C8: майор | D8: 3420003 | E8: 24
B9: Головний сержант | C9: штаб-сержант | D9: 929982Д | E9: 18
B10: Інструктор з фізичної підготовки і спорту | C10: сержант | D10: 906115Д | E10: 11
B11: Фельдшер | C11: старший сержант | D11: 879962Д | E11: 8
B12: Начальник штабу - заступник командира батальйону | C12: майор | D12: 0212003 | E12: 24
B13: Офіцер | C13: старший лейтенант | D13: 2905003 | E13: 4
B14: Діловод | C14: старший солдат | D14: 901074Д | E14: 4/4
B15: 1 НАВЧАЛЬНА РОТА
B16: Командир роти - старший викладач | C16: майор | D16: 0212003 | E16: 20
B17: Заступник командира роти з психологічної підтримки персоналу | C17: капітан | D17: 3420003 | E17: 19
B18: Сержант - інструктор | C18: головний сержант | D18: 100657Д | E18: 12
B19: Сержант з матеріального забезпечення | C19: старший сержант | D19: 787089Д | E19: 10
B20: Інструктор із тактичної медицини | C20: сержант | D20: 878127Д | E20: 6/5
B21: Інструктор | C21: старший сержант | D21: 100119Д | E21: 11/6
B22: Інструктор | C22: старший сержант | D22: 100119Д | E22: 11/7
B23: Інструктор | C23: старший сержант | D23: 100119Д | E23: 11/8
B24: Інструктор | C24: старший сержант | D24: 100119Д | E24: 11/9
B25: Інструктор | C25: старший сержант | D25: 100119Д | E25: 11/10
B26: Інструктор | C26: старший сержант | D26: 100119Д | E26: 11/11
B27: Інструктор | C27: старший сержант | D27: 100119Д | E27: 11/12
... B50: Головний сержант | C50: старший сержант | D50: 100975Д | E50: 9
B51: 2 НАВЧАЛЬНА РОТА
B52: Командир роти - старший викладач | C52: майор | D52: 0212003 | E52: 20
B53: Заступник командира роти з психологічної підтримки персоналу | C53: капітан | D53: 3420003 | E53: 19
B54: Сержант - інструктор | C54: головний сержант | D54: 100657Д | E54: 12
B55: Сержант з матеріального забезпечення | C55: старший сержант | D55: 787089Д | E55: 10
B56: Інструктор із тактичної медицини | C56: сержант | D56: 878127Д | E56: 6/5
B57: Інструктор | C57: старший сержант | D57: 100119Д | E57: 11/6
B58: Інструктор | C58: старший сержант | D58: 100119Д | E58: 11/7
B59: Інструктор | C59: старший сержант | D59: 100119Д | E59: 11/8
B60: Інструктор | C60: старший сержант | D60: 100119Д | E60: 11/9
B61: Інструктор | C61: старший сержант | D61: 100119Д | E61: 11/10
B62: Інструктор | C62: старший сержант | D62: 100119Д | E62: 11/11
...

Sheet Примітки
A1: 11
A2: Продовження додатка 1
A3: Примітки
A4: 1. Електронний журнал обліку особового складу військової частини/підрозділу (далі - ЕЖООС) ведеться в електронній формі на пристрої, який не має модулю підʼєднання до локальної мережі.
A5: 2. Стовпці і поля, визначені в ЕЖООС, є обов'язковими для ведення обліку. Заборонено видаляти, змінювати нумерацію чи редагувати назви стовпців, визначені в ЕЖООС. При цьому дозволено додавати стовпці з інформацією, яка необхідна для здійснення більш якісного обліку особового складу військовою частиною, органом військового управління чи їхніми підрозділами (такі стовпці можна додавати у будь-якому порядку, але при цьому залишати їх непронумерованими і не друкувати їх під час передання друкованої версії до штабу військової частини чи до Галузевого архіву).
A6: 3. ЕЖООС ведеться протягом 1 календарного місяця. У перший день нового місяця створюється новий файл журналу, в якому ведуться усі зміни за поточний місяць (файл-шаблон зберігається з новою назвою (наприклад, "2024-11 ЕЖООС СР1" для обліку особового складу 1-ої стрілецької роти за листопад 2024 р.). Файл журналу за попередній місяць зберігається на пристрої. 1 січня та 1 червня звітного року титульна сторінка та вкладки ЕЖ роздруковуються (вкладка "6. Табель" роздруковується за кожен з цих 6 місяців, вкладки "8. Статистичний облік", "9. Перелік індексів посад" і "Примітки" не друкується), на роздрукованому примірнику зазначається кількість аркушів. Командир підрозділу підписує роздрукований журнал та передає у службу персоналу.
A7: 4. Вкладка "1. Штатно-посадовий облік" ведеться в усіх структурних підрозділах починаючи з роти. Штаб окремої військової частини присвоює кожній посаді унікальний індекс (у тому числі посадам змінного складу, посадам держслубовців та працівників ЗСУ) і фіксує цей перелік у Вкладці "9. Перелік індексів посад". Рекомендовано на рівні окремої бригади використовувати 6-тизначний індекс, на рівні окремого батальйону - 4-ьохзначний. Також дозволено використовувати літери (наприклад, для позначення посад змінного складу, курсантів, слухачів, державних службовців чи працівників ЗСУ). Важливо! При зміні (заміні) посади їй присвоюється новий унікальний індекс У разі наявності в штаті цивільних посад стовпець 4. "ВОС" має залишитися пустим, а в стовпці 6. "Звання" проставляється відповідно цивільний статус персоналу (наприклад, «працівник ЗСУ», «державний службовець 4 рангу» і т.д.). Порядок записів може змінюватися в залежності від введення або скасування посад. Усі записи (рядки таблиці) розташовуються за підпорядкованістю у підрозділі. Рекомендовано відділяти структурні підрозділи їхніми назвами, записаними в об'єднаних комірках в стовпцях від 1 до 7, так як це зроблено у даному прикладі (це необхідно для автоматичного виведення підрозділів до вкладки "8. Статистичний облік").
A8: 5. Вкладка "2. Облік особового складу" ведеться на весь підпорядкований особовий склад. Записи ведуться у порядку зарахування військовослужбовців до списків, потім за званнями. У разі наявності в штаті цивільних посад в колонці 8. "Звання" проставляється відповідно цивільний статус персоналу (наприклад, «працівник ЗСУ», «державний службовець 4 рангу» і т.д.). Стовпець 10 "Індекс посади / Індекси посад, які обіймав(ла)" та 11 "Дати призначення на посади" ведуться за такими правилами: - індекс і дата призначення на поточну посаду записується зверху звичайним шрифтом; - індекси і дати попередніх посад записуються у стовпець (Alt+Enter), курсивом, у зворотному порядку до призначень (актуальна посада буде першою у стовпці, найперша посада буде останньою). - у разі, якщо військовослужбовець перебуває у списках військової частини, але не займає штатну посаду у Стовпці 10 ставиться відповідний статус (н/д "у розпорядженні"), а у Стовпці 11 дата встановлення цього статусу (наприклад, зарахування в розпорядження). У Стовпці 17, окрім контрактної чи служби по мобілізації, може також зазначатись і вид державної служби. У Стовпці 20 іноземцям прописується його громадянство (наприклад, "США", "Італійська Республіка", "Республіка Колумбія" і т.д).
A9: 6. Вкладка "3. Виключені" має такий же набір стовпців як і Вкладка "2. Облік особового складу", але до неї додано ще стовпці, які ведуть тільки у електронному журналі обліку особового складу окремої військової частини: 51. Дата виключення зі списків - фактична дата виключення зі списків; 52. Дата і номер наказу по стройовій частині про виключення із списків 53. Куди вибув / Куди направлені документи - у випадку загибелі/смерті вказується ТЦК та СП, до якого були направлені документи; 54. Підстава виключення зі списків - пишеться інформація, яка необхідна для ідентифікації події (наприклад: у разі загибелі/смерті може писатися дата і вид події, у випадку звільнення - причина звільнення і наказ по особовому складу, у разі перемішення до інщої в/ч - наказ по особовому складу, у випадку призупинення служби - № і дата витягу з ЄРДР). Рекомендовано при виключенні військовослужбовця зі списків переміщувати інформацію з Вкладки 2 до Вкладки 3, використовувати функції "Вирізати" і "Додати скопійовані клітинки", додавши і заповнивши при цьому стовпці 51, 52, 53, 54. Вкладка ведеться в алфавітному порядку. Роздрукований і підписаний варіант Вкладки "3. Виключені" підлягає передачі в Державний галузевий архів МОУ.
A10: 7. Вкладка "4. Тимчасово прибулий особовий склад" ведеться на рівні батальйону та на рівні окремої військової частини. Записи робляться у порядку прибуття військовослужбовців до військової частини, потім за званнями.
A11: 8. Вкладка "5. Тимчасово відсутній особовий склад" ведеться в усіх структурних підрозділах починаючи з роти. Записи робляться у порядку вибуття військовослужбовців з військової частини, потім за званнями. У Стовпці 76 можна уточнюється підстави вибуття або іншу необхідну інформацію.
A12: 9. Вкладка "6. Табель" ведеться в усіх структурних підрозділах починаючи з роти на кожен місяць. Рекомендовано вживати такі позначки: + - присутній/ня; вдр - відрядження; від - відпустка щорічна, за сімейними обставинами, для лікування у зв’язку з хворобою; ВП - відпустка для лікування після поранення (контузії, травми або каліцтва); лік - лікування у звʼязку з хворобою; ЛП - лікування після поранення (контузії, травми або каліцтва); СЗЧ - самовільне залишення частини; ЗБ - зниклий безвісти; пол - в полоні; заг - загибель (проставляється тільки в дату події); пом - помер (проставляється тільки в дату події). Ведення вкладки "6. Табель" на управління (командування) військової частини (органу військового управління чи їм рівні) покладається на відділення персоналу штабу або відповідний орган (посадову особу), на який покладені функції ведення обліку особового складу. На рівні окремої військової частини Вкладка "6. Табель особового сакладу" ведеться по підрозділам, які безпосередньо підпорядковуються командиру військової частини із зазначенням кількость осіб, які перебувають на продовольчому забезпеченні кожного підрозділу, станом на кожен день місяця.
A13: 10. Вкладка "7. Безповоротні втрати" ведеться на рівні окремої військової частини. Записи робляться у порядку дат подій, які призвели до безповротніх втрат військовослужбовців. Рекомендовано Стовпці 77-86 заповнювати методом копіювання інформації зі Стовпців, відповідно, 8-10, 17, 20-23, 25 та 27 (зверніть увагу, що в Стовпці 79, на відміну, від Стовпця 10, зазначається тільки індекс останньої зайнманої посади).
... A17: 14. Важливо! Всі приклади записів зроблені станом на 12 листопада 2024 року і являються вигаданими. Будь яке співпадіння з реально існуючими людьми - випадковість.

Sheet Звання
A1: Генерал | C1: Генерал | D1: Головний майстер-сержант | E1: Старший солдат | F1: Генерал | G1: Головний майстер-сержант | H1: Старший солдат | I1: Генерал | J1: Головний майстер-сержант | K1: Старший солдат
A2: Генерал-лейтенант | C2: Генерал-майор | D2: Майстер-сержант | E2: Старший матрос | F2: Генерал-майор | G2: Майстер-сержант | H2: Старший матрос | I2: Генерал-майор | J2: Майстер-сержант | K2: Старший матрос
A3: Генерал-лейтенант медичної служби | C3: Бригадний генерал | D3: Штаб-сержант | E3: Матрос | F3: Бригадний генерал | G3: Штаб-сержант | H3: Матрос | I3: Бригадний генерал | J3: Штаб-сержант | K3: Матрос
A4: Генерал-майор | C4: Полковник | D4: Головний сержант | E4: Рекрут | F4: Полковник | G4: Головний сержант | H4: Рекрут | I4: Полковник | J4: Головний сержант | K4: Рекрут
A5: Генерал-майор медичної служби | C5: Полковник медичної служби | D5: Старший сержант | E5: --- | F5: Полковник медичної служби | G5: Старший сержант | H5: --- | I5: Полковник медичної служби | J5: Старший сержант | K5: ---
A6: Бригадний генерал | C6: Полковник юстиції | D6: Сержант | E6: --- | F6: Полковник юстиції | G6: Сержант | H6: --- | I6: Полковник юстиції | J6: Сержант | K6: ---
