Workbook

Sheet Титульна сторінка
J1: Додаток 1 до Інструкції з організації обліку особового складу в системі Міністерства оборони України (пункт 3 розділ II)
K3: Гриф обмеження доступу
C7: МІНІСТЕРСТВО ОБОРОНИ УКРАЇНИ
C11: ЕЛЕКТРОННИЙ ЖУРНАЛ обліку особового складу
C14: 1 навчальної роти 1навчального батальйону | F14: в/ч А2900 | K14: 45748

Sheet 1. ШПО
A1: 2
G2: Продовження додатка 1
A3: 45777 | B3: № штату ###### | C3: 1. Штатно-посадовий облік
A4: Індекс посади | B4: Посада | C4: ШПК | D4: ВОС | E4: Тариф | F4: Звання | G4: ПРІЗВИЩЕ (за наявності) Ім'я По батькові (за наявності)
A5: 1 | B5: 2 | C5: 3 | D5: 4 | E5: 5 | F5: 6 | G5: 7
A6: 1 НАВЧАЛЬНА РОТА
B7: Командир роти - старший викладач | C7: майор | D7: 0212003 | E7: 20 | F7: капітан | G7: СТЕПАНЮК Дмитро Миколайович
B8: Заступник командира роти з психологічної підтримки персоналу | C8: капітан | D8: 3420003 | E8: 19 | F8: лейтенант | G8: ДЕМЯНЧУК Наталія Василівна
B9: Сержант - інструктор | C9: головний сержант | D9: 100657Д | E9: 12 | F9: сержант | G9: ПОТАПОВ Олександр Євгенович
B10: Сержант з матеріального забезпечення | C10: старший сержант | D10: 787089Д | E10: 10 | F10: старший сержант | G10: КАРПУК Богдан Михайлович
B11: Інструктор із тактичної медицини | C11: сержант | D11: 878127Д | E11: 6/5 | F11: солдат | G11: БУКРЕНЬОВ Дмитро Юрійович
B12: 1 навчальний взвод | C12: п | D12: п | E12: п | F12: п | G12: п
B13: Командир взводу - викладач | C13: капітан | D13: 0212003 | E13: 13 | F13: Старший сержант | G13: БОРОДАВКІН Микола Михайлович
B14: Інструктор | C14: старший сержант | D14: 100119Д | E14: 11/6 | F14: Молодший сержант | G14: ЧЕРНЕНКО Андрій Юрійович
B15: Інструктор | C15: старший сержант | D15: 100119Д | E15: 11/6 | F15: сержант | G15: ВАСИЛЮК Андрій Васильович
B16: 2 навчальний взвод | C16: п | D16: п | E16: п | F16: п | G16: п
B17: Командир взводу - викладач | C17: капітан | D17: 0212003 | E17: 13 | F17: капітан | G17: МЕРКУЛОВ Богдан Юрійович
B18: Інструктор | C18: старший сержант | D18: 100119Д | E18: 11/6 | F18: Сержант | G18: ПРОСТАПЧУК Валентин Іванович
... B20: 3 навчальний взвод | C20: п | D20: п | E20: п | F20: п | G20: п
B21: Командир взводу - викладач | C21: капітан | D21: 0212003 | E21: 13
B22: Головний сержант | C22: старший сержант | D22: 100975Д | E22: 9 | F22: солдат | G22: ЗЕНЧЕНКО Олександр Миколайович
B23: 4 навчальний взвод | C23: п | D23: п | E23: п | F23: п | G23: п
B24: Командир взводу - викладач | C24: капітан | D24: 0212003 | E24: 13
B25: Головний сержант | C25: старший сержант | D25: 100975Д | E25: 9 | F25: солдат | G25: ПОДОПРИГОРА Олександр Васильович
B26: 5 навчальний взвод | C26: п | D26: п | E26: п | F26: п | G26: п
B27: Командир взводу - викладач | C27: капітан | D27: 0212003 | E27: 13
B28: Головний сержант | C28: старший сержант | D28: 100975Д | E28: 9 | F28: солдат | G28: ЖУРАВЕЛЬ Ігор Юрійович
B29: 6 навчальний взвод | C29: п | D29: п | E29: п | F29: п | G29: п
B30: Командир взводу - викладач | C30: капітан | D30: 0212003 | E30: 13
B31: Головний сержант | C31: старший сержант | D31: 100975Д | E31: 9 | F31: старший сержант | G31: АВГУСТОВИЧ Олександр Олександрович
B32: 7 навчальний взвод | C32: п | D32: п | E32: п | F32: п | G32: п
B33: Командир взводу - викладач | C33: капітан | D33: 0212003 | E33: 13 | F33: молодший лейтенант | G33: Гензель Богдан Васильович
B34: Інструктор | C34: старший сержант | D34: 101119Д | E34: 11/6 | F34: старший сержант | G34: ШИМАНСЬКИЙ Георгій Георгійович
B35: Інструктор | C35: старший сержант | D35: 101119Д | E35: 11/6 | F35: старший сержант | G35: ДІДОВЕЦЬ Дмитро Юрійович
B36: 8 навчальний взвод | C36: п | D36: п | E36: п | F36: п | G36: п
B37: Командир взводу - викладач | C37: капітан | D37: 0212003 | E37: 13
B38: Інструктор | C38: старший сержант | D38: 102119Д | E38: 11/6 | F38: Сержант | G38: ВОЛЧКОВ Віктор Вікторович
B39: Інструктор | C39: старший сержант | D39: 103119Д | E39: 11/6 | F39: Молодший сержант | G39: ІВАНЧІКОВ Андрій Андрійович
B40: 9 навчальний взвод | C40: п | D40: п | E40: п | F40: п | G40: п
B41: Командир взводу - викладач | C41: капітан | D41: 0212003 | E41: 13 | F41: капітан | G41: БАШИНСЬКИЙ Павло Миколайович
B42: Інструктор | C42: старший сержант | D42: 100119Д | E42: 11/6 | F42: Сержант | G42: КОВАЛЬЧУК Андрій Леонідович
B43: Інструктор | C43: старший сержант | D43: 102119Д | E43: 11/6
A47: Командир 1 навчальної роти | C47: Дмитро СТЕПАНЮК | F47: 45777
A48: капітан

Sheet 2. ООС
A1: 3
Z2: Продовження додатка 1
A3: 45777 | B3: 2. Облік особового складу
A4: Звання | B4: ПРІЗВИЩЕ (за наявності) Ім'я По батькові (за наявності) | C4: Індекс посади / Індексм посад, які обіймав(ла) | D4: Дати прийняття посади / посад | E4: Звідки прибув | F4: Дата зарахування до списків частини | G4: Наказ про зарахування до списків (дата і номер) | I4: Наказ, на призначення на посаду (дата, чий і номер) | K4: Наказ, на присвоєння останнього звання (дата, чий і номер) | M4: Вид служби | N4: Дата укладання контракту | O4: Дата закінчення контракту / Період призову (для базової військової служби) | P4: РНОКПП (за наявності) | Q4: Серія (за наявності) і номер документа, що посвідчує особу та назва документа | S4: Дата народження | T4: Місце народження | U4: Стать | V4: Ким і коли призваний (прийнятий) на військову службу | X4: Освіта | Y4: Дані про родичів | Z4: Додаткова інформація
A5: =MAX('1. ШПО'!5:5)+1 -> 8 | B5: =A5+1 -> 9 | C5: =B5+1 -> 10 | D5: =C5+1 -> 11 | E5: =D5+1 -> 12 | F5: =E5+1 -> 13 | G5: =F5+1 -> 14 | I5: =G5+1 -> 15 | K5: =I5+1 -> 16 | M5: =K5+1 -> 17 | N5: =M5+1 -> 18 | O5: =N5+1 -> 19 | P5: =O5+1 -> 20 | Q5: =P5+1 -> 21 | S5: =Q5+1 -> 22 | T5: =S5+1 -> 23 | U5: =T5+1 -> 24 | V5: =U5+1 -> 25 | X5: =V5+1 -> 26 | Y5: =X5+1 -> 27 | Z5: =Y5+1 -> 28
A6: капітан | B6: СТЕПАНЮК Дмитро Миколайович | C6: 0212003 | D6: 10.07.2023 №169 | E6: В/Ч А4350 | F6: 44910 | G6: 44910 | H6: №316 | I6: 45117 | J6: №169 | K6: 45552 | L6: №296 | M6: мобілізація | N6: _ | O6: _ | Q6: УК № 283288 | R6: посвідчення офіцера | S6: 31295 | T6: Вінецька обл. С.Свитинці | U6: Ч | V6: Погребищенським РТЦК та СП | W6: 44734 | X6: Вища КНТУ | Y6: Мати - Степанюк Галина Єфремівна, Вінецька обл. с.Свитинці, вул. Ковалівна 4 | Z6: н 380977401325
A7: лейтенант | B7: ДЕМЯНЧУК Наталія Василівна | C7: 3420003 | D7: 14.11.2024 №370 | E7: Чуднівський РТЦК та СП | F7: 42536 | G7: 42536 | I7: 45610 | J7: №370 | K7: 45529 | L7: №265 | M7: Контракт | N7: 45163 | O7: 46990 | P7: 3191813887 | Q7: УК № 334128 | R7: посвідчення офіцера | S7: 31919 | T7: Житомирська обл. м. Чуднів | U7: Ж | V7: Чуднівський РТЦК та СП | X7: Вища , ЖПУ | Y7: Мати - Кротюк Світлана Василівна , Житомирська обл. , Житомирський рн. , с. Бабушки , вул.Центральна 41 | Z7: н 380977427783
A8: сержант | B8: ПОТАПОВ Олександр Євгенович | C8: 100657Д | D8: 45645 | E8: В/Ч 2582 | F8: 44665 | G8: 45030 | H8: №99 | I8: 45645 | K8: 45652 | L8: №286 | M8: контракт | N8: 45044 | P8: 3725107391 | Q8: АВ 536435 | R8: військовий квиток | S8: 12.27.2001 | T8: м.Приморськ Запоріжської обл | U8: Ч | V8: Приморським РТЦК та СП | W8: 44393 | X8: Середня технічна | Y8: дружина Потапова Ганна Юрієвна М.Житомир вул.старий бульвар 6 кв26 | Z8: _
A9: старший сержант | B9: КАРПУК Богдан Михайлович | C9: 787089Д | E9: А7021 | K9: 37379 | L9: №103 | M9: мобілізація | N9: _ | O9: _ | P9: 3000119857 | Q9: МО493792 | R9: військовий квиток | S9: 30002 | T9: Житомирська обл. , с. Серби | U9: Ч | V9: Ємельчинським РТЦК та СП | W9: 44623 | X9: Середня спеціальна , Машинобудівний технікум | Y9: Дружина - Карпук Ольга Володимирівна , м. Житомир , вул. Бориса Тена 99 , 380987987251 | Z9: н 380508344001
A10: сержант | B10: ВАСИЛЮК Андрій Васильович | C10: 878127Д | D10: 27.08.2024 №246 | E10: 1 відділ Вараського РТЦК та СП | F10: 45531 | G10: 27.08.2024 | I10: 45531 | J10: №246 | K10: 45652 | L10: №286РС | M10: мобілізація | N10: _ | O10: _ | P10: 3725506292 | Q10: АВ624948 | R10: військовий квиток | S10: 37256 | T10: Рівненська обл., с. Володимирець | U10: Ч | V10: 1 відділ Вараського РТЦК та СП | W10: 45531 | X10: Середня-спеціальна | Y10: _ | Z10: Н 380509924716
A11: сержант | B11: БОРОДАВКІН Микола Михайлович | C11: 0212003 | D11: 45371 | E11: Деснянський РТЦК та СП м.Києва | F11: 45007 | G11: 45007 | H11: №82 | I11: 45371 | J11: №80 | K11: 45652 | L11: 286 | M11: контракт | N11: 43913 | O11: 45008 | P11: 3340416053 | Q11: СО №514802 | R11: військовий квиток | S11: 33405 | T11: Казахстанська СРСР, Тургайська обл., Аркаликський р-н, с.Сариузен | U11: Ч | V11: Деснянським РВК м.Києва | W11: 43913 | X11: Середня спеціальна, ПТУ№5 м.Біла Церква | Y11: Дружина_ СЕМЕНОВА Євгенія Олександрівна, м. Київ, вул. Путивльська 42, кв.47, тел-0936634823 | Z11: н 380939143706
A12: солдат | B12: ЧЕРНЕНКО Андрій Юрійович | C12: 100119Д | D12: 26.02.2025 №58 | E12: Житомирський ОМТЦК та СП | F12: 45714 | G12: 45714 | I12: 45714 | J12: №58 | K12: 40505 | L12: №93 | M12: мобілізація | N12: _ | O12: _ | P12: 3139101050 | Q12: АГ078097 | R12: військовий квиток | S12: 31392 | T12: Одеська обл., Білгород-Дністровський р-н, с. Шабо | U12: Ч | V12: Житомирський ОМТЦК та СП | W12: 45714 | X12: Середня технічна | Y12: Дружина - Черненко Ліля Сергійовна, м. Житомир, вул. Лесі Українки, буд. 63, кв. 47, 0964335049 | Z12: Н 380961426877
A13: старший сержант | B13: СУСЛЕНКО Сергій Володимирович | C13: 100119Д | D13: 16.11.2021 , № 236 | E13: В/Ч А2900 | F13: 43250 | G13: 43250 | H13: №128 | I13: 44516 | J13: № 236 | K13: 44428 | L13: №3916 | M13: Контракт | N13: 43250 | O13: 44711 | P13: 3111921776 | Q13: МО749563 | R13: військовий квиток | S13: 31120 | T13: Житомирська обл. , с.Симаківка | U13: Ч | V13: Ємільчинським РТЦК та СП | W13: 43250 | X13: Молодший спеціаліст , Житомирський автомобільно-дорожній коледж | Y13: Мати - Сусленко Майя Миколаївна , Житомирська обл. , с.Симаківка. Вул.1 Травня буд.27 , н 3800974752517 | Z13: н 380638112809
A14: капітан | B14: МЕРКУЛОВ Богдан Юрійович | C14: 0212003 | D14: 26.03.2024 , №73 | E14: А2582 | F14: 45377 | G14: 45377 | H14: №73 | I14: 45377 | J14: №73 | K14: 44761 | L14: №130 | M14: Контракт | N14: 43253 | O14: 45079 | P14: 3545608416 | Q14: УК №1044797 | R14: посвідчення офіцера | S14: 35457 | T14: Житомирська обл. , м. Житомир | U14: Ч | V14: Житомирський ОМВК та СП | W14: 41835 | X14: Виша , НАСВ | Y14: Мати - Меркулова Жанна Олександрівна , м. Житомир , вул. Саєнка 128 буд.3, 380972514981 | Z14: н 380994161700
A15: молодший сержант | B15: ПРОСТАПЧУК Валентин Іванович | C15: 100119Д | D15: 21.06.2024 №150 | E15: В/ч А2120 | F15: 45072 | G15: 45072 | H15: №150 | I15: 45464 | J15: №177 | K15: 45652 | L15: №286 | M15: мобілізація | N15: _ | O15: _ | P15: 3625111574 | Q15: АВ378396 | R15: військовий квиток | S15: 36252 | T15: Хмельницька область село Марачівка | U15: Ч | V15: Шепетівським РТЦК та СП | W15: 44760 | X15: середня спеціальна , Острозьке ВПУ | Y15: Простапчук Наталя Володимирівна Хмельницька область місто Славута вулиця Сокола 1А/43 | Z15: н 380983781045
A16: молодший сержант | B16: КАЗАКОВ Євген Іванович | C16: 100119Д | D16: 44776 | E16: А2120 | F16: 44776 | G16: 44776 | H16: №205 | K16: 45308 | L16: №101 | M16: мобілізація | N16: _ | O16: _ | P16: 3238115012 | Q16: АВ076567 | R16: військовий квиток | S16: 32382 | T16: М. Вінниця | U16: Ч | V16: Вінницьким ОМ ТЦК та СП | W16: 44620 | X16: Вища, Вінницький Державний Педагогічний Університет | Y16: Батько - Казаков Іван Миколайович, м. Вінниця, вул. Ширшова, буд. 16, кв. 79 | Z16: н 38097521 98 84
A17: молодший лейтенант | B17: ГЕНЗЕЛЬ Богдан Васильович | C17: 0212003 | E17: А0310 | F17: 45224 | G17: 45224 | H17: №306 | K17: 45730 | L17: №245 | M17: мобілізація | N17: _ | O17: _ | P17: 3324413571 | Q17: ВН387570 | R17: Паспорт | S17: 33245 | T17: Хжитомирська обл. с.Йосипівка | U17: Ч | V17: Чуднівсько-Любарським РТЦК та СП | W17: 44636 | X17: Вища , ПУЕТ | Y17: Дружина - Гензель Тетяна Василівна , Житомирська обл. смт.Новогуйвінське, вул. Центральна 1а, 38068052575 | Z17: н 380960576993
A18: старший сержант | B18: ШИМАНСЬКИЙ Георгій Георгійович | C18: 101119Д | D18: 21.08.2024 №240 | E18: А0310 | F18: 45525 | G18: 45525 | H18: №240 | I18: 45525 | J18: №240 | K18: 45563 | L18: №190 | M18: мобілізація | N18: _ | O18: _ | P18: 2906511931 | Q18: МО121658 | R18: військовий квиток | S18: 29066 | T18: Житомирська обл. м.Житомир | U18: Ч | V18: Житомирським РТЦК та СП | W18: 44617 | X18: Середня , СПТУ №6 | Y18: Дружина - ШИМАНСЬКА Ольга лЕонідівна , м. Житомир , вул.Чуднівська 102 к.31 , 380634631304 | Z18: н 380931620845
A19: молодший сержант | B19: ВОЛЧКОВ Віктор Вікторович | C19: 102119Д | D19: 26.11.2024 №337 | E19: А0641 | F19: 45622 | G19: 45622 | H19: №337 | I19: 45622 | J19: №337 | K19: 42332 | L19: №370 | M19: контракт | N19: 44209 | O19: 44939 | P19: 3263802633 | Q19: СО247146 | R19: військовий квиток | S19: 32639 | T19: Донецька обл., м. Селидове | U19: Ч | V19: Красноармійсько-селідовським РВК | W19: 39554 | X19: Середня | Y19: _ | Z19: н 380663010203
A20: старший солдат | B20: ІВАНЧІКОВ Андрій Андрійович | C20: 103119Д | D20: 17.03.2025 №77 | E20: А4674 | F20: 45733 | I20: 45733 | J20: №77 | K20: 45045 | L20: №16РС | M20: контракт | N20: 43979 | O20: 45074 | P20: 3705909736 | Q20: АВ513458 | R20: військовий квиток | S20: 37060 | T20: Луганська обл., с. Вільхове | U20: Ч | V20: Біловодський РВК | W20: 43976 | X20: Середня, вища незакінчена | Y20: Мати - Іванчікова Тетяна Олексіївна, м. Харків, пров. Шевченківський, буд. 40, кв. 132, 0955393946 | Z20: н 380506156554
A21: капітан | B21: БАШИНСЬКИЙ Павло Миколайович | C21: 0212003 | D21: 27.02.2023 №38 | E21: А7021 | I21: 44984 | J21: №38 | K21: 45544 | L21: №285 | M21: Мобілізація | N21: _ | O21: _ | P21: 3333719458 | Q21: УК № 241308 | R21: посвідчення офіцера | S21: 33338 | T21: Житомирська обл. м. Коростень | U21: Ч | V21: Коростинським РТЦК та СП | W21: 44623 | X21: Вища , ДУЖП | Y21: Мати - Башинська Галина Анатоліївна , Житомирська обл. , с. Поліське , вул. Краснопільська буд.6 , 380969079367 | Z21: н 380967053512
A22: молодший сержант | B22: КОВАЛЬЧУК Андрій Леонідович | C22: 100119Д | D22: 05.03.2025 №65 | E22: А7306 | F22: 45721 | G22: 45721 | H22: №65 | I22: 45721 | J22: №65 | K22: 45323 | L22: №31-рс | M22: мобілізація | N22: _ | O22: _ | P22: 3406308178 | Q22: АВ725243 | R22: військовий квиток | S22: 34064 | T22: Житомирська обл., смт. Першотравенськ | U22: Ч | V22: Новоград-Волинським РТЦК та СП | W22: 44616 | X22: середня спеціальна ,Житомирський ВПУ | Y22: Сестра - Калюжникова Аліна Вікторівна , Житомирська м. Баранівка, вул Соборна 47 кв1 380968906895 | Z22: н 380951809466
A23: старший сержант | B23: АВГУСТОВИЧ Олександр Олександрович | C23: 102119Д | D23: 07.03.2022 №52 | E23: Житомирським ОМТЦК та СП | F23: 44627 | G23: 44627 | H23: №52 | I23: 44627 | J23: №52 | K23: немає запису | L23: немає запису | M23: Мобілізація | N23: _ | O23: _ | P23: 3340117097 | Q23: АВ179358 | R23: військовий квиток | S23: 33402 | T23: Житомирська обл. , с.Тетерівка | U23: Ч | V23: Житомирським ОМТЦК та СП | W23: 44627 | X23: середня | Y23: Батько - Августович Олександр Миколайович , Житомирська обл. , с. Тетерівка , пр. Третій Поліський 2 , 380979234804 | Z23: н 380635489403
A24: старший сержант | B24: ДІДОВЕЦЬ Дмитро Юрійович | C24: 102119Д | D24: 24.03.2025 №84 | E24: А1414 | F24: 45740 | G24: 45740 | H24: №84 | I24: 45740 | J24: №84 | K24: 45632 | L24: №145-ЗС | M24: Мобілізація | N24: _ | O24: _ | P24: 3534110451 | Q24: АВ184396 | R24: військовий квиток | S24: 35342 | T24: Житомирська обл. ,с.Жадьки | U24: Ч | V24: Житомирський РТЦК та СП | W24: 45275 | X24: середня спеціальна , ВВПУ НТ | Y24: Дружина - Сафонова Надія Олексіївна , Житомирська обл. , с. Жадьки , вул.Шевченка 56 , 380664044837 | Z24: н 380983970149
A25: солдат | B25: ЗЕНЧЕНКО Олександр Миколайович | C25: 100975Д | E25: Полтавський РТЦК та СП в Полтавській обл. | F25: 45717 | G25: 45717 | H25: №61 | K25: 39457 | L25: №5 | M25: мобілізація | N25: - | O25: - | P25: 3229420494 | Q25: АВ 963126 | R25: військовий квиток | S25: 32295 | T25: Сумська обл., м. Шостка | U25: Ч | V25: Полтавський РТЦК та СП в Полтавській обл. | W25: 45716 | X25: середня спеціальна, Шостинське ВПУ и№19, 2007 | Y25: мати- Кравченко Тетяна Анатоліївна, 04.06.1963, Сумська обл., м. Шостка , вул. Миру буд.10а к.39, 380952448136 | Z25: н 380990566122
A26: солдат | B26: ПОДОПРИГОРА Олександр Васильович | C26: 100975Д | E26: Дарницький РТЦК та СП м. Київ | F26: 45370 | G26: 45370 | H26: №79 | K26: 45352 | L26: №22 | M26: мобілізація | N26: - | O26: - | P26: 3226815576 | Q26: 7668077 | R26: паспорт | S26: 32269 | T26: Сумська обл., м. Ромни | U26: Ч | V26: Дарницький РТЦК та СП м. Київ | W26: 45369 | X26: вища, Сумський НАУ | Y26: мама- Подопригора Лідія Дмитрівна, 08.02.1954,Сумська обл. Роминський р-н., с. Перекопівка , вул. Космонавтів буд.70., 0632410419 | Z26: н 380932614622
A27: солдат | B27: ЖУРАВЕЛЬ Ігор Юрійович | C27: 100975Д | E27: Сихівський РТЦК та СП м. Львів | F27: 45710 | G27: 45710 | H27: №57 | K27: 45667 | L27: №9 | M27: мобілізація | N27: - | O27: - | P27: 3581806313 | Q27: АГ515217 | R27: військовий квиток | S27: 35819 | T27: Тернопільська обл., с .Криниця | U27: Ч | V27: Сихівський РТЦК та СП м. Львів | W27: 45712 | X27: вища, Львівський ДУБЖ | Y27: мати - Журавель Галина Миколаївна , 03.06.1972, місце проживання : США , 380664756140 | Z27: н 380660833559
B28: Командир 1 навчальної роти
B29: капітан | D29: Дмитро СТЕПАНЮК | F29: 45777

Sheet 3. Виключені
A1: 4
AD2: Продовження додатка 1
A3: 45777 | B3: 3. Виключений особовий склад
A4: Звання | B4: ПРІЗВИЩЕ (за наявності) Ім'я По батькові (за наявності) | C4: Індекс посади / Індексм посад, які обіймав(ла) | D4: Дати прийняття посади / посад | E4: Звідки прибув | F4: Дата зарахування до списків частини | G4: Наказ про зарахування до списків (дата і номер) | I4: Наказ, на призначення на посаду (дата, чий і номе) | K4: Наказ, на присвоєння останнього звання (дата, чий і номер) | M4: Вид служби | N4: Дата укладання контракту | O4: Дата закінчення контракту / Період призову (для базової військової служби) | P4: РНОКПП (за наявності) | Q4: Серія (за наявності) і номер документа, що посвідчує особу та назва документа | S4: Дата народження | T4: Місце народження | U4: Стать | V4: Ким і коли призваний (прийнятий) на військову службу | X4: Освіта | Y4: Дані про родичів | Z4: Додаткова інформація | AA4: Дата виключення із списків та номер наказу | AB4: Наказ про виключення із списків (дата і номер) | AD4: Куди вибув / Куди направлені документи | AE4: Підстава виключення зі списків
A5: =MAX('2. ООС'!5:5)+1 -> 29 | B5: =A5+1 -> 30 | C5: =B5+1 -> 31 | D5: =C5+1 -> 32 | E5: =D5+1 -> 33 | F5: =E5+1 -> 34 | G5: =F5+1 -> 35 | I5: =G5+1 -> 36 | K5: =I5+1 -> 37 | M5: =K5+1 -> 38 | N5: =M5+1 -> 39 | O5: =N5+1 -> 40 | P5: =O5+1 -> 41 | Q5: =P5+1 -> 42 | R5: =Q5+1 -> 43 | S5: =R5+1 -> 44 | T5: =S5+1 -> 45 | U5: =T5+1 -> 46 | V5: =U5+1 -> 47 | X5: =V5+1 -> 48 | Y5: =X5+1 -> 49 | Z5: =Y5+1 -> 50 | AA5: =Z5+1 -> 51 | AB5: =AA5+1 -> 52 | AD5: =AB5+1 -> 53 | AE5: =AD5+1 -> 54
A6: старший сержант | B6: СУСЛЕНКО Сергій Володимирович | C6: 100119Д | D6: 16.11.2021, № 236 | E6: В/Ч А2900 | F6: 43250 | G6: 43250 | H6: №128 | I6: 44516 | J6: № 236 | K6: 44428 | L6: №3916 | M6: контракт | N6: 43250 | O6: 44711 | P6: 3111921776 | Q6: МО749563 | R6: військовий квиток | S6: 31120 | T6: Житомирська обл. , с.Симаківка | U6: Ч | V6: Ємільчинським РТЦК та СП | W6: 43250 | X6: Молодший спеціаліст , Житомирський автомобільно-дорожній коледж | Y6: Мати - Сусленко Майя Миколаївна , Житомирська обл. , с.Симаківка. Вул.1 Травня буд.27 , н 3800974752517 | Z6: н 380638112809 | AA6: 45761 | AB6: №105 | AC6: 45761 | AD6: Відділення підготовки фахівців із забезпечення дій ДШВ в\ч А2900 | AE6: Наказ №105 від 14.04.2025
B12: Командир 1 навчальної роти
B13: капітан | C13: Дмитро СТЕПАНЮК 30.04.2025

Sheet 4. Тимчасово прибулі
A1: 5
L2: Продовження додатка 1
A3: 45777 | B3: 4. Тимчасово прибулий особовий склад
A4: Звання | B4: ПРІЗВИЩЕ (за наявності) Ім'я По батькові (за наявності) | C4: Посада | D4: Звідки прибув | E4: Підстава прибуття | F4: Дата прибуття | G4: Дата і номер наказу на прибуття | I4: Дата вибуття | J4: Дата і номер наказу на вибуття | L4: Додаткова інформація
A5: =MAX('3. Виключені'!5:5)+1 -> 55 | B5: =A5+1 -> 56 | C5: =B5+1 -> 57 | D5: =C5+1 -> 58 | E5: =D5+1 -> 59 | F5: =E5+1 -> 60 | G5: =F5+1 -> 61 | I5: =G5+1 -> 62 | J5: =I5+1 -> 63 | L5: =J5+1 -> 64
A6: Солдат | B6: САГАЙДАК Микола Миколайович | C6: Курсант | D6: А4350 | E6: Наказ командира в\ч А2900 | F6: 45588 | G6: 45588 | H6: № 303 | L6: (095)5643784
A7: Солдат | B7: БУТКОВСЬКИЙ Рустам Олегович | C7: Курсант | D7: А4472 | E7: Наказ командира в\ч А2900 | F7: 45353 | G7: 45353 | H7: № 62 | L7: (095)0219929
A8: Солдат | B8: ДЕРЕПАЩУК Максим Миколайович | C8: Курсант | D8: А2582 | E8: Наказ командира в\ч А2900 | F8: 45485 | G8: 45485 | H8: № 198 | L8: (098)0817683
A9: Солдат | B9: КОВАЛЕНКО Віктор Анатолійович | C9: Курсант | D9: А2582 | E9: Наказ командира в\ч А2900 | F9: 45665 | G9: 45665 | H9: №8 | L9: (0977578813
A10: Солдат | B10: ТИХОМИРОВ Євгеній Валерійович | C10: Курсант | D10: А4350 | E10: Наказ командира в\ч А2900 | F10: 45589 | G10: 45589 | H10: №304 | L10: (096)5390639
A11: Солдат | B11: ПЕЛЕХ Олег Михайлович | C11: Курсант | D11: А2582 | E11: Наказ командира в\ч А2900 | F11: 45665 | G11: 45665 | H11: №8 | L11: (068)0423890
A12: Солдат | B12: ВАРЬОНОВ Олександр Валентинович | C12: Курсант | D12: А4355 | E12: Наказ командира в\ч А2900 | F12: 45642 | G12: 45643 | H12: №368
A13: Старший солдат | B13: МИРОНЕНКО Євгеній Олександрович | C13: Курсант | D13: Золотоніський РТЦК та СП | E13: Наказ командира в\ч А2900 | F13: 45475 | G13: 45460 | H13: №652022 | L13: (066)7707230
A14: Солдат | B14: ПЕРЕВЬОРТОВ Яніс Юрійович | C14: Курсант | L14: Втрачений військовий квиток (095)6962417
A15: Солдат | B15: НІКОЛЬЧЕНКО Євгеній Олександрович | C15: Курсант | D15: А4355 | E15: Наказ командира в\ч А2900 | F15: 45600 | G15: 45600 | H15: №315 | L15: (096)5858979
B18: Командир 1 навчальної роти
B19: капітан | D19: Дмитро СТЕПАНЮК | F19: 45777

Sheet 5. Тимчасово відсутні
A1: 6
N2: Продовження додатка 1
A3: 45777 | B3: 5. Тимчасово відсутній особовий склад
A4: Звання | B4: ПРІЗВИЩЕ (за наявності) Ім'я По батькові (за наявності) | C4: Індекс посади | D4: Підстава вибуття | E4: Місце вибуття | F4: Дата вибуття | G4: Дата і номер наказу на вибуття | I4: Строк вибуття (якщо невідомо - "?") | J4: Дата планового повернення (якщо невідомо - "?") | K4: Фактична дата прибуття | L4: Дата і номер наказу на прибуття | N4: Додаткова інформація
A5: =MAX('4. Тимчасово прибулі'!5:5)+1 -> 65 | B5: =A5+1 -> 66 | C5: =B5+1 -> 67 | D5: =C5+1 -> 68 | E5: =D5+1 -> 69 | F5: =E5+1 -> 70 | G5: =F5+1 -> 71 | I5: =G5+1 -> 72 | J5: =I5+1 -> 73 | K5: =J5+1 -> 74 | L5: =K5+1 -> 75 | N5: =L5+1 -> 76
A6: сержант | B6: ВАСИЛЮК Андрій Васильович | D6: відрядження | E6: А2900 | F6: 45735 | G6: 45735 | H6: №480 | I6: ? | J6: 45763 | K6: 45763 | N6: Підвищення кваліфікації
A7: капітан | B7: БАШИНСЬКИЙ Павло Миколайович | D7: Відпустка | E7: м. Коростень | F7: 45724 | G7: 45724 | H7: №145 | I7: 30 діб | J7: 45756 | K7: 45754 | L7: ? | M7: ? | N7: Реабілітація
A8: капітан | B8: МЕРКУЛОВ Богдан Юрійович | D8: Відпустка | E8: А2900 | F8: 45752 | G8: 45751 | I8: 30 діб | J8: 45782 | K8: ? | L8: ? | M8: ? | N8: Лікування
A9: солдат | B9: ЧЕРНЕНКО Андрій Леонідович | D9: навчання | E9: А2900 | F9: 45754 | G9: 45754 | H9: №117 | I9: 33діб | J9: 45786 | K9: ? | L9: ? | M9: ? | N9: навчання БазКурсЛідерства
A10: сержант | B10: ВОЛЧКОВ Віктор Вікторович | D10: навчання | E10: А2900 | F10: 45754 | G10: 45754 | H10: №117 | I10: 33діб | J10: 45786 | K10: ? | L10: ? | M10: ? | N10: навчання БазКурсЛідерства
A11: молодший сержант | B11: КОВАЛЬЧУК Андрій Леонідович | D11: навчання | E11: Британія | F11: 45734 | G11: 45734 | H11: №467 | I11: ? | J11: 45765 | K11: 45773 | L11: ? | M11: ? | N11: навчання БазКурсЛідерства
A12: старший сержант | B12: ДІДОВЕЦЬ Дмитро Юрійович | D12: на набуття УБД | E12: Донецька ОБЛ | F12: 45755 | G12: 45755 | H12: №99 | I12: 10діб | J12: 45765 | K12: 45772 | N12: набуття досвіду
A13: лейтенант | B13: ДЕМЯНЧУК Наталія Василівна | D13: лікування | E13: КНП "Чуднівська лікарня" | F13: 45755 | G13: 45755 | H13: №99 | I13: ? | J13: ? | K13: 45763 | L13: ? | M13: ? | N13: Стаціонарне лікування
A14: капітан | B14: МЕРКУЛОВ Богдан Юрійович | D14: відрядження | E14: А2900 | F14: 45743 | G14: 45742 | I14: ? | J14: ? | K14: 45751 | L14: ? | M14: ? | N14: проходження ВЛК
A15: молодший лейтенант | B15: Гензель Богдан Васильович | D15: відрядження | F15: 45775 | N15: Підвищення кваліфікацьї
B19: Командир 1 навчальної роти
B20: капітан | C20: Дмитро СТЕПАНЮК 30.04.2025

Sheet 6. Табель
A1: 7
AE2: Продовження додатка 1
A3: 45777 | B3: 6. Табель особового складу
A4: Звання | B4: ПРІЗВИЩЕ (за наявності) Ім'я По батькові (за наявності) | C4: 1 | D4: 2 | E4: 3 | F4: 4 | G4: 5 | H4: 6 | I4: 7 | J4: 8 | K4: 9 | L4: 10 | M4: 11 | N4: 12 | O4: 13 | P4: 14 | Q4: 15 | R4: 16 | S4: 17 | T4: 18 | U4: 19 | V4: 20 | W4: 21 | X4: 22 | Y4: 23 | Z4: 24 | AA4: 25 | AB4: 26 | AC4: 27 | AD4: 28 | AE4: 29 | AF4: 30
A5: УПРАВЛІННЯ
A6: капітан | B6: СТЕПАНЮК Дмитро Миколайович | C6: + | D6: + | E6: + | F6: + | G6: + | H6: + | I6: + | J6: + | K6: + | L6: + | M6: + | N6: + | O6: + | P6: + | Q6: + | R6: + | S6: + | T6: + | U6: + | V6: + | W6: + | X6: + | Y6: + | Z6: + | AA6: + | AB6: + | AC6: + | AD6: + | AE6: + | AF6: +
A7: лейтенант | B7: ДЕМЯНЧУК Наталія Василівна | C7: + | D7: + | E7: + | F7: + | G7: + | H7: + | I7: + | J7: - | K7: лік | L7: лік | M7: лік | N7: лік | O7: лік | P7: лік | Q7: лік | R7: + | S7: + | T7: + | U7: + | V7: + | W7: + | X7: + | Y7: + | Z7: + | AA7: + | AB7: + | AC7: + | AD7: + | AE7: + | AF7: +
A8: сержант | B8: ПОТАПОВ Олександр Євгенович | C8: + | D8: + | E8: + | F8: + | G8: + | H8: + | I8: + | J8: + | K8: + | L8: + | M8: + | N8: + | O8: + | P8: + | Q8: + | R8: + | S8: + | T8: + | U8: + | V8: + | W8: + | X8: + | Y8: + | Z8: + | AA8: + | AB8: + | AC8: + | AD8: + | AE8: + | AF8: +
A9: старший сержант | B9: КАРПУК Богдан Михайлович | C9: + | D9: + | E9: + | F9: + | G9: + | H9: + | I9: + | J9: + | K9: + | L9: + | M9: + | N9: + | O9: + | P9: + | Q9: + | R9: + | S9: + | T9: + | U9: + | V9: + | W9: + | X9: + | Y9: + | Z9: + | AA9: + | AB9: + | AC9: + | AD9: + | AE9: + | AF9: +
A10: Солдат | B10: БУКРЕНЬОВ Дмитро Юрійович | Y10: + | Z10: + | AA10: + | AB10: + | AC10: + | AD10: + | AE10: + | AF10: +
A11: На продовольчому забезпеченні в УПРАВЛІННІ перебуває | C11: =COUNTIF(C6:C10, "+") -> 4 | D11: =COUNTIF(D6:D10, "+") -> 4 | E11: =COUNTIF(E6:E10, "+") -> 4 | F11: =COUNTIF(F6:F10, "+") -> 4 | G11: =COUNTIF(G6:G10, "+") -> 4 | H11: =COUNTIF(H6:H10, "+") -> 4 | I11: =COUNTIF(I6:I10, "+") -> 4 | J11: =COUNTIF(J6:J10, "+") -> 3 | ... AF11: =COUNTIF(AF6:AF10, "+") -> 5
A12: 1 НАВЧАЛЬНИЙ ВЗВОД
A13: сержант | B13: БОРОДАВКІН Микола Михайлович | C13: + | D13: + | E13: + | F13: + | G13: + | H13: + | I13: + | J13: + | K13: + | L13: + | M13: + | N13: + | O13: + | P13: + | Q13: + | R13: + | S13: + | T13: + | U13: + | V13: + | W13: + | X13: + | Y13: + | Z13: + | AA13: + | AB13: + | AC13: + | AD13: + | AE13: + | AF13: +
A14: солдат | B14: ЧЕРНЕНКО Андрій Юрійович | C14: + | D14: + | E14: + | F14: + | G14: + | H14: + | I14: вдр | J14: вдр | K14: вдр | L14: вдр | M14: вдр | N14: вдр | O14: вдр | P14: вдр | Q14: вдр | R14: вдр | S14: вдр | T14: вдр | U14: вдр | V14: вдр | W14: вдр | X14: вдр | Y14: вдр | Z14: вдр | AA14: вдр | AB14: вдр | AC14: вдр | AD14: вдр | AE14: вдр | AF14: вдр
A15: сержант | B15: ВАСИЛЮК Андрій Васильович | C15: вдр | D15: вдр | E15: вдр | F15: вдр | G15: вдр | H15: вдр | I15: вдр | J15: вдр | K15: вдр | L15: вдр | M15: вдр | N15: вдр | O15: вдр | P15: вдр | Q15: вдр | R15: + | S15: + | T15: + | U15: + | V15: + | W15: + | X15: + | Y15: + | Z15: + | AA15: + | AB15: + | AC15: + | AD15: + | AE15: + | AF15: +
A16: На продовольчому забезпеченні в 1 НАВЧАЛЬНОМУ ВЗВОДІ перебуває | C16: =COUNTIF(C13:C15, "+") -> 2 | D16: =COUNTIF(D13:D15, "+") -> 2 | E16: =COUNTIF(E13:E15, "+") -> 2 | F16: =COUNTIF(F13:F15, "+") -> 2 | G16: =COUNTIF(G13:G15, "+") -> 2 | H16: =COUNTIF(H13:H15, "+") -> 2 | I16: =COUNTIF(I13:I15, "+") -> 1 | J16: =COUNTIF(J13:J15, "+") -> 1 | ... AF16: =COUNTIF(AF13:AF15, "+") -> 2
A17: 2 НАВЧАЛЬНИЙ ВЗВОД
A18: капітан | B18: МЕРКУЛОВ Богдан Юрійович | C18: вдр | D18: вдр | E18: вдр | F18: вдр | G18: від | H18: від | I18: від | J18: від | K18: від | L18: від | M18: від | N18: від | O18: від | P18: від | Q18: від | R18: від | S18: від | T18: від | U18: від | V18: від | W18: від | X18: від | Y18: від | Z18: від | AA18: від | AB18: від | AC18: від | AD18: від | AE18: від | AF18: від
A19: молодший сержант | B19: ПРОСТАПЧУК Валентин Іванович | C19: + | D19: + | E19: + | F19: + | G19: + | H19: + | I19: + | J19: + | K19: + | L19: + | M19: + | N19: + | O19: + | P19: + | Q19: + | R19: + | S19: + | T19: + | U19: + | V19: + | W19: + | X19: + | Y19: + | Z19: + | AA19: + | AB19: + | AC19: + | AD19: + | AE19: + | AF19: +
A20: молодший сержант | B20: КАЗАКОВ Євген Іванович | C20: + | D20: + | E20: + | F20: + | G20: + | H20: + | I20: + | J20: + | K20: + | L20: + | M20: + | N20: + | O20: + | P20: + | Q20: + | R20: + | S20: + | T20: + | U20: + | V20: + | W20: + | X20: + | Y20: + | Z20: + | AA20: + | AB20: + | AC20: + | AD20: + | AE20: + | AF20: +
A21: На продовольчому забезпеченні в 2 НАВЧАЛЬНОМУ ВЗВОДІ перебуває | C21: =COUNTIF(C19:C20, "+") -> 2 | D21: =COUNTIF(D19:D20, "+") -> 2 | E21: =COUNTIF(E19:E20, "+") -> 2 | F21: =COUNTIF(F19:F20, "+") -> 2 | G21: =COUNTIF(G19:G20, "+") -> 2 | H21: =COUNTIF(H19:H20, "+") -> 2 | I21: =COUNTIF(I19:I20, "+") -> 2 | J21: =COUNTIF(J19:J20, "+") -> 2 | ... AF21: =COUNTIF(AF19:AF20, "+") -> 2
A22: 3 НАВЧАЛЬНИЙ ВЗВОД
A24: солдат | B24: ЗЕНЧЕНКО Олександр Миколайович | Y24: + | Z24: + | AA24: + | AB24: + | AC24: + | AD24: + | AE24: + | AF24: +
A25: На продовольчому забезпеченні в 3 НАВЧАЛЬНОМУ ВЗВОДІ перебуває | C25: =COUNTIF(C23:C24, "+") -> 0 | D25: =COUNTIF(D23:D24, "+") -> 0 | E25: =COUNTIF(E23:E24, "+") -> 0 | F25: =COUNTIF(F23:F24, "+") -> 0 | G25: =COUNTIF(G23:G24, "+") -> 0 | H25: =COUNTIF(H23:H24, "+") -> 0 | I25: =COUNTIF(I23:I24, "+") -> 0 | J25: =COUNTIF(J23:J24, "+") -> 0 | ... AF25: =COUNTIF(AF23:AF24, "+") -> 1
A26: 4 НАВЧАЛЬНИЙ ВЗВОД
A28: солдат | B28: ПОДОПРИГОРА Олександр Васильович | Y28: + | Z28: + | AA28: + | AB28: + | AC28: + | AD28: + | AE28: + | AF28: +
A29: На продовольчому забеспеченні в 4 НАВЧАЛЬНОМУ ВЗВОДІ перебуває | C29: =COUNTIF(C27:C28, "+") -> 0 | D29: =COUNTIF(D27:D28, "+") -> 0 | E29: =COUNTIF(E27:E28, "+") -> 0 | F29: =COUNTIF(F27:F28, "+") -> 0 | G29: =COUNTIF(G27:G28, "+") -> 0 | H29: =COUNTIF(H27:H28, "+") -> 0 | I29: =COUNTIF(I27:I28, "+") -> 0 | J29: =COUNTIF(J27:J28, "+") -> 0 | ... AF29: =COUNTIF(AF27:AF28, "+") -> 1
A30: 5 НАВЧАЛЬНИЙ ВЗВОД
A32: солдат | B32: ЖУРАВЕЛЬ Ігор Юрійович | Y32: + | Z32: + | AA32: + | AB32: + | AC32: + | AD32: + | AE32: + | AF32: +
A33: На продовольчому забезпеченні в 5 НАВЧАЛЬНОМУ ВЗВОДІ перебуває | C33: =COUNTIF(C31:C32, "+") -> 0 | D33: =COUNTIF(D31:D32, "+") -> 0 | E33: =COUNTIF(E31:E32, "+") -> 0 | F33: =COUNTIF(F31:F32, "+") -> 0 | G33: =COUNTIF(G31:G32, "+") -> 0 | H33: =COUNTIF(H31:H32, "+") -> 0 | I33: =COUNTIF(I31:I32, "+") -> 0 | J33: =COUNTIF(J31:J32, "+") -> 0 | ... AF33: =COUNTIF(AF31:AF32, "+") -> 1
A34: 6 НАВЧАЛЬНИЙ ВЗВОД
A36: старший сержант | B36: АВГУСТОВИЧ Олександр Олександрович | C36: + | D36: + | E36: + | F36: + | G36: + | H36: + | I36: + | J36: + | K36: + | L36: + | M36: + | N36: + | O36: + | P36: + | Q36: + | R36: + | S36: + | T36: + | U36: + | V36: + | W36: + | X36: + | Y36: + | Z36: + | AA36: + | AB36: + | AC36: + | AD36: + | AE36: + | AF36: +
A37: На продовольчому забезпеченні в 6 НАВЧАЛЬНОМУ ВЗВОДІ перебуває | C37: =COUNTIF(C35:C36, "+") -> 1 | D37: =COUNTIF(D35:D36, "+") -> 1 | E37: =COUNTIF(E35:E36, "+") -> 1 | F37: =COUNTIF(F35:F36, "+") -> 1 | G37: =COUNTIF(G35:G36, "+") -> 1 | H37: =COUNTIF(H35:H36, "+") -> 1 | I37: =COUNTIF(I35:I36, "+") -> 1 | J37: =COUNTIF(J35:J36, "+") -> 1 | ... AF37: =COUNTIF(AF35:AF36, "+") -> 1
A38: 7 НАВЧАЛЬНИЙ ВЗВОД
A39: молодший лейтенант | B39: Гензель Богдан Васильович | C39: + | D39: + | E39: + | F39: + | G39: + | H39: + | I39: + | J39: + | K39: + | L39: + | M39: + | N39: + | O39: + | P39: + | Q39: + | R39: + | S39: + | T39: + | U39: + | V39: + | W39: + | X39: + | Y39: + | Z39: + | AA39: + | AB39: + | AC39: + | AD39: вдр | AE39: вдр | AF39: вдр
A40: старший сержант | B40: ШИМАНСЬКИЙ Георгій Георгійович | C40: + | D40: + | E40: + | F40: + | G40: + | H40: + | I40: + | J40: + | K40: + | L40: + | M40: + | N40: + | O40: + | P40: + | Q40: + | R40: + | S40: + | T40: + | U40: + | V40: + | W40: + | X40: + | Y40: + | Z40: + | AA40: + | AB40: + | AC40: + | AD40: + | AE40: + | AF40: +
A41: старший сержант | B41: ДІДОВЕЦЬ Дмитро Юрійович | C41: + | D41: + | E41: + | F41: + | G41: + | H41: + | I41: + | J41: вдр | K41: вдр | L41: вдр | M41: вдр | N41: вдр | O41: вдр | P41: вдр | Q41: вдр | R41: вдр | S41: вдр | T41: вдр | U41: вдр | V41: вдр | W41: вдр | X41: вдр | Y41: вдр | Z41: вдр | AA41: + | AB41: + | AC41: + | AD41: + | AE41: + | AF41: +
A42: На продовольчому забезпеченні в 7 НАВЧАЛЬНОМУ ВЗВОДІ перебуває | C42: =COUNTIF(C39:C41, "+") -> 3 | D42: =COUNTIF(D39:D41, "+") -> 3 | E42: =COUNTIF(E39:E41, "+") -> 3 | F42: =COUNTIF(F39:F41, "+") -> 3 | G42: =COUNTIF(G39:G41, "+") -> 3 | H42: =COUNTIF(H39:H41, "+") -> 3 | I42: =COUNTIF(I39:I41, "+") -> 3 | J42: =COUNTIF(J39:J41, "+") -> 2 | ... AF42: =COUNTIF(AF39:AF41, "+") -> 2
A43: 8 НАВЧАЛЬНИЙ ВЗВОД
A45: молодший сержант | B45: ВОЛЧКОВ Віктор Вікторович | C45: + | D45: + | E45: + | F45: + | G45: + | H45: + | I45: вдр | J45: вдр | K45: вдр | L45: вдр | M45: вдр | N45: вдр | O45: вдр | P45: вдр | Q45: вдр | R45: вдр | S45: вдр | T45: вдр | U45: вдр | V45: вдр | W45: вдр | X45: вдр | Y45: вдр | Z45: вдр | AA45: вдр | AB45: вдр | AC45: вдр | AD45: вдр | AE45: вдр | AF45: вдр
A46: старший солдат | B46: ІВАНЧІКОВ Андрій Андрійович | C46: + | D46: + | E46: + | F46: + | G46: + | H46: + | I46: + | J46: + | K46: + | L46: + | M46: + | N46: + | O46: + | P46: + | Q46: + | R46: + | S46: + | T46: + | U46: + | V46: + | W46: + | X46: + | Y46: + | Z46: + | AA46: + | AB46: + | AC46: + | AD46: + | AE46: + | AF46: +
A47: На продовольчому забезпеченні в 8 НАВЧАЛЬНОМУ ВЗВОДІ перебуває | C47: =COUNTIF(C45:C46, "+") -> 2 | D47: =COUNTIF(D45:D46, "+") -> 2 | E47: =COUNTIF(E45:E46, "+") -> 2 | F47: =COUNTIF(F45:F46, "+") -> 2 | G47: =COUNTIF(G45:G46, "+") -> 2 | H47: =COUNTIF(H45:H46, "+") -> 2 | I47: =COUNTIF(I45:I46, "+") -> 1 | J47: =COUNTIF(J45:J46, "+") -> 1 | ... AF47: =COUNTIF(AF45:AF46, "+") -> 1
A48: 9 НАВЧАЛЬНИЙ ВЗВОД
A49: капітан | B49: БАШИНСЬКИЙ Павло Миколайович | C49: від | D49: від | E49: від | F49: від | G49: від | H49: від | I49: + | J49: + | K49: + | L49: + | M49: + | N49: + | O49: + | P49: + | Q49: + | R49: + | S49: + | T49: + | U49: + | V49: + | W49: + | X49: + | Y49: + | Z49: + | AA49: + | AB49: + | AC49: + | AD49: + | AE49: + | AF49: +
A50: молодший сержант | B50: КОВАЛЬЧУК Андрій Леонідович | C50: вдр | D50: вдр | E50: вдр | F50: вдр | G50: вдр | H50: вдр | I50: вдр | J50: вдр | K50: вдр | L50: вдр | M50: вдр | N50: вдр | O50: вдр | P50: вдр | Q50: вдр | R50: вдр | S50: вдр | T50: вдр | U50: вдр | V50: вдр | W50: вдр | X50: вдр | Y50: вдр | Z50: вдр | AA50: вдр | AB50: + | AC50: + | AD50: + | AE50: + | AF50: +
A51: старший сержант | B51: АВГУСТОВИЧ Олександр Олександрович | C51: + | D51: + | E51: + | F51: + | G51: + | H51: + | I51: + | J51: + | K51: + | L51: + | M51: + | N51: + | O51: + | P51: + | Q51: + | R51: + | S51: + | T51: + | U51: + | V51: + | W51: + | X51: + | Y51: + | Z51: + | AA51: + | AB51: + | AC51: + | AD51: + | AE51: + | AF51: +
A52: На продовольчому забезпеченні в 9 НАВЧАЛЬНОМУ ВЗВОДІ перебуває | C52: =COUNTIF(C49:C51, "+") -> 1 | D52: =COUNTIF(D49:D51, "+") -> 1 | E52: =COUNTIF(E49:E51, "+") -> 1 | F52: =COUNTIF(F49:F51, "+") -> 1 | G52: =COUNTIF(G49:G51, "+") -> 1 | H52: =COUNTIF(H49:H51, "+") -> 1 | I52: =COUNTIF(I49:I51, "+") -> 2 | J52: =COUNTIF(J49:J51, "+") -> 2 | ... AF52: =COUNTIF(AF49:AF51, "+") -> 3
A53: На продовольчому забезпеченні 1 НАВЧАЛЬНОЇ РОТИ перебуває | C53: =SUM(C52+C47+C42+C37+C33+C29+C25+C21+C16+C11) -> 15 | D53: =SUM(D52+D47+D42+D37+D33+D29+D25+D21+D16+D11) -> 15 | E53: =SUM(E52+E47+E42+E37+E33+E29+E25+E21+E16+E11) -> 15 | F53: =SUM(F52+F47+F42+F37+F33+F29+F25+F21+F16+F11) -> 15 | G53: =SUM(G52+G47+G42+G37+G33+G29+G25+G21+G16+G11) -> 15 | H53: =SUM(H52+H47+H42+H37+H33+H29+H25+H21+H16+H11) -> 15 | I53: =SUM(I52+I47+I42+I37+I33+I29+I25+I21+I16+I11) -> 14 | J53: =SUM(J52+J47+J42+J37+J33+J29+J25+J21+J16+J11) -> 12 | ... AF53: =SUM(AF52+AF47+AF42+AF37+AF33+AF29+AF25+AF21+AF16+AF11) -> 19
A54: Особа, яка проводила вечірню повірку | C54: Потапов О.Є. | D54: Сусленко С.В. | E54: Простапчук В.І. | F54: Іванчіков А.А. | G54: Казаков Є.І. | H54: Волчков В.В. | I54: Карпук Б.М. | J54: Бородавкін М.М. | K54: Степанюк Д.М. | L54: Потапов О.Є. | M54: Сусленко С.В. | N54: Бородавкін М.М. | O54: Потапов О.Є. | P54: Іванчіков А.А. | Q54: Шиманський Г.Г. | R54: Степанюк Д.М. | S54: Потапов О.Є. | T54: Карпук Б.М. | U54: Казаков Є.І. | V54: Бородавкін М.М. | W54: Демянчук Н.В. | X54: Карпук Б.М. | Y54: Шиманський Г.Г. | Z54: Казаков Є.І. | AA54: Степанюк Д.М. | AB54: Потапов О.Є. | AC54: Шиманський Г.Г. | AD54: Демянчук Н.В. | AE54: Бородавкін М.М. | AF54: Потапов О.Є.
A57: Командир 1 навчальної роти
A58: капітан | C58: Дмитро СТЕПАНЮК | G58: 45777

Sheet 7. Безповоротні втрати
A1: 8
T2: Продовження додатка 1
A3: 45777 | B3: 7. Облік безповоротніх втрат
A4: Військове звання | B4: ПРІЗВИЩЕ (за наявності) Ім'я По батькові (за наявності) | C4: Індекс посади | D4: Вид військової служби | E4: РНОКПП (за наявності) | F4: Серія (за наявності) і номер документа, що посвідчує особу та назва документа | H4: Дата народження | I4: Місце народження | J4: Ким і коли призваний (прийнятий) на військову службу | L4: Прізвище (за наявності), власне ім’я, по батькові (за наявності) дружини (чоловіка), батька, матері або близького родича, місце проживання (перебування) членів сім’ї (близьких родичів) | M4: Вид втрати | N4: Дата безповоротної втрати | O4: Обставини, що призвели до втрат особового складу | P4: Місце втрат особового складу | Q4: Дата виключення із списків | R4: Наказ про виключення із списків (дата і номер) | T4: Кому, за яким номером і коли надіслано сповіщення | U4: Місце і дата поховання (імовірне місце перебування)
A5: =MAX('5. Тимчасово відсутні'!5:5)+1 -> 77 | B5: =A5+1 -> 78 | C5: =B5+1 -> 79 | D5: =C5+1 -> 80 | E5: =D5+1 -> 81 | F5: =E5+1 -> 82 | H5: =F5+1 -> 83 | I5: =H5+1 -> 84 | J5: =I5+1 -> 85 | L5: =J5+1 -> 86 | M5: =L5+1 -> 87 | N5: =M5+1 -> 88 | O5: =N5+1 -> 89 | P5: =O5+1 -> 90 | Q5: =P5+1 -> 91 | R5: =Q5+1 -> 92 | T5: =R5+1 -> 93 | U5: =T5+1 -> 94
B7: Командир 1 навчальної роти
B8: капітан | C8: Дмитро СТЕПАНЮК 30.04.2025

Sheet 8. Статистичний облік
A1: 9
AW2: Продовження додатка 1
A3: 45736 | B3: 8. Зведений статистичний облік
A4: Підрозділи | B4: По штату | F4: По списку | J4: В наявності | N4: На продовольчому забезпеченні | O4: Відсутні | S4: Причини відсутності
S5: Відпустка | W5: Лікування | AA5: Відрядження | AE5: СЗЧ | AI5: Загиблі | AM5: Зниклі безвісти | AQ5: Полон | AU5: Інші
B6: Офіцери | C6: Сержанти | D6: Солдати | E6: Працівники | F6: Офіцери | G6: Сержанти | H6: Солдати | I6: Працівники | J6: Офіцери | K6: Сержанти | L6: Солдати | M6: Працівники | O6: Офіцери | P6: Сержанти | Q6: Солдати | R6: Працівники | S6: Офіцери | T6: Сержанти | U6: Солдати | V6: Працівники | W6: Офіцери | X6: Сержанти | Y6: Солдати | Z6: Працівники | AA6: Офіцери | AB6: Сержанти | AC6: Солдати | AD6: Працівники | AE6: Офіцери | AF6: Сержанти | AG6: Солдати | AH6: Працівники | AI6: Офіцери | AJ6: Сержанти | AK6: Солдати | AL6: Працівники | AM6: Офіцери | AN6: Сержанти | AO6: Солдати | AP6: Працівники | AQ6: Офіцери | AR6: Сержанти | AS6: Солдати | AT6: Працівники | AU6: Офіцери | AV6: Сержанти | AW6: Солдати | AX6: Працівники
A7: =MAX('7. Безповоротні втрати'!5:5)+1 -> 95 | B7: =A7+1 -> 96 | F7: =B7+1 -> 97 | J7: =F7+1 -> 98 | N7: =J7+1 -> 99 | O7: =N7+1 -> 100 | S7: =O7+1 -> 101 | W7: =S7+1 -> 102 | AA7: =W7+1 -> 103 | AE7: =AA7+1 -> 104 | AI7: =AE7+1 -> 105 | AM7: =AI7+1 -> 106 | AQ7: =AM7+1 -> 107 | AU7: =AQ7+1 -> 108
A8: ВСЬОГО | B8: =SUM(B9:B12) -> 11 | C8: =SUM(C9:C12) -> 17 | D8: =SUM(D9:D12) -> 0 | E8: =SUM(E9:E12) -> 0 | F8: 6 | G8: 14 | H8: =SUM(H9:H12) -> 0 | I8: =SUM(I9:I12) -> 0 | J8: 5 | K8: 9 | L8: =SUM(L9:L12) -> 0 | M8: =SUM(M9:M12) -> 0 | N8: =J8+K8+L8+M8 -> 14 | O8: =SUM(O9:O12) -> 2 | P8: =SUM(P9:P12) -> 2 | Q8: =SUM(Q9:Q12) -> 0 | R8: =SUM(R9:R12) -> 0 | S8: =SUM(S9:S12) -> 1 | T8: =SUM(T9:T12) -> 0 | U8: =SUM(U9:U12) -> 0 | V8: =SUM(V9:V12) -> 0 | ... AX8: =SUM(AX9:AX12) -> 0
A9: 1 НАВЧАЛЬНА РОТА | B9: 11 | C9: 17 | D9: 0 | E9: 0 | F9: 6 | G9: 14 | H9: 0 | I9: 0 | J9: 5 | K9: 10 | L9: 0 | M9: 0 | N9: =J9+K9+L9+M9 -> 15 | O9: 2 | P9: 2 | Q9: 0 | R9: 0 | S9: 1 | T9: 0 | U9: 0 | V9: 0 | W9: 0 | X9: 0 | Y9: 0 | Z9: 0 | AA9: 1 | AB9: 2 | AC9: 0 | AD9: 0
B14: Командир 1 навчальної роти
B15: капітан | F15: Дмитро СТЕПАНЮК | H15: 45777

Sheet 9. Перелік індексів посад
A1: 10
G2: Продовження додатка 1
A3: 45777 | B3: 9. Перелік індексів посад
A4: Індекс посади | B4: Назва посади | C4: ШПК | D4: ВОС | E4: Тариф | F4: № штату | G4: Дата введення посади в штат | H4: Дата виведення посади зі штату
A5: =MAX('8. Статистичний облік'!7:7)+1 -> 109 | B5: =A5+1 -> 110 | C5: =B5+1 -> 111 | D5: =C5+1 -> 112 | E5: =D5+1 -> 113 | F5: =E5+1 -> 114 | G5: =F5+1 -> 115 | H5: =G5+1 -> 116
B6: Командир роти - старший викладач | C6: майор | D6: 0212003 | E6: 20
B7: Заступник командира роти з психологічної підтримки персоналу | C7: капітан | D7: 3420003 | E7: 19
B8: Сержант - інструктор | C8: головний сержант | D8: 100657Д | E8: 12
B9: Сержант з матеріального забезпечення | C9: старший сержант | D9: 787089Д | E9: 10
B10: Інструктор із тактичної медицини | C10: сержант | D10: 878127Д | E10: 6/5
B11: 1 навчальний взвод
B12: Командир взводу - викладач | C12: капітан | D12: 0212003 | E12: 13
B13: Інструктор | C13: старший сержант | D13: 100119Д | E13: 11/6
B14: Інструктор | C14: старший сержант | D14: 100119Д | E14: 11/6
B15: 2 навчальний взвод
B16: Командир взводу - викладач | C16: капітан | D16: 0212003 | E16: 13
B17: Інструктор | C17: старший сержант | D17: 100119Д | E17: 11/6
B18: Інструктор | C18: старший сержант | D18: 100119Д | E18: 11/6
B19: 3 навчальний взвод
B20: Командир взводу - викладач | C20: капітан | D20: 0212003 | E20: 13
B21: Головний сержант | C21: старший сержант | D21: 100975Д | E21: 9
B22: 4 навчальний взвод
B23: Командир взводу - викладач | C23: капітан | D23: 0212003 | E23: 13
B24: Головний сержант | C24: старший сержант | D24: 100975Д | E24: 9
B25: 5 навчальний взвод
B26: Командир взводу - викладач | C26: капітан | D26: 0212003 | E26: 13
B27: Головний сержант | C27: старший сержант | D27: 100975Д | E27: 9
B28: 6 навчальний взвод
B29: Командир взводу - викладач | C29: капітан | D29: 0212003 | E29: 13
B30: Головний сержант | C30: старший сержант | D30: 100975Д | E30: 9
B31: 7 навчальний взвод
B32: Командир взводу - викладач | C32: капітан | D32: 0212003 | E32: 13
B33: Інструктор | C33: старший сержант | D33: 101119Д | E33: 11/6
B34: Інструктор | C34: старший сержант | D34: 101119Д | E34: 11/6
B35: 8 навчальний взвод
B36: Командир взводу - викладач | C36: капітан | D36: 0212003 | E36: 13
B37: Інструктор | C37: старший сержант | D37: 102119Д | E37: 11/6
B38: Інструктор | C38: старший сержант | D38: 103119Д | E38: 11/6
B39: 9 навчальний взвод
B40: Командир взводу - викладач | C40: капітан | D40: 0212003 | E40: 13
B41: Інструктор | C41: старший сержант | D41: 100119Д | E41: 11/6
B42: Інструктор | C42: старший сержант | D42: 102119Д | E42: 11/6
B44: Командир1 навчальної роти
B45: капітан | C45: Дмитро СТЕПАНЮК 30.04.2025

Sheet Примітки
A1: 11
A2: Продовження додатка 1
A3: Примітки
A4: 1. Електронний журнал обліку особового складу військової частини/підрозділу (далі - ЕЖООС) ведеться в електронній формі на пристрої, який не має модулю підʼєднання до локальної мережі.
A5: 2. Стовпці і поля, визначені в ЕЖООС, є обов'язковими для ведення обліку. Заборонено видаляти, змінювати нумерацію чи редагувати назви стовпців, визначені в ЕЖООС. При цьому дозволено додавати стовпці з інформацією, яка необхідна для здійснення більш якісного обліку особового складу військовою частиною, органом військового управління чи їхніми підрозділами (такі стовпці можна додавати у будь-якому порядку, але при цьому залишати їх непронумерованими і не друкувати їх під час передання друкованої версії до штабу військової частини чи до Галузевого архіву).
A6: 3. ЕЖООС ведеться протягом 1 календарного місяця. У перший день нового місяця створюється новий файл журналу, в якому ведуться усі зміни за поточний місяць (файл-шаблон зберігається з новою назвою (наприклад, "2024-11 ЕЖООС СР1" для обліку особового складу 1-ої стрілецької роти за листопад 2024 р.). Файл журналу за попередній місяць зберігається на пристрої. 1 січня та 1 червня звітного року титульна сторінка та вкладки ЕЖ роздруковуються (вкладка "6. Табель" роздруковується за кожен з цих 6 місяців, вкладки "8. Статистичний облік", "9. Перелік індексів посад" і "Примітки" не друкується), на роздрукованому примірнику зазначається кількість аркушів. Командир підрозділу підписує роздрукований журнал та передає у службу персоналу.
A7: 4. Вкладка "1. Штатно-посадовий облік" ведеться в усіх структурних підрозділах починаючи з роти. Штаб окремої військової частини присвоює кожній посаді унікальний індекс (у тому числі посадам змінного складу, посадам держслубовців та працівників ЗСУ) і фіксує цей перелік у Вкладці "9. Перелік індексів посад". Рекомендовано на рівні окремої бригади використовувати 6-тизначний індекс, на рівні окремого батальйону - 4-ьохзначний. Також дозволено використовувати літери (наприклад, для позначення посад змінного складу, курсантів, слухачів, державних службовців чи працівників ЗСУ). Важливо! При зміні (заміні) посади їй присвоюється новий унікальний індекс У разі наявності в штаті цивільних посад стовпець 4. "ВОС" має залишитися пустим, а в стовпці 6. "Звання" проставляється відповідно цивільний статус персоналу (наприклад, «працівник ЗСУ», «державний службовець 4 рангу» і т.д.). Порядок записів може змінюватися в залежності від введення або скасування посад. Усі записи (рядки таблиці) розташовуються за підпорядкованістю у підрозділі. Рекомендовано відділяти структурні підрозділи їхніми назвами, записаними в об'єднаних комірках в стовпцях від 1 до 7, так як це зроблено у даному прикладі (це необхідно для автоматичного виведення підрозділів до вкладки "8. Статистичний облік").
A8: 5. Вкладка "2. Облік особового складу" ведеться на весь підпорядкований особовий склад. Записи ведуться у порядку зарахування військовослужбовців до списків, потім за званнями. У разі наявності в штаті цивільних посад в колонці 8. "Звання" проставляється відповідно цивільний статус персоналу (наприклад, «працівник ЗСУ», «державний службовець 4 рангу» і т.д.). Стовпець 10 "Індекс посади / Індекси посад, які обіймав(ла)" та 11 "Дати призначення на посади" ведуться за такими правилами: - індекс і дата призначення на поточну посаду записується зверху звичайним шрифтом; - індекси і дати попередніх посад записуються у стовпець (Alt+Enter), курсивом, у зворотному порядку до призначень (актуальна посада буде першою у стовпці, найперша посада буде останньою). - у разі, якщо військовослужбовець перебуває у списках військової частини, але не займає штатну посаду у Стовпці 10 ставиться відповідний статус (н/д "у розпорядженні"), а у Стовпці 11 дата встановлення цього статусу (наприклад, зарахування в розпорядження). У Стовпці 17, окрім контрактної чи служби по мобілізації, може також зазначатись і вид державної служби. У Стовпці 20 іноземцям прописується його громадянство (наприклад, "США", "Італійська Республіка", "Республіка Колумбія" і т.д).
A9: 6. Вкладка "3. Виключені" має такий же набір стовпців як і Вкладка "2. Облік особового складу", але до неї додано ще стовпці, які ведуть тільки у електронному журналі обліку особового складу окремої військової частини: 51. Дата виключення зі списків - фактична дата виключення зі списків; 52. Дата і номер наказу по стройовій частині про виключення із списків 53. Куди вибув / Куди направлені документи - у випадку загибелі/смерті вказується ТЦК та СП, до якого були направлені документи; 54. Підстава виключення зі списків - пишеться інформація, яка необхідна для ідентифікації події (наприклад: у разі загибелі/смерті може писатися дата і вид події, у випадку звільнення - причина звільнення і наказ по особовому складу, у разі перемішення до інщої в/ч - наказ по особовому складу, у випадку призупинення служби - № і дата витягу з ЄРДР). Рекомендовано при виключенні військовослужбовця зі списків переміщувати інформацію з Вкладки 2 до Вкладки 3, використовувати функції "Вирізати" і "Додати скопійовані клітинки", додавши і заповнивши при цьому стовпці 51, 52, 53, 54. Вкладка ведеться в алфавітному порядку. Роздрукований і підписаний варіант Вкладки "3. Виключені" підлягає передачі в Державний галузевий архів МОУ.
A10: 7. Вкладка "4. Тимчасово прибулий особовий склад" ведеться на рівні батальйону та на рівні окремої військової частини. Записи робляться у порядку прибуття військовослужбовців до військової частини, потім за званнями.
A11: 8. Вкладка "5. Тимчасово відсутній особовий склад" ведеться в усіх структурних підрозділах починаючи з роти. Записи робляться у порядку вибуття військовослужбовців з військової частини, потім за званнями. У Стовпці 76 можна уточнюється підстави вибуття або іншу необхідну інформацію.
A12: 9. Вкладка "6. Табель" ведеться в усіх структурних підрозділах починаючи з роти на кожен місяць. Рекомендовано вживати такі позначки: + - присутній/ня; вдр - відрядження; від - відпустка щорічна, за сімейними обставинами, для лікування у зв’язку з хворобою; ВП - відпустка для лікування після поранення (контузії, травми або каліцтва); лік - лікування у звʼязку з хворобою; ЛП - лікування після поранення (контузії, травми або каліцтва); СЗЧ - самовільне залишення частини; ЗБ - зниклий безвісти; пол - в полоні; заг - загибель (проставляється тільки в дату події); пом - помер (проставляється тільки в дату події). Ведення вкладки "6. Табель" на управління (командування) військової частини (органу військового управління чи їм рівні) покладається на відділення персоналу штабу або відповідний орган (посадову особу), на який покладені функції ведення обліку особового складу. На рівні окремої військової частини Вкладка "6. Табель особового сакладу" ведеться по підрозділам, які безпосередньо підпорядковуються командиру військової частини із зазначенням кількость осіб, які перебувають на продовольчому забезпеченні кожного підрозділу, станом на кожен день місяця.
A13: 10. Вкладка "7. Безповоротні втрати" ведеться на рівні окремої військової частини. Записи робляться у порядку дат подій, які призвели до безповротніх втрат військовослужбовців. Рекомендовано Стовпці 77-86 заповнювати методом копіювання інформації зі Стовпців, відповідно, 8-10, 17, 20-23, 25 та 27 (зверніть увагу, що в Стовпці 79, на відміну, від Стовпця 10, зазначається тільки індекс останньої зайнманої посади).
... A17: 14. Важливо! Всі приклади записів зроблені станом на 12 листопада 2024 року і являються вигаданими. Будь яке співпадіння з реально існуючими людьми - випадковість.

Sheet Звання
A1: Генерал | C1: Генерал | D1: Головний майстер-сержант | E1: Старший солдат | F1: Генерал | G1: Головний майстер-сержант | H1: Старший солдат | I1: Генерал | J1: Головний майстер-сержант | K1: Старший солдат
A2: Генерал-лейтенант | C2: Генерал-майор | D2: Майстер-сержант | E2: Старший матрос | F2: Генерал-майор | G2: Майстер-сержант | H2: Старший матрос | I2: Генерал-майор | J2: Майстер-сержант | K2: Старший матрос
A3: Генерал-лейтенант медичної служби | C3: Бригадний генерал | D3: Штаб-сержант | E3: Матрос | F3: Бригадний генерал | G3: Штаб-сержант | H3: Матрос | I3: Бригадний генерал | J3: Штаб-сержант | K3: Матрос
A4: Генерал-майор | C4: Полковник | D4: Головний сержант | E4: Рекрут | F4: Полковник | G4: Головний сержант | H4: Рекрут | I4: Полковник | J4: Головний сержант | K4: Рекрут
A5: Генерал-майор медичної служби | C5: Полковник медичної служби | D5: Старший сержант | E5: --- | F5: Полковник медичної служби | G5: Старший сержант | H5: --- | I5: Полковник медичної служби | J5: Старший сержант | K5: ---
A6: Бригадний генерал | C6: Полковник юстиції | D6: Сержант | E6: --- | F6: Полковник юстиції | G6: Сержант | H6: --- | I6: Полковник юстиції | J6: Сержант | K6: ---
A7: Бригадний генерал медичної служби | C7: Полковник капеланської служби | D7: Молодший сержант | E7: --- | F7: Полковник капеланської служби | G7: Молодший сержант | H7: --- | I7: Полковник капеланської служби | J7: Молодший сержант | K7: ---
A8: Полковник | C8: Підполковник | D8: Головний майстер-старшина | E8: --- | F8: Підполковник | G8: Головний майстер-старшина | H8: --- | I8: Підполковник | J8: Головний майстер-старшина | K8: ---
A9: Полковник медичної служби | C9: Підполковник медичної служби | D9: Старший майстер-старшина | E9: --- | F9: Підполковник медичної служби | G9: Старший майстер-старшина | H9: --- | I9: Підполковник медичної служби | J9: Старший майстер-старшина | K9: ---
A10: Полковник юстиції | C10: Підполковник юстиції | D10: Майстер-старшина | E10: --- | F10: Підполковник юстиції | G10: Майстер-старшина | H10: --- | I10: Підполковник юстиції | J10: Майстер-старшина | K10: ---
A11: Полковник капеланської служби | C11: Підполковник капеланської служби | D11: Штаб-старшина | E11: --- | F11: Підполковник капеланської служби | G11: Штаб-старшина | H11: --- | I11: Підполковник капеланської служби | J11: Штаб-старшина | K11: ---
A12: Підполковник | C12: Майор | D12: Головний корабельний старшина | E12: --- | F12: Майор | G12: Головний корабельний старшина | H12: --- | I12: Майор | J12: Головний корабельний старшина | K12: ---
... A42: Сержант | C42: Молодший лейтенант | D42: --- | E42: --- | F42: Молодший лейтенант | G42: --- | H42: --- | I42: Молодший лейтенант | J42: --- | K42: ---
A43: Молодший сержант
A44: Старший солдат
A45: Солдат
A46: Адмірал
A47: Віце-адмірал
A48: Контр-адмірал
A49: Коммодор
A50: Капітан 1 рангу
A51: Капітан 2 рангу
A52: Капітан 3 рангу
A53: Капітан-лейтенант
A54: Старший-лейтенант
... A67: Рекрут
