Workbook

Sheet Титульна сторінка
J1: Додаток 1 до Інструкції з організації обліку особового складу в системі Міністерства оборони України (пункт 3 розділ II)
K3: Гриф обмеження доступу
C7: МІНІСТЕРСТВО ОБОРОНИ УКРАЇНИ
C11: ЕЛЕКТРОННИЙ ЖУРНАЛ обліку особового складу
C14: 1 навчальної роти 1навчального батальйону | F14: в/ч А2900 | K14: 45901

Sheet 1. ШПО
A1: 2
G2: Продовження додатка 1
A3: 45879 | B3: № штату ###### | C3: 1. Штатно-посадовий облік
A4: Індекс посади | B4: Посада | C4: ШПК | D4: ВОС | E4: Тариф | F4: Звання | G4: ПРІЗВИЩЕ (за наявності) Ім'я По батькові (за наявності)
A5: 1 | B5: 2 | C5: 3 | D5: 4 | E5: 5 | F5: 6 | G5: 7
A6: 1 НАВЧАЛЬНА РОТА
B7: Командир роти - старший викладач | C7: майор | D7: 0212003 | E7: 20 | F7: майор | G7: СТЕПАНЮК Дмитро Миколайович
B8: Заступник командира роти з психологічної підтримки персоналу | C8: капітан | D8: 3420003 | E8: 19 | F8: старший лейтенант | G8: ДЕМЯНЧУК Наталія Василівна
B9: Сержант - інструктор | C9: головний сержант | D9: 100657Д | E9: 12 | F9: сержант | G9: ПОТАПОВ Олександр Євгенович
B10: Сержант з матеріального забезпечення | C10: старший сержант | D10: 787089Д | E10: 10 | F10: старший сержант | G10: КАРПУК Богдан Михайлович
B11: Інструктор із тактичної медицини | C11: сержант | D11: 878127Д | E11: 6/5 | F11: солдат | G11: СІРЕНКО Максим Ігорович
B12: Інструктор | C12: Старший сержант | D12: 100119Д | E12: 11/6 | F12: молодший сержант | G12: МИНАЙЛЮК Ігор Миколайович
B13: Інструктор | C13: Старший сержант | D13: 100119Д | E13: 11/6 | F13: сержант | G13: ВАСИЛЮК Андрій Васильович
B14: Інструктор | C14: Старший сержант | D14: 100119Д | E14: 11/6 | F14: сержант | G14: ПРОСТАПЧУК Валентин Іванович
B15: Інструктор | C15: Старший сержант | D15: 100119Д | E15: 11/6 | F15: сержант | G15: КАЗАКОВ Євген Іванович
B16: Інструктор | C16: Старший сержант | D16: 100119Д | E16: 11/6 | F16: старший сержант | G16: ШИМАНСЬКИЙ Георгій Георгійович
B17: Інструктор | C17: Старший сержант | D17: 100119Д | E17: 11/6 | F17: старший сержант | G17: ДІДОВЕЦЬ Дмитро Юрійович
B18: Інструктор | C18: Старший сержант | D18: 100119Д | E18: 11/6 | F18: сержант | G18: ВОЛЧКОВ Віктор Вікторович
... B22: Командир взводу-викладач | C22: Капітан | D22: 0212003 | E22: 13 | F22: молодший лейтенант | G22: БОРОДАВКІН Микола Михайлович
B23: Головний сержант | C23: Старший сержант | D23: 100975Д | E23: 9 | F23: солдат | G23: САКСОНІК Олександр Петрович
B24: 2 навчальний взвод | C24: п | D24: п | E24: п | F24: п | G24: п
B25: Командир взводу-викладач | C25: Капітан | D25: 0212003 | E25: 13 | F25: капітан | G25: МЕРКУЛОВ Богдан Юрійович
B26: Головний сержант | C26: Старший сержант | D26: 100975Д | E26: 9 | F26: солдат | G26: ЗЕНЧЕНКО Олександр Миколайович
B27: 3 навчальний взвод | C27: п | D27: п | E27: п | F27: п | G27: п
B28: Командир взводу-викладач | C28: Капітан | D28: 0212003 | E28: 13 | F28: лейтенант | G28: БРИГА Олександр Геннадійович
B29: Головний сержант | C29: Старший сержант | D29: 100975Д | E29: 9 | F29: солдат | G29: ПЛЮЩЕНКО Андрій Вікторович
B30: 4 навчальний взвод | C30: п | D30: п | E30: п | F30: п | G30: п
B31: Командир взводу-викладач | C31: Капітан | D31: 0212003 | E31: 13 | F31: лейтенант | G31: КУХАРЕНКО Віталій Володимирович
B32: Головний сержант | C32: Старший сержант | D32: 100975Д | E32: 9 | F32: старший сержант | G32: ВИНОГРОДСЬКИЙ Тарас Миколайович
B33: 5 навчальний взвод | C33: п | D33: п | E33: п | F33: п | G33: п
B34: Командир взводу-викладач | C34: Капітан | D34: 0212003 | E34: 13 | F34: молодший сержант | G34: ЧЕРНЕНКО Андрій Юрійович
B35: Головний сержант | C35: Старший сержант | D35: 100975Д | E35: 9 | F35: головний сержант | G35: РАЖИК Денис Петрович
B36: 6 навчальний взвод | C36: п | D36: п | E36: п | F36: п | G36: п
B37: Командир взводу-викладач | C37: Капітан | D37: 0212003 | E37: 13 | F37: молодший лейтенант | G37: Корсун Євгеній Іванович
B38: Головний сержант | C38: Старший сержант | D38: 100975Д | E38: 9 | F38: майстер-сержант | G38: ЮЩИШИН Ігор Дмитрович
B39: 7 навчальний взвод | C39: п | D39: п | E39: п | F39: п | G39: п
B40: Командир взводу-викладач | C40: Капітан | D40: 0212003 | E40: 13 | F40: молодший лейтенант | G40: ГЕНЗЕЛЬ Богдан Васильович
B41: Головний сержант | C41: Старший сержант | D41: 100975Д | E41: 9
A45: Командир 1 навчальної роти | C45: Дмитро СТЕПАНЮК | F45: 45962
A46: майор

Sheet 2. ООС
A1: 3
Z2: Продовження додатка 1
A3: 45910 | B3: 2. Облік особового складу
A4: Звання | B4: ПРІЗВИЩЕ (за наявності) Ім'я По батькові (за наявності) | C4: Індекс посади / Індексм посад, які обіймав(ла) | D4: Дати прийняття посади / посад | E4: Звідки прибув | F4: Дата зарахування до списків частини | G4: Наказ про зарахування до списків (дата і номер) | I4: Наказ, на призначення на посаду (дата, чий і номер) | K4: Наказ, на присвоєння останнього звання (дата, чий і номер) | M4: Вид служби | N4: Дата укладання контракту | O4: Дата закінчення контракту / Період призову (для базової військової служби) | P4: РНОКПП (за наявності) | Q4: Серія (за наявності) і номер документа, що посвідчує особу та назва документа | S4: Дата народження | T4: Місце народження | U4: Стать | V4: Ким і коли призваний (прийнятий) на військову службу | X4: Освіта | Y4: Дані про родичів | Z4: Додаткова інформація
A5: =MAX('[1]1. ШПО'!5:5)+1 -> #REF! | B5: =A5+1 -> #REF! | C5: =B5+1 -> #REF! | D5: =C5+1 -> #REF! | E5: =D5+1 -> #REF! | F5: =E5+1 -> #REF! | G5: =F5+1 -> #REF! | I5: =G5+1 -> #REF! | K5: =I5+1 -> #REF! | M5: =K5+1 -> #REF! | N5: =M5+1 -> #REF! | O5: =N5+1 -> #REF! | P5: =O5+1 -> #REF! | Q5: =P5+1 -> #REF! | S5: =Q5+1 -> #REF! | T5: =S5+1 -> #REF! | U5: =T5+1 -> #REF! | V5: =U5+1 -> #REF! | X5: =V5+1 -> #REF! | Y5: =X5+1 -> #REF! | Z5: =Y5+1 -> #REF!
A6: Майор | B6: СТЕПАНЮК Дмитро Миколайович | C6: 0212003 | D6: 10.07.2023 №169 | E6: В/Ч А4350 | F6: 44910 | G6: 44910 | H6: №316 | I6: 45117 | J6: №169 | K6: 45552 | L6: №296 | M6: мобілізація | N6: _ | O6: _ | Q6: УК № 283288 | R6: посвідчення офіцера | S6: 31295 | T6: Вінецька обл. С.Свитинці | U6: Ч | V6: Погребищенським РТЦК та СП | W6: 44734 | X6: Вища КНТУ | Y6: Мати - Степанюк Галина Єфремівна, Вінницька обл. с.Свитинці, вул. Ковалівна 4 | Z6: н 380977401325
A7: Старший лейтенант | B7: ДЕМЯНЧУК Наталія Василівна | C7: 3420003 | D7: 14.11.2024 №370 | E7: Чуднівський РТЦК та СП | F7: 42536 | G7: 42536 | I7: 45610 | J7: №370 | K7: 45529 | L7: №265 | M7: Контракт | N7: 45163 | O7: 46990 | P7: 3191813887 | Q7: УК № 334128 | R7: посвідчення офіцера | S7: 31919 | T7: Житомирська обл. м. Чуднів | U7: Ж | V7: Чуднівський РТЦК та СП | X7: Вища , ЖПУ | Y7: Мати - Кротюк Світлана Василівна , Житомирська обл. , Житомирський рн. , с. Бабушки , вул.Центральна 41 | Z7: н 380977427783
A8: сержант | B8: ПОТАПОВ Олександр Євгенович | C8: 100657Д | D8: 45645 | E8: В/Ч 2582 | F8: 44665 | G8: 45030 | H8: №99 | I8: 45645 | K8: 45652 | L8: №286 | M8: контракт | N8: 45044 | P8: 3725107391 | Q8: АВ 536435 | R8: військовий квиток | S8: 12.27.2001 | T8: м.Приморськ Запоріжської обл | U8: Ч | V8: Приморським РТЦК та СП | W8: 44393 | X8: Середня технічна | Y8: дружина Потапова Ганна Юрієвна М.Житомир вул.старий бульвар 6 кв26 | Z8: _
A9: старший сержант | B9: КАРПУК Богдан Михайлович | C9: 787089Д | E9: А7021 | K9: 37379 | L9: №103 | M9: мобілізація | N9: _ | O9: _ | P9: 3000119857 | Q9: МО493792 | R9: військовий квиток | S9: 30002 | T9: Житомирська обл. , с. Серби | U9: Ч | V9: Ємельчинським РТЦК та СП | W9: 44623 | X9: Середня спеціальна , Машинобудівний технікум | Y9: Дружина - Карпук Ольга Володимирівна , м. Житомир , вул. Бориса Тена 99 , 380987987251 | Z9: н 380508344001
A10: сержант | B10: ВАСИЛЮК Андрій Васильович | C10: 878127Д | D10: 27.08.2024 №246 | E10: 1 відділ Вараського РТЦК та СП | F10: 45531 | G10: 27.08.2024 | I10: 45531 | J10: №246 | K10: 45652 | L10: №286РС | M10: мобілізація | N10: _ | O10: _ | P10: 3725506292 | Q10: АВ624948 | R10: військовий квиток | S10: 37256 | T10: Рівненська обл., с. Володимирець | U10: Ч | V10: 1 відділ Вараського РТЦК та СП | W10: 45531 | X10: Середня-спеціальна | Y10: _ | Z10: Н 380509924716
A11: Молодший лейтенант | B11: БОРОДАВКІН Микола Михайлович | C11: 0212003 | D11: 45371 | E11: Деснянський РТЦК та СП м.Києва | F11: 45007 | G11: 45007 | H11: №82 | I11: 45371 | J11: №80 | K11: 45652 | L11: 286 | M11: контракт | N11: 43913 | O11: 45008 | P11: 3340416053 | Q11: СО №514802 | R11: військовий квиток | S11: 33405 | T11: Казахстанська СРСР, Тургайська обл., Аркаликський р-н, с.Сариузен | U11: Ч | V11: Деснянським РВК м.Києва | W11: 43913 | X11: Середня спеціальна, ПТУ№5 м.Біла Церква | Y11: Дружина_ СЕМЕНОВА Євгенія Олександрівна, м. Київ, вул. Путивльська 42, кв.47, тел-0936634823 | Z11: н 380939143706
A12: Молодший сержант | B12: ЧЕРНЕНКО Андрій Юрійович | C12: 100119Д | D12: 26.02.2025 №58 | E12: Житомирський ОМТЦК та СП | F12: 45714 | G12: 45714 | I12: 45714 | J12: №58 | K12: 40505 | L12: №93 | M12: мобілізація | N12: _ | O12: _ | P12: 3139101050 | Q12: АГ078097 | R12: військовий квиток | S12: 31392 | T12: Одеська обл., Білгород-Дністровський р-н, с. Шабо | U12: Ч | V12: Житомирський ОМТЦК та СП | W12: 45714 | X12: Середня технічна | Y12: Дружина - Черненко Ліля Сергійовна, м. Житомир, вул. Лесі Українки, буд. 63, кв. 47, 0964335049 | Z12: Н 380961426877
A13: капітан | B13: МЕРКУЛОВ Богдан Юрійович | C13: 0212003 | D13: 26.03.2024 , №73 | E13: А2582 | F13: 45377 | G13: 45377 | H13: №73 | I13: 45377 | J13: №73 | K13: 44761 | L13: №130 | M13: Контракт | N13: 43253 | O13: 45079 | P13: 3545608416 | Q13: УК №1044797 | R13: посвідчення офіцера | S13: 35457 | T13: Житомирська обл. , м. Житомир | U13: Ч | V13: Житомирський ОМВК та СП | W13: 41835 | X13: Виша , НАСВ | Y13: Мати - Меркулова Жанна Олександрівна , м. Житомир , вул. Саєнка 128 буд.3, 380972514981 | Z13: н 380994161700
A14: сержант | B14: ПРОСТАПЧУК Валентин Іванович | C14: 100119Д | D14: 21.06.2024 №150 | E14: В/ч А2120 | F14: 45072 | G14: 45072 | H14: №150 | I14: 45464 | J14: №177 | K14: 45652 | L14: №286 | M14: мобілізація | N14: _ | O14: _ | P14: 3625111574 | Q14: АВ378396 | R14: військовий квиток | S14: 36252 | T14: Хмельницька область село Марачівка | U14: Ч | V14: Шепетівським РТЦК та СП | W14: 44760 | X14: середня спеціальна , Острозьке ВПУ | Y14: Простапчук Наталя Володимирівна Хмельницька область місто Славута вулиця Сокола 1А/43 | Z14: н 380983781045
A15: Сержант | B15: КАЗАКОВ Євген Іванович | C15: 100119Д | D15: 44776 | E15: А2120 | F15: 44776 | G15: 44776 | H15: №205 | K15: 45308 | L15: №101 | M15: мобілізація | N15: _ | O15: _ | P15: 3238115012 | Q15: АВ076567 | R15: військовий квиток | S15: 32382 | T15: М. Вінниця | U15: Ч | V15: Вінницьким ОМ ТЦК та СП | W15: 44620 | X15: Вища, Вінницький Державний Педагогічний Університет | Y15: Батько - Казаков Іван Миколайович, м. Вінниця, вул. Ширшова, буд. 16, кв. 79 | Z15: н 38097521 98 84
A16: молодший лейтенант | B16: ГЕНЗЕЛЬ Богдан Васильович | C16: 0212003 | E16: А0310 | F16: 45224 | G16: 45224 | H16: №306 | K16: 45730 | L16: №245 | M16: мобілізація | N16: _ | O16: _ | P16: 3324413571 | Q16: ВН387570 | R16: Паспорт | S16: 33245 | T16: Хжитомирська обл. с.Йосипівка | U16: Ч | V16: Чуднівсько-Любарським РТЦК та СП | W16: 44636 | X16: Вища , ПУЕТ | Y16: Дружина - Гензель Тетяна Василівна , Житомирська обл. смт.Новогуйвінське, вул. Центральна 1а, 38068052575 | Z16: н 380960576993
A17: старший сержант | B17: ШИМАНСЬКИЙ Георгій Георгійович | C17: 101119Д | D17: 21.08.2024 №240 | E17: А0310 | F17: 45525 | G17: 45525 | H17: №240 | I17: 45525 | J17: №240 | K17: 45563 | L17: №190 | M17: мобілізація | N17: _ | O17: _ | P17: 2906511931 | Q17: МО121658 | R17: військовий квиток | S17: 29066 | T17: Житомирська обл. м.Житомир | U17: Ч | V17: Житомирським РТЦК та СП | W17: 44617 | X17: Середня , СПТУ №6 | Y17: Дружина - ШИМАНСЬКА Ольга лЕонідівна , м. Житомир , вул.Чуднівська 102 к.31 , 380634631304 | Z17: н 380931620845
A18: Сержант | B18: ВОЛЧКОВ Віктор Вікторович | C18: 102119Д | D18: 26.11.2024 №337 | E18: А0641 | F18: 45622 | G18: 45622 | H18: №337 | I18: 45622 | J18: №337 | K18: 42332 | L18: №370 | M18: контракт | N18: 44209 | O18: 44939 | P18: 3263802633 | Q18: СО247146 | R18: військовий квиток | S18: 32639 | T18: Донецька обл., м. Селидове | U18: Ч | V18: Красноармійсько-селідовським РВК | W18: 39554 | X18: Середня | Y18: _ | Z18: н 380663010203
A19: Молодший сержант | B19: ІВАНЧІКОВ Андрій Андрійович | C19: 103119Д | D19: 17.03.2025 №77 | E19: А4674 | F19: 45733 | I19: 45733 | J19: №77 | K19: 45045 | L19: №16РС | M19: контракт | N19: 43979 | O19: 45074 | P19: 3705909736 | Q19: АВ513458 | R19: військовий квиток | S19: 37060 | T19: Луганська обл., с. Вільхове | U19: Ч | V19: Біловодський РВК | W19: 43976 | X19: Середня, вища незакінчена | Y19: Мати - Іванчікова Тетяна Олексіївна, м. Харків, пров. Шевченківський, буд. 40, кв. 132, 0955393946 | Z19: н 380506156554
A20: Сержант | B20: КОВАЛЬЧУК Андрій Леонідович | C20: 100119Д | D20: 05.03.2025 №65 | E20: А7306 | F20: 45721 | G20: 45721 | H20: №65 | I20: 45721 | J20: №65 | K20: 45323 | L20: №31-рс | M20: мобілізація | N20: _ | O20: _ | P20: 3406308178 | Q20: АВ725243 | R20: військовий квиток | S20: 34064 | T20: Житомирська обл., смт. Першотравенськ | U20: Ч | V20: Новоград-Волинським РТЦК та СП | W20: 44616 | X20: середня спеціальна ,Житомирський ВПУ | Y20: Сестра - Калюжникова Аліна Вікторівна , Житомирська м. Баранівка, вул Соборна 47 кв1 380968906895 | Z20: н 380951809466
A21: старший сержант | B21: АВГУСТОВИЧ Олександр Олександрович | C21: 102119Д | D21: 07.03.2022 №52 | E21: Житомирським ОМТЦК та СП | F21: 44627 | G21: 44627 | H21: №52 | I21: 44627 | J21: №52 | K21: 45563 | L21: №190РС | M21: Мобілізація | N21: _ | O21: _ | P21: 3340117097 | Q21: АВ179358 | R21: військовий квиток | S21: 33402 | T21: Житомирська обл. , с.Тетерівка | U21: Ч | V21: Житомирським ОМТЦК та СП | W21: 44627 | X21: середня | Y21: Батько - Августович Олександр Миколайович , Житомирська обл. , с. Тетерівка , пр. Третій Поліський 2 , 380979234804 | Z21: н 380635489403
A22: старший сержант | B22: ДІДОВЕЦЬ Дмитро Юрійович | C22: 102119Д | D22: 24.03.2025 №84 | E22: А1414 | F22: 45740 | G22: 45740 | H22: №84 | I22: 45740 | J22: №84 | K22: 45632 | L22: №145-ЗС | M22: Мобілізація | N22: _ | O22: _ | P22: 3534110451 | Q22: АВ184396 | R22: військовий квиток | S22: 35342 | T22: Житомирська обл. ,с.Жадьки | U22: Ч | V22: Житомирський РТЦК та СП | W22: 45275 | X22: середня спеціальна , ВВПУ НТ | Y22: Дружина - Сафонова Надія Олексіївна , Житомирська обл. , с. Жадьки , вул.Шевченка 56 , 380664044837 | Z22: н 380983970149
A23: солдат | B23: ЗЕНЧЕНКО Олександр Миколайович | C23: 100975Д | E23: Полтавський РТЦК та СП в Полтавській обл. | F23: 45717 | G23: 45717 | H23: №61 | K23: 39457 | L23: №5 | M23: мобілізація | N23: - | O23: - | P23: 3229420494 | Q23: АВ 963126 | R23: військовий квиток | S23: 32295 | T23: Сумська обл., м. Шостка | U23: Ч | V23: Полтавський РТЦК та СП в Полтавській обл. | W23: 45716 | X23: середня спеціальна, Шостинське ВПУ и№19, 2007 | Y23: мати- Кравченко Тетяна Анатоліївна, 04.06.1963, Сумська обл., м. Шостка , вул. Миру буд.10а к.39, 380952448136 | Z23: н 380990566122
A24: солдат | B24: ПОДОПРИГОРА Олександр Васильович | C24: 100975Д | E24: Дарницький РТЦК та СП м. Київ | F24: 45370 | G24: 45370 | H24: №79 | K24: 45352 | L24: №22 | M24: мобілізація | N24: - | O24: - | P24: 3226815576 | Q24: 7668077 | R24: паспорт | S24: 32269 | T24: Сумська обл., м. Ромни | U24: Ч | V24: Дарницький РТЦК та СП м. Київ | W24: 45369 | X24: вища, Сумський НАУ | Y24: мама- Подопригора Лідія Дмитрівна, 08.02.1954,Сумська обл. Роминський р-н., с. Перекопівка , вул. Космонавтів буд.70., 0632410419 | Z24: н 380932614622
A25: лейтенант | B25: БРИГА Олександр Генадійович | C25: 212003 | D25: 45723 | E25: Вінницький РТЦК та СП м. Вінниця | F25: 45782 | G25: 45782 | I25: 45782 | K25: 45723 | M25: мобілізація | N25: - | O25: - | P25: 2933407416 | Q25: УК334311 | R25: військовий квиток | S25: 29335 | T25: Вінницька обл. м. Вінниця | U25: Ч | V25: Вінницький РТЦК та СП м. Вінниця | W25: 45008 | X25: вища Вінницький державний технічний університет | Y25: Сестра: Бригова Ольга Генадіївна. Вінницька обл., м. Вінниця, другий провулок Топольського, буд. 1Б. Тел: 0673668653 | Z25: н 0980553675
A26: молодший сержант | B26: МИНАЙЛЮК Ігор Миколайович | C26: 100975Д | D26: 45824 | E26: А4355 | F26: 45824 | G26: 45824 | I26: 45824 | J26: №172 | K26: 45682 | L26: №32-РС | M26: мобілізація | N26: - | O26: - | P26: 3489301438 | Q26: АВ 640095 | R26: військовий квиток | S26: 34894 | T26: Івано-Франківська обл., Верховинський р-н., с. Кривопілля | U26: Ч | V26: Верховинський РТЦК та СП Івано-Франквської обл. | W26: 44805 | X26: середня спеціальна, Івано-Франківський професійний будівельний ліцей | Y26: мати: Минайлюк НаталяВасилівна, Івано-Франківська обл., Верховинський р-н., с. Кривопілля 0971731452 | Z26: н 0963327474
A27: лейтенант | B27: КУХАРЕНКО Віталій Володимирович | C27: 0212003 | D27: 45873 | E27: А4926 | F27: 45802 | I27: 45865 | J27: №287 | K27: 45724 | L27: №84 | M27: мобілізація | N27: - | O27: - | P27: 2767000515 | Q27: УК 358794 | R27: посвідчення офіцера | S27: 27671 | T27: смт. Великий Бурлук, Харківська обл. | U27: Ч | V27: Шевченківський РТЦК та СП м. КиЇв | W27: 44616 | X27: Вища | Y27: Син - КУХАРЕНКО Олександр Віталійович, 29.07.1993, смт Доброслав, Одеський р-н, вул. Молодіжна 17, 0638140686. Син - КУХАРЕНКО Сергій Віталійович, 21.06.2002, м. Харків, 0981237127 | Z27: н380950551742
A28: молодший сержант | B28: ШЕВЧЕНКО Володимир Сергійович | C28: 100975Д | D28: 45854 | E28: А5039 | F28: 45709 | G28: 45709 | H28: №53 | K28: 45511 | L28: №220-РС | M28: мобілізація | P28: 3313010751 | Q28: АВ 703834 | R28: військовий квиток | S28: 33131 | T28: Білогородська обл, с. Грайворон | U28: Ч | V28: Сумський МТЦК та СП | W28: 44698 | X28: середня-технічна СТХП - НУХТ, 2009 | Y28: мати - Шевченко Марина Олегівна - 15.10.1963 - 0957321367 - м. Суми, вул. М. - Вовчка, буд. 15, кв. 27 | Z28: 634600518
A29: солдат | B29: СІРЕНКО Максим Ігорович | C29: 878127Д | F29: 45792 | G29: 15.05.2025 № 138 | H29: № 138 | M29: мобілізація | N29: - | O29: - | P29: 3398501591 | Q29: паспорт | R29: АВ 877598 Хмільницьким МВ УМВС УКР в Вінницькій обл 08.12.2009 | S29: 33986 | T29: м.Хмільник (Віницька обл.) | U29: Ч | V29: першого відділу Хмільницького районного | W29: 45792 | X29: професійно- технічна | Y29: мати: Вахівська Алла Михайлівна (Німечина.Кельн) - 0972382292 | Z29: 631531696
A30: головний сержант | B30: РАЖИК Денис Петрович | C30: 100975Д | D30: 46000 | E30: А2900 | F30: 45142 | G30: №223 | K30: 45721 | L30: №72-РС | M30: контракт | N30: 45794 | O30: 46890 | P30: 3432209754 | Q30: Військовий квиток | R30: АГ351239 | S30: 34323 | T30: с. Остки, Ракітнівський р-н, Рівненська обл. | U30: Ч | V30: Рокитнівським РВК та СП | W30: 45791 | X30: середня спеціальна Березнівський лісовий коледж | Y30: дружина: Ражик Катерина Валентинівна, 0966721198 м. Житомир | Z30: н0954452571
A31: майстер сержант | B31: ЮЩИШИН Ігор Дмитрович | C31: 100975Д | D31: 45664 | E31: Дарницький ТЦК СП м .Київ | F31: 45482
A32: старший сержант | B32: Виногродський Тарас Миколайович | C32: 100975Д | D32: 46003 | E32: Житомирським ОМТЦК та СП | F32: 45716 | G32: 45716 | H32: №60 | I32: 45999 | J32: №315-РС | K32: №819-с | L32: 43080 | M32: мобілізація | P32: 3413112210 | Q32: паспорт | R32: СТ141051 Баранівським РУМВС у Житомирсьеій обл. 18.09.2009 | S32: 34132 | T32: м. Житомир | U32: Ч | V32: Житомирським ОМТЦК та СП | W32: 45716 | X32: середня спеціальна , Рогачів-Волинська філія новочорторейського державного аграрного технікума | Y32: мати: Виногродска Тамара Володимирівна, 30.05.1964, Житомирська обл. Баранівський район, с. Камʼяний Брід, вул. Доабиська, буд. 6, 0662162982 | Z32: н0501637558
A33: Молодший лейтенант | B33: Корсун Євгеній Іванович | C33: 0212003 | E33: А0284 | G33: 45950 | H33: №378 | K33: №245 | L33: 45730 | M33: мобілізація | P33: 3447002375 | Q33: посвідчення офіцера | R33: 436624 | S33: 34471 | T33: смт. Чорнухи Полтавської обл. | U33: Ч | V33: 3 відділ Лубенського РТЦК та СП | W33: 45576 | X33: вища, національний юридичний університет ім. Я. Мудрого, Харків | Y33: дружина: Корсун Вікторія Віталіївна, 19.10.94, Київська обл. Бучанський р-н., с. Софіївська Борщагівка, вул. Яблунева, 9Г, кв. 276, 0951657408 | Z33: н0951990187
A34: майстер-сержант | B34: ІВАНОВ Олександр Олександрович | C34: 0212003 | D34: 27.11.2025 року | E34: в/ч А4909 | F34: 45988 | I34: 24.11.2025 року | J34: №306 РС | K34: 45771 | L34: №126-РС | M34: контракт | N34: 19.06.2024 року | O34: 19.06.2026 року | P34: 3380501332 | Q34: СО869145 | R34: військовий квиток | S34: 33806 | T34: Чернігівська обл., смт. Варва | U34: Ч | V34: Прилуцько-Варвинським ОМВК | W34: 42963 | X34: неповна вища Камʼянець-Подільський аграркий університет | Y34: батько: Іванов Олександр Олександрович, Чернігівська обл., смт. Варва, 0665273813 | Z34: 957496643
B35: Командир 1 навчальної роти
B36: капітан | D36: Дмитро СТЕПАНЮК | F36: 45910

Sheet 3. Виключені
A1: 4
AD2: Продовження додатка 1
A3: 45910 | B3: 3. Виключений особовий склад
A4: Звання | B4: ПРІЗВИЩЕ (за наявності) Ім'я По батькові (за наявності) | C4: Індекс посади / Індексм посад, які обіймав(ла) | D4: Дати прийняття посади / посад | E4: Звідки прибув | F4: Дата зарахування до списків частини | G4: Наказ про зарахування до списків (дата і номер) | I4: Наказ, на призначення на посаду (дата, чий і номе) | K4: Наказ, на присвоєння останнього звання (дата, чий і номер) | M4: Вид служби | N4: Дата укладання контракту | O4: Дата закінчення контракту / Період призову (для базової військової служби) | P4: РНОКПП (за наявності) | Q4: Серія (за наявності) і номер документа, що посвідчує особу та назва документа | S4: Дата народження | T4: Місце народження | U4: Стать | V4: Ким і коли призваний (прийнятий) на військову службу | X4: Освіта | Y4: Дані про родичів | Z4: Додаткова інформація | AA4: Дата виключення із списків та номер наказу | AB4: Наказ про виключення із списків (дата і номер) | AD4: Куди вибув / Куди направлені документи | AE4: Підстава виключення зі списків
A5: =MAX('2. ООС'!5:5)+1 -> #REF! | B5: =A5+1 -> #REF! | C5: =B5+1 -> #REF! | D5: =C5+1 -> #REF! | E5: =D5+1 -> #REF! | F5: =E5+1 -> #REF! | G5: =F5+1 -> #REF! | I5: =G5+1 -> #REF! | K5: =I5+1 -> #REF! | M5: =K5+1 -> #REF! | N5: =M5+1 -> #REF! | O5: =N5+1 -> #REF! | P5: =O5+1 -> #REF! | Q5: =P5+1 -> #REF! | R5: =Q5+1 -> #REF! | S5: =R5+1 -> #REF! | T5: =S5+1 -> #REF! | U5: =T5+1 -> #REF! | V5: =U5+1 -> #REF! | X5: =V5+1 -> #REF! | Y5: =X5+1 -> #REF! | Z5: =Y5+1 -> #REF! | AA5: =Z5+1 -> #REF! | AB5: =AA5+1 -> #REF! | AD5: =AB5+1 -> #REF! | AE5: =AD5+1 -> #REF!
B11: Командир 1 навчальної роти
B12: Майор | C12: Дмитро СТЕПАНЮК 01.11.2025

Sheet 4. Тимчасово прибулі
A1: 5
L2: Продовження додатка 1
A3: 45818 | B3: 4. Тимчасово прибулий особовий склад
A4: Звання | B4: ПРІЗВИЩЕ (за наявності) Ім'я По батькові (за наявності) | C4: Посада | D4: Звідки прибув | E4: Підстава прибуття | F4: Дата прибуття | G4: Дата і номер наказу на прибуття | I4: Дата вибуття | J4: Дата і номер наказу на вибуття | L4: Додаткова інформація
A5: =MAX('3. Виключені'!5:5)+1 -> #REF! | B5: =A5+1 -> #REF! | C5: =B5+1 -> #REF! | D5: =C5+1 -> #REF! | E5: =D5+1 -> #REF! | F5: =E5+1 -> #REF! | G5: =F5+1 -> #REF! | I5: =G5+1 -> #REF! | J5: =I5+1 -> #REF! | L5: =J5+1 -> #REF!
A6: Солдат | B6: САГАЙДАК Микола Миколайович | C6: Курсант | D6: А4350 | E6: Наказ командира в\ч А2900 | F6: 45588 | G6: 45588 | H6: № 303 | L6: (095)5643784
A7: старший Солдат | B7: БУТКОВСЬКИЙ Рустам Олегович | C7: Курсант | D7: А4472 | E7: Наказ командира в\ч А2900 | F7: 45353 | G7: 45353 | H7: № 62 | L7: (095)0219929
A8: старший сержант | B8: АВГУСТОВИЧ Олександр Олександрович | C8: Курсант | D8: А2900 | E8: Наказ командира в\ч А2900 | F8: 28.08.2025 | G8: 28.08.2025 | L8: 380635489403
A9: Солдат | B9: КОВАЛЕНКО Віктор Анатолійович | C9: Курсант | D9: А2582 | E9: Наказ командира в\ч А2900 | F9: 45665 | G9: 45665 | H9: №8 | L9: (0977578813
A10: Солдат | B10: ТИХОМИРОВ Євгеній Валерійович | C10: Курсант | D10: А4350 | E10: Наказ командира в\ч А2900 | F10: 45589 | G10: 45589 | H10: №304 | L10: (096)5390639
A11: Солдат | B11: ПЕЛЕХ Олег Михайлович | C11: Курсант | D11: А2582 | E11: Наказ командира в\ч А2900 | F11: 45665 | G11: 45665 | H11: №8 | L11: (068)0423890
A12: Солдат | B12: ВАРЬОНОВ Олександр Валентинович | C12: Курсант | D12: А4355 | E12: Наказ командира в\ч А2900 | F12: 45642 | G12: 45643 | H12: №368
A13: Солдат | B13: НІКОЛЬЧЕНКО Євгеній Олександрович | C13: Курсант | D13: А4355 | E13: Наказ командира в\ч А2900 | F13: 45600 | G13: 45600 | H13: №315 | L13: (096)5858979
A14: солдат | B14: ДЕРЕВИЦЬКИЙ Віктор Миколайович | C14: курсант | E14: Наказ командира в\ч А2900 | F14: 45782
A15: старший Солдат | B15: Чижук Євгеній Миколайович | C15: курсант | D15: А2120 | E15: Наказ командира в\ч А2900 | F15: 45827 | L15: 0972332665
A16: солдат | B16: БОБРОВ Андрій Юрійович | C16: курсант | D16: А2900 | E16: Наказ командира в\ч А2901 | F16: 45889 | G16: 45891 | L16: 0933813090
A17: солдат | B17: КАЛИН Степан Степанович | C17: курсант | D17: А4350 | E17: Наказ командира в\ч А2900 | F17: 45835 | G17: 03.06.202 | H17: №159 | L17: 0688679559
B20: Командир 1 навчальної роти
B21: майор | D21: Дмитро СТЕПАНЮК | F21: 45962

Sheet 5. Тимчасово відсутні
A1: 6
N2: Продовження додатка 1
A3: 45808 | B3: 5. Тимчасово відсутній особовий склад
A4: Звання | B4: ПРІЗВИЩЕ (за наявності) Ім'я По батькові (за наявності) | C4: Індекс посади | D4: Підстава вибуття | E4: Місце вибуття | F4: Дата вибуття | G4: Дата і номер наказу на вибуття | I4: Строк вибуття (якщо невідомо - "?") | J4: Дата планового повернення (якщо невідомо - "?") | K4: Фактична дата прибуття | L4: Дата і номер наказу на прибуття | N4: Додаткова інформація
A5: =MAX('4. Тимчасово прибулі'!5:5)+1 -> #REF! | B5: =A5+1 -> #REF! | C5: =B5+1 -> #REF! | D5: =C5+1 -> #REF! | E5: =D5+1 -> #REF! | F5: =E5+1 -> #REF! | G5: =F5+1 -> #REF! | I5: =G5+1 -> #REF! | J5: =I5+1 -> #REF! | K5: =J5+1 -> #REF! | L5: =K5+1 -> #REF! | N5: =L5+1 -> #REF!
A6: лейтенант | B6: БРИГА Олександр Геннадійович | C6: 212003 | D6: відпустка | E6: А2900 | F6: 45958 | G6: 45959 | I6: 30 | J6: 45988 | K6: 45988 | N6: Відпустка за станом здоровʼя
A7: солдат | B7: ЗЕНЧЕНКО Олександр Миколайович | C7: 100975Д | D7: шпиталь | E7: А2900 | F7: 45981 | I7: ? | J7: ? | N7: Шпиталь
A8: сержант | B8: КОВАЛЬЧУК Андрій Леонідович | C8: 100119Д | D8: шпиталь | E8: А2900 | F8: 45985 | I8: ? | J8: ? | N8: Шпиталь
A9: старший лейтенант | B9: ДЕМЯНЧУК Наталія Василівна | C9: 3420003 | D9: шпиталь | E9: А2900 | F9: 45975 | J9: ? | K9: 45985 | N9: Шпиталь
B13: Командир 1 навчальної роти
B14: Майор | C14: Дмитро СТЕПАНЮК 01.11.2025

Sheet 6. Табель
A1: 11
AE2: Продовження додатка 1
A3: 45962 | B3: 6. Табель особового складу
A4: Звання | B4: ПРІЗВИЩЕ (за наявності) Ім'я По батькові (за наявності) | C4: 1 | D4: 2 | E4: 3 | F4: 4 | G4: 5 | H4: 6 | I4: 7 | J4: 8 | K4: 9 | L4: 10 | M4: 11 | N4: 12 | O4: 13 | P4: 14 | Q4: 15 | R4: 16 | S4: 17 | T4: 18 | U4: 19 | V4: 20 | W4: 21 | X4: 22 | Y4: 23 | Z4: 24 | AA4: 25 | AB4: 26 | AC4: 27 | AD4: 28 | AE4: 29 | AF4: 30 | AG4: 31
A5: 1 НАВЧАЛЬНА РОТА
A6: УПРАВЛІННЯ
A7: майор | B7: СТЕПАНЮК Дмитро Миколайович | C7: + | D7: + | E7: + | F7: + | G7: + | H7: + | I7: + | J7: + | K7: + | L7: + | M7: + | N7: + | O7: + | P7: + | Q7: + | R7: + | S7: + | T7: + | U7: + | V7: + | W7: + | X7: + | Y7: + | Z7: + | AA7: + | AB7: + | AC7: + | AD7: + | AE7: + | AF7: + | AG7: +
A8: старший лейтенант | B8: ДЕМЯНЧУК Наталія Василівна | C8: + | D8: + | E8: + | F8: + | G8: + | H8: + | I8: + | J8: + | K8: + | L8: + | M8: + | N8: + | O8: + | P8: + | Q8: + | R8: + | S8: + | T8: + | U8: + | V8: + | W8: + | X8: + | Y8: + | Z8: + | AA8: + | AB8: + | AC8: + | AD8: + | AE8: + | AF8: + | AG8: +
A9: сержант | B9: ПОТАПОВ Олександр Євгенович | C9: + | D9: + | E9: + | F9: + | G9: + | H9: + | I9: + | J9: + | K9: + | L9: + | M9: + | N9: + | O9: + | P9: + | Q9: + | R9: + | S9: + | T9: + | U9: + | V9: + | W9: + | X9: + | Y9: + | Z9: + | AA9: + | AB9: + | AC9: + | AD9: + | AE9: + | AF9: + | AG9: +
A10: старший сержант | B10: КАРПУК Богдан Михайлович | C10: + | D10: + | E10: + | F10: + | G10: + | H10: + | I10: + | J10: + | K10: + | L10: + | M10: + | N10: + | O10: + | P10: + | Q10: + | R10: + | S10: + | T10: + | U10: + | V10: + | W10: + | X10: + | Y10: + | Z10: + | AA10: + | AB10: + | AC10: + | AD10: + | AE10: + | AF10: + | AG10: +
A11: солдат | B11: СІРЕНКО Максим Ігорович | C11: вдр | D11: вдр | E11: вдр | F11: вдр | G11: вдр | H11: вдр | I11: вдр | J11: вдр | K11: вдр | L11: вдр | M11: вдр | N11: вдр | O11: вдр | P11: вдр | Q11: вдр | R11: вдр | S11: вдр | T11: вдр | U11: вдр | V11: вдр | W11: + | X11: + | Y11: + | Z11: + | AA11: + | AB11: + | AC11: + | AD11: + | AE11: + | AF11: + | AG11: +
A12: сержант | B12: КОВАЛЬЧУК Андрій Леонідович | C12: + | D12: + | E12: + | F12: + | G12: + | H12: + | I12: + | J12: + | K12: + | L12: Відп | M12: Відп | N12: Відп | O12: Відп | P12: Відп | Q12: Відп | R12: Відп | S12: Відп | T12: Відп | U12: Відп | V12: Відп | W12: Відп | X12: Відп | Y12: Відп | Z12: Відп | AA12: Відп | AB12: Відп | AC12: Відп | AD12: Відп | AE12: Відп | AF12: Відп | AG12: Відп
A13: молодший сержант | B13: ІВАНЧІКОВ Андрій Андрійович | C13: + | D13: + | E13: + | F13: + | G13: + | H13: + | I13: + | J13: + | K13: + | L13: + | M13: + | N13: + | O13: + | P13: + | Q13: + | R13: + | S13: + | T13: + | U13: + | V13: + | W13: + | X13: + | Y13: + | Z13: + | AA13: + | AB13: + | AC13: + | AD13: + | AE13: + | AF13: + | AG13: +
A14: сержант | B14: ВОЛЧКОВ Віктор Вікторович | C14: + | D14: + | E14: + | F14: + | G14: + | H14: + | I14: + | J14: + | K14: + | L14: + | M14: + | N14: + | O14: + | P14: + | Q14: + | R14: + | S14: + | T14: + | U14: + | V14: + | W14: + | X14: + | Y14: + | Z14: + | AA14: + | AB14: + | AC14: + | AD14: + | AE14: + | AF14: + | AG14: +
A15: старший сержант | B15: ШИМАНСЬКИЙ Георгій Георгійович | C15: + | D15: + | E15: + | F15: + | G15: + | H15: + | I15: + | J15: + | K15: + | L15: + | M15: + | N15: + | O15: + | P15: + | Q15: + | R15: + | S15: + | T15: + | U15: + | V15: + | W15: + | X15: + | Y15: + | Z15: + | AA15: + | AB15: + | AC15: + | AD15: + | AE15: + | AF15: + | AG15: +
A16: сержант | B16: КАЗАКОВ Євген Іванович | C16: + | D16: + | E16: + | F16: + | G16: + | H16: + | I16: + | J16: + | K16: + | L16: + | M16: + | N16: + | O16: + | P16: + | Q16: + | R16: + | S16: + | T16: + | U16: + | V16: + | W16: + | X16: + | Y16: + | Z16: + | AA16: + | AB16: + | AC16: + | AD16: + | AE16: + | AF16: + | AG16: +
A17: сержант | B17: ПРОСТАПЧУК Валентин Іванович | C17: + | D17: + | E17: + | F17: + | G17: + | H17: + | I17: + | J17: + | K17: + | L17: + | M17: + | N17: + | O17: + | P17: + | Q17: + | R17: + | S17: + | T17: + | U17: + | V17: + | W17: + | X17: + | Y17: + | Z17: + | AA17: + | AB17: + | AC17: + | AD17: + | AE17: + | AF17: + | AG17: +
A18: сержант | B18: ВАСИЛЮК Андрій Васильович | C18: + | D18: + | E18: + | F18: + | G18: + | H18: + | I18: + | J18: + | K18: + | L18: + | M18: + | N18: + | O18: + | P18: + | Q18: + | R18: + | S18: + | T18: + | U18: + | V18: + | W18: + | X18: + | Y18: + | Z18: + | AA18: + | AB18: + | AC18: + | AD18: + | AE18: + | AF18: + | AG18: +
A19: старший сержант | B19: ДІДОВЕЦЬ Дмитро Юрійович | C19: + | D19: + | E19: + | F19: + | G19: + | H19: + | I19: + | J19: + | K19: + | L19: + | M19: + | N19: + | O19: + | P19: + | Q19: + | R19: + | S19: + | T19: + | U19: + | V19: + | W19: + | X19: + | Y19: + | Z19: + | AA19: + | AB19: + | AC19: + | AD19: + | AE19: + | AF19: + | AG19: +
A20: молодший сержант | B20: МИНАЙЛЮК Ігор Миколайович | C20: + | D20: + | E20: + | F20: + | G20: + | H20: + | I20: + | J20: + | K20: + | L20: + | M20: + | N20: + | O20: + | P20: Відп | Q20: Відп | R20: Відп | S20: Відп | T20: Відп | U20: Відп | V20: Відп | W20: Відп | X20: Відп | Y20: Відп | Z20: Відп | AA20: Відп | AB20: Відп | AC20: Відп | AD20: Відп | AE20: Відп
A21: 1 НАВЧАЛЬНИЙ ВЗВОД
A22: молодший лейтенант | B22: БОРОДАВКІН Микола Михайлович | C22: + | D22: + | E22: + | F22: + | G22: + | H22: + | I22: + | J22: + | K22: + | L22: + | M22: + | N22: + | O22: + | P22: + | Q22: + | R22: + | S22: Відп | T22: Відп | U22: Відп | V22: Відп | W22: Відп | X22: Відп | Y22: Відп | Z22: Відп | AA22: Відп | AB22: Відп | AC22: Відп | AD22: Відп | AE22: Відп | AF22: Відп | AG22: Відп
A23: солдат | B23: САКСОНІК Олександр Петрович | C23: + | D23: + | E23: + | F23: + | G23: + | H23: + | I23: + | J23: + | K23: + | L23: + | M23: + | N23: + | O23: + | P23: + | Q23: + | R23: + | S23: + | T23: + | U23: + | V23: + | W23: + | X23: + | Y23: + | Z23: + | AA23: + | AB23: + | AC23: + | AD23: + | AE23: + | AF23: + | AG23: +
A24: 2 НАВЧАЛЬНИЙ ВЗВОД
A25: капітан | B25: МЕРКУЛОВ Богдан Юрійович | C25: вдр | D25: вдр | E25: вдр | F25: вдр | G25: вдр | H25: вдр | I25: вдр | J25: вдр | K25: вдр | L25: вдр | M25: вдр | N25: вдр | O25: вдр | P25: вдр | Q25: вдр | R25: вдр | S25: вдр | T25: вдр | U25: вдр | V25: вдр | W25: вдр | X25: вдр | Y25: вдр | Z25: вдр | AA25: вдр | AB25: вдр | AC25: вдр | AD25: вдр | AE25: вдр | AF25: вдр | AG25: вдр
A26: солдат | B26: ЗЕНЧЕНКО Олександр Миколайович | C26: + | D26: + | E26: + | F26: + | G26: + | H26: + | I26: + | J26: + | K26: + | L26: + | M26: + | N26: + | O26: + | P26: + | Q26: + | R26: + | S26: + | T26: + | U26: + | V26: + | W26: + | X26: + | Y26: + | Z26: + | AA26: + | AB26: + | AC26: + | AD26: + | AE26: + | AF26: + | AG26: +
A27: 3 НАВЧАЛЬНИЙ ВЗВОД
A28: лейтенант | B28: БРИГА Олександр Генадійович | C28: + | D28: + | E28: + | F28: + | G28: + | H28: + | I28: + | J28: Ш | K28: Ш | L28: Ш | M28: Ш | N28: Ш | O28: Ш | P28: Ш | Q28: Ш | R28: Ш | S28: Ш | T28: Ш | U28: Ш | V28: Ш | W28: Ш | X28: Ш | Y28: Ш | Z28: В | AA28: В | AB28: В | AC28: В | AD28: В | AE28: В | AF28: В | AG28: В
A29: солдат | B29: ПЛЮЩЕНКО Андрій Вікторович | C29: вдр | D29: вдр | E29: вдр | F29: вдр | G29: вдр | H29: вдр | I29: вдр | J29: вдр | K29: вдр | L29: вдр | M29: вдр | N29: вдр | O29: вдр | P29: вдр | Q29: вдр | R29: вдр | S29: + | T29: + | U29: + | V29: + | W29: + | X29: + | Y29: + | Z29: + | AA29: + | AB29: + | AC29: + | AD29: + | AE29: + | AF29: + | AG29: +
A30: 4 НАВЧАЛЬНИЙ ВЗВОД
A31: лейтенант | B31: КУХАРЕНКО Віталій Володимирович | C31: + | D31: + | E31: + | F31: + | G31: + | H31: + | I31: + | J31: + | K31: + | L31: + | M31: + | N31: + | O31: + | P31: + | Q31: + | R31: + | S31: Ш | T31: Ш | U31: Ш | V31: Ш | W31: Ш | X31: Ш | Y31: Ш | Z31: Ш | AA31: Ш | AB31: Ш | AC31: Ш | AD31: Ш | AE31: Ш | AF31: Ш | AG31: Ш
A32: старший сержант | B32: ВИНОГРОДСЬКИЙ Тарас Миколайович | O32: + | P32: + | Q32: + | R32: + | S32: + | T32: + | U32: + | V32: + | W32: + | X32: + | Y32: + | Z32: + | AA32: + | AB32: + | AC32: + | AD32: + | AE32: + | AF32: + | AG32: +
A33: 5 НАВЧАЛЬНИЙ ВЗВОД
A34: молодший сержант | B34: ЧЕРНЕНКО Андрій Юрійович | C34: + | D34: + | E34: + | F34: + | G34: + | H34: + | I34: + | J34: + | K34: ВДР | L34: ВДР | M34: ВДР | N34: ВДР | O34: ВДР | P34: + | Q34: + | R34: + | S34: + | T34: + | U34: + | V34: + | W34: + | X34: + | Y34: + | Z34: + | AA34: + | AB34: + | AC34: + | AD34: + | AE34: + | AF34: + | AG34: +
A35: головний сержант | B35: РАЖИК Денис Петрович | C35: ВДР | D35: ВДР | E35: ВДР | F35: ВДР | G35: ВДР | H35: ВДР | I35: ВДР | J35: ВДР | K35: ВДР | L35: ВДР | M35: ВДР | N35: ВДР | O35: ВДР | P35: ВДР | Q35: ВДР | R35: ВДР | S35: ВДР | T35: ВДР | U35: ВДР | V35: ВДР | W35: ВДР | X35: ВДР | Y35: ВДР | Z35: ВДР | AA35: ВДР | AB35: ВДР | AC35: ВДР | AD35: ВДР | AE35: ВДР | AF35: ВДР | AG35: ВДР
A36: 6 НАВЧАЛЬНИЙ ВЗВОД
A38: майстер-сержант | B38: ЮЩИШИН Ігор Дмитрович | C38: + | D38: + | E38: + | F38: + | G38: + | H38: + | I38: + | J38: + | K38: + | L38: + | M38: + | N38: + | O38: + | P38: + | Q38: + | R38: + | S38: + | T38: + | U38: + | V38: + | W38: + | X38: + | Y38: + | Z38: + | AA38: + | AB38: + | AC38: + | AD38: + | AE38: + | AF38: + | AG38: +
A39: 7 НАВЧАЛЬНИЙ ВЗВОД
A40: молодший лейтенант | B40: ГЕНЗЕЛЬ Богдан Васильович | C40: вдр | D40: вдр | E40: вдр | F40: вдр | G40: вдр | H40: вдр | I40: вдр | J40: вдр | K40: вдр | L40: вдр | M40: вдр | N40: вдр | O40: вдр | P40: вдр | Q40: вдр | R40: вдр | S40: вдр | T40: вдр | U40: вдр | V40: вдр | W40: вдр | X40: вдр | Y40: вдр | Z40: вдр | AA40: + | AB40: + | AC40: + | AD40: + | AE40: + | AF40: + | AG40: +
A42: На продовольчому забезпеченні в 1 НАВЧАЛЬНІЙ РОТІ перебуває | C42: =COUNTIF(C7:C41,"+") -> 20 | D42: =COUNTIF(D7:D41,"+") -> 20 | E42: =COUNTIF(E7:E41,"+") -> 20 | F42: =COUNTIF(F7:F41,"+") -> 20 | G42: =COUNTIF(G7:G41,"+") -> 20 | H42: =COUNTIF(H7:H41,"+") -> 20 | I42: =COUNTIF(I7:I41,"+") -> 20 | J42: =COUNTIF(J7:J41,"+") -> 19 | ... AG42: =COUNTIF(AG7:AG41,"+") -> 19
A44: Особа, яка проводила вечірню повірку
A47: Командир 1 навчальної роти
A48: майор | C48: Дмитро СТЕПАНЮК

Sheet 7. Безповоротні втрати
A1: 8
T2: Продовження додатка 1
A3: 31.11.2025 | B3: 7. Облік безповоротніх втрат
A4: Військове звання | B4: ПРІЗВИЩЕ (за наявності) Ім'я По батькові (за наявності) | C4: Індекс посади | D4: Вид військової служби | E4: РНОКПП (за наявності) | F4: Серія (за наявності) і номер документа, що посвідчує особу та назва документа | H4: Дата народження | I4: Місце народження | J4: Ким і коли призваний (прийнятий) на військову службу | L4: Прізвище (за наявності), власне ім’я, по батькові (за наявності) дружини (чоловіка), батька, матері або близького родича, місце проживання (перебування) членів сім’ї (близьких родичів) | M4: Вид втрати | N4: Дата безповоротної втрати | O4: Обставини, що призвели до втрат особового складу | P4: Місце втрат особового складу | Q4: Дата виключення із списків | R4: Наказ про виключення із списків (дата і номер) | T4: Кому, за яким номером і коли надіслано сповіщення | U4: Місце і дата поховання (імовірне місце перебування)
A5: =MAX('5. Тимчасово відсутні'!5:5)+1 -> #REF! | B5: =A5+1 -> #REF! | C5: =B5+1 -> #REF! | D5: =C5+1 -> #REF! | E5: =D5+1 -> #REF! | F5: =E5+1 -> #REF! | H5: =F5+1 -> #REF! | I5: =H5+1 -> #REF! | J5: =I5+1 -> #REF! | L5: =J5+1 -> #REF! | M5: =L5+1 -> #REF! | N5: =M5+1 -> #REF! | O5: =N5+1 -> #REF! | P5: =O5+1 -> #REF! | Q5: =P5+1 -> #REF! | R5: =Q5+1 -> #REF! | T5: =R5+1 -> #REF! | U5: =T5+1 -> #REF!
B7: Командир 1 навчальної роти
B8: Майор | C8: Дмитро СТЕПАНЮК 01.11.2025

Sheet 8. Статистичний облік
A1: 9
AW2: Продовження додатка 1
A3: 45736 | B3: 8. Зведений статистичний облік
A4: Підрозділи | B4: По штату | F4: По списку | J4: В наявності | N4: На продовольчому забезпеченні | O4: Відсутні | S4: Причини відсутності
S5: Відпустка | W5: Лікування | AA5: Відрядження | AE5: СЗЧ | AI5: Загиблі | AM5: Зниклі безвісти | AQ5: Полон | AU5: Інші
B6: Офіцери | C6: Сержанти | D6: Солдати | E6: Працівники | F6: Офіцери | G6: Сержанти | H6: Солдати | I6: Працівники | J6: Офіцери | K6: Сержанти | L6: Солдати | M6: Працівники | O6: Офіцери | P6: Сержанти | Q6: Солдати | R6: Працівники | S6: Офіцери | T6: Сержанти | U6: Солдати | V6: Працівники | W6: Офіцери | X6: Сержанти | Y6: Солдати | Z6: Працівники | AA6: Офіцери | AB6: Сержанти | AC6: Солдати | AD6: Працівники | AE6: Офіцери | AF6: Сержанти | AG6: Солдати | AH6: Працівники | AI6: Офіцери | AJ6: Сержанти | AK6: Солдати | AL6: Працівники | AM6: Офіцери | AN6: Сержанти | AO6: Солдати | AP6: Працівники | AQ6: Офіцери | AR6: Сержанти | AS6: Солдати | AT6: Працівники | AU6: Офіцери | AV6: Сержанти | AW6: Солдати | AX6: Працівники
A7: =MAX('7. Безповоротні втрати'!5:5)+1 -> #REF! | B7: =A7+1 -> #REF! | F7: =B7+1 -> #REF! | J7: =F7+1 -> #REF! | N7: =J7+1 -> #REF! | O7: =N7+1 -> #REF! | S7: =O7+1 -> #REF! | W7: =S7+1 -> #REF! | AA7: =W7+1 -> #REF! | AE7: =AA7+1 -> #REF! | AI7: =AE7+1 -> #REF! | AM7: =AI7+1 -> #REF! | AQ7: =AM7+1 -> #REF! | AU7: =AQ7+1 -> #REF!
A8: ВСЬОГО | B8: =SUM(B9:B12) -> 11 | C8: =SUM(C9:C12) -> 17 | D8: =SUM(D9:D12) -> 0 | E8: =SUM(E9:E12) -> 0 | F8: 7 | G8: 15 | H8: =SUM(H9:H12) -> 0 | I8: =SUM(I9:I12) -> 0 | J8: 6 | K8: 12 | L8: =SUM(L9:L12) -> 0 | M8: =SUM(M9:M12) -> 0 | N8: =J8+K8+L8+M8 -> 18 | O8: =SUM(O9:O12) -> 1 | P8: 3 | Q8: =SUM(Q9:Q12) -> 0 | R8: =SUM(R9:R12) -> 0 | S8: =SUM(S9:S12) -> 1 | T8: =SUM(T9:T12) -> 1 | U8: =SUM(U9:U12) -> 0 | V8: =SUM(V9:V12) -> 0 | W8: =SUM(W9:W12) -> 0 | X8: =SUM(X9:X12) -> 0 | ... AX8: =SUM(AX9:AX12) -> 0
A9: 1 НАВЧАЛЬНА РОТА | B9: 11 | C9: 17 | D9: 0 | E9: 0 | F9: 7 | G9: 15 | H9: 0 | I9: 0 | J9: 6 | K9: 12 | L9: 0 | M9: 0 | N9: =J9+K9+L9+M9 -> 18 | O9: 1 | P9: 3 | Q9: 0 | R9: 0 | S9: 1 | T9: 1 | U9: 0 | V9: 0 | X9: 0 | Y9: 0 | Z9: 0 | AA9: 0 | AB9: 2 | AC9: 0 | AD9: 0
B14: Командир 1 навчальної роти
B15: майор | F15: Дмитро СТЕПАНЮК | H15: 45931

Sheet 9. Перелік індексів посад
A1: 10
G2: Продовження додатка 1
A3: 45808 | B3: 9. Перелік індексів посад
A4: Індекс посади | B4: Назва посади | C4: ШПК | D4: ВОС | E4: Тариф | F4: № штату | G4: Дата введення посади в штат | H4: Дата виведення посади зі штату
A5: =MAX('8. Статистичний облік'!7:7)+1 -> #REF! | B5: =A5+1 -> #REF! | C5: =B5+1 -> #REF! | D5: =C5+1 -> #REF! | E5: =D5+1 -> #REF! | F5: =E5+1 -> #REF! | G5: =F5+1 -> #REF! | H5: =G5+1 -> #REF!
B6: Командир роти - старший викладач | C6: майор | D6: 0212003 | E6: 20
B7: Заступник командира роти з психологічної підтримки персоналу | C7: капітан | D7: 3420003 | E7: 19
B8: Сержант - інструктор | C8: головний сержант | D8: 100657Д | E8: 12
B9: Сержант з матеріального забезпечення | C9: старший сержант | D9: 787089Д | E9: 10
B10: Інструктор із тактичної медицини | C10: сержант | D10: 878127Д | E10: 6/5
B11: 1 навчальний взвод
B12: Командир взводу - викладач | C12: капітан | D12: 0212003 | E12: 13
B13: Інструктор | C13: старший сержант | D13: 100119Д | E13: 11/6
B14: Інструктор | C14: старший сержант | D14: 100119Д | E14: 11/6
B15: 2 навчальний взвод
B16: Командир взводу - викладач | C16: капітан | D16: 0212003 | E16: 13
B17: Інструктор | C17: старший сержант | D17: 100119Д | E17: 11/6
B18: Інструктор | C18: старший сержант | D18: 100119Д | E18: 11/6
B19: 3 навчальний взвод
B20: Командир взводу - викладач | C20: капітан | D20: 0212003 | E20: 13
B21: Головний сержант | C21: старший сержант | D21: 100975Д | E21: 9
B22: 4 навчальний взвод
B23: Командир взводу - викладач | C23: капітан | D23: 0212003 | E23: 13
B24: Головний сержант | C24: старший сержант | D24: 100975Д | E24: 9
B25: 5 навчальний взвод
B26: Командир взводу - викладач | C26: капітан | D26: 0212003 | E26: 13
B27: Головний сержант | C27: старший сержант | D27: 100975Д | E27: 9
B28: 6 навчальний взвод
B29: Командир взводу - викладач | C29: капітан | D29: 0212003 | E29: 13
B30: Головний сержант | C30: старший сержант | D30: 100975Д | E30: 9
B31: 7 навчальний взвод
B32: Командир взводу - викладач | C32: капітан | D32: 0212003 | E32: 13
B33: Інструктор | C33: старший сержант | D33: 101119Д | E33: 11/6
B34: Інструктор | C34: старший сержант | D34: 101119Д | E34: 11/6
B35: 8 навчальний взвод
B36: Командир взводу - викладач | C36: капітан | D36: 0212003 | E36: 13
B37: Інструктор | C37: старший сержант | D37: 102119Д | E37: 11/6
B38: Інструктор | C38: старший сержант | D38: 103119Д | E38: 11/6
B39: 9 навчальний взвод
B40: Командир взводу - викладач | C40: капітан | D40: 0212003 | E40: 13
B41: Інструктор | C41: старший сержант | D41: 100119Д | E41: 11/6
B42: Інструктор | C42: старший сержант | D42: 102119Д | E42: 11/6
B44: Командир1 навчальної роти
B45: капітан | C45: Дмитро СТЕПАНЮК 31.05.2025

Sheet Примітки
A1: 11
A2: Продовження додатка 1
A3: Примітки
A4: 1. Електронний журнал обліку особового складу військової частини/підрозділу (далі - ЕЖООС) ведеться в електронній формі на пристрої, який не має модулю підʼєднання до локальної мережі.
A5: 2. Стовпці і поля, визначені в ЕЖООС, є обов'язковими для ведення обліку. Заборонено видаляти, змінювати нумерацію чи редагувати назви стовпців, визначені в ЕЖООС. При цьому дозволено додавати стовпці з інформацією, яка необхідна для здійснення більш якісного обліку особового складу військовою частиною, органом військового управління чи їхніми підрозділами (такі стовпці можна додавати у будь-якому порядку, але при цьому залишати їх непронумерованими і не друкувати їх під час передання друкованої версії до штабу військової частини чи до Галузевого архіву).
A6: 3. ЕЖООС ведеться протягом 1 календарного місяця. У перший день нового місяця створюється новий файл журналу, в якому ведуться усі зміни за поточний місяць (файл-шаблон зберігається з новою назвою (наприклад, "2024-11 ЕЖООС СР1" для обліку особового складу 1-ої стрілецької роти за листопад 2024 р.). Файл журналу за попередній місяць зберігається на пристрої. 1 січня та 1 червня звітного року титульна сторінка та вкладки ЕЖ роздруковуються (вкладка "6. Табель" роздруковується за кожен з цих 6 місяців, вкладки "8. Статистичний облік", "9. Перелік індексів посад" і "Примітки" не друкується), на роздрукованому примірнику зазначається кількість аркушів. Командир підрозділу підписує роздрукований журнал та передає у службу персоналу.
A7: 4. Вкладка "1. Штатно-посадовий облік" ведеться в усіх структурних підрозділах починаючи з роти. Штаб окремої військової частини присвоює кожній посаді унікальний індекс (у тому числі посадам змінного складу, посадам держслубовців та працівників ЗСУ) і фіксує цей перелік у Вкладці "9. Перелік індексів посад". Рекомендовано на рівні окремої бригади використовувати 6-тизначний індекс, на рівні окремого батальйону - 4-ьохзначний. Також дозволено використовувати літери (наприклад, для позначення посад змінного складу, курсантів, слухачів, державних службовців чи працівників ЗСУ). Важливо! При зміні (заміні) посади їй присвоюється новий унікальний індекс У разі наявності в штаті цивільних посад стовпець 4. "ВОС" має залишитися пустим, а в стовпці 6. "Звання" проставляється відповідно цивільний статус персоналу (наприклад, «працівник ЗСУ», «державний службовець 4 рангу» і т.д.). Порядок записів може змінюватися в залежності від введення або скасування посад. Усі записи (рядки таблиці) розташовуються за підпорядкованістю у підрозділі. Рекомендовано відділяти структурні підрозділи їхніми назвами, записаними в об'єднаних комірках в стовпцях від 1 до 7, так як це зроблено у даному прикладі (це необхідно для автоматичного виведення підрозділів до вкладки "8. Статистичний облік").
A8: 5. Вкладка "2. Облік особового складу" ведеться на весь підпорядкований особовий склад. Записи ведуться у порядку зарахування військовослужбовців до списків, потім за званнями. У разі наявності в штаті цивільних посад в колонці 8. "Звання" проставляється відповідно цивільний статус персоналу (наприклад, «працівник ЗСУ», «державний службовець 4 рангу» і т.д.). Стовпець 10 "Індекс посади / Індекси посад, які обіймав(ла)" та 11 "Дати призначення на посади" ведуться за такими правилами: - індекс і дата призначення на поточну посаду записується зверху звичайним шрифтом; - індекси і дати попередніх посад записуються у стовпець (Alt+Enter), курсивом, у зворотному порядку до призначень (актуальна посада буде першою у стовпці, найперша посада буде останньою). - у разі, якщо військовослужбовець перебуває у списках військової частини, але не займає штатну посаду у Стовпці 10 ставиться відповідний статус (н/д "у розпорядженні"), а у Стовпці 11 дата встановлення цього статусу (наприклад, зарахування в розпорядження). У Стовпці 17, окрім контрактної чи служби по мобілізації, може також зазначатись і вид державної служби. У Стовпці 20 іноземцям прописується його громадянство (наприклад, "США", "Італійська Республіка", "Республіка Колумбія" і т.д).
A9: 6. Вкладка "3. Виключені" має такий же набір стовпців як і Вкладка "2. Облік особового складу", але до неї додано ще стовпці, які ведуть тільки у електронному журналі обліку особового складу окремої військової частини: 51. Дата виключення зі списків - фактична дата виключення зі списків; 52. Дата і номер наказу по стройовій частині про виключення із списків 53. Куди вибув / Куди направлені документи - у випадку загибелі/смерті вказується ТЦК та СП, до якого були направлені документи; 54. Підстава виключення зі списків - пишеться інформація, яка необхідна для ідентифікації події (наприклад: у разі загибелі/смерті може писатися дата і вид події, у випадку звільнення - причина звільнення і наказ по особовому складу, у разі перемішення до інщої в/ч - наказ по особовому складу, у випадку призупинення служби - № і дата витягу з ЄРДР). Рекомендовано при виключенні військовослужбовця зі списків переміщувати інформацію з Вкладки 2 до Вкладки 3, використовувати функції "Вирізати" і "Додати скопійовані клітинки", додавши і заповнивши при цьому стовпці 51, 52, 53, 54. Вкладка ведеться в алфавітному порядку. Роздрукований і підписаний варіант Вкладки "3. Виключені" підлягає передачі в Державний галузевий архів МОУ.
A10: 7. Вкладка "4. Тимчасово прибулий особовий склад" ведеться на рівні батальйону та на рівні окремої військової частини. Записи робляться у порядку прибуття військовослужбовців до військової частини, потім за званнями.
A11: 8. Вкладка "5. Тимчасово відсутній особовий склад" ведеться в усіх структурних підрозділах починаючи з роти. Записи робляться у порядку вибуття військовослужбовців з військової частини, потім за званнями. У Стовпці 76 можна уточнюється підстави вибуття або іншу необхідну інформацію.
A12: 9. Вкладка "6. Табель" ведеться в усіх структурних підрозділах починаючи з роти на кожен місяць. Рекомендовано вживати такі позначки: + - присутній/ня; вдр - відрядження; від - відпустка щорічна, за сімейними обставинами, для лікування у зв’язку з хворобою; ВП - відпустка для лікування після поранення (контузії, травми або каліцтва); лік - лікування у звʼязку з хворобою; ЛП - лікування після поранення (контузії, травми або каліцтва); СЗЧ - самовільне залишення частини; ЗБ - зниклий безвісти; пол - в полоні; заг - загибель (проставляється тільки в дату події); пом - помер (проставляється тільки в дату події). Ведення вкладки "6. Табель" на управління (командування) військової частини (органу військового управління чи їм рівні) покладається на відділення персоналу штабу або відповідний орган (посадову особу), на який покладені функції ведення обліку особового складу. На рівні окремої військової частини Вкладка "6. Табель особового сакладу" ведеться по підрозділам, які безпосередньо підпорядковуються командиру військової частини із зазначенням кількость осіб, які перебувають на продовольчому забезпеченні кожного підрозділу, станом на кожен день місяця.
A13: 10. Вкладка "7. Безповоротні втрати" ведеться на рівні окремої військової частини. Записи робляться у порядку дат подій, які призвели до безповротніх втрат військовослужбовців. Рекомендовано Стовпці 77-86 заповнювати методом копіювання інформації зі Стовпців, відповідно, 8-10, 17, 20-23, 25 та 27 (зверніть увагу, що в Стовпці 79, на відміну, від Стовпця 10, зазначається тільки індекс останньої зайнманої посади).
... A17: 14. Важливо! Всі приклади записів зроблені станом на 12 листопада 2024 року і являються вигаданими. Будь яке співпадіння з реально існуючими людьми - випадковість.

Sheet Звання
A1: Генерал | C1: Генерал | D1: Головний майстер-сержант | E1: Старший солдат | F1: Генерал | G1: Головний майстер-сержант | H1: Старший солдат | I1: Генерал | J1: Головний майстер-сержант | K1: Старший солдат
A2: Генерал-лейтенант | C2: Генерал-майор | D2: Майстер-сержант | E2: Старший матрос | F2: Генерал-майор | G2: Майстер-сержант | H2: Старший матрос | I2: Генерал-майор | J2: Майстер-сержант | K2: Старший матрос
A3: Генерал-лейтенант медичної служби | C3: Бригадний генерал | D3: Штаб-сержант | E3: Матрос | F3: Бригадний генерал | G3: Штаб-сержант | H3: Матрос | I3: Бригадний генерал | J3: Штаб-сержант | K3: Матрос
A4: Генерал-майор | C4: Полковник | D4: Головний сержант | E4: Рекрут | F4: Полковник | G4: Головний сержант | H4: Рекрут | I4: Полковник | J4: Головний сержант | K4: Рекрут
A5: Генерал-майор медичної служби | C5: Полковник медичної служби | D5: Старший сержант | E5: --- | F5: Полковник медичної служби | G5: Старший сержант | H5: --- | I5: Полковник медичної служби | J5: Старший сержант | K5: ---
A6: Бригадний генерал | C6: Полковник юстиції | D6: Сержант | E6: --- | F6: Полковник юстиції | G6: Сержант | H6: --- | I6: Полковник юстиції | J6: Сержант | K6: ---
A7: Бригадний генерал медичної служби | C7: Полковник капеланської служби | D7: Молодший сержант | E7: --- | F7: Полковник капеланської служби | G7: Молодший сержант | H7: --- | I7: Полковник капеланської служби | J7: Молодший сержант | K7: ---
A8: Полковник | C8: Підполковник | D8: Головний майстер-старшина | E8: --- | F8: Підполковник | G8: Головний майстер-старшина | H8: --- | I8: Підполковник | J8: Головний майстер-старшина | K8: ---
A9: Полковник медичної служби | C9: Підполковник медичної служби | D9: Старший майстер-старшина | E9: --- | F9: Підполковник медичної служби | G9: Старший майстер-старшина | H9: --- | I9: Підполковник медичної служби | J9: Старший майстер-старшина | K9: ---
A10: Полковник юстиції | C10: Підполковник юстиції | D10: Майстер-старшина | E10: --- | F10: Підполковник юстиції | G10: Майстер-старшина | H10: --- | I10: Підполковник юстиції | J10: Майстер-старшина | K10: ---
A11: Полковник капеланської служби | C11: Підполковник капеланської служби | D11: Штаб-старшина | E11: --- | F11: Підполковник капеланської служби | G11: Штаб-старшина | H11: --- | I11: Підполковник капеланської служби | J11: Штаб-старшина | K11: ---
A12: Підполковник | C12: Майор | D12: Головний корабельний старшина | E12: --- | F12: Майор | G12: Головний корабельний старшина | H12: --- | I12: Майор | J12: Головний корабельний старшина | K12: ---
... A42: Сержант | C42: Молодший лейтенант | D42: --- | E42: --- | F42: Молодший лейтенант | G42: --- | H42: --- | I42: Молодший лейтенант | J42: --- | K42: ---
A43: Молодший сержант
A44: Старший солдат
A45: Солдат
A46: Адмірал
A47: Віце-адмірал
A48: Контр-адмірал
A49: Коммодор
A50: Капітан 1 рангу
A51: Капітан 2 рангу
A52: Капітан 3 рангу
A53: Капітан-лейтенант
A54: Старший-лейтенант
... A67: Рекрут
