Workbook

Sheet Титульна сторінка
J1: Додаток 1 до Інструкції з організації обліку особового складу в системі Міністерства оборони України (пункт 3 розділ II)
K3: Гриф обмеження доступу
C7: МІНІСТЕРСТВО ОБОРОНИ УКРАЇНИ
C11: ЕЛЕКТРОННИЙ ЖУРНАЛ обліку особового складу
C14: 1 навчальної роти 1навчального батальйону | F14: в/ч А2900 | K14: 45901

Sheet 1. ШПО
A1: 2
G2: Продовження додатка 1
A3: 46054 | B3: № штату ###### | C3: 1. Штатно-посадовий облік
A4: Індекс посади | B4: Посада | C4: ШПК | D4: ВОС | E4: Тариф | F4: Звання | G4: ПРІЗВИЩЕ (за наявності) Ім'я По батькові (за наявності)
A5: 1 | B5: 2 | C5: 3 | D5: 4 | E5: 5 | F5: 6 | G5: 7
A6: 1 НАВЧАЛЬНА РОТА
B7: Командир роти - старший викладач | C7: майор | D7: 0212003 | E7: 20 | F7: майор | G7: СТЕПАНЮК Дмитро Миколайович
B8: Заступник командира роти з психологічної підтримки персоналу | C8: капітан | D8: 3420003 | E8: 19 | F8: старший лейтенант | G8: ДЕМЯНЧУК Наталія Василівна
B9: Сержант - інструктор | C9: головний сержант | D9: 100657Д | E9: 12 | F9: старший сержант | G9: ПОТАПОВ Олександр Євгенович
B10: Сержант з матеріального забезпечення | C10: старший сержант | D10: 787089Д | E10: 10 | F10: старший сержант | G10: КАРПУК Богдан Михайлович
B11: Інструктор із тактичної медицини | C11: сержант | D11: 878127Д | E11: 6/5 | F11: молодший сержант | G11: СІРЕНКО Максим Ігорович
B12: Інструктор | C12: Старший сержант | D12: 100119Д | E12: 11/6 | F12: молодший сержант | G12: МИНАЙЛЮК Ігор Миколайович
B13: Інструктор | C13: Старший сержант | D13: 100119Д | E13: 11/6 | F13: старший сержант | G13: ВАСИЛЮК Андрій Васильович
B14: Інструктор | C14: Старший сержант | D14: 100119Д | E14: 11/6 | F14: старший сержант | G14: ПРОСТАПЧУК Валентин Іванович
B15: Інструктор | C15: Старший сержант | D15: 100119Д | E15: 11/6 | F15: сержант | G15: КАЗАКОВ Євген Іванович
B16: Інструктор | C16: Старший сержант | D16: 100119Д | E16: 11/6 | F16: старший сержант | G16: ШИМАНСЬКИЙ Георгій Георгійович
B17: Інструктор | C17: Старший сержант | D17: 100119Д | E17: 11/6 | F17: старший сержант | G17: ДІДОВЕЦЬ Дмитро Юрійович
B18: Інструктор | C18: Старший сержант | D18: 100119Д | E18: 11/6 | F18: сержант | G18: ВОЛЧКОВ Віктор Вікторович
... B22: Командир взводу-викладач | C22: Капітан | D22: 0212003 | E22: 13 | F22: молодший лейтенант | G22: БОРОДАВКІН Микола Михайлович
B23: Головний сержант | C23: Старший сержант | D23: 100975Д | E23: 9 | F23: солдат | G23: САКСОНІК Олександр Петрович
B24: 2 навчальний взвод | C24: п | D24: п | E24: п | F24: п | G24: п
B25: Командир взводу-викладач | C25: Капітан | D25: 0212003 | E25: 13 | F25: майстер-сержант | G25: ІВАНОВ Олександр Олександрович
B26: Головний сержант | C26: Старший сержант | D26: 100975Д | E26: 9 | F26: молодший сержант | G26: ЗЕНЧЕНКО Олександр Миколайович
B27: 3 навчальний взвод | C27: п | D27: п | E27: п | F27: п | G27: п
B28: Командир взводу-викладач | C28: Капітан | D28: 0212003 | E28: 13 | F28: лейтенант | G28: БРИГА Олександр Геннадійович
B29: Головний сержант | C29: Старший сержант | D29: 100975Д | E29: 9 | F29: солдат | G29: ПЛЮЩЕНКО Андрій Вікторович
B30: 4 навчальний взвод | C30: п | D30: п | E30: п | F30: п | G30: п
B31: Командир взводу-викладач | C31: Капітан | D31: 0212003 | E31: 13
B32: Головний сержант | C32: Старший сержант | D32: 100975Д | E32: 9 | F32: старший сержант | G32: ВИНОГРОДСЬКИЙ Тарас Миколайович
B33: 5 навчальний взвод | C33: п | D33: п | E33: п | F33: п | G33: п
B34: Командир взводу-викладач | C34: Капітан | D34: 0212003 | E34: 13 | F34: молодший сержант | G34: ЧЕРНЕНКО Андрій Юрійович
B35: Головний сержант | C35: Старший сержант | D35: 100975Д | E35: 9
B36: 6 навчальний взвод | C36: п | D36: п | E36: п | F36: п | G36: п
B37: Командир взводу-викладач | C37: Капітан | D37: 0212003 | E37: 13 | F37: головний сержант | G37: РАЖИК Денис Петрович
B38: Головний сержант | C38: Старший сержант | D38: 100975Д | E38: 9 | F38: молодший сержант | G38: СТЕПАНОВ Віктор Вікторович
B39: 7 навчальний взвод | C39: п | D39: п | E39: п | F39: п | G39: п
B40: Командир взводу-викладач | C40: Капітан | D40: 0212003 | E40: 13 | F40: лейтенант | G40: ГЕНЗЕЛЬ Богдан Васильович
B41: Головний сержант | C41: Старший сержант | D41: 100975Д | E41: 9
A45: Командир 1 навчальної роти | C45: Богдан ГЕНЗЕЛЬ | F45: 46141
A46: лейтенант

Sheet Аркуш1
A1: Звання | B1: ПІБ | C1: Відпустка
A2: майор | B2: СТЕПАНЮК Дмитро Миколайович
A3: старший лейтенант | B3: ДЕМЯНЧУК Наталія Василівна
A4: лейтенант | B4: ГЕНЗЕЛЬ Богдан Васильович
A5: старший сержант | B5: ПОТАПОВ Олександр Євгенович
A6: старший сержант | B6: КАРПУК Богдан Михайлович
A7: молодший сержант | B7: СІРЕНКО Максим Ігорович
A8: молодший сержант | B8: МИНАЙЛЮК Ігор Миколайович
A9: старший сержант | B9: ВАСИЛЮК Андрій Васильович
A10: старший сержант | B10: ПРОСТАПЧУК Валентин Іванович
A11: сержант | B11: КАЗАКОВ Євген Іванович
A12: старший сержант | B12: ШИМАНСЬКИЙ Георгій Георгійович
A13: старший сержант | B13: ДІДОВЕЦЬ Дмитро Юрійович
... A26: молодший сержант | B26: СТЕПАНОВ Віктор Вікторович

Sheet 2. ООС
A1: 46063 | B1: 2. Облік особового складу
A2: Звання | B2: ПРІЗВИЩЕ (за наявності) Ім'я По батькові (за наявності) | C2: Індекс посади / Індексм посад, які обіймав(ла) | D2: Дати прийняття посади / посад | E2: Звідки прибув | F2: Дата зарахування до списків частини | G2: Наказ про зарахування до списків (дата і номер) | I2: Наказ, на призначення на посаду (дата, чий і номер) | K2: Наказ, на присвоєння останнього звання (дата, чий і номер) | M2: Вид служби | N2: Дата укладання контракту | O2: Дата закінчення контракту / Період призову (для базової військової служби) | P2: РНОКПП (за наявності) | Q2: Серія (за наявності) і номер документа, що посвідчує особу та назва документа | S2: Дата народження | T2: Місце народження | U2: Стать | V2: Ким і коли призваний (прийнятий) на військову службу | X2: Освіта | Y2: Дані про родичів | Z2: Додаткова інформація
A3: =MAX('[1]1. ШПО'!5:5)+1 -> #REF! | B3: =A3+1 -> #REF! | C3: =B3+1 -> #REF! | D3: =C3+1 -> #REF! | E3: =D3+1 -> #REF! | F3: =E3+1 -> #REF! | G3: =F3+1 -> #REF! | I3: =G3+1 -> #REF! | K3: =I3+1 -> #REF! | M3: =K3+1 -> #REF! | N3: =M3+1 -> #REF! | O3: =N3+1 -> #REF! | P3: =O3+1 -> #REF! | Q3: =P3+1 -> #REF! | S3: =Q3+1 -> #REF! | T3: =S3+1 -> #REF! | U3: =T3+1 -> #REF! | V3: =U3+1 -> #REF! | X3: =V3+1 -> #REF! | Y3: =X3+1 -> #REF! | Z3: =Y3+1 -> #REF!
A4: Майор | B4: СТЕПАНЮК Дмитро Миколайович | C4: 0212003 | D4: 10.07.2023 №169 | E4: В/Ч А4350 | F4: 44910 | G4: 44910 | H4: №316 | I4: 45117 | J4: №169 | K4: 45552 | L4: №296 | M4: мобілізація | N4: _ | O4: _ | Q4: УК № 283288 | R4: посвідчення офіцера | S4: 31295 | T4: Вінецька обл. С.Свитинці | U4: Ч | V4: Погребищенським РТЦК та СП | W4: 44734 | X4: Вища КНТУ | Y4: Мати - Степанюк Галина Єфремівна, Вінницька обл. с.Свитинці, вул. Ковалівна 4 | Z4: н 380977401325
A5: Старший лейтенант | B5: ДЕМЯНЧУК Наталія Василівна | C5: 3420003 | D5: 14.11.2024 №370 | E5: Чуднівський РТЦК та СП | F5: 42536 | G5: 42536 | I5: 45610 | J5: №370 | K5: 45529 | L5: №265 | M5: Контракт | N5: 45163 | O5: 46990 | P5: 3191813887 | Q5: УК № 334128 | R5: посвідчення офіцера | S5: 31919 | T5: Житомирська обл. м. Чуднів | U5: Ж | V5: Чуднівський РТЦК та СП | X5: Вища , ЖПУ | Y5: Мати - Кротюк Світлана Василівна , Житомирська обл. , Житомирський рн. , с. Бабушки , вул.Центральна 41 | Z5: н 380977427783
A6: сержант | B6: ПОТАПОВ Олександр Євгенович | C6: 100657Д | D6: 45645 | E6: В/Ч 2582 | F6: 44665 | G6: 45030 | H6: №99 | I6: 45645 | K6: 45652 | L6: №286 | M6: контракт | N6: 45044 | P6: 3725107391 | Q6: АВ 536435 | R6: військовий квиток | S6: 12.27.2001 | T6: м.Приморськ Запоріжської обл | U6: Ч | V6: Приморським РТЦК та СП | W6: 44393 | X6: Середня технічна | Y6: дружина Потапова Ганна Юрієвна М.Житомир вул.старий бульвар 6 кв26 | Z6: _
A7: старший сержант | B7: КАРПУК Богдан Михайлович | C7: 787089Д | E7: А7021 | K7: 37379 | L7: №103 | M7: мобілізація | N7: _ | O7: _ | P7: 3000119857 | Q7: МО493792 | R7: військовий квиток | S7: 30002 | T7: Житомирська обл. , с. Серби | U7: Ч | V7: Ємельчинським РТЦК та СП | W7: 44623 | X7: Середня спеціальна , Машинобудівний технікум | Y7: Дружина - Карпук Ольга Володимирівна , м. Житомир , вул. Бориса Тена 99 , 380987987251 | Z7: н 380508344001
A8: сержант | B8: ВАСИЛЮК Андрій Васильович | C8: 878127Д | D8: 27.08.2024 №246 | E8: 1 відділ Вараського РТЦК та СП | F8: 45531 | G8: 27.08.2024 | I8: 45531 | J8: №246 | K8: 45652 | L8: №286РС | M8: мобілізація | N8: _ | O8: _ | P8: 3725506292 | Q8: АВ624948 | R8: військовий квиток | S8: 37256 | T8: Рівненська обл., с. Володимирець | U8: Ч | V8: 1 відділ Вараського РТЦК та СП | W8: 45531 | X8: Середня-спеціальна | Y8: _ | Z8: Н 380509924716
A9: Молодший лейтенант | B9: БОРОДАВКІН Микола Михайлович | C9: 0212003 | D9: 45371 | E9: Деснянський РТЦК та СП м.Києва | F9: 45007 | G9: 45007 | H9: №82 | I9: 45371 | J9: №80 | K9: 45652 | L9: 286 | M9: контракт | N9: 43913 | O9: 45008 | P9: 3340416053 | Q9: СО №514802 | R9: військовий квиток | S9: 33405 | T9: Казахстанська СРСР, Тургайська обл., Аркаликський р-н, с.Сариузен | U9: Ч | V9: Деснянським РВК м.Києва | W9: 43913 | X9: Середня спеціальна, ПТУ№5 м.Біла Церква | Y9: Дружина_ СЕМЕНОВА Євгенія Олександрівна, м. Київ, вул. Путивльська 42, кв.47, тел-0936634823 | Z9: н 380939143706
A10: Молодший сержант | B10: ЧЕРНЕНКО Андрій Юрійович | C10: 100119Д | D10: 26.02.2025 №58 | E10: Житомирський ОМТЦК та СП | F10: 45714 | G10: 45714 | I10: 45714 | J10: №58 | K10: 40505 | L10: №93 | M10: мобілізація | N10: _ | O10: _ | P10: 3139101050 | Q10: АГ078097 | R10: військовий квиток | S10: 31392 | T10: Одеська обл., Білгород-Дністровський р-н, с. Шабо | U10: Ч | V10: Житомирський ОМТЦК та СП | W10: 45714 | X10: Середня технічна | Y10: Дружина - Черненко Ліля Сергійовна, м. Житомир, вул. Лесі Українки, буд. 63, кв. 47, 0964335049 | Z10: Н 380961426877
A11: капітан | B11: МЕРКУЛОВ Богдан Юрійович | C11: 0212003 | D11: 26.03.2024 , №73 | E11: А2582 | F11: 45377 | G11: 45377 | H11: №73 | I11: 45377 | J11: №73 | K11: 44761 | L11: №130 | M11: Контракт | N11: 43253 | O11: 45079 | P11: 3545608416 | Q11: УК №1044797 | R11: посвідчення офіцера | S11: 35457 | T11: Житомирська обл. , м. Житомир | U11: Ч | V11: Житомирський ОМВК та СП | W11: 41835 | X11: Виша , НАСВ | Y11: Мати - Меркулова Жанна Олександрівна , м. Житомир , вул. Саєнка 128 буд.3, 380972514981 | Z11: н 380994161700
A12: сержант | B12: ПРОСТАПЧУК Валентин Іванович | C12: 100119Д | D12: 21.06.2024 №150 | E12: В/ч А2120 | F12: 45072 | G12: 45072 | H12: №150 | I12: 45464 | J12: №177 | K12: 45652 | L12: №286 | M12: мобілізація | N12: _ | O12: _ | P12: 3625111574 | Q12: АВ378396 | R12: військовий квиток | S12: 36252 | T12: Хмельницька область село Марачівка | U12: Ч | V12: Шепетівським РТЦК та СП | W12: 44760 | X12: середня спеціальна , Острозьке ВПУ | Y12: Простапчук Наталя Володимирівна Хмельницька область місто Славута вулиця Сокола 1А/43 | Z12: н 380983781045
A13: Сержант | B13: КАЗАКОВ Євген Іванович | C13: 100119Д | D13: 44776 | E13: А2120 | F13: 44776 | G13: 44776 | H13: №205 | K13: 45308 | L13: №101 | M13: мобілізація | N13: _ | O13: _ | P13: 3238115012 | Q13: АВ076567 | R13: військовий квиток | S13: 32382 | T13: М. Вінниця | U13: Ч | V13: Вінницьким ОМ ТЦК та СП | W13: 44620 | X13: Вища, Вінницький Державний Педагогічний Університет | Y13: Батько - Казаков Іван Миколайович, м. Вінниця, вул. Ширшова, буд. 16, кв. 79 | Z13: н 38097521 98 84
A14: молодший лейтенант | B14: ГЕНЗЕЛЬ Богдан Васильович | C14: 0212003 | E14: А0310 | F14: 45224 | G14: 45224 | H14: №306 | K14: 45730 | L14: №245 | M14: мобілізація | N14: _ | O14: _ | P14: 3324413571 | Q14: ВН387570 | R14: Паспорт | S14: 33245 | T14: Хжитомирська обл. с.Йосипівка | U14: Ч | V14: Чуднівсько-Любарським РТЦК та СП | W14: 44636 | X14: Вища , ПУЕТ | Y14: Дружина - Гензель Тетяна Василівна , Житомирська обл. смт.Новогуйвінське, вул. Центральна 1а, 38068052575 | Z14: н 380960576993
A15: старший сержант | B15: ШИМАНСЬКИЙ Георгій Георгійович | C15: 101119Д | D15: 21.08.2024 №240 | E15: А0310 | F15: 45525 | G15: 45525 | H15: №240 | I15: 45525 | J15: №240 | K15: 45563 | L15: №190 | M15: мобілізація | N15: _ | O15: _ | P15: 2906511931 | Q15: МО121658 | R15: військовий квиток | S15: 29066 | T15: Житомирська обл. м.Житомир | U15: Ч | V15: Житомирським РТЦК та СП | W15: 44617 | X15: Середня , СПТУ №6 | Y15: Дружина - ШИМАНСЬКА Ольга лЕонідівна , м. Житомир , вул.Чуднівська 102 к.31 , 380634631304 | Z15: н 380931620845
A16: Сержант | B16: ВОЛЧКОВ Віктор Вікторович | C16: 102119Д | D16: 26.11.2024 №337 | E16: А0641 | F16: 45622 | G16: 45622 | H16: №337 | I16: 45622 | J16: №337 | K16: 42332 | L16: №370 | M16: контракт | N16: 44209 | O16: 44939 | P16: 3263802633 | Q16: СО247146 | R16: військовий квиток | S16: 32639 | T16: Донецька обл., м. Селидове | U16: Ч | V16: Красноармійсько-селідовським РВК | W16: 39554 | X16: Середня | Y16: _ | Z16: н 380663010203
A17: Молодший сержант | B17: ІВАНЧІКОВ Андрій Андрійович | C17: 103119Д | D17: 17.03.2025 №77 | E17: А4674 | F17: 45733 | I17: 45733 | J17: №77 | K17: 45045 | L17: №16РС | M17: контракт | N17: 43979 | O17: 45074 | P17: 3705909736 | Q17: АВ513458 | R17: військовий квиток | S17: 37060 | T17: Луганська обл., с. Вільхове | U17: Ч | V17: Біловодський РВК | W17: 43976 | X17: Середня, вища незакінчена | Y17: Мати - Іванчікова Тетяна Олексіївна, м. Харків, пров. Шевченківський, буд. 40, кв. 132, 0955393946 | Z17: н 380506156554
A18: Сержант | B18: КОВАЛЬЧУК Андрій Леонідович | C18: 100119Д | D18: 05.03.2025 №65 | E18: А7306 | F18: 45721 | G18: 45721 | H18: №65 | I18: 45721 | J18: №65 | K18: 45323 | L18: №31-рс | M18: мобілізація | N18: _ | O18: _ | P18: 3406308178 | Q18: АВ725243 | R18: військовий квиток | S18: 34064 | T18: Житомирська обл., смт. Першотравенськ | U18: Ч | V18: Новоград-Волинським РТЦК та СП | W18: 44616 | X18: середня спеціальна ,Житомирський ВПУ | Y18: Сестра - Калюжникова Аліна Вікторівна , Житомирська м. Баранівка, вул Соборна 47 кв1 380968906895 | Z18: н 380951809466
A19: старший сержант | B19: АВГУСТОВИЧ Олександр Олександрович | C19: 102119Д | D19: 07.03.2022 №52 | E19: Житомирським ОМТЦК та СП | F19: 44627 | G19: 44627 | H19: №52 | I19: 44627 | J19: №52 | K19: 45563 | L19: №190РС | M19: Мобілізація | N19: _ | O19: _ | P19: 3340117097 | Q19: АВ179358 | R19: військовий квиток | S19: 33402 | T19: Житомирська обл. , с.Тетерівка | U19: Ч | V19: Житомирським ОМТЦК та СП | W19: 44627 | X19: середня | Y19: Батько - Августович Олександр Миколайович , Житомирська обл. , с. Тетерівка , пр. Третій Поліський 2 , 380979234804 | Z19: н 380635489403
A20: старший сержант | B20: ДІДОВЕЦЬ Дмитро Юрійович | C20: 102119Д | D20: 24.03.2025 №84 | E20: А1414 | F20: 45740 | G20: 45740 | H20: №84 | I20: 45740 | J20: №84 | K20: 45632 | L20: №145-ЗС | M20: Мобілізація | N20: _ | O20: _ | P20: 3534110451 | Q20: АВ184396 | R20: військовий квиток | S20: 35342 | T20: Житомирська обл. ,с.Жадьки | U20: Ч | V20: Житомирський РТЦК та СП | W20: 45275 | X20: середня спеціальна , ВВПУ НТ | Y20: Дружина - Сафонова Надія Олексіївна , Житомирська обл. , с. Жадьки , вул.Шевченка 56 , 380664044837 | Z20: н 380983970149
A21: молодший сержант | B21: ЗЕНЧЕНКО Олександр Миколайович | C21: 100975Д | E21: Полтавський РТЦК та СП в Полтавській обл. | F21: 45717 | G21: 45717 | H21: №61 | K21: 39457 | L21: №5 | M21: мобілізація | N21: - | O21: - | P21: 3229420494 | Q21: АВ 963126 | R21: військовий квиток | S21: 32295 | T21: Сумська обл., м. Шостка | U21: Ч | V21: Полтавський РТЦК та СП в Полтавській обл. | W21: 45716 | X21: середня спеціальна, Шостинське ВПУ и№19, 2007 | Y21: мати- Кравченко Тетяна Анатоліївна, 04.06.1963, Сумська обл., м. Шостка , вул. Миру буд.10а к.39, 380952448136 | Z21: н 380990566122
A22: солдат | B22: ПОДОПРИГОРА Олександр Васильович | C22: 100975Д | E22: Дарницький РТЦК та СП м. Київ | F22: 45370 | G22: 45370 | H22: №79 | K22: 45352 | L22: №22 | M22: мобілізація | N22: - | O22: - | P22: 3226815576 | Q22: 7668077 | R22: паспорт | S22: 32269 | T22: Сумська обл., м. Ромни | U22: Ч | V22: Дарницький РТЦК та СП м. Київ | W22: 45369 | X22: вища, Сумський НАУ | Y22: мама- Подопригора Лідія Дмитрівна, 08.02.1954,Сумська обл. Роминський р-н., с. Перекопівка , вул. Космонавтів буд.70., 0632410419 | Z22: н 380932614622
A23: лейтенант | B23: БРИГА Олександр Генадійович | C23: 212003 | D23: 45723 | E23: Вінницький РТЦК та СП м. Вінниця | F23: 45782 | G23: 45782 | I23: 45782 | K23: 45723 | M23: мобілізація | N23: - | O23: - | P23: 2933407416 | Q23: УК334311 | R23: військовий квиток | S23: 29335 | T23: Вінницька обл. м. Вінниця | U23: Ч | V23: Вінницький РТЦК та СП м. Вінниця | W23: 45008 | X23: вища Вінницький державний технічний університет | Y23: Сестра: Бригова Ольга Генадіївна. Вінницька обл., м. Вінниця, другий провулок Топольського, буд. 1Б. Тел: 0673668653 | Z23: н 0980553675
A24: молодший сержант | B24: МИНАЙЛЮК Ігор Миколайович | C24: 100975Д | D24: 45824 | E24: А4355 | F24: 45824 | G24: 45824 | I24: 45824 | J24: №172 | K24: 45682 | L24: №32-РС | M24: мобілізація | N24: - | O24: - | P24: 3489301438 | Q24: АВ 640095 | R24: військовий квиток | S24: 34894 | T24: Івано-Франківська обл., Верховинський р-н., с. Кривопілля | U24: Ч | V24: Верховинський РТЦК та СП Івано-Франквської обл. | W24: 44805 | X24: середня спеціальна, Івано-Франківський професійний будівельний ліцей | Y24: мати: Минайлюк НаталяВасилівна, Івано-Франківська обл., Верховинський р-н., с. Кривопілля 0971731452 | Z24: н 0963327474
A25: лейтенант | B25: КУХАРЕНКО Віталій Володимирович | C25: 0212003 | D25: 45873 | E25: А4926 | F25: 45802 | I25: 45865 | J25: №287 | K25: 45724 | L25: №84 | M25: мобілізація | N25: - | O25: - | P25: 2767000515 | Q25: УК 358794 | R25: посвідчення офіцера | S25: 27671 | T25: смт. Великий Бурлук, Харківська обл. | U25: Ч | V25: Шевченківський РТЦК та СП м. КиЇв | W25: 44616 | X25: Вища | Y25: Син - КУХАРЕНКО Олександр Віталійович, 29.07.1993, смт Доброслав, Одеський р-н, вул. Молодіжна 17, 0638140686. Син - КУХАРЕНКО Сергій Віталійович, 21.06.2002, м. Харків, 0981237127 | Z25: н380950551742
A26: молодший сержант | B26: ШЕВЧЕНКО Володимир Сергійович | C26: 100975Д | D26: 45854 | E26: А5039 | F26: 45709 | G26: 45709 | H26: №53 | K26: 45511 | L26: №220-РС | M26: мобілізація | P26: 3313010751 | Q26: АВ 703834 | R26: військовий квиток | S26: 33131 | T26: Білогородська обл, с. Грайворон | U26: Ч | V26: Сумський МТЦК та СП | W26: 44698 | X26: середня-технічна СТХП - НУХТ, 2009 | Y26: мати - Шевченко Марина Олегівна - 15.10.1963 - 0957321367 - м. Суми, вул. М. - Вовчка, буд. 15, кв. 27 | Z26: 634600518
A27: солдат | B27: СІРЕНКО Максим Ігорович | C27: 878127Д | F27: 45792 | G27: 15.05.2025 № 138 | H27: № 138 | M27: мобілізація | N27: - | O27: - | P27: 3398501591 | Q27: паспорт | R27: АВ 877598 Хмільницьким МВ УМВС УКР в Вінницькій обл 08.12.2009 | S27: 33986 | T27: м.Хмільник (Віницька обл.) | U27: Ч | V27: першого відділу Хмільницького районного | W27: 45792 | X27: професійно- технічна | Y27: мати: Вахівська Алла Михайлівна (Німечина.Кельн) - 0972382292 | Z27: 631531696
A28: головний сержант | B28: РАЖИК Денис Петрович | C28: 100975Д | D28: 46000 | E28: А2900 | F28: 45142 | G28: №223 | K28: 45721 | L28: №72-РС | M28: контракт | N28: 45794 | O28: 46890 | P28: 3432209754 | Q28: Військовий квиток | R28: АГ351239 | S28: 34323 | T28: с. Остки, Ракітнівський р-н, Рівненська обл. | U28: Ч | V28: Рокитнівським РВК та СП | W28: 45791 | X28: середня спеціальна Березнівський лісовий коледж | Y28: дружина: Ражик Катерина Валентинівна, 0966721198 м. Житомир | Z28: н0954452571
A29: майстер сержант | B29: ЮЩИШИН Ігор Дмитрович | C29: 100975Д | D29: 45664 | E29: Дарницький ТЦК СП м .Київ | F29: 45482
A30: старший сержант | B30: Виногродський Тарас Миколайович | C30: 100975Д | D30: 46003 | E30: Житомирським ОМТЦК та СП | F30: 45716 | G30: 45716 | H30: №60 | I30: 45999 | J30: №315-РС | K30: №819-с | L30: 43080 | M30: мобілізація | P30: 3413112210 | Q30: паспорт | R30: СТ141051 Баранівським РУМВС у Житомирсьеій обл. 18.09.2009 | S30: 34132 | T30: м. Житомир | U30: Ч | V30: Житомирським ОМТЦК та СП | W30: 45716 | X30: середня спеціальна , Рогачів-Волинська філія новочорторейського державного аграрного технікума | Y30: мати: Виногродска Тамара Володимирівна, 30.05.1964, Житомирська обл. Баранівський район, с. Камʼяний Брід, вул. Доабиська, буд. 6, 0662162982 | Z30: н0501637558
A31: Молодший лейтенант | B31: Корсун Євгеній Іванович | C31: 0212003 | E31: А0284 | G31: 45950 | H31: №378 | K31: №245 | L31: 45730 | M31: мобілізація | P31: 3447002375 | Q31: посвідчення офіцера | R31: 436624 | S31: 34471 | T31: смт. Чорнухи Полтавської обл. | U31: Ч | V31: 3 відділ Лубенського РТЦК та СП | W31: 45576 | X31: вища, національний юридичний університет ім. Я. Мудрого, Харків | Y31: дружина: Корсун Вікторія Віталіївна, 19.10.94, Київська обл. Бучанський р-н., с. Софіївська Борщагівка, вул. Яблунева, 9Г, кв. 276, 0951657408 | Z31: н0951990187
A32: майстер-сержант | B32: ІВАНОВ Олександр Олександрович | C32: 0212003 | D32: 27.11.2025 року | E32: в/ч А4909 | F32: 45988 | I32: 24.11.2025 року | J32: №306 РС | K32: 45771 | L32: №126-РС | M32: контракт | N32: 19.06.2024 року | O32: 19.06.2026 року | P32: 3380501332 | Q32: СО869145 | R32: військовий квиток | S32: 33806 | T32: Чернігівська обл., смт. Варва | U32: Ч | V32: Прилуцько-Варвинським ОМВК | W32: 42963 | X32: неповна вища Камʼянець-Подільський аграрний університет | Y32: батько: Іванов Олександр Олександрович, Чернігівська обл., смт. Варва, 0665273813 | Z32: 957496643
A33: Молодший сержант | B33: Степанов Віктор Вікторович | C33: 100975Д | D33: 46013 | E33: Житомирський ОМТЦК та СП | F33: 46013 | G33: 46013 | H33: №370 | M33: мобілізація | P33: 3431000394 | Q33: АГ366581 | R33: військовий квиток | S33: 34311 | T33: м. Донецьк | U33: Ч | V33: Житомирський ОМТЦК та СП | W33: 41387 | X33: неповна вища Малинський фаховий коледж, 2022 | Y33: одружений, дружина: Степанова Ольга Миколаївна, 1994, м. Житомир, вул. Велика Бердичівська, буд. 69, кв. 50, 0985073573 | Z33: 985811588
B34: Командир 1 навчальної роти
B35: майор | D35: Дмитро СТЕПАНЮК | F35: 46063

Sheet 3. Виключені
A1: 4
AD2: Продовження додатка 1
A3: 46063 | B3: 3. Виключений особовий склад
A4: Звання | B4: ПРІЗВИЩЕ (за наявності) Ім'я По батькові (за наявності) | C4: Індекс посади / Індексм посад, які обіймав(ла) | D4: Дати прийняття посади / посад | E4: Звідки прибув | F4: Дата зарахування до списків частини | G4: Наказ про зарахування до списків (дата і номер) | I4: Наказ, на призначення на посаду (дата, чий і номе) | K4: Наказ, на присвоєння останнього звання (дата, чий і номер) | M4: Вид служби | N4: Дата укладання контракту | O4: Дата закінчення контракту / Період призову (для базової військової служби) | P4: РНОКПП (за наявності) | Q4: Серія (за наявності) і номер документа, що посвідчує особу та назва документа | S4: Дата народження | T4: Місце народження | U4: Стать | V4: Ким і коли призваний (прийнятий) на військову службу | X4: Освіта | Y4: Дані про родичів | Z4: Додаткова інформація | AA4: Дата виключення із списків та номер наказу | AB4: Наказ про виключення із списків (дата і номер) | AD4: Куди вибув / Куди направлені документи | AE4: Підстава виключення зі списків
A5: =MAX('2. ООС'!3:3)+1 -> #REF! | B5: =A5+1 -> #REF! | C5: =B5+1 -> #REF! | D5: =C5+1 -> #REF! | E5: =D5+1 -> #REF! | F5: =E5+1 -> #REF! | G5: =F5+1 -> #REF! | I5: =G5+1 -> #REF! | K5: =I5+1 -> #REF! | M5: =K5+1 -> #REF! | N5: =M5+1 -> #REF! | O5: =N5+1 -> #REF! | P5: =O5+1 -> #REF! | Q5: =P5+1 -> #REF! | R5: =Q5+1 -> #REF! | S5: =R5+1 -> #REF! | T5: =S5+1 -> #REF! | U5: =T5+1 -> #REF! | V5: =U5+1 -> #REF! | X5: =V5+1 -> #REF! | Y5: =X5+1 -> #REF! | Z5: =Y5+1 -> #REF! | AA5: =Z5+1 -> #REF! | AB5: =AA5+1 -> #REF! | AD5: =AB5+1 -> #REF! | AE5: =AD5+1 -> #REF!
B11: Командир 1 навчальної роти
B12: Майор | C12: Дмитро СТЕПАНЮК 01.02.2026

Sheet 4. Тимчасово прибулі
A1: 5
L2: Продовження додатка 1
A3: 46063 | B3: 4. Тимчасово прибулий особовий склад
A4: Звання | B4: ПРІЗВИЩЕ (за наявності) Ім'я По батькові (за наявності) | C4: Посада | D4: Звідки прибув | E4: Підстава прибуття | F4: Дата прибуття | G4: Дата і номер наказу на прибуття | I4: Дата вибуття | J4: Дата і номер наказу на вибуття | L4: Додаткова інформація
A5: =MAX('3. Виключені'!5:5)+1 -> #REF! | B5: =A5+1 -> #REF! | C5: =B5+1 -> #REF! | D5: =C5+1 -> #REF! | E5: =D5+1 -> #REF! | F5: =E5+1 -> #REF! | G5: =F5+1 -> #REF! | I5: =G5+1 -> #REF! | J5: =I5+1 -> #REF! | L5: =J5+1 -> #REF!
A6: Солдат | B6: САГАЙДАК Микола Миколайович | C6: Курсант | D6: А4350 | E6: Наказ командира в\ч А2900 | F6: 45588 | G6: 45588 | H6: № 303 | L6: (095)5643784
A7: старший Солдат | B7: БУТКОВСЬКИЙ Рустам Олегович | C7: Курсант | D7: А4472 | E7: Наказ командира в\ч А2900 | F7: 45353 | G7: 45353 | H7: № 62 | L7: (095)0219929
A8: старший сержант | B8: АВГУСТОВИЧ Олександр Олександрович | C8: Курсант | D8: А2900 | E8: Наказ командира в\ч А2900 | F8: 28.08.2025 | G8: 28.08.2025 | L8: 380635489403
A9: Солдат | B9: КОВАЛЕНКО Віктор Анатолійович | C9: Курсант | D9: А2582 | E9: Наказ командира в\ч А2900 | F9: 45665 | G9: 45665 | H9: №8 | L9: (0977578813
A10: Солдат | B10: ТИХОМИРОВ Євгеній Валерійович | C10: Курсант | D10: А4350 | E10: Наказ командира в\ч А2900 | F10: 45589 | G10: 45589 | H10: №304 | L10: (096)5390639
A11: Солдат | B11: ПЕЛЕХ Олег Михайлович | C11: Курсант | D11: А2582 | E11: Наказ командира в\ч А2900 | F11: 45665 | G11: 45665 | H11: №8 | L11: (068)0423890
A12: Солдат | B12: ВАРЬОНОВ Олександр Валентинович | C12: Курсант | D12: А4355 | E12: Наказ командира в\ч А2900 | F12: 45642 | G12: 45643 | H12: №368
A13: Солдат | B13: НІКОЛЬЧЕНКО Євгеній Олександрович | C13: Курсант | D13: А4355 | E13: Наказ командира в\ч А2900 | F13: 45600 | G13: 45600 | H13: №315 | L13: (096)5858979
A14: солдат | B14: ДЕРЕВИЦЬКИЙ Віктор Миколайович | C14: курсант | E14: Наказ командира в\ч А2900 | F14: 45782
A15: старший Солдат | B15: Чижук Євгеній Миколайович | C15: курсант | D15: А2120 | E15: Наказ командира в\ч А2900 | F15: 45827 | L15: 0972332665
A16: солдат | B16: БОБРОВ Андрій Юрійович | C16: курсант | D16: А2900 | E16: Наказ командира в\ч А2901 | F16: 45889 | G16: 45891 | L16: 0933813090
A17: солдат | B17: КАЛИН Степан Степанович | C17: курсант | D17: А4350 | E17: Наказ командира в\ч А2900 | F17: 45835 | G17: 03.06.202 | H17: №159 | L17: 0688679559
B20: Командир 1 навчальної роти
B21: майор | D21: Дмитро СТЕПАНЮК | F21: 46054

Sheet 5. Тимчасово відсутні
A1: 6
N2: Продовження додатка 1
A3: 31.02.2026 | B3: 5. Тимчасово відсутній особовий склад
A4: Звання | B4: ПРІЗВИЩЕ (за наявності) Ім'я По батькові (за наявності) | C4: Індекс посади | D4: Підстава вибуття | E4: Місце вибуття | F4: Дата вибуття | G4: Дата і номер наказу на вибуття | I4: Строк вибуття (якщо невідомо - "?") | J4: Дата планового повернення (якщо невідомо - "?") | K4: Фактична дата прибуття | L4: Дата і номер наказу на прибуття | N4: Додаткова інформація
A5: =MAX('4. Тимчасово прибулі'!5:5)+1 -> #REF! | B5: =A5+1 -> #REF! | C5: =B5+1 -> #REF! | D5: =C5+1 -> #REF! | E5: =D5+1 -> #REF! | F5: =E5+1 -> #REF! | G5: =F5+1 -> #REF! | I5: =G5+1 -> #REF! | J5: =I5+1 -> #REF! | K5: =J5+1 -> #REF! | L5: =K5+1 -> #REF! | N5: =L5+1 -> #REF!
A6: лейтенант | B6: БРИГА Олександр Геннадійович | C6: 212003 | D6: відпустка | E6: А2900 | F6: 45958 | G6: 45959 | I6: 30 | J6: 45988 | K6: 45988 | N6: Відпустка за станом здоровʼя
A7: солдат | B7: ЗЕНЧЕНКО Олександр Миколайович | C7: 100975Д | D7: шпиталь | E7: А2900 | F7: 45981 | I7: ? | J7: ? | N7: Шпиталь
A8: сержант | B8: КОВАЛЬЧУК Андрій Леонідович | C8: 100119Д | D8: шпиталь | E8: А2900 | F8: 45985 | I8: ? | J8: ? | N8: Шпиталь
A9: старший лейтенант | B9: ДЕМЯНЧУК Наталія Василівна | C9: 3420003 | D9: шпиталь | E9: А2900 | F9: 45975 | J9: ? | K9: 45985 | N9: Шпиталь
B13: Командир 1 навчальної роти
B14: Майор | C14: Дмитро СТЕПАНЮК 01.02.2026

Sheet 6. Табель
A1: 46054
AE2: Продовження додатка 1
A3: 46054 | B3: 6. Табель особового складу
A4: Звання | B4: ПРІЗВИЩЕ (за наявності) Ім'я По батькові (за наявності) | C4: 1 | D4: 2 | E4: 3 | F4: 4 | G4: 5 | H4: 6 | I4: 7 | J4: 8 | K4: 9 | L4: 10 | M4: 11 | N4: 12 | O4: 13 | P4: 14 | Q4: 15 | R4: 16 | S4: 17 | T4: 18 | U4: 19 | V4: 20 | W4: 21 | X4: 22 | Y4: 23 | Z4: 24 | AA4: 25 | AB4: 26 | AC4: 27 | AD4: 28 | AE4: 29 | AF4: 30 | AG4: 31
A5: 1 НАВЧАЛЬНА РОТА
A6: УПРАВЛІННЯ
A7: майор | B7: СТЕПАНЮК Дмитро Миколайович | C7: + | D7: + | E7: + | F7: + | G7: + | H7: + | I7: + | J7: + | K7: + | L7: + | M7: + | N7: + | O7: + | P7: + | Q7: + | R7: + | S7: + | T7: + | U7: + | V7: + | W7: + | X7: + | Y7: + | Z7: + | AA7: + | AB7: + | AC7: + | AD7: + | AE7: + | AF7: + | AG7: +
A8: старший лейтенант | B8: ДЕМЯНЧУК Наталія Василівна | C8: + | D8: + | E8: + | F8: + | G8: + | H8: + | I8: + | J8: + | K8: + | L8: + | M8: + | N8: + | O8: + | P8: + | Q8: + | R8: + | S8: + | T8: + | U8: + | V8: + | W8: + | X8: + | Y8: + | Z8: ш | AA8: ш | AB8: ш | AC8: ш | AD8: ш | AE8: ш | AF8: ш | AG8: ш
A9: старший сержант | B9: ПОТАПОВ Олександр Євгенович | C9: + | D9: + | E9: + | F9: + | G9: + | H9: + | I9: + | J9: + | K9: + | L9: + | M9: + | N9: + | O9: + | P9: + | Q9: + | R9: + | S9: + | T9: + | U9: + | V9: + | W9: + | X9: + | Y9: + | Z9: + | AA9: + | AB9: + | AC9: + | AD9: + | AE9: + | AF9: + | AG9: +
A10: старший сержант | B10: КАРПУК Богдан Михайлович | C10: + | D10: + | E10: + | F10: + | G10: + | H10: + | I10: + | J10: + | K10: + | L10: + | M10: + | N10: + | O10: + | P10: + | Q10: + | R10: + | S10: + | T10: + | U10: + | V10: + | W10: + | X10: + | Y10: + | Z10: + | AA10: + | AB10: + | AC10: + | AD10: + | AE10: + | AF10: + | AG10: +
A11: молодший сержант | B11: СІРЕНКО Максим Ігорович | C11: + | D11: + | E11: + | F11: + | G11: + | H11: + | I11: + | J11: + | K11: + | L11: + | M11: + | N11: + | O11: + | P11: + | Q11: + | R11: + | S11: + | T11: Відр | U11: Відр | V11: Відр | W11: Відр | X11: Відр | Y11: Відр | Z11: Відр | AA11: Відр | AB11: Відр | AC11: Відр | AD11: Відр | AE11: Відр | AF11: Відр | AG11: Відр
A12: сержант | B12: КОВАЛЬЧУК Андрій Леонідович | C12: + | D12: + | E12: + | F12: + | G12: + | H12: + | I12: + | J12: + | K12: + | L12: + | M12: + | N12: + | O12: + | P12: + | Q12: + | R12: + | S12: + | T12: + | U12: + | V12: + | W12: + | X12: + | Y12: + | Z12: + | AA12: + | AB12: + | AC12: + | AD12: + | AE12: + | AF12: + | AG12: +
A13: молодший сержант | B13: ІВАНЧІКОВ Андрій Андрійович | C13: Відр | D13: Відр | E13: Відр | F13: Відр | G13: Відр | H13: Відр | I13: Відр | J13: Відр | K13: Відр | L13: Відр | M13: Відр | N13: Відр | O13: Відр | P13: Відр | Q13: Відр | R13: Відр | S13: Відр | T13: Відр | U13: + | V13: + | W13: Відр | X13: Відр | Y13: Відр | Z13: Відр | AA13: Відр | AB13: Відр | AC13: Відр | AD13: Відр | AE13: Відр | AF13: Відр | AG13: Відр
A14: сержант | B14: ВОЛЧКОВ Віктор Вікторович | C14: + | D14: + | E14: + | F14: + | G14: + | H14: + | I14: + | J14: + | K14: + | L14: + | M14: + | N14: + | O14: + | P14: + | Q14: + | R14: + | S14: + | T14: + | U14: + | V14: + | W14: + | X14: + | Y14: + | Z14: + | AA14: + | AB14: + | AC14: + | AD14: + | AE14: + | AF14: + | AG14: +
A15: старший сержант | B15: ШИМАНСЬКИЙ Георгій Георгійович | C15: + | D15: + | E15: + | F15: + | G15: + | H15: + | I15: + | J15: + | K15: + | L15: + | M15: + | N15: + | O15: + | P15: + | Q15: + | R15: + | S15: + | T15: + | U15: + | V15: + | W15: + | X15: + | Y15: + | Z15: + | AA15: + | AB15: + | AC15: + | AD15: + | AE15: + | AF15: + | AG15: +
A16: сержант | B16: КАЗАКОВ Євген Іванович | C16: Відр | D16: Відр | E16: Відр | F16: Відр | G16: Відр | H16: Відр | I16: Відр | J16: Відр | K16: Відр | L16: Відр | M16: Відр | N16: Відр | O16: Відр | P16: Відр | Q16: Відр | R16: Відр | S16: Відр | T16: Відр | U16: Відр | V16: Відр | W16: Відр | X16: Відр | Y16: + | Z16: + | AA16: + | AB16: + | AC16: + | AD16: + | AE16: + | AF16: + | AG16: +
A17: старший сержант | B17: ПРОСТАПЧУК Валентин Іванович | C17: Відр | D17: Відр | E17: Відр | F17: Відр | G17: Відр | H17: Відр | I17: Відр | J17: Відр | K17: Відр | L17: + | M17: + | N17: + | O17: + | P17: + | Q17: + | R17: + | S17: + | T17: + | U17: + | V17: + | W17: + | X17: + | Y17: + | Z17: + | AA17: + | AB17: + | AC17: + | AD17: + | AE17: + | AF17: + | AG17: +
A18: старший сержант | B18: ВАСИЛЮК Андрій Васильович | C18: + | D18: + | E18: + | F18: + | G18: + | H18: + | I18: + | J18: + | K18: + | L18: + | M18: + | N18: + | O18: + | P18: + | Q18: + | R18: + | S18: + | T18: + | U18: + | V18: + | W18: + | X18: + | Y18: + | Z18: + | AA18: + | AB18: + | AC18: + | AD18: + | AE18: + | AF18: + | AG18: +
... A20: молодший сержант | B20: МИНАЙЛЮК Ігор Миколайович | C20: Відр | D20: Відр | E20: Відр | F20: Відр | G20: Відр | H20: + | I20: + | J20: + | K20: + | L20: + | M20: + | N20: + | O20: + | P20: + | Q20: + | R20: + | S20: + | T20: + | U20: + | V20: + | W20: + | X20: + | Y20: + | Z20: + | AA20: + | AB20: + | AC20: + | AD20: + | AE20: + | AF20: + | AG20: +
A21: 1 НАВЧАЛЬНИЙ ВЗВОД
A22: молодший лейтенант | B22: БОРОДАВКІН Микола Михайлович | C22: + | D22: + | E22: + | F22: + | G22: + | H22: + | I22: + | J22: + | K22: + | L22: + | M22: + | N22: + | O22: + | P22: + | Q22: + | R22: + | S22: + | T22: + | U22: + | V22: + | W22: + | X22: + | Y22: + | Z22: + | AA22: + | AB22: + | AC22: + | AD22: + | AE22: + | AF22: + | AG22: +
A23: солдат | B23: САКСОНІК Олександр Петрович | C23: + | D23: + | E23: + | F23: + | G23: + | H23: + | I23: + | J23: + | K23: + | L23: + | M23: + | N23: + | O23: + | P23: + | Q23: + | R23: + | S23: + | T23: + | U23: + | V23: + | W23: + | X23: + | Y23: + | Z23: + | AA23: + | AB23: + | AC23: + | AD23: + | AE23: + | AF23: + | AG23: +
A24: 2 НАВЧАЛЬНИЙ ВЗВОД
A25: майстер-сержант | B25: ІВАНОВ Олександр Олександрович | P25: + | Q25: + | R25: + | S25: + | T25: + | U25: + | V25: + | W25: + | X25: + | Y25: + | Z25: + | AA25: + | AB25: + | AC25: + | AD25: + | AE25: + | AF25: +
A26: солдат | B26: ЗЕНЧЕНКО Олександр Миколайович | C26: відп | D26: відп | E26: відп | F26: відп | G26: відп | H26: відп | I26: відп | J26: відп | K26: відп | L26: відп | M26: відп | N26: відп | O26: відп | P26: + | Q26: + | R26: + | S26: + | T26: + | U26: + | V26: + | W26: + | X26: + | Y26: + | Z26: + | AA26: + | AB26: + | AC26: + | AD26: + | AE26: + | AF26: + | AG26: +
A27: 3 НАВЧАЛЬНИЙ ВЗВОД
A28: лейтенант | B28: БРИГА Олександр Генадійович | C28: + | D28: + | E28: + | F28: + | G28: + | H28: + | I28: + | J28: + | K28: + | L28: + | M28: + | N28: + | O28: + | P28: + | Q28: + | R28: + | S28: + | T28: + | U28: + | V28: + | W28: + | X28: + | Y28: + | Z28: + | AA28: + | AB28: + | AC28: + | AD28: + | AE28: + | AF28: + | AG28: +
A29: солдат | B29: ПЛЮЩЕНКО Андрій Вікторович | C29: + | D29: + | E29: + | F29: + | G29: + | H29: + | I29: + | J29: Відр | K29: Відр | L29: Відр | M29: Відр | N29: Відр | O29: Відр | P29: Відр | Q29: Відр | R29: Відр | S29: Відр | T29: Відр | U29: Відр | V29: Відр | W29: Відр | X29: Відр | Y29: Відр | Z29: Відр | AA29: Відр | AB29: Відр | AC29: Відр | AD29: Відр | AE29: Відр | AF29: Відр | AG29: Відр
A30: 4 НАВЧАЛЬНИЙ ВЗВОД
A32: старший сержант | B32: ВИНОГРОДСЬКИЙ Тарас Миколайович | C32: + | D32: + | E32: + | F32: + | G32: + | H32: + | I32: + | J32: + | K32: + | L32: + | M32: + | N32: + | O32: + | P32: + | Q32: + | R32: + | S32: + | T32: + | U32: + | V32: + | W32: + | X32: + | Y32: + | Z32: + | AA32: + | AB32: + | AC32: + | AD32: + | AE32: + | AF32: + | AG32: +
A33: 5 НАВЧАЛЬНИЙ ВЗВОД
A34: молодший сержант | B34: ЧЕРНЕНКО Андрій Юрійович | C34: + | D34: + | E34: + | F34: + | G34: + | H34: + | I34: + | J34: + | K34: Ш | L34: Ш | M34: Ш | N34: Ш | O34: Ш | P34: Ш | Q34: Ш | R34: Ш | S34: Ш | T34: Ш | U34: Ш | V34: Ш | W34: Ш | X34: Ш | Y34: + | Z34: + | AA34: + | AB34: + | AC34: + | AD34: + | AE34: + | AF34: + | AG34: +
A36: 6 НАВЧАЛЬНИЙ ВЗВОД
A37: головний сержант | B37: РАЖИК Денис Петрович | C37: + | D37: + | E37: + | F37: + | G37: + | H37: + | I37: + | J37: + | K37: + | L37: + | M37: + | N37: + | O37: + | P37: + | Q37: + | R37: + | S37: + | T37: + | U37: + | V37: + | W37: + | X37: + | Y37: + | Z37: + | AA37: + | AB37: + | AC37: + | AD37: + | AE37: + | AF37: + | AG37: +
A38: молодший сержант | B38: СТЕПАНОВ Віктор Вікторович | C38: + | D38: + | E38: + | F38: + | G38: + | H38: + | I38: + | J38: + | K38: + | L38: + | M38: + | N38: + | O38: + | P38: + | Q38: + | R38: + | S38: + | T38: + | U38: + | V38: + | W38: + | X38: + | Y38: + | Z38: + | AA38: + | AB38: ш | AC38: ш | AD38: ш | AE38: ш | AF38: ш | AG38: ш
A39: 7 НАВЧАЛЬНИЙ ВЗВОД
A40: молодший лейтенант | B40: ГЕНЗЕЛЬ Богдан Васильович | C40: + | D40: + | E40: + | F40: + | G40: + | H40: + | I40: + | J40: + | K40: + | L40: + | M40: + | N40: + | O40: + | P40: + | Q40: + | R40: + | S40: + | T40: + | U40: + | V40: + | W40: + | X40: + | Y40: + | Z40: + | AA40: + | AB40: + | AC40: + | AD40: + | AE40: + | AF40: + | AG40: +
A42: На продовольчому забезпеченні в 1 НАВЧАЛЬНІЙ РОТІ перебуває | C42: =COUNTIF(C7:C41,"+") -> 19 | D42: =COUNTIF(D7:D41,"+") -> 19 | E42: =COUNTIF(E7:E41,"+") -> 19 | F42: =COUNTIF(F7:F41,"+") -> 19 | G42: =COUNTIF(G7:G41,"+") -> 19 | H42: =COUNTIF(H7:H41,"+") -> 20 | I42: =COUNTIF(I7:I41,"+") -> 20 | J42: =COUNTIF(J7:J41,"+") -> 19 | ... AG42: =COUNTIF(AG7:AG41,"+") -> 19
A44: Особа, яка проводила вечірню повірку
A47: Командир 1 навчальної роти
...

Sheet 7. Безповоротні втрати
A1: 8
T2: Продовження додатка 1
A3: 31.11.2025 | B3: 7. Облік безповоротніх втрат
A4: Військове звання | B4: ПРІЗВИЩЕ (за наявності) Ім'я По батькові (за наявності) | C4: Індекс посади | D4: Вид військової служби | E4: РНОКПП (за наявності) | F4: Серія (за наявності) і номер документа, що посвідчує особу та назва документа | H4: Дата народження | I4: Місце народження | J4: Ким і коли призваний (прийнятий) на військову службу | L4: Прізвище (за наявності), власне ім’я, по батькові (за наявності) дружини (чоловіка), батька, матері або близького родича, місце проживання (перебування) членів сім’ї (близьких родичів) | M4: Вид втрати | N4: Дата безповоротної втрати | O4: Обставини, що призвели до втрат особового складу | P4: Місце втрат особового складу | Q4: Дата виключення із списків | R4: Наказ про виключення із списків (дата і номер) | T4: Кому, за яким номером і коли надіслано сповіщення | U4: Місце і дата поховання (імовірне місце перебування)
A5: =MAX('5. Тимчасово відсутні'!5:5)+1 -> #REF! | B5: =A5+1 -> #REF! | C5: =B5+1 -> #REF! | D5: =C5+1 -> #REF! | E5: =D5+1 -> #REF! | F5: =E5+1 -> #REF! | H5: =F5+1 -> #REF! | I5: =H5+1 -> #REF! | J5: =I5+1 -> #REF! | L5: =J5+1 -> #REF! | M5: =L5+1 -> #REF! | N5: =M5+1 -> #REF! | O5: =N5+1 -> #REF! | P5: =O5+1 -> #REF! | Q5: =P5+1 -> #REF! | R5: =Q5+1 -> #REF! | T5: =R5+1 -> #REF! | U5: =T5+1 -> #REF!
B7: Командир 1 навчальної роти
B8: Майор | C8: Дмитро СТЕПАНЮК 01.02.2026

Sheet 8. Статистичний облік
A1: 9
AW2: Продовження додатка 1
A3: 45736 | B3: 8. Зведений статистичний облік
A4: Підрозділи | B4: По штату | F4: По списку | J4: В наявності | N4: На продовольчому забезпеченні | O4: Відсутні | S4: Причини відсутності
S5: Відпустка | W5: Лікування | AA5: Відрядження | AE5: СЗЧ | AI5: Загиблі | AM5: Зниклі безвісти | AQ5: Полон | AU5: Інші
B6: Офіцери | C6: Сержанти | D6: Солдати | E6: Працівники | F6: Офіцери | G6: Сержанти | H6: Солдати | I6: Працівники | J6: Офіцери | K6: Сержанти | L6: Солдати | M6: Працівники | O6: Офіцери | P6: Сержанти | Q6: Солдати | R6: Працівники | S6: Офіцери | T6: Сержанти | U6: Солдати | V6: Працівники | W6: Офіцери | X6: Сержанти | Y6: Солдати | Z6: Працівники | AA6: Офіцери | AB6: Сержанти | AC6: Солдати | AD6: Працівники | AE6: Офіцери | AF6: Сержанти | AG6: Солдати | AH6: Працівники | AI6: Офіцери | AJ6: Сержанти | AK6: Солдати | AL6: Працівники | AM6: Офіцери | AN6: Сержанти | AO6: Солдати | AP6: Працівники | AQ6: Офіцери | AR6: Сержанти | AS6: Солдати | AT6: Працівники | AU6: Офіцери | AV6: Сержанти | AW6: Солдати | AX6: Працівники
A7: =MAX('7. Безповоротні втрати'!5:5)+1 -> #REF! | B7: =A7+1 -> #REF! | F7: =B7+1 -> #REF! | J7: =F7+1 -> #REF! | N7: =J7+1 -> #REF! | O7: =N7+1 -> #REF! | S7: =O7+1 -> #REF! | W7: =S7+1 -> #REF! | AA7: =W7+1 -> #REF! | AE7: =AA7+1 -> #REF! | AI7: =AE7+1 -> #REF! | AM7: =AI7+1 -> #REF! | AQ7: =AM7+1 -> #REF! | AU7: =AQ7+1 -> #REF!
A8: ВСЬОГО | B8: =SUM(B9:B12) -> 11 | C8: =SUM(C9:C12) -> 17 | D8: =SUM(D9:D12) -> 0 | E8: =SUM(E9:E12) -> 0 | F8: 7 | G8: 15 | H8: =SUM(H9:H12) -> 0 | I8: =SUM(I9:I12) -> 0 | J8: 6 | K8: 12 | L8: =SUM(L9:L12) -> 0 | M8: =SUM(M9:M12) -> 0 | N8: =J8+K8+L8+M8 -> 18 | O8: =SUM(O9:O12) -> 1 | P8: 3 | Q8: =SUM(Q9:Q12) -> 0 | R8: =SUM(R9:R12) -> 0 | S8: =SUM(S9:S12) -> 1 | T8: =SUM(T9:T12) -> 1 | U8: =SUM(U9:U12) -> 0 | V8: =SUM(V9:V12) -> 0 | W8: =SUM(W9:W12) -> 0 | X8: =SUM(X9:X12) -> 0 | ... AX8: =SUM(AX9:AX12) -> 0
A9: 1 НАВЧАЛЬНА РОТА | B9: 11 | C9: 17 | D9: 0 | E9: 0 | F9: 7 | G9: 15 | H9: 0 | I9: 0 | J9: 6 | K9: 12 | L9: 0 | M9: 0 | N9: =J9+K9+L9+M9 -> 18 | O9: 1 | P9: 3 | Q9: 0 | R9: 0 | S9: 1 | T9: 1 | U9: 0 | V9: 0 | X9: 0 | Y9: 0 | Z9: 0 | AA9: 0 | AB9: 2 | AC9: 0 | AD9: 0
B14: Командир 1 навчальної роти
B15: майор | F15: Дмитро СТЕПАНЮК | H15: 45931

Sheet 9. Перелік індексів посад
A1: 10
G2: Продовження додатка 1
A3: 31.02.2026 | B3: 9. Перелік індексів посад
A4: Індекс посади | B4: Назва посади | C4: ШПК | D4: ВОС | E4: Тариф | F4: № штату | G4: Дата введення посади в штат | H4: Дата виведення посади зі штату
A5: =MAX('8. Статистичний облік'!7:7)+1 -> #REF! | B5: =A5+1 -> #REF! | C5: =B5+1 -> #REF! | D5: =C5+1 -> #REF! | E5: =D5+1 -> #REF! | F5: =E5+1 -> #REF! | G5: =F5+1 -> #REF! | H5: =G5+1 -> #REF!
B6: Командир роти - старший викладач | C6: майор | D6: 0212003 | E6: 20
B7: Заступник командира роти з психологічної підтримки персоналу | C7: капітан | D7: 3420003 | E7: 19
B8: Сержант - інструктор | C8: головний сержант | D8: 100657Д | E8: 12
B9: Сержант з матеріального забезпечення | C9: старший сержант | D9: 787089Д | E9: 10
B10: Інструктор із тактичної медицини | C10: сержант | D10: 878127Д | E10: 6/5
B11: 1 навчальний взвод
B12: Командир взводу - викладач | C12: капітан | D12: 0212003 | E12: 13
B13: Інструктор | C13: старший сержант | D13: 100119Д | E13: 11/6
B14: Інструктор | C14: старший сержант | D14: 100119Д | E14: 11/6
B15: 2 навчальний взвод
B16: Командир взводу - викладач | C16: капітан | D16: 0212003 | E16: 13
B17: Інструктор | C17: старший сержант | D17: 100119Д | E17: 11/6
B18: Інструктор | C18: старший сержант | D18: 100119Д | E18: 11/6
B19: 3 навчальний взвод
B20: Командир взводу - викладач | C20: капітан | D20: 0212003 | E20: 13
B21: Головний сержант | C21: старший сержант | D21: 100975Д | E21: 9
B22: 4 навчальний взвод
B23: Командир взводу - викладач | C23: капітан | D23: 0212003 | E23: 13
B24: Головний сержант | C24: старший сержант | D24: 100975Д | E24: 9
B25: 5 навчальний взвод
B26: Командир взводу - викладач | C26: капітан | D26: 0212003 | E26: 13
B27: Головний сержант | C27: старший сержант | D27: 100975Д | E27: 9
B28: 6 навчальний взвод
B29: Командир взводу - викладач | C29: капітан | D29: 0212003 | E29: 13
B30: Головний сержант | C30: старший сержант | D30: 100975Д | E30: 9
B31: 7 навчальний взвод
B32: Командир взводу - викладач | C32: капітан | D32: 0212003 | E32: 13
B33: Інструктор | C33: старший сержант | D33: 101119Д | E33: 11/6
B34: Інструктор | C34: старший сержант | D34: 101119Д | E34: 11/6
B35: 8 навчальний взвод
B36: Командир взводу - викладач | C36: капітан | D36: 0212003 | E36: 13
B37: Інструктор | C37: старший сержант | D37: 102119Д | E37: 11/6
B38: Інструктор | C38: старший сержант | D38: 103119Д | E38: 11/6
B39: 9 навчальний взвод
B40: Командир взводу - викладач | C40: капітан | D40: 0212003 | E40: 13
...

Sheet Примітки
A1: 11
A2: Продовження додатка 1
A3: Примітки
A4: 1. Електронний журнал обліку особового складу військової частини/підрозділу (далі - ЕЖООС) ведеться в електронній формі на пристрої, який не має модулю підʼєднання до локальної мережі.
A5: 2. Стовпці і поля, визначені в ЕЖООС, є обов'язковими для ведення обліку. Заборонено видаляти, змінювати нумерацію чи редагувати назви стовпців, визначені в ЕЖООС. При цьому дозволено додавати стовпці з інформацією, яка необхідна для здійснення більш якісного обліку особового складу військовою частиною, органом військового управління чи їхніми підрозділами (такі стовпці можна додавати у будь-якому порядку, але при цьому залишати їх непронумерованими і не друкувати їх під час передання друкованої версії до штабу військової частини чи до Галузевого архіву).
A6: 3. ЕЖООС ведеться протягом 1 календарного місяця. У перший день нового місяця створюється новий файл журналу, в якому ведуться усі зміни за поточний місяць (файл-шаблон зберігається з новою назвою (наприклад, "2024-11 ЕЖООС СР1" для обліку особового складу 1-ої стрілецької роти за листопад 2024 р.). Файл журналу за попередній місяць зберігається на пристрої. 1 січня та 1 червня звітного року титульна сторінка та вкладки ЕЖ роздруковуються (вкладка "6. Табель" роздруковується за кожен з цих 6 місяців, вкладки "8. Статистичний облік", "9. Перелік індексів посад" і "Примітки" не друкується), на роздрукованому примірнику зазначається кількість аркушів. Командир підрозділу підписує роздрукований журнал та передає у службу персоналу.
A7: 4. Вкладка "1. Штатно-посадовий облік" ведеться в усіх структурних підрозділах починаючи з роти. Штаб окремої військової частини присвоює кожній посаді унікальний індекс (у тому числі посадам змінного складу, посадам держслубовців та працівників ЗСУ) і фіксує цей перелік у Вкладці "9. Перелік індексів посад". Рекомендовано на рівні окремої бригади використовувати 6-тизначний індекс, на рівні окремого батальйону - 4-ьохзначний. Також дозволено використовувати літери (наприклад, для позначення посад змінного складу, курсантів, слухачів, державних службовців чи працівників ЗСУ). Важливо! При зміні (заміні) посади їй присвоюється новий унікальний індекс У разі наявності в штаті цивільних посад стовпець 4. "ВОС" має залишитися пустим, а в стовпці 6. "Звання" проставляється відповідно цивільний статус персоналу (наприклад, «працівник ЗСУ», «державний службовець 4 рангу» і т.д.). Порядок записів може змінюватися в залежності від введення або скасування посад. Усі записи (рядки таблиці) розташовуються за підпорядкованістю у підрозділі. Рекомендовано відділяти структурні підрозділи їхніми назвами, записаними в об'єднаних комірках в стовпцях від 1 до 7, так як це зроблено у даному прикладі (це необхідно для автоматичного виведення підрозділів до вкладки "8. Статистичний облік").
A8: 5. Вкладка "2. Облік особового складу" ведеться на весь підпорядкований особовий склад. Записи ведуться у порядку зарахування військовослужбовців до списків, потім за званнями. У разі наявності в штаті цивільних посад в колонці 8. "Звання" проставляється відповідно цивільний статус персоналу (наприклад, «працівник ЗСУ», «державний службовець 4 рангу» і т.д.). Стовпець 10 "Індекс посади / Індекси посад, які обіймав(ла)" та 11 "Дати призначення на посади" ведуться за такими правилами: - індекс і дата призначення на поточну посаду записується зверху звичайним шрифтом; - індекси і дати попередніх посад записуються у стовпець (Alt+Enter), курсивом, у зворотному порядку до призначень (актуальна посада буде першою у стовпці, найперша посада буде останньою). - у разі, якщо військовослужбовець перебуває у списках військової частини, але не займає штатну посаду у Стовпці 10 ставиться відповідний статус (н/д "у розпорядженні"), а у Стовпці 11 дата встановлення цього статусу (наприклад, зарахування в розпорядження). У Стовпці 17, окрім контрактної чи служби по мобілізації, може також зазначатись і вид державної служби. У Стовпці 20 іноземцям прописується його громадянство (наприклад, "США", "Італійська Республіка", "Республіка Колумбія" і т.д).
A9: 6. Вкладка "3. Виключені" має такий же набір стовпців як і Вкладка "2. Облік особового складу", але до неї додано ще стовпці, які ведуть тільки у електронному журналі обліку особового складу окремої військової частини: 51. Дата виключення зі списків - фактична дата виключення зі списків; 52. Дата і номер наказу по стройовій частині про виключення із списків 53. Куди вибув / Куди направлені документи - у випадку загибелі/смерті вказується ТЦК та СП, до якого були направлені документи; 54. Підстава виключення зі списків - пишеться інформація, яка необхідна для ідентифікації події (наприклад: у разі загибелі/смерті може писатися дата і вид події, у випадку звільнення - причина звільнення і наказ по особовому складу, у разі перемішення до інщої в/ч - наказ по особовому складу, у випадку призупинення служби - № і дата витягу з ЄРДР). Рекомендовано при виключенні військовослужбовця зі списків переміщувати інформацію з Вкладки 2 до Вкладки 3, використовувати функції "Вирізати" і "Додати скопійовані клітинки", додавши і заповнивши при цьому стовпці 51, 52, 53, 54. Вкладка ведеться в алфавітному порядку. Роздрукований і підписаний варіант Вкладки "3. Виключені" підлягає передачі в Державний галузевий архів МОУ.
A10: 7. Вкладка "4. Тимчасово прибулий особовий склад" ведеться на рівні батальйону та на рівні окремої військової частини. Записи робляться у порядку прибуття військовослужбовців до військової частини, потім за званнями.
A11: 8. Вкладка "5. Тимчасово відсутній особовий склад" ведеться в усіх структурних підрозділах починаючи з роти. Записи робляться у порядку вибуття військовослужбовців з військової частини, потім за званнями. У Стовпці 76 можна уточнюється підстави вибуття або іншу необхідну інформацію.
A12: 9. Вкладка "6. Табель" ведеться в усіх структурних підрозділах починаючи з роти на кожен місяць. Рекомендовано вживати такі позначки: + - присутній/ня; вдр - відрядження; від - відпустка щорічна, за сімейними обставинами, для лікування у зв’язку з хворобою; ВП - відпустка для лікування після поранення (контузії, травми або каліцтва); лік - лікування у звʼязку з хворобою; ЛП - лікування після поранення (контузії, травми або каліцтва); СЗЧ - самовільне залишення частини; ЗБ - зниклий безвісти; пол - в полоні; заг - загибель (проставляється тільки в дату події); пом - помер (проставляється тільки в дату події). Ведення вкладки "6. Табель" на управління (командування) військової частини (органу військового управління чи їм рівні) покладається на відділення персоналу штабу або відповідний орган (посадову особу), на який покладені функції ведення обліку особового складу. На рівні окремої військової частини Вкладка "6. Табель особового сакладу" ведеться по підрозділам, які безпосередньо підпорядковуються командиру військової частини із зазначенням кількость осіб, які перебувають на продовольчому забезпеченні кожного підрозділу, станом на кожен день місяця.
A13: 10. Вкладка "7. Безповоротні втрати" ведеться на рівні окремої військової частини. Записи робляться у порядку дат подій, які призвели до безповротніх втрат військовослужбовців. Рекомендовано Стовпці 77-86 заповнювати методом копіювання інформації зі Стовпців, відповідно, 8-10, 17, 20-23, 25 та 27 (зверніть увагу, що в Стовпці 79, на відміну, від Стовпця 10, зазначається тільки індекс останньої зайнманої посади).
... A17: 14. Важливо! Всі приклади записів зроблені станом на 12 листопада 2024 року і являються вигаданими. Будь яке співпадіння з реально існуючими людьми - випадковість.

Sheet Звання
A1: Генерал | C1: Генерал | D1: Головний майстер-сержант | E1: Старший солдат | F1: Генерал | G1: Головний майстер-сержант | H1: Старший солдат | I1: Генерал | J1: Головний майстер-сержант | K1: Старший солдат
A2: Генерал-лейтенант | C2: Генерал-майор | D2: Майстер-сержант | E2: Старший матрос | F2: Генерал-майор | G2: Майстер-сержант | H2: Старший матрос | I2: Генерал-майор | J2: Майстер-сержант | K2: Старший матрос
A3: Генерал-лейтенант медичної служби | C3: Бригадний генерал | D3: Штаб-сержант | E3: Матрос | F3: Бригадний генерал | G3: Штаб-сержант | H3: Матрос | I3: Бригадний генерал | J3: Штаб-сержант | K3: Матрос
A4: Генерал-майор | C4: Полковник | D4: Головний сержант | E4: Рекрут | F4: Полковник | G4: Головний сержант | H4: Рекрут | I4: Полковник | J4: Головний сержант | K4: Рекрут
A5: Генерал-майор медичної служби | C5: Полковник медичної служби | D5: Старший сержант | E5: --- | F5: Полковник медичної служби | G5: Старший сержант | H5: --- | I5: Полковник медичної служби | J5: Старший сержант | K5: ---
A6: Бригадний генерал | C6: Полковник юстиції | D6: Сержант | E6: --- | F6: Полковник юстиції | G6: Сержант | H6: --- | I6: Полковник юстиції | J6: Сержант | K6: ---
A7: Бригадний генерал медичної служби | C7: Полковник капеланської служби | D7: Молодший сержант | E7: --- | F7: Полковник капеланської служби | G7: Молодший сержант | H7: --- | I7: Полковник капеланської служби | J7: Молодший сержант | K7: ---
A8: Полковник | C8: Підполковник | D8: Головний майстер-старшина | E8: --- | F8: Підполковник | G8: Головний майстер-старшина | H8: --- | I8: Підполковник | J8: Головний майстер-старшина | K8: ---
A9: Полковник медичної служби | C9: Підполковник медичної служби | D9: Старший майстер-старшина | E9: --- | F9: Підполковник медичної служби | G9: Старший майстер-старшина | H9: --- | I9: Підполковник медичної служби | J9: Старший майстер-старшина | K9: ---
A10: Полковник юстиції | C10: Підполковник юстиції | D10: Майстер-старшина | E10: --- | F10: Підполковник юстиції | G10: Майстер-старшина | H10: --- | I10: Підполковник юстиції | J10: Майстер-старшина | K10: ---
A11: Полковник капеланської служби | C11: Підполковник капеланської служби | D11: Штаб-старшина | E11: --- | F11: Підполковник капеланської служби | G11: Штаб-старшина | H11: --- | I11: Підполковник капеланської служби | J11: Штаб-старшина | K11: ---
A12: Підполковник | C12: Майор | D12: Головний корабельний старшина | E12: --- | F12: Майор | G12: Головний корабельний старшина | H12: --- | I12: Майор | J12: Головний корабельний старшина | K12: ---
... A42: Сержант | C42: Молодший лейтенант | D42: --- | E42: --- | F42: Молодший лейтенант | G42: --- | H42: --- | I42: Молодший лейтенант | J42: --- | K42: ---
A43: Молодший сержант
A44: Старший солдат
A45: Солдат
A46: Адмірал
A47: Віце-адмірал
A48: Контр-адмірал
A49: Коммодор
A50: Капітан 1 рангу
A51: Капітан 2 рангу
A52: Капітан 3 рангу
A53: Капітан-лейтенант
A54: Старший-лейтенант
... A67: Рекрут
