Workbook
Name _Hlk223443354: ІВС!#REF!
Name _Hlk223443577: ІВС!#REF!
Name _Hlk223443644: ІВС!#REF!
Name _Hlk232413348: ІВС!#REF!

Sheet Інструкції
A2: Загальне
B3: Список особового складу, який зайшов на підготовку на курс та зкінчив/не закінчив його. По всім, хто курс пройшов - вказуємо оцінки. Хто не пройшов - вказуємо причину непроходження і, за необхідності, коментар.
A4: Заповнення шапки
B5: Підрозділ | D5: Вказати назву підрозділу з номером батальйону і роти (за наявності)
B6: Дата випуску | D6: Дата випуску, ця дата буде в сертифікаті
B7: Початок підготовки | D7: Перший день підготовки (адаптаційний день, якщо відсутня, то з адміністративного дня)/ Якщо дата буде виділена жовтим кольором - значить в даті присутня помилка (занадто далека в минулому чи майбутньому, чи невалідне значення).
B8: Закінчення підготовки | D8: Адміністративний день в кінці курсу (попередній день до випуску, якщо ранній випуск). Якщо дата буде виділена жовтим кольором - значить в даті присутня помилка (занадто далека в минулому чи майбутньому, чи невалідне значення), або дата закінчення менше дати початку підготовки.
B9: Назва підготовки | D9: Назва підготовки згідно затвердженої програми
B10: ВОС | D10: Номер ВОС, тільки число (без абревіатури "ВОС")
B11: Техніка / озброєння | D11: Для фахової підготовки: техніка та/або озброєння яки вивчалось протягом курсу
B12: Спеціальність | D12: Отримана спеціальність згідно програми
B13: Викладач | D13: Командир роти / підрозділу який проводив курс. Посада, звання, ПІБ.
A14: Заповнення таблиці
B15: Звання (без скорочень) | D15: Зверніть увагу, що звання має бути вказано повністю і без скорочень.
B16: ПІБ | D16: Прізвище І'мя По батькові повністю без скорочень
B17: Дата народження | D17: Якщо дата народження буде виділена жовтим - значить в даті присутня помилка (занадто молодий чи старий вік, чи значення не формату Дата)
B18: ІПН | D18: Код має перевірку на: - невідповідність до дати народження та валідность контрольної суми (виділить жовтим), - на дублюючі значення у всьому списку (виділить червоним). В такому випадку уважно перевірте правильність введених даних. Якщо код у в/с відсутній чи він від нього відмовився - вказати "відсутній", "відмова" чи порожню комірку
B19: Вид військової служби | C19: Вказати з випадаючого списку: "моб.", "контракт"
B20: З якої в/ч прибув | D20: Вказуємо номер частини по типу "А0000", якщо з ППОС - вказуємо з якого ТЦК та СП ( наприклад "7 відділ Житомирського РТЦК та СП")
B21: Підготовку завершив | D21: Вказати з наступних варіантів: "Так", "Ні"
B22: Причина по якій не пройшов підготовку | D22: Вказати з випадаючого списку: "СЗЧ", "Шпиталь", "Відмова", "Звільнений", "Помер", "Вибув за станом здоров'я", "Відпустка", "Вибув / інші причини". Якщо в/с курс пройшов, то в цій колонці нічого не ставимо.
B23: В яку частину вибув | D23: Вказуємо номер частини по типу "А0000", (за наявності інформації)
B24: Примітки | D24: Інша інформація, стосовно причин, чому не завершив курс, якщо необхідно ("СЗЧ 10.12.2025", "Хворів 10-23.12.2025", "Відпустка по реабілтації 30.11-29.12.2025", "Низький морально-псих. стан, вибув в бригаду 10.12.2025")
B25: Загальна оцінка | D25: Загальна оцінка за курс в числовому відображенні: 2, 3, 4, 5. Якщо оцінка підсвічується жовтим - не відповідає встановленим значенням
B26: Оцінка1, Оцінка2, Оцінка3 | D26: Вказується в числовому відображенні: 2, 3, 4, 5. Для різних видів підготовок кожна оцінка відповідає за певні критерії оцінювання: за теорію, практику, та інше. Відповідають оцінкам згідно програми підготовки і фінальним оцінкам за курс. Наприклад: - БЗВП: тільки загальна оцінка; - Підготовка стрілка-санітара: загальна оцінка, теорія, практика; - і т.д.
A36: password
A37: 199
A40: не задовільно
A41: задовільно
A42: добре
A43: відмінно
A46: СЗЧ
A47: Звільнення
A48: Шпиталь
A49: Відмова
A50: Помер
A51: Вибув - стан здор.
A52: Відпустка
A53: Вибув / інші причини
... A56: Ні

Sheet Курсанти
B1: Підрозділ | C1: 1 НБ 1 НР
B2: Дата випуску | C2: 46325
B3: Початок підготовки | C3: 46243
B4: Закінчення підготовки | C4: 46324
B5: Назва підготовки | C5: Базова загальновійськова підготовка
B6: ВОС | C6: 100
B7: Техніка / озброєння
B8: Спеціальність | C8: стрілець
B9: Викладач | C9: командир роти лейтенант Гензель Богдан Васильович
A11: № | B11: Звання (без скорочень) | C11: П.І.Б. | D11: Дата народження | E11: ІПН | F11: Вид військової служби | G11: З якої в/ч або ТЦК прибув | H11: Примітки
A12: 1 | B12: молодший сержант | C12: АБРАМОВИЧ Ярослав Ігорович | D12: 33516 | E12: 3351512055 | F12: моб. | G12: A4030
A13: 2 | B13: солдат | C13: АВГУСТИНОВИЧ Микола Олександрович | D13: 34687 | E13: 3468611211 | F13: моб. | G13: A4030
A14: 3 | B14: солдат | C14: АВРАМУК Олександр Ярославович | D14: 30736 | E14: 3073504416 | F14: моб. | G14: A4030
A15: 4 | B15: солдат | C15: АДАМЕНКО Олег Геннадійович | D15: 36281 | E15: 3628002053 | F15: моб. | G15: A4030
A16: 5 | B16: старшина | C16: БАБЕНКО Олександр Петрович | D16: 28933 | E16: 2893216278 | F16: моб. | G16: A7788
A17: 6 | B17: солдат | C17: БАБІЧУК Віталій Павлович | D17: 37124 | E17: 3712311634 | F17: моб. | G17: A7788
A18: 7 | B18: солдат | C18: БАРДЕЦЬКИЙ Віктор Романович | D18: 36302 | E18: 3630100037 | F18: моб. | G18: A4030
A19: 8 | B19: солдат | C19: БАРЛІТ Анатолій Олександрович | D19: 32413 | E19: 3241217679 | F19: моб. | G19: A4030
A20: 9 | B20: солдат | C20: БЛИЩИК Микола Володимирович | D20: 34689 | E20: 3468815191 | F20: моб. | G20: A4030
A21: 10 | B21: солдат | C21: БОКОТЮК Сергій Григорович | D21: 32435 | E21: 3243403110 | F21: моб. | G21: A4030
A22: 11 | B22: солдат | C22: БОНДАР Сергій Іванович | D22: 29623 | E22: 2962207631 | F22: моб. | G22: A7788
A23: 12 | B23: солдат | C23: БОНДАРЕНКО Олексій Олексійович | D23: 31804 | E23: 3180321735 | F23: моб. | G23: A7788
... A179: 168 | B179: солдат | C179: ЯРОВИЙ Євгеній Михайлович | D179: 33407 | E179: 3340622435 | F179: моб. | G179: А7788
A180: 169
A181: 170
A182: 171
A183: 172
A184: 173
A185: 174
A186: 175
A187: 176
A188: 177
A189: 178
A190: 179
A191: 180
... A231: 220
B239: password: 199
B241: не задовільно
B242: задовільно
B243: добре
B244: відмінно
B247: СЗЧ
B248: Звільнення
B249: Шпиталь
B250: Відмова
B251: Помер
B252: Відпустка
B253: Вибув - стан здор.
... B260: контракт

Sheet ІВС
A1: №, з/п | B1: Посада | C1: Військове звання | D1: П.І.Б. | E1: Примітка
A2: 1 | B2: Командир 1 навчального батальйону військової частини А2900 | C2: підполковник | D2: Мороз Віктор Васильович
A3: 2 | B3: Заступник командира 1 навчального батальйону військової частини А2900 | C3: майор | D3: Малашкевич Андрій Тарасович
A4: 3 | B4: Заступник командира 1 навчального батальйону з психологічної підтримки персоналу військової частини А2900 | C4: старший лейтенант | D4: Спеціальний Євген Ігорович
A5: 4 | B5: Начальник штабу – заступник командира 1 навчального батальйону військової частини А2900 | C5: майор | D5: Довбиш Володимир Володимирович
A6: 5 | B6: Головний сержант 1 навчального батальйону військової частини А2900 | C6: штаб-сержант | D6: Воловиков Євген Юрійович
A7: 6 | B7: Командир 1 навчальної роти-старший викладач 1 навчального батальйону військової частини А2900 | C7: лейтенант | D7: Гензель Богдан Васильович
A8: 7 | B8: Сержант - інструктор 1 навчальної роти 1 навчального батальйону військової частини А2900 | C8: старший сержант | D8: Василюк Андрій Васильович
A9: 8 | B9: Інструктор з тактичної медицини 1 навчальної роти 1 навчального батальйону військової частини А2900 | C9: молодший сержант | D9: Сіренко Максим Ігорьович
A10: 9 | B10: Інструктор 1 навчальної роти 1 навчального батальйону військової частини А2900 | C10: сержант | D10: Минайлюк Ігор Миколайович
A11: 10 | B11: Інструктор 1 навчальної роти 1 навчального батальйону військової частини А2900 | C11: старший сержант | D11: Простапчук Валентин Іванович
A12: 11 | B12: Інструктор 1 навчальної роти 1 навчального батальйону військової частини А2900 | C12: сержант | D12: Казаков Євген Іванович
A13: 12 | B13: Інструктор 1 навчальної роти 1 навчального батальйону військової частини А2900 | C13: старший сержант | D13: Шиманський Георгій Георгійович
... A58: 57 | B58: Командир 6 навчального взводу – викладач 3 навчальної роти 1 навчального батальйону військової частини А2900 | C58: лейтенант | D58: Журавський Роман Володимирович

Sheet Статистика
C1: Статистика по поточному курсу підготовки
B3: Частина | C3: Всього зайшло на підготовку | D3: Пройшло підготовку | E3: Не пройшло підготовку | F3: СЗЧ | G3: Звільнення | H3: Шпиталь | I3: Відмова | J3: Помер | K3: Відпустка | L3: Вибув - стан здор. | M3: Вибув / інші причини
B4: Всього | C4: =IF(B4<>"",COUNTA(Total_pers[П.І.Б.]),"") -> 168 | D4: =IF($B4<>"",COUNTIFS(#REF!,"так"),"") -> #REF! | E4: =IF($B4<>"",COUNTIFS(#REF!,"ні"),"") -> #REF! | F4: =IF($B4<>"",COUNTIFS(#REF!, Статистика!F$3),"") -> #REF! | G4: =IF($B4<>"",COUNTIFS(#REF!, G$3),"") -> #REF! | H4: =IF($B4<>"",COUNTIFS(#REF!, Статистика!H$3),"") -> #REF! | I4: =IF($B4<>"",COUNTIFS(#REF!, Статистика!I$3),"") -> #REF! | J4: =IF($B4<>"",COUNTIFS(#REF!, Статистика!J$3),"") -> #REF! | K4: =IF($B4<>"",COUNTIFS(#REF!, Статистика!K$3),"") -> #REF! | L4: =IF($B4<>"",COUNTIFS(#REF!, Статистика!L$3),"") -> #REF! | M4: =IF($B4<>"",COUNTIFS(#REF!, Статистика!M$3),"") -> #REF!
B5: {=_xlfn.UNIQUE(_xlfn._xlws.FILTER(Total_pers[З якої в/ч або ТЦК прибув],Total_pers[З якої в/ч або ТЦК прибув]<>"",""))} -> A4030 | C5: =IF($B5<>"",COUNTIF(Total_pers[З якої в/ч або ТЦК прибув], $B5),"") -> 62 | D5: =IF($B5<>"",COUNTIFS(Total_pers[З якої в/ч або ТЦК прибув], $B5,#REF!,"так"),"") -> #REF! | E5: =IF($B5<>"",COUNTIFS(Total_pers[З якої в/ч або ТЦК прибув], $B5,#REF!,"ні"),"") -> #REF! | F5: =IF($B5<>"",COUNTIFS(Total_pers[З якої в/ч або ТЦК прибув], $B5,#REF!, Статистика!F$3),"") -> #REF! | G5: =IF($B5<>"",COUNTIFS(Total_pers[З якої в/ч або ТЦК прибув], $B5,#REF!, G$3),"") -> #REF! | H5: =IF($B5<>"",COUNTIFS(Total_pers[З якої в/ч або ТЦК прибув], $B5,#REF!, H$3),"") -> #REF! | I5: =IF($B5<>"",COUNTIFS(Total_pers[З якої в/ч або ТЦК прибув], $B5,#REF!, I$3),"") -> #REF! | J5: =IF($B5<>"",COUNTIFS(Total_pers[З якої в/ч або ТЦК прибув], $B5,#REF!, J$3),"") -> #REF! | K5: =IF($B5<>"",COUNTIFS(Total_pers[З якої в/ч або ТЦК прибув], $B5,#REF!, K$3),"") -> #REF! | L5: =IF($B5<>"",COUNTIFS(Total_pers[З якої в/ч або ТЦК прибув], $B5,#REF!, L$3),"") -> #REF! | M5: =IF($B5<>"",COUNTIFS(Total_pers[З якої в/ч або ТЦК прибув], $B5,#REF!, M$3),"") -> #REF!
B6: A7788 | C6: =IF($B6<>"",COUNTIF(Total_pers[З якої в/ч або ТЦК прибув], $B6),"") -> 99 | D6: =IF($B6<>"",COUNTIFS(Total_pers[З якої в/ч або ТЦК прибув], $B6,#REF!,"так"),"") -> #REF! | E6: =IF($B6<>"",COUNTIFS(Total_pers[З якої в/ч або ТЦК прибув], $B6,#REF!,"ні"),"") -> #REF! | F6: =IF($B6<>"",COUNTIFS(Total_pers[З якої в/ч або ТЦК прибув], $B6,#REF!, Статистика!F$3),"") -> #REF! | G6: =IF($B6<>"",COUNTIFS(Total_pers[З якої в/ч або ТЦК прибув], $B6,#REF!, G$3),"") -> #REF! | H6: =IF($B6<>"",COUNTIFS(Total_pers[З якої в/ч або ТЦК прибув], $B6,#REF!, H$3),"") -> #REF! | I6: =IF($B6<>"",COUNTIFS(Total_pers[З якої в/ч або ТЦК прибув], $B6,#REF!, I$3),"") -> #REF! | J6: =IF($B6<>"",COUNTIFS(Total_pers[З якої в/ч або ТЦК прибув], $B6,#REF!, J$3),"") -> #REF! | K6: =IF($B6<>"",COUNTIFS(Total_pers[З якої в/ч або ТЦК прибув], $B6,#REF!, K$3),"") -> #REF! | L6: =IF($B6<>"",COUNTIFS(Total_pers[З якої в/ч або ТЦК прибув], $B6,#REF!, L$3),"") -> #REF! | M6: =IF($B6<>"",COUNTIFS(Total_pers[З якої в/ч або ТЦК прибув], $B6,#REF!, M$3),"") -> #REF!
B7: А3316 | C7: =IF($B7<>"",COUNTIF(Total_pers[З якої в/ч або ТЦК прибув], $B7),"") -> 3 | D7: =IF($B7<>"",COUNTIFS(Total_pers[З якої в/ч або ТЦК прибув], $B7,#REF!,"так"),"") -> #REF! | E7: =IF($B7<>"",COUNTIFS(Total_pers[З якої в/ч або ТЦК прибув], $B7,#REF!,"ні"),"") -> #REF! | F7: =IF($B7<>"",COUNTIFS(Total_pers[З якої в/ч або ТЦК прибув], $B7,#REF!, Статистика!F$3),"") -> #REF! | G7: =IF($B7<>"",COUNTIFS(Total_pers[З якої в/ч або ТЦК прибув], $B7,#REF!, G$3),"") -> #REF! | H7: =IF($B7<>"",COUNTIFS(Total_pers[З якої в/ч або ТЦК прибув], $B7,#REF!, H$3),"") -> #REF! | I7: =IF($B7<>"",COUNTIFS(Total_pers[З якої в/ч або ТЦК прибув], $B7,#REF!, I$3),"") -> #REF! | J7: =IF($B7<>"",COUNTIFS(Total_pers[З якої в/ч або ТЦК прибув], $B7,#REF!, J$3),"") -> #REF! | K7: =IF($B7<>"",COUNTIFS(Total_pers[З якої в/ч або ТЦК прибув], $B7,#REF!, K$3),"") -> #REF! | L7: =IF($B7<>"",COUNTIFS(Total_pers[З якої в/ч або ТЦК прибув], $B7,#REF!, L$3),"") -> #REF! | M7: =IF($B7<>"",COUNTIFS(Total_pers[З якої в/ч або ТЦК прибув], $B7,#REF!, M$3),"") -> #REF!
B8: А4030 | C8: =IF($B8<>"",COUNTIF(Total_pers[З якої в/ч або ТЦК прибув], $B8),"") -> 1 | D8: =IF($B8<>"",COUNTIFS(Total_pers[З якої в/ч або ТЦК прибув], $B8,#REF!,"так"),"") -> #REF! | E8: =IF($B8<>"",COUNTIFS(Total_pers[З якої в/ч або ТЦК прибув], $B8,#REF!,"ні"),"") -> #REF! | F8: =IF($B8<>"",COUNTIFS(Total_pers[З якої в/ч або ТЦК прибув], $B8,#REF!, Статистика!F$3),"") -> #REF! | G8: =IF($B8<>"",COUNTIFS(Total_pers[З якої в/ч або ТЦК прибув], $B8,#REF!, G$3),"") -> #REF! | H8: =IF($B8<>"",COUNTIFS(Total_pers[З якої в/ч або ТЦК прибув], $B8,#REF!, H$3),"") -> #REF! | I8: =IF($B8<>"",COUNTIFS(Total_pers[З якої в/ч або ТЦК прибув], $B8,#REF!, I$3),"") -> #REF! | J8: =IF($B8<>"",COUNTIFS(Total_pers[З якої в/ч або ТЦК прибув], $B8,#REF!, J$3),"") -> #REF! | K8: =IF($B8<>"",COUNTIFS(Total_pers[З якої в/ч або ТЦК прибув], $B8,#REF!, K$3),"") -> #REF! | L8: =IF($B8<>"",COUNTIFS(Total_pers[З якої в/ч або ТЦК прибув], $B8,#REF!, L$3),"") -> #REF! | M8: =IF($B8<>"",COUNTIFS(Total_pers[З якої в/ч або ТЦК прибув], $B8,#REF!, M$3),"") -> #REF!
B9: А5270 | C9: =IF($B9<>"",COUNTIF(Total_pers[З якої в/ч або ТЦК прибув], $B9),"") -> 1 | D9: =IF($B9<>"",COUNTIFS(Total_pers[З якої в/ч або ТЦК прибув], $B9,#REF!,"так"),"") -> #REF! | E9: =IF($B9<>"",COUNTIFS(Total_pers[З якої в/ч або ТЦК прибув], $B9,#REF!,"ні"),"") -> #REF! | F9: =IF($B9<>"",COUNTIFS(Total_pers[З якої в/ч або ТЦК прибув], $B9,#REF!, Статистика!F$3),"") -> #REF! | G9: =IF($B9<>"",COUNTIFS(Total_pers[З якої в/ч або ТЦК прибув], $B9,#REF!, G$3),"") -> #REF! | H9: =IF($B9<>"",COUNTIFS(Total_pers[З якої в/ч або ТЦК прибув], $B9,#REF!, H$3),"") -> #REF! | I9: =IF($B9<>"",COUNTIFS(Total_pers[З якої в/ч або ТЦК прибув], $B9,#REF!, I$3),"") -> #REF! | J9: =IF($B9<>"",COUNTIFS(Total_pers[З якої в/ч або ТЦК прибув], $B9,#REF!, J$3),"") -> #REF! | K9: =IF($B9<>"",COUNTIFS(Total_pers[З якої в/ч або ТЦК прибув], $B9,#REF!, K$3),"") -> #REF! | L9: =IF($B9<>"",COUNTIFS(Total_pers[З якої в/ч або ТЦК прибув], $B9,#REF!, L$3),"") -> #REF! | M9: =IF($B9<>"",COUNTIFS(Total_pers[З якої в/ч або ТЦК прибув], $B9,#REF!, M$3),"") -> #REF!
B10: А4733 | C10: =IF($B10<>"",COUNTIF(Total_pers[З якої в/ч або ТЦК прибув], $B10),"") -> 1 | D10: =IF($B10<>"",COUNTIFS(Total_pers[З якої в/ч або ТЦК прибув], $B10,#REF!,"так"),"") -> #REF! | E10: =IF($B10<>"",COUNTIFS(Total_pers[З якої в/ч або ТЦК прибув], $B10,#REF!,"ні"),"") -> #REF! | F10: =IF($B10<>"",COUNTIFS(Total_pers[З якої в/ч або ТЦК прибув], $B10,#REF!, Статистика!F$3),"") -> #REF! | G10: =IF($B10<>"",COUNTIFS(Total_pers[З якої в/ч або ТЦК прибув], $B10,#REF!, G$3),"") -> #REF! | H10: =IF($B10<>"",COUNTIFS(Total_pers[З якої в/ч або ТЦК прибув], $B10,#REF!, H$3),"") -> #REF! | I10: =IF($B10<>"",COUNTIFS(Total_pers[З якої в/ч або ТЦК прибув], $B10,#REF!, I$3),"") -> #REF! | J10: =IF($B10<>"",COUNTIFS(Total_pers[З якої в/ч або ТЦК прибув], $B10,#REF!, J$3),"") -> #REF! | K10: =IF($B10<>"",COUNTIFS(Total_pers[З якої в/ч або ТЦК прибув], $B10,#REF!, K$3),"") -> #REF! | L10: =IF($B10<>"",COUNTIFS(Total_pers[З якої в/ч або ТЦК прибув], $B10,#REF!, L$3),"") -> #REF! | M10: =IF($B10<>"",COUNTIFS(Total_pers[З якої в/ч або ТЦК прибув], $B10,#REF!, M$3),"") -> #REF!
B11: А7788 | C11: =IF($B11<>"",COUNTIF(Total_pers[З якої в/ч або ТЦК прибув], $B11),"") -> 1 | D11: =IF($B11<>"",COUNTIFS(Total_pers[З якої в/ч або ТЦК прибув], $B11,#REF!,"так"),"") -> #REF! | E11: =IF($B11<>"",COUNTIFS(Total_pers[З якої в/ч або ТЦК прибув], $B11,#REF!,"ні"),"") -> #REF! | F11: =IF($B11<>"",COUNTIFS(Total_pers[З якої в/ч або ТЦК прибув], $B11,#REF!, Статистика!F$3),"") -> #REF! | G11: =IF($B11<>"",COUNTIFS(Total_pers[З якої в/ч або ТЦК прибув], $B11,#REF!, G$3),"") -> #REF! | H11: =IF($B11<>"",COUNTIFS(Total_pers[З якої в/ч або ТЦК прибув], $B11,#REF!, H$3),"") -> #REF! | I11: =IF($B11<>"",COUNTIFS(Total_pers[З якої в/ч або ТЦК прибув], $B11,#REF!, I$3),"") -> #REF! | J11: =IF($B11<>"",COUNTIFS(Total_pers[З якої в/ч або ТЦК прибув], $B11,#REF!, J$3),"") -> #REF! | K11: =IF($B11<>"",COUNTIFS(Total_pers[З якої в/ч або ТЦК прибув], $B11,#REF!, K$3),"") -> #REF! | L11: =IF($B11<>"",COUNTIFS(Total_pers[З якої в/ч або ТЦК прибув], $B11,#REF!, L$3),"") -> #REF! | M11: =IF($B11<>"",COUNTIFS(Total_pers[З якої в/ч або ТЦК прибув], $B11,#REF!, M$3),"") -> #REF!
C12: =IF($B12<>"",COUNTIF(Total_pers[З якої в/ч або ТЦК прибув], $B12),"") | D12: =IF($B12<>"",COUNTIFS(Total_pers[З якої в/ч або ТЦК прибув], $B12,#REF!,"так"),"") | E12: =IF($B12<>"",COUNTIFS(Total_pers[З якої в/ч або ТЦК прибув], $B12,#REF!,"ні"),"") | F12: =IF($B12<>"",COUNTIFS(Total_pers[З якої в/ч або ТЦК прибув], $B12,#REF!, Статистика!F$3),"") | G12: =IF($B12<>"",COUNTIFS(Total_pers[З якої в/ч або ТЦК прибув], $B12,#REF!, G$3),"") | H12: =IF($B12<>"",COUNTIFS(Total_pers[З якої в/ч або ТЦК прибув], $B12,#REF!, H$3),"") | I12: =IF($B12<>"",COUNTIFS(Total_pers[З якої в/ч або ТЦК прибув], $B12,#REF!, I$3),"") | J12: =IF($B12<>"",COUNTIFS(Total_pers[З якої в/ч або ТЦК прибув], $B12,#REF!, J$3),"") | K12: =IF($B12<>"",COUNTIFS(Total_pers[З якої в/ч або ТЦК прибув], $B12,#REF!, K$3),"") | L12: =IF($B12<>"",COUNTIFS(Total_pers[З якої в/ч або ТЦК прибув], $B12,#REF!, L$3),"") | M12: =IF($B12<>"",COUNTIFS(Total_pers[З якої в/ч або ТЦК прибув], $B12,#REF!, M$3),"")
C13: =IF($B13<>"",COUNTIF(Total_pers[З якої в/ч або ТЦК прибув], $B13),"") | D13: =IF($B13<>"",COUNTIFS(Total_pers[З якої в/ч або ТЦК прибув], $B13,#REF!,"так"),"") | E13: =IF($B13<>"",COUNTIFS(Total_pers[З якої в/ч або ТЦК прибув], $B13,#REF!,"ні"),"") | F13: =IF($B13<>"",COUNTIFS(Total_pers[З якої в/ч або ТЦК прибув], $B13,#REF!, Статистика!F$3),"") | G13: =IF($B13<>"",COUNTIFS(Total_pers[З якої в/ч або ТЦК прибув], $B13,#REF!, G$3),"") | H13: =IF($B13<>"",COUNTIFS(Total_pers[З якої в/ч або ТЦК прибув], $B13,#REF!, H$3),"") | I13: =IF($B13<>"",COUNTIFS(Total_pers[З якої в/ч або ТЦК прибув], $B13,#REF!, I$3),"") | J13: =IF($B13<>"",COUNTIFS(Total_pers[З якої в/ч або ТЦК прибув], $B13,#REF!, J$3),"") | K13: =IF($B13<>"",COUNTIFS(Total_pers[З якої в/ч або ТЦК прибув], $B13,#REF!, K$3),"") | L13: =IF($B13<>"",COUNTIFS(Total_pers[З якої в/ч або ТЦК прибув], $B13,#REF!, L$3),"") | M13: =IF($B13<>"",COUNTIFS(Total_pers[З якої в/ч або ТЦК прибув], $B13,#REF!, M$3),"")
C14: =IF($B14<>"",COUNTIF(Total_pers[З якої в/ч або ТЦК прибув], $B14),"") | D14: =IF($B14<>"",COUNTIFS(Total_pers[З якої в/ч або ТЦК прибув], $B14,#REF!,"так"),"") | E14: =IF($B14<>"",COUNTIFS(Total_pers[З якої в/ч або ТЦК прибув], $B14,#REF!,"ні"),"") | F14: =IF($B14<>"",COUNTIFS(Total_pers[З якої в/ч або ТЦК прибув], $B14,#REF!, Статистика!F$3),"") | G14: =IF($B14<>"",COUNTIFS(Total_pers[З якої в/ч або ТЦК прибув], $B14,#REF!, G$3),"") | H14: =IF($B14<>"",COUNTIFS(Total_pers[З якої в/ч або ТЦК прибув], $B14,#REF!, H$3),"") | I14: =IF($B14<>"",COUNTIFS(Total_pers[З якої в/ч або ТЦК прибув], $B14,#REF!, I$3),"") | J14: =IF($B14<>"",COUNTIFS(Total_pers[З якої в/ч або ТЦК прибув], $B14,#REF!, J$3),"") | K14: =IF($B14<>"",COUNTIFS(Total_pers[З якої в/ч або ТЦК прибув], $B14,#REF!, K$3),"") | L14: =IF($B14<>"",COUNTIFS(Total_pers[З якої в/ч або ТЦК прибув], $B14,#REF!, L$3),"") | M14: =IF($B14<>"",COUNTIFS(Total_pers[З якої в/ч або ТЦК прибув], $B14,#REF!, M$3),"")
C15: =IF($B15<>"",COUNTIF(Total_pers[З якої в/ч або ТЦК прибув], $B15),"") | D15: =IF($B15<>"",COUNTIFS(Total_pers[З якої в/ч або ТЦК прибув], $B15,#REF!,"так"),"") | E15: =IF($B15<>"",COUNTIFS(Total_pers[З якої в/ч або ТЦК прибув], $B15,#REF!,"ні"),"") | F15: =IF($B15<>"",COUNTIFS(Total_pers[З якої в/ч або ТЦК прибув], $B15,#REF!, Статистика!F$3),"") | G15: =IF($B15<>"",COUNTIFS(Total_pers[З якої в/ч або ТЦК прибув], $B15,#REF!, G$3),"") | H15: =IF($B15<>"",COUNTIFS(Total_pers[З якої в/ч або ТЦК прибув], $B15,#REF!, H$3),"") | I15: =IF($B15<>"",COUNTIFS(Total_pers[З якої в/ч або ТЦК прибув], $B15,#REF!, I$3),"") | J15: =IF($B15<>"",COUNTIFS(Total_pers[З якої в/ч або ТЦК прибув], $B15,#REF!, J$3),"") | K15: =IF($B15<>"",COUNTIFS(Total_pers[З якої в/ч або ТЦК прибув], $B15,#REF!, K$3),"") | L15: =IF($B15<>"",COUNTIFS(Total_pers[З якої в/ч або ТЦК прибув], $B15,#REF!, L$3),"") | M15: =IF($B15<>"",COUNTIFS(Total_pers[З якої в/ч або ТЦК прибув], $B15,#REF!, M$3),"")
