Workbook

Sheet Основний
C1: дата | E1: звання | F1: фио | G1: п | H1: і | I1: Б | J1: тцк | K1: рн | M1: инн | N1: паспорт | O1: народження | P1: фактична | Q1: освіта | R1: навчання | S1: праця | T1: стан | U1: сім'я | V1: т | W1: придатний | Z1: Равен | AA1: кос2 | AB1: tipi | AC1: суіцид | AD1: псистійкість
A2: 614 | B2: 46079 | C2: =TEXT(B2,"dd.mm.yyyy") -> 26.02.2026 | D2: 1 | E2: солдат | F2: АБРАМЯН Артур Маратович | G2: {=_xlfn.TEXTSPLIT(F2," ")} -> АБРАМЯН | H2: Артур | I2: Маратович | J2: Дарницьким РТЦК та СП у Київській області | K2: =TEXT(L2,"dd.mm.yyyy") -> 21.10.1998 | L2: 36089 | M2: 3608804152 | N2: ВТ 101396 Приморським РС у м. Маріуполі ГУ ДМС України в Донецькій області 12.06.2015 | O2: м. Донецьк | P2: м. Київ, вул. Бориспільська, буд. 9, кв. 16 | Q2: базова загальна середня | R2: Школа №62,м. Донецьк,2014 | S2: водій таксі - 5 керівник закладу харчування - 1р Права B | T2: не одружений | U2: брат: Губаян Давид Арсенович - 1997 - 0979699989, м. Київ | V2: 0633131383 | W2: Придатний до військової служби | Z2: =_xlfn.XLOOKUP(G2&" "&H2,Висновки!A:A,Висновки!B:B) -> #N/A | AA2: =_xlfn.XLOOKUP(G2&" "&H2,Висновки!A:A,Висновки!C:C) -> #N/A | AB2: =_xlfn.XLOOKUP(G2&" "&H2,Висновки!A:A,Висновки!D:D) -> #N/A | AC2: =_xlfn.XLOOKUP(G2&" "&H2,Висновки!A:A,Висновки!E:E) -> #N/A | AD2: =_xlfn.XLOOKUP(G2&" "&H2,Висновки!A:A,Висновки!F:F) -> #N/A
A3: 4/1868 | B3: 46077 | C3: =TEXT(B3,"dd.mm.yyyy") -> 24.02.2026 | D3: 2 | E3: солдат | F3: АВРАМЕНКО Андрій Миколайович | G3: {=_xlfn.TEXTSPLIT(F3," ")} -> АВРАМЕНКО | H3: Андрій | I3: Миколайович | J3: Чернігівським РТЦК та СП у Чернігівській області | K3: =TEXT(L3,"dd.mm.yyyy") -> 18.06.1984 | L3: 30851 | M3: 3085003094 | O3: Чернігівська обл., м. Городня | P3: Чернігівська обл., м. Городня, вул. Чернігівська, буд. 86, кв 1. | Q3: Вища | R3: ХНУРЕ, 2006, радіотехніка | S3: Програміст, 12 років Права B | T3: не одружений | U3: мати: Авраменко Людмила Михайлівна, 1955, Чернігівська обл., м. Городня, вул. Чернігівська, буд. 86, кв 1, | V3: 0671971309 | W3: Придатний до військової служби | Z3: =_xlfn.XLOOKUP(G3&" "&H3,Висновки!A:A,Висновки!B:B) -> Висновок: Інтелект нижче середнього (бали ) | AA3: =_xlfn.XLOOKUP(G3&" "&H3,Висновки!A:A,Висновки!C:C) -> Висновок: Середній рівень прояву комунікативних схильностей. Такі люди прагнуть контакту з людьми, відстоюють свою думку, рішення, проте потенціал їхніх схильностей не відрізняється високою стійкістю. Потрібна подальша робота з формування й розвитку цих якостей особистості. | AB3: =_xlfn.XLOOKUP(G3&" "&H3,Висновки!A:A,Висновки!D:D) -> Висновок: Екстраверт - має високий рівень екстраверсії, що свідчить про активність, оптимізм, товариськість і балакучість, схильність до гри, пошук активності. | AC3: =_xlfn.XLOOKUP(G3&" "&H3,Висновки!A:A,Висновки!E:E) -> Висновок: Рівень схильності до суїцидальних реакцій нижче середнього | AD3: =_xlfn.XLOOKUP(G3&" "&H3,Висновки!A:A,Висновки!F:F) -> Отримано значення деструктивного рівня – військовослужбовець визнається психічно нестійким.
A4: 1/2363 | B4: 46076 | C4: =TEXT(B4,"dd.mm.yyyy") -> 23.02.2026 | D4: 2 | E4: солдат | F4: АЛЕКСЕНКО Іван Миколайович | G4: {=_xlfn.TEXTSPLIT(F4," ")} -> АЛЕКСЕНКО | H4: Іван | I4: Миколайович | J4: Ніжинським РТЦК та СП у Чернігівській області | K4: =TEXT(L4,"dd.mm.yyyy") -> 23.06.1997 | L4: 35604 | M4: 3560301717 | O4: Чернігівська обл., Карюківський р-н., с. Бондарівка | P4: Чернігівська обл. м. Бахмач, вул. Олени Теліги, буд. 36 | Q4: середня спеціальна | R4: Конотопський аграрний ліцей, 2017, слюсар-механік | S4: Водій, 4 роки Слюсар-механік, 4 роки Права: В, С | T4: одружений | U4: дружина: Алексенко Катерина Анатоліївна, 1994, Чернігівська обл. м. Бахмач, вул. Олени Теліги, буд. 36 | V4: 0632905799 | W4: Придатний до військової служби | X4: I Rh + | Z4: =_xlfn.XLOOKUP(G4&" "&H4,Висновки!A:A,Висновки!B:B) -> Висновок: Невеликий ступінь розумового відставання (бали ) | AA4: =_xlfn.XLOOKUP(G4&" "&H4,Висновки!A:A,Висновки!C:C) -> Висновок: Високий рівень прояву комунікативних схильностей. Такі люди не почуваються розгубленими в новій обстановці, швидко знаходять друзів, прагнуть розширяти коло знайомих, допомагають близьким і друзям, виявляють ініціативу у спілкуванні, здатні приймати рішення у складних, нестандартних ситуаціях. | AB4: =_xlfn.XLOOKUP(G4&" "&H4,Висновки!A:A,Висновки!D:D) -> Висновок: Інтроверт - має низький рівень екстраверсії, що свідчить про сором’язливість, песимістичність, надання переваги бути самотнім, уникнення соціальних активностей. | AC4: =_xlfn.XLOOKUP(G4&" "&H4,Висновки!A:A,Висновки!E:E) -> Висновок: Низький рівень схильності до суїцидальних реакцій | AD4: =_xlfn.XLOOKUP(G4&" "&H4,Висновки!A:A,Висновки!F:F) -> Отримано значення деструктивного рівня – військовослужбовець визнається психічно нестійким.
A5: 260223-9 | B5: 46076 | C5: =TEXT(B5,"dd.mm.yyyy") -> 23.02.2026 | D5: 3 | E5: солдат | F5: АЛІЄВ Парвіз Натікбєкович | G5: {=_xlfn.TEXTSPLIT(F5," ")} -> АЛІЄВ | H5: Парвіз | I5: Натікбєкович | J5: Солом'янським РТЦК та СП у Київській області | K5: =TEXT(L5,"dd.mm.yyyy") -> 07.05.1983 | L5: 30443 | M5: 3044204097 | N5: КС 160333 Київським РВ ДМУ УДМС УКР в Донецькій обл 09.08.2002 | O5: Азербайджан, м. Баку | P5: м. Київ, вул. Копилівська, буд. 30, кв. 54 | Q5: вища | R5: Київський політехнічний Інститут, 2005,Київський економічний Інститут, 2002,електотехнік, економіка | S5: інженер систем безпеки, 25 років Права: Б | T5: не одружений | U5: мати: Лал Різа Заде, 1956, м. Баку, Азербайджан | V5: 0663135516 | W5: Придатний до військової служби | X5: I Rh + | Z5: =_xlfn.XLOOKUP(G5&" "&H5,Висновки!A:A,Висновки!B:B) -> #N/A | AA5: =_xlfn.XLOOKUP(G5&" "&H5,Висновки!A:A,Висновки!C:C) -> #N/A | AB5: =_xlfn.XLOOKUP(G5&" "&H5,Висновки!A:A,Висновки!D:D) -> #N/A | AC5: =_xlfn.XLOOKUP(G5&" "&H5,Висновки!A:A,Висновки!E:E) -> #N/A | AD5: =_xlfn.XLOOKUP(G5&" "&H5,Висновки!A:A,Висновки!F:F) -> #N/A
A6: 2580 | B6: 46080 | C6: =TEXT(B6,"dd.mm.yyyy") -> 27.02.2026 | D6: 1 | E6: солдат | F6: АНДРУШКО Вадим Валентинович | G6: {=_xlfn.TEXTSPLIT(F6," ")} -> АНДРУШКО | H6: Вадим | I6: Валентинович | J6: Житомирським РТЦК та СП у Житомирській області | K6: =TEXT(L6,"dd.mm.yyyy") -> 02.11.1991 | L6: 33544 | M6: 3354308835 | N6: ВН 424127 Вололдарсько-Волинським РВ УМВС в Житомирській області 20.05.2008 | O6: Житомирська обл., Житомирський р-н., смт. Нова Борова | P6: Житомирська обл., Житомирський р-н., смт. Нова Борова, вул. Незалежності, буд. 57 | Q6: професійно- технічна | R6: Житомирське ПТУ №5, 2013, маляр-штукатур | S6: будівельник, 10 років Права В | T6: одружений | U6: дружина: Андрушко Юлія Анатоліївна, 1994, Житомирська обл., Житомирський р-н., смт. Нова Борова, вул. Незалежності, буд. 57 | V6: 0982607646 | W6: Придатний до служби на підводних човнох, на надводних кораблях, у морській піхоті, Десантно-штурмових військах, спеціальних спорудах, підрозділах спеціального призначення | Z6: =_xlfn.XLOOKUP(G6&" "&H6,Висновки!A:A,Висновки!B:B) -> #N/A | AA6: =_xlfn.XLOOKUP(G6&" "&H6,Висновки!A:A,Висновки!C:C) -> #N/A | AB6: =_xlfn.XLOOKUP(G6&" "&H6,Висновки!A:A,Висновки!D:D) -> #N/A | AC6: =_xlfn.XLOOKUP(G6&" "&H6,Висновки!A:A,Висновки!E:E) -> #N/A | AD6: =_xlfn.XLOOKUP(G6&" "&H6,Висновки!A:A,Висновки!F:F) -> #N/A
A7: 1/2342 | B7: 46075 | C7: =TEXT(B7,"dd.mm.yyyy") -> 22.02.2026 | D7: 5 | E7: солдат | F7: АНІСІМОВ Сергій Леонідович | G7: {=_xlfn.TEXTSPLIT(F7," ")} -> АНІСІМОВ | H7: Сергій | I7: Леонідович | J7: Ніжинським РТЦК та СП у Чернігівській області | K7: =TEXT(L7,"dd.mm.yyyy") -> 18.10.1989 | L7: 32799 | M7: 3279802570 | N7: АМ 247948 | O7: Чернігівська обл., м. Ніжин | P7: Чернігівська обл., Ніжинський р-н., с. Велика Кошелівка, вул. Веринарна, буд. 5 | Q7: середня спеціальна | R7: Ніжинське ПТУ №35, водій-механік, 2008 | S7: Тракторист, 10 років Права AB (трактор), B, C | T7: не одружений | U7: мати: Куліш Наталія Василівна, 1960, Чернігівська обл., м. Ніжин, вул. Богуна, буд. 22, 0967676757 | V7: 0985324330 | W7: Придатний до військової служби | X7: RH 2+ | Z7: =_xlfn.XLOOKUP(G7&" "&H7,Висновки!A:A,Висновки!B:B) -> Висновок: Інтелект нижче середнього (бали ) | AA7: =_xlfn.XLOOKUP(G7&" "&H7,Висновки!A:A,Висновки!C:C) -> Висновок: Середній рівень прояву комунікативних схильностей. Такі люди прагнуть контакту з людьми, відстоюють свою думку, рішення, проте потенціал їхніх схильностей не відрізняється високою стійкістю. Потрібна подальша робота з формування й розвитку цих якостей особистості. | AB7: =_xlfn.XLOOKUP(G7&" "&H7,Висновки!A:A,Висновки!D:D) -> Висновок: Екстраверт - має високий рівень екстраверсії, що свідчить про активність, оптимізм, товариськість і балакучість, схильність до гри, пошук активності. | AC7: =_xlfn.XLOOKUP(G7&" "&H7,Висновки!A:A,Висновки!E:E) -> Висновок: Низький рівень схильності до суїцидальних реакцій | AD7: =_xlfn.XLOOKUP(G7&" "&H7,Висновки!A:A,Висновки!F:F) -> Отримано значення деструктивного рівня – військовослужбовець визнається психічно нестійким.
A8: 1452 | B8: 46081 | C8: =TEXT(B8,"dd.mm.yyyy") -> 28.02.2026 | D8: 1 | E8: солдат | F8: АНТОНЮК Дмитро Русланович | G8: {=_xlfn.TEXTSPLIT(F8," ")} -> АНТОНЮК | H8: Дмитро | I8: Русланович | J8: Хмільницьким РТЦК та СП у Вінницькій області | K8: =TEXT(L8,"dd.mm.yyyy") -> 23.03.1999 | L8: 36242 | M8: 3624109257 | N8: АТ 121678 | O8: Житомирська обл. м. Радомишль | P8: м. Вінниця, вул. Генерала Григоренка, буд. 36, кв. 21 | Q8: професійно- технічна | R8: Тульчинський коледж ветеринарної медецини,м. Тульчин,2018,фельдшер ветеринарної медецини | S8: комплектувальник продуктів харчування - 4р | T8: не одружений | U8: мати: Антонюк Оксана Вікторівна - прибл. 43р - 0673588369 - Вінницька обл, Вінницький р-н, с. Гавришівка, вул. ? | V8: 0976880495 | W8: Придатний до військової служби | X8: I Rh + | Z8: =_xlfn.XLOOKUP(G8&" "&H8,Висновки!A:A,Висновки!B:B) -> Висновок: Слабкий, нижче середнього інтелект (бали ) | AA8: =_xlfn.XLOOKUP(G8&" "&H8,Висновки!A:A,Висновки!C:C) -> Висновок: Високий рівень прояву комунікативних схильностей. Такі люди не почуваються розгубленими в новій обстановці, швидко знаходять друзів, прагнуть розширяти коло знайомих, допомагають близьким і друзям, виявляють ініціативу у спілкуванні, здатні приймати рішення у складних, нестандартних ситуаціях. | AB8: =_xlfn.XLOOKUP(G8&" "&H8,Висновки!A:A,Висновки!D:D) -> Висновок: Інтроверт - має низький рівень екстраверсії, що свідчить про сором’язливість, песимістичність, надання переваги бути самотнім, уникнення соціальних активностей. | AC8: =_xlfn.XLOOKUP(G8&" "&H8,Висновки!A:A,Висновки!E:E) -> Висновок: Високий рівень схильності до суїцидальних реакцій | AD8: =_xlfn.XLOOKUP(G8&" "&H8,Висновки!A:A,Висновки!F:F) -> Отримано значення деструктивного рівня – військовослужбовець визнається психічно нестійким.
A9: 2500 | B9: 46078 | C9: =TEXT(B9,"dd.mm.yyyy") -> 25.02.2026 | D9: 1 | E9: солдат | F9: АНТОНЮК Олександр Леонідович | G9: {=_xlfn.TEXTSPLIT(F9," ")} -> АНТОНЮК | H9: Олександр | I9: Леонідович | J9: Житомирським РТЦК та СП у Житомирській області | K9: =TEXT(L9,"dd.mm.yyyy") -> 27.09.1979 | L9: 29125 | M9: 2912410393 | N9: ТТ 193066 Дарнівським РО ГУ ДМС УКР в м. Києві 16.08.2013 | O9: м. Київ | P9: Житомирська обл. Попільнянський р-н., с. Романівка, вул. Миру, буд. 20 | Q9: професійно- технічна | R9: Київське училище №26 | S9: будівельник, 20 років Права- | T9: не одружений | U9: мати: Антонюк Світлана Миколаївна, 1959, м. Київ, вул. Бажана, буд. 9, 0972926021 | V9: 0975269074 | W9: Придатний до військової служби | X9: II Rh + | Z9: =_xlfn.XLOOKUP(G9&" "&H9,Висновки!A:A,Висновки!B:B) -> #N/A | AA9: =_xlfn.XLOOKUP(G9&" "&H9,Висновки!A:A,Висновки!C:C) -> #N/A | AB9: =_xlfn.XLOOKUP(G9&" "&H9,Висновки!A:A,Висновки!D:D) -> #N/A | AC9: =_xlfn.XLOOKUP(G9&" "&H9,Висновки!A:A,Висновки!E:E) -> #N/A | AD9: =_xlfn.XLOOKUP(G9&" "&H9,Висновки!A:A,Висновки!F:F) -> #N/A
A10: 2566 | B10: 46080 | C10: =TEXT(B10,"dd.mm.yyyy") -> 27.02.2026 | D10: 2 | E10: солдат | F10: БАБИЧ Андрій Васильович | G10: {=_xlfn.TEXTSPLIT(F10," ")} -> БАБИЧ | H10: Андрій | I10: Васильович | J10: Житомирським РТЦК та СП у Житомирській області | K10: =TEXT(L10,"dd.mm.yyyy") -> 18.04.1984 | L10: 30790 | M10: 3078922215 | N10: СТ 531446 Чернігівським РС УДМС УКР в Чернігівській обл 24.02.2017 | O10: Чернігівська обл., Чернігівський р-н., с. Павлівка | P10: Житомирський р-н., с. Покостівка, вул. Квіткова, буд. 5 | Q10: професійно- технічна | R10: Чернігівське ПТУ №5, 2002, черговий по станції, провідник | S10: провідник, 8 років Права - | T10: не одружений | U10: сестра: Винниченко Олена Василівна, 1981, м. Чернігів, 0964958186 | V10: 0989386733 | W10: Придатний до служби на підводних човнох, на надводних кораблях, у морській піхоті, Десантно-штурмових військах, спеціальних спорудах, підрозділах спеціального призначення | Z10: =_xlfn.XLOOKUP(G10&" "&H10,Висновки!A:A,Висновки!B:B) -> #N/A | AA10: =_xlfn.XLOOKUP(G10&" "&H10,Висновки!A:A,Висновки!C:C) -> #N/A | AB10: =_xlfn.XLOOKUP(G10&" "&H10,Висновки!A:A,Висновки!D:D) -> #N/A | AC10: =_xlfn.XLOOKUP(G10&" "&H10,Висновки!A:A,Висновки!E:E) -> #N/A | AD10: =_xlfn.XLOOKUP(G10&" "&H10,Висновки!A:A,Висновки!F:F) -> #N/A
A11: 11/1629 | B11: 46080 | C11: =TEXT(B11,"dd.mm.yyyy") -> 27.02.2026 | D11: 3 | E11: солдат | F11: БАСКАКОВ Павло Анатолійович | G11: {=_xlfn.TEXTSPLIT(F11," ")} -> БАСКАКОВ | H11: Павло | I11: Анатолійович | J11: Шевченківським РТЦК та СП у Київській області | K11: =TEXT(L11,"dd.mm.yyyy") -> 02.03.1984 | L11: 30743 | M11: 3074200978 | N11: АМ 064073 Заводським РВ Дніпродзержинського МУ УМВС України в Дніпропетровській області 03.10.2000 | O11: Дніпропетровська обл, м. Дніпродзержинськ | P11: м. Київ, вул. Академіка Корольова, буд. 7, кв. 46 | Q11: професійно- технічна | R11: Дніпродзержинський індустріальнгий коледж,2004,електрик | S11: власник інтернет магазину - 4р Права A, B, C | T11: не одружений | U11: бабуся: Носуля Раїса Іванівна - 0687208035 - 85р - Дніпропетровська обл, м. Кам'янське, вул. Дніпробудівельна, буд. 27, кв. 7 | V11: 0965569916 | W11: Придатний до служби на підводних човнох, на надводних кораблях, у морській піхоті, Десантно-штурмових військах, спеціальних спорудах, підрозділах спеціального призначення | X11: III Rh - | Z11: =_xlfn.XLOOKUP(G11&" "&H11,Висновки!A:A,Висновки!B:B) -> Висновок: Невеликий ступінь розумового відставання (бали ) | AA11: =_xlfn.XLOOKUP(G11&" "&H11,Висновки!A:A,Висновки!C:C) -> Висновок: Середній рівень прояву комунікативних схильностей. Такі люди прагнуть контакту з людьми, відстоюють свою думку, рішення, проте потенціал їхніх схильностей не відрізняється високою стійкістю. Потрібна подальша робота з формування й розвитку цих якостей особистості. | AB11: =_xlfn.XLOOKUP(G11&" "&H11,Висновки!A:A,Висновки!D:D) -> Висновок: Екстраверт - має високий рівень екстраверсії, що свідчить про активність, оптимізм, товариськість і балакучість, схильність до гри, пошук активності. | AC11: =_xlfn.XLOOKUP(G11&" "&H11,Висновки!A:A,Висновки!E:E) -> Висновок: Рівень схильності до суїцидальних реакцій нижче середнього | AD11: =_xlfn.XLOOKUP(G11&" "&H11,Висновки!A:A,Висновки!F:F) -> Отримано значення деструктивного рівня – військовослужбовець визнається психічно нестійким.
A12: 1537/11/2005 | B12: 46079 | C12: =TEXT(B12,"dd.mm.yyyy") -> 26.02.2026 | D12: 2 | E12: солдат | F12: БЕРШАДСЬКИЙ Олександр Миколайович | G12: {=_xlfn.TEXTSPLIT(F12," ")} -> БЕРШАДСЬКИЙ | H12: Олександр | I12: Миколайович | J12: Дніпровським РТЦК та СП у Київській області | K12: =TEXT(L12,"dd.mm.yyyy") -> 15.03.1992 | L12: 33678 | M12: 3367700733 | N12: 003047716 8034 04.03.2019 | O12: Дніпропетровська обл. м. Кривий Ріг | P12: м. Київ, вул. Тичини, буд. 3а, кв. 61 | Q12: вища | R12: КПІ, 2016, ІТ | S12: програміст, 8 років Права - | T12: не одружений | U12: мати: Бершадська Ірина Володимирівна, 1968, м. Київ, вул. Тичини, буд. 3а, кв. 61, 0957958159, 0675784797 | V12: 0934043734 | W12: Придатний до військової служби | Y12: А3316 по розподілу рекомендаційний лист | Z12: =_xlfn.XLOOKUP(G12&" "&H12,Висновки!A:A,Висновки!B:B) -> #N/A | AA12: =_xlfn.XLOOKUP(G12&" "&H12,Висновки!A:A,Висновки!C:C) -> #N/A | AB12: =_xlfn.XLOOKUP(G12&" "&H12,Висновки!A:A,Висновки!D:D) -> #N/A | AC12: =_xlfn.XLOOKUP(G12&" "&H12,Висновки!A:A,Висновки!E:E) -> #N/A | AD12: =_xlfn.XLOOKUP(G12&" "&H12,Висновки!A:A,Висновки!F:F) -> #N/A
A13: 2543 | B13: 46079 | C13: =TEXT(B13,"dd.mm.yyyy") -> 26.02.2026 | D13: 3 | E13: солдат | F13: БІЛОУСОВ Сергій Вікторович | G13: {=_xlfn.TEXTSPLIT(F13," ")} -> БІЛОУСОВ | H13: Сергій | I13: Вікторович | J13: Житомирським ОМТЦК та СП у Житомирській області | K13: =TEXT(L13,"dd.mm.yyyy") -> 04.09.1982 | L13: 30198 | M13: ВМ 632875 | N13: 009302826 1836 23.06.2023 | O13: м. Житомир | P13: м. Житомир, вул. Переїзд Радомишльський, буд. 9 | Q13: повна загальна середня | R13: Житомирська ЗОШ №2 | S13: рихтувальник, 6 років Права - | T13: одружений | U13: дружина: Білоусова Оксана Вікторівна, 1980, м. Житомир, вул. Переїзд Радомишльський, буд. 9, 0960276981 | V13: 0990907846 | W13: Придатний до військової служби | Z13: =_xlfn.XLOOKUP(G13&" "&H13,Висновки!A:A,Висновки!B:B) -> Висновок: Невеликий ступінь розумового відставання (бали ) | AA13: =_xlfn.XLOOKUP(G13&" "&H13,Висновки!A:A,Висновки!C:C) -> Висновок: Середній рівень прояву комунікативних схильностей. Такі люди прагнуть контакту з людьми, відстоюють свою думку, рішення, проте потенціал їхніх схильностей не відрізняється високою стійкістю. Потрібна подальша робота з формування й розвитку цих якостей особистості. | AB13: =_xlfn.XLOOKUP(G13&" "&H13,Висновки!A:A,Висновки!D:D) -> Висновок: Екстраверт - має високий рівень екстраверсії, що свідчить про активність, оптимізм, товариськість і балакучість, схильність до гри, пошук активності. | AC13: =_xlfn.XLOOKUP(G13&" "&H13,Висновки!A:A,Висновки!E:E) -> Висновок: Рівень схильності до суїцидальних реакцій нижче середнього | AD13: =_xlfn.XLOOKUP(G13&" "&H13,Висновки!A:A,Висновки!F:F) -> Отримано значення деструктивного рівня – військовослужбовець визнається психічно нестійким.
B14: 46078 | C14: =TEXT(B14,"dd.mm.yyyy") -> 25.02.2026 | D14: 18 | E14: солдат | F14: БОЙКО Геннадій Володимирович | G14: {=_xlfn.TEXTSPLIT(F14," ")} -> БОЙКО | H14: Геннадій | I14: Володимирович | K14: =TEXT(L14,"dd.mm.yyyy") -> 19.11.1981 | L14: 29909 | M14: 2990807554 | N14: МА 583941 Охтирським МРВУМВС України в Сумській обл., 04.01.1999 | O14: Сумська обл., м. Охтирка, пров. Весняний, буд. 15а | P14: Сумська обл., м. Охтирка, вул. Київська, буд. 107, кв. 57 | Q14: професійно- технічна | R14: ПТУ №7, м. Охтирка, 1999, маляр-штукатур | S14: будівельник, 20 років Права В, С | T14: не одружений | U14: мати: Бойко Алла Миколаївна, 1960, Сумська обл., м. Охтирка, пров. Весняний, буд. 15а | V14: 0665156739 | X14: II Rh + | Y14: Резерв КДШВ | Z14: =_xlfn.XLOOKUP(G14&" "&H14,Висновки!A:A,Висновки!B:B) -> #N/A | AA14: =_xlfn.XLOOKUP(G14&" "&H14,Висновки!A:A,Висновки!C:C) -> #N/A | AB14: =_xlfn.XLOOKUP(G14&" "&H14,Висновки!A:A,Висновки!D:D) -> #N/A | AC14: =_xlfn.XLOOKUP(G14&" "&H14,Висновки!A:A,Висновки!E:E) -> #N/A | AD14: =_xlfn.XLOOKUP(G14&" "&H14,Висновки!A:A,Висновки!F:F) -> #N/A
A15: 1537/11/2005 | B15: 46079 | C15: =TEXT(B15,"dd.mm.yyyy") -> 26.02.2026 | D15: 4 | E15: солдат | F15: БОЛЬШАКОВ Костянтин Євгенович | G15: {=_xlfn.TEXTSPLIT(F15," ")} -> БОЛЬШАКОВ | H15: Костянтин | I15: Євгенович | J15: Дніпровським РТЦК та СП у Київській області | K15: =TEXT(L15,"dd.mm.yyyy") -> 02.07.1992 | L15: 33787 | M15: 3378604531 | N15: ЕН 904717 Краснолуцьким МВ УДМС УКР в Луганській обл 15.11.2012 | O15: Луганська обл, м. Красний Луч | P15: м. Київ,, вул. Русанівська Набережна, буд. 6, кв. 56 | Q15: професійно- технічна | R15: Краснолуцький приладобудівний технікум,м. Красний Луч,2013р,економіка підприємства | S15: Фріланс - 2D дизайн логотипів, оточення для браузерних ігор (Photoshop, AI) - 5р портретист на пам'ятниках - 3р кухар - 1,5р | T15: не одружений | U15: сестра: Большакова Яна Євгеновна - 1990 - 0664203975 - м. Київ, вул. Русанівська Набережна, буд. 6, кв. 56 | V15: 0995045246 | W15: Придатний до військової служби | Z15: =_xlfn.XLOOKUP(G15&" "&H15,Висновки!A:A,Висновки!B:B) -> #N/A | AA15: =_xlfn.XLOOKUP(G15&" "&H15,Висновки!A:A,Висновки!C:C) -> #N/A | AB15: =_xlfn.XLOOKUP(G15&" "&H15,Висновки!A:A,Висновки!D:D) -> #N/A | AC15: =_xlfn.XLOOKUP(G15&" "&H15,Висновки!A:A,Висновки!E:E) -> #N/A | AD15: =_xlfn.XLOOKUP(G15&" "&H15,Висновки!A:A,Висновки!F:F) -> #N/A
A16: 1230 | B16: 46075 | C16: =TEXT(B16,"dd.mm.yyyy") -> 22.02.2026 | D16: 4 | E16: солдат | F16: БОНДАР Андрій Васильович | G16: {=_xlfn.TEXTSPLIT(F16," ")} -> БОНДАР | H16: Андрій | I16: Васильович | J16: Хмільницьким РТЦК та СП у Вінницькій області | K16: =TEXT(L16,"dd.mm.yyyy") -> 29.07.1988 | L16: 32353 | M16: 3235207996 | N16: 011098716 | O16: м. Вінниця | P16: м. Вінниця, вул. Запорізька, буд. 21, кв. 124 | Q16: професійно- технічна | R16: Стрижовська СВК | S16: Будівельник, 1 рік Права - | T16: не одружений | U16: мати: Бондар Лілія Петрівна, 1956, м. Вінниця, вул. Запорізька, буд. 21, кв. 124, 0961876495 | V16: 0970255251 | W16: Придатний до військової служби | Z16: =_xlfn.XLOOKUP(G16&" "&H16,Висновки!A:A,Висновки!B:B) -> Висновок: Інтелектуальний дефект розумова відсталість на рівні дебільності (бали ) | AA16: =_xlfn.XLOOKUP(G16&" "&H16,Висновки!A:A,Висновки!C:C) -> Висновок: Середній рівень прояву комунікативних схильностей. Такі люди прагнуть контакту з людьми, відстоюють свою думку, рішення, проте потенціал їхніх схильностей не відрізняється високою стійкістю. Потрібна подальша робота з формування й розвитку цих якостей особистості. | AB16: =_xlfn.XLOOKUP(G16&" "&H16,Висновки!A:A,Висновки!D:D) -> Висновок: Екстраверт - має високий рівень екстраверсії, що свідчить про активність, оптимізм, товариськість і балакучість, схильність до гри, пошук активності. | AC16: =_xlfn.XLOOKUP(G16&" "&H16,Висновки!A:A,Висновки!E:E) -> Висновок: Рівень схильності до суїцидальних реакцій нижче середнього | AD16: =_xlfn.XLOOKUP(G16&" "&H16,Висновки!A:A,Висновки!F:F) -> Отримано значення деструктивного рівня – військовослужбовець визнається психічно нестійким.
A17: 10/584 | B17: 46075 | C17: =TEXT(B17,"dd.mm.yyyy") -> 22.02.2026 | D17: 10 | E17: солдат | F17: БОРИСОВ Дмитро Сергійович | G17: {=_xlfn.TEXTSPLIT(F17," ")} -> БОРИСОВ | H17: Дмитро | I17: Сергійович | J17: Чернігівським МТЦК та СП у Чернігівській області | K17: =TEXT(L17,"dd.mm.yyyy") -> 16.05.1984 | L17: 30818 | M17: 3081727094 | O17: м. Хабаровськ, росія | P17: м. Чернігів, вул. Мстиславська, буд. 171, кв. 9 | Q17: середня спеціальна | R17: ПУ 63, станиця Денська, Денський р-н., Краснодарський край, водій-автомеханік, 2005 | S17: Менеджер з постачання, 4 роки Права В | T17: одружений | U17: дружина: Борисова Євгенія Вʼячеславівна, 1987, м. Чернігів, вул. Мстиславська, буд. 171, кв. 9, 0632156010 | V17: 0969311148 | W17: Придатний до військової служби | X17: RH 2- | Z17: =_xlfn.XLOOKUP(G17&" "&H17,Висновки!A:A,Висновки!B:B) -> Висновок: Слабкий, нижче середнього інтелект (бали ) | AA17: =_xlfn.XLOOKUP(G17&" "&H17,Висновки!A:A,Висновки!C:C) -> Висновок: Середній рівень прояву комунікативних схильностей. Такі люди прагнуть контакту з людьми, відстоюють свою думку, рішення, проте потенціал їхніх схильностей не відрізняється високою стійкістю. Потрібна подальша робота з формування й розвитку цих якостей особистості. | AB17: =_xlfn.XLOOKUP(G17&" "&H17,Висновки!A:A,Висновки!D:D) -> Висновок: Екстраверт - має високий рівень екстраверсії, що свідчить про активність, оптимізм, товариськість і балакучість, схильність до гри, пошук активності. | AC17: =_xlfn.XLOOKUP(G17&" "&H17,Висновки!A:A,Висновки!E:E) -> Висновок: Середній рівень схильності до суїцидальних реакцій | AD17: =_xlfn.XLOOKUP(G17&" "&H17,Висновки!A:A,Висновки!F:F) -> Отримано значення деструктивного рівня – військовослужбовець визнається психічно нестійким.
A18: 1/2286 | B18: 46074 | C18: =TEXT(B18,"dd.mm.yyyy") -> 21.02.2026 | D18: 1 | E18: солдат | F18: БОРОДАВКО Віталій Михайлович | G18: {=_xlfn.TEXTSPLIT(F18," ")} -> БОРОДАВКО | H18: Віталій | I18: Михайлович | J18: Ніжинським РТЦК та СП у Чернігівській області | K18: =TEXT(L18,"dd.mm.yyyy") -> 10.10.1989 | L18: 32791 | M18: 3279006554 | N18: НМ 247947 Ніжинським МВР УМВС УКР в Чернігівській обл 24.03.2006 | O18: Чернігівська обл., м. Ніжин | P18: Чернігівська обл., м. Ніжин, вул. Станіслава Прощенко, буд. 40/б, кв. 33 | Q18: повна середня освіта | R18: Ніжинська ЗОШ №7 | S18: Торгівельний представник, 6 міс. Права - | T18: не одружений | U18: мати: Бородавко Тетяна Андріївна, 1959, Чернігівська обл., м. Ніжин, вул. Станіслава Прощенко, буд. 40/б, кв. 33, 0682364981 | V18: ненадано | W18: Придатний до військової служби | X18: RH 2+ | Z18: =_xlfn.XLOOKUP(G18&" "&H18,Висновки!A:A,Висновки!B:B) -> Висновок: Слабкий, нижче середнього інтелект (бали ) | AA18: =_xlfn.XLOOKUP(G18&" "&H18,Висновки!A:A,Висновки!C:C) -> Висновок: Високий рівень прояву комунікативних схильностей. Такі люди не почуваються розгубленими в новій обстановці, швидко знаходять друзів, прагнуть розширяти коло знайомих, допомагають близьким і друзям, виявляють ініціативу у спілкуванні, здатні приймати рішення у складних, нестандартних ситуаціях. | AB18: =_xlfn.XLOOKUP(G18&" "&H18,Висновки!A:A,Висновки!D:D) -> Висновок: Екстраверт - має високий рівень екстраверсії, що свідчить про активність, оптимізм, товариськість і балакучість, схильність до гри, пошук активності. | AC18: =_xlfn.XLOOKUP(G18&" "&H18,Висновки!A:A,Висновки!E:E) -> Висновок: Низький рівень схильності до суїцидальних реакцій | AD18: =_xlfn.XLOOKUP(G18&" "&H18,Висновки!A:A,Висновки!F:F) -> Отримано значення деструктивного рівня – військовослужбовець визнається психічно нестійким.
A19: 1/2420 | B19: 46077 | C19: =TEXT(B19,"dd.mm.yyyy") -> 24.02.2026 | D19: 3 | E19: солдат | F19: БРИСКІН Денис Сергійович | G19: {=_xlfn.TEXTSPLIT(F19," ")} -> БРИСКІН | H19: Денис | I19: Сергійович | J19: Ніжинським РТЦК та СП у Чернігівській області | K19: =TEXT(L19,"dd.mm.yyyy") -> 03.09.1982 | L19: 30197 | M19: 3019609990 | O19: м. Київ | P19: м. Чернігів, вул. Текстильників, буд. 24, кв. 42 | Q19: повна загальна середня | R19: Рамаданівська ЗОШ, 2000 | S19: Завідуючий складом, 16 років Начальник охорони, 4 роки Права - | T19: одружений | U19: дружина: Брискіна Ірина Леонідівна, 1973, м. Чернігів, вул. Текстильників, буд. 24, кв. 42, 0992497840 | V19: 0960389583 | W19: Придатний до військової служби | Z19: =_xlfn.XLOOKUP(G19&" "&H19,Висновки!A:A,Висновки!B:B) -> Висновок: Слабкий, нижче середнього інтелект (бали ) | AA19: =_xlfn.XLOOKUP(G19&" "&H19,Висновки!A:A,Висновки!C:C) -> Висновок: Середній рівень прояву комунікативних схильностей. Такі люди прагнуть контакту з людьми, відстоюють свою думку, рішення, проте потенціал їхніх схильностей не відрізняється високою стійкістю. Потрібна подальша робота з формування й розвитку цих якостей особистості. | AB19: =_xlfn.XLOOKUP(G19&" "&H19,Висновки!A:A,Висновки!D:D) -> Висновок: Екстраверт - має високий рівень екстраверсії, що свідчить про активність, оптимізм, товариськість і балакучість, схильність до гри, пошук активності. | AC19: =_xlfn.XLOOKUP(G19&" "&H19,Висновки!A:A,Висновки!E:E) -> Висновок: Низький рівень схильності до суїцидальних реакцій | AD19: =_xlfn.XLOOKUP(G19&" "&H19,Висновки!A:A,Висновки!F:F) -> Отримано значення деструктивного рівня – військовослужбовець визнається психічно нестійким.
A20: 2609 | B20: 46081 | C20: =TEXT(B20,"dd.mm.yyyy") -> 28.02.2026 | D20: 2 | E20: солдат | F20: БРОДОВСЬКИЙ Вадим Феліксович | G20: {=_xlfn.TEXTSPLIT(F20," ")} -> БРОДОВСЬКИЙ | H20: Вадим | I20: Феліксович | J20: Житомирським РТЦК та СП у Житомирській області | K20: =TEXT(L20,"dd.mm.yyyy") -> 09.11.1977 | L20: 28438 | M20: 2843714031 | N20: ВМ 028712 | O20: Житомирська обл., смт Полянка | P20: Житомирська обл., Житомирський р-н., с. Костянинівка, вул. Весняна, буд. 10 | Q20: професійно- технічна | R20: Баранівське ПТУ №11 | S20: Пилорамщик, 20 років Права - | T20: не одружений | U20: сестра: Бродовська Ірина Феліксовна, 1984 | V20: не надано | W20: Придатний до військової служби | Z20: =_xlfn.XLOOKUP(G20&" "&H20,Висновки!A:A,Висновки!B:B) -> Висновок: Інтелект вище середнього (бали ) | AA20: =_xlfn.XLOOKUP(G20&" "&H20,Висновки!A:A,Висновки!C:C) -> Висновок: Високий рівень прояву комунікативних схильностей. Такі люди не почуваються розгубленими в новій обстановці, швидко знаходять друзів, прагнуть розширяти коло знайомих, допомагають близьким і друзям, виявляють ініціативу у спілкуванні, здатні приймати рішення у складних, нестандартних ситуаціях. | AB20: =_xlfn.XLOOKUP(G20&" "&H20,Висновки!A:A,Висновки!D:D) -> Висновок: Екстраверт - має високий рівень екстраверсії, що свідчить про активність, оптимізм, товариськість і балакучість, схильність до гри, пошук активності. | AC20: =_xlfn.XLOOKUP(G20&" "&H20,Висновки!A:A,Висновки!E:E) -> Висновок: Рівень схильності до суїцидальних реакцій нижче середнього | AD20: =_xlfn.XLOOKUP(G20&" "&H20,Висновки!A:A,Висновки!F:F) -> Отримано значення деструктивного рівня – військовослужбовець визнається психічно нестійким.
B21: 46016 | C21: =TEXT(B21,"dd.mm.yyyy") -> 25.12.2025 | D21: 23 | E21: солдат | F21: БРУЯКА Максим Юрійович | G21: {=_xlfn.TEXTSPLIT(F21," ")} -> БРУЯКА | H21: Максим | I21: Юрійович | J21: Сумським МТЦК та СП у Сумській області | K21: =TEXT(L21,"dd.mm.yyyy") -> 28.10.1996 | L21: 35366 | M21: 3536512192 | N21: МВ 516155 Ковпаківським РВ м.Суми УДМС України в Сумській обл. 18.12.2012 | O21: Р | P21: м. Суми, вул. Засумська буд. 16, кв. 45 | Q21: базова загальна середня | R21: Школа №12, м. Суми | S21: різноробочий, 1 рік Права - | T21: не одружений | U21: мати: Бруяка Наталія Володимирівна, 1976, м. Суми, вул. Засумська буд. 16, кв. 45, 0664739829 | V21: 0502773062 | X21: II Rh - | Y21: Резерв КДШВ | Z21: =_xlfn.XLOOKUP(G21&" "&H21,Висновки!A:A,Висновки!B:B) -> #N/A | AA21: =_xlfn.XLOOKUP(G21&" "&H21,Висновки!A:A,Висновки!C:C) -> #N/A | AB21: =_xlfn.XLOOKUP(G21&" "&H21,Висновки!A:A,Висновки!D:D) -> #N/A | AC21: =_xlfn.XLOOKUP(G21&" "&H21,Висновки!A:A,Висновки!E:E) -> #N/A | AD21: =_xlfn.XLOOKUP(G21&" "&H21,Висновки!A:A,Висновки!F:F) -> #N/A
B22: 46080 | C22: =TEXT(B22,"dd.mm.yyyy") -> 27.02.2026 | D22: 38 | E22: солдат | F22: БУРКОВЦОВ Андрій Юрійович | G22: {=_xlfn.TEXTSPLIT(F22," ")} -> БУРКОВЦОВ | H22: Андрій | I22: Юрійович | J22: Роменським ТЦК та СП у Сумській області | K22: =TEXT(L22,"dd.mm.yyyy") -> 09.09.1988 | L22: 32395 | M22: 3239413855 | N22: закордоний паспорт ЕН991201 виданий 7401 08.06.2011 | O22: м. Ніжин, Чернігівська обл. | P22: Сумська обл., Роменський р-н, с. Русанівка, вул. Русанівська 26 | Q22: вища | R22: НДУ ім. Гоголя, м. Ніжин, Чернігівська обл.,спеціаліст вчитель Історії і права,ДАКККІМ м. Київ, бакалавр, дизайнер середовища,КДАІС м. Київ, бакалавр, священослужитель | S22: священик педагог | T22: одружений | U22: дружина Гапон Зоя Сергиіївна - 1988, Сумська обл., Роменський р-н, с. Русанівка, вул. Русанівська 26 | V22: 0973166440 | X22: III Rh + | Y22: Резерв КДШВ | Z22: =_xlfn.XLOOKUP(G22&" "&H22,Висновки!A:A,Висновки!B:B) -> #N/A | AA22: =_xlfn.XLOOKUP(G22&" "&H22,Висновки!A:A,Висновки!C:C) -> #N/A | AB22: =_xlfn.XLOOKUP(G22&" "&H22,Висновки!A:A,Висновки!D:D) -> #N/A | AC22: =_xlfn.XLOOKUP(G22&" "&H22,Висновки!A:A,Висновки!E:E) -> #N/A | AD22: =_xlfn.XLOOKUP(G22&" "&H22,Висновки!A:A,Висновки!F:F) -> #N/A
A23: 614 | B23: 46079 | C23: =TEXT(B23,"dd.mm.yyyy") -> 26.02.2026 | D23: 5 | E23: солдат | F23: БУТКО Руслан Павлович | G23: {=_xlfn.TEXTSPLIT(F23," ")} -> БУТКО | H23: Руслан | I23: Павлович | J23: Дарницьким РТЦК та СП у Київській області | K23: =TEXT(L23,"dd.mm.yyyy") -> 29.07.1998 | L23: 36005 | M23: 3600408276 | N23: 009601452 3214 29.08.2023 | O23: Київська обл., Васильківський р-н., с. Вільшанська Новоселице | P23: м. Київ, вул. Закревського, буд. 27а, кв.38 | Q23: повна загальна середня | R23: Вільшансько Новоселівська ЗОШ | S23: Будівельник, 4 роки Права В | T23: не одружений | U23: брат: Павленко Максим Андрійович, 1997, 0967116383 | V23: 0962685449 | W23: Придатний до військової служби | X23: II Rh + | Z23: =_xlfn.XLOOKUP(G23&" "&H23,Висновки!A:A,Висновки!B:B) -> #N/A | AA23: =_xlfn.XLOOKUP(G23&" "&H23,Висновки!A:A,Висновки!C:C) -> #N/A | AB23: =_xlfn.XLOOKUP(G23&" "&H23,Висновки!A:A,Висновки!D:D) -> #N/A | AC23: =_xlfn.XLOOKUP(G23&" "&H23,Висновки!A:A,Висновки!E:E) -> #N/A | AD23: =_xlfn.XLOOKUP(G23&" "&H23,Висновки!A:A,Висновки!F:F) -> #N/A
B24: 46079 | C24: =TEXT(B24,"dd.mm.yyyy") -> 26.02.2026 | D24: 5 | E24: солдат | F24: ВАСИЛЬЧЕНКО Сергій Анатолійович | G24: {=_xlfn.TEXTSPLIT(F24," ")} -> ВАСИЛЬЧЕНКО | H24: Сергій | I24: Анатолійович | J24: Роменським РТЦК та СП у Сумській області | K24: =TEXT(L24,"dd.mm.yyyy") -> 17.11.1993 | L24: 34290 | M24: 3428909730 | N24: 002997059 виданий 5924 20.02.2019 | O24: Сумська обл., Роменський р-н., с Пустовойтівка | P24: Сумська обл., Роменський р-н., с Пустовойтівка, вул. 5 пер. Берегова, буд. 9 | Q24: базова загальна середня | R24: Пустовійтівська ЗОШ | S24: вантажник, 3 роки Права - | T24: не одружений | U24: мати: Вовк Світлана Григорівна, 1970, Сумська обл., Роменський р-н., с Пустовойтівка, вул. 5 пер. Берегова, буд. 9, 0685482470 | V24: не надано | X24: I Rh + | Y24: Резерв КДШВ | Z24: =_xlfn.XLOOKUP(G24&" "&H24,Висновки!A:A,Висновки!B:B) -> #N/A | AA24: =_xlfn.XLOOKUP(G24&" "&H24,Висновки!A:A,Висновки!C:C) -> #N/A | AB24: =_xlfn.XLOOKUP(G24&" "&H24,Висновки!A:A,Висновки!D:D) -> #N/A | AC24: =_xlfn.XLOOKUP(G24&" "&H24,Висновки!A:A,Висновки!E:E) -> #N/A | AD24: =_xlfn.XLOOKUP(G24&" "&H24,Висновки!A:A,Висновки!F:F) -> #N/A
B25: 46080 | C25: =TEXT(B25,"dd.mm.yyyy") -> 27.02.2026 | D25: 4 | E25: солдат | F25: ВЕРБА Володимир Олександрович | G25: {=_xlfn.TEXTSPLIT(F25," ")} -> ВЕРБА | H25: Володимир | I25: Олександрович | J25: Конотопським РТЦК та СП у Сумській області | K25: =TEXT(L25,"dd.mm.yyyy") -> 28.08.1995 | L25: 34939 | M25: 3493804851 | O25: Миколаївська обл., м. Баштанка | P25: Сумська обл., м. Конотоп, вул. Успенсько-Троїцька, буд. 13, кв. 28 | Q25: професійно- технічна | R25: ПТУ, м. Кременчук, 2013, маляр-штукатур | S25: будівельник, 6 років Права - | T25: одружений | U25: дружина: Верба Марія Сергіївна, 1997, Сумська обл., м. Конотоп, вул. Успенсько-Троїцька, буд. 13, кв. 28, 0977738011 | V25: 0685689787 | X25: II Rh + | Y25: Резерв КДШВ | Z25: =_xlfn.XLOOKUP(G25&" "&H25,Висновки!A:A,Висновки!B:B) -> Висновок: Невеликий ступінь розумового відставання (бали ) | AA25: =_xlfn.XLOOKUP(G25&" "&H25,Висновки!A:A,Висновки!C:C) -> Висновок: Високий рівень прояву комунікативних схильностей. Такі люди не почуваються розгубленими в новій обстановці, швидко знаходять друзів, прагнуть розширяти коло знайомих, допомагають близьким і друзям, виявляють ініціативу у спілкуванні, здатні приймати рішення у складних, нестандартних ситуаціях. | AB25: =_xlfn.XLOOKUP(G25&" "&H25,Висновки!A:A,Висновки!D:D) -> Висновок: Екстраверт - має високий рівень екстраверсії, що свідчить про активність, оптимізм, товариськість і балакучість, схильність до гри, пошук активності. | AC25: =_xlfn.XLOOKUP(G25&" "&H25,Висновки!A:A,Висновки!E:E) -> Висновок: Рівень схильності до суїцидальних реакцій нижче середнього | AD25: =_xlfn.XLOOKUP(G25&" "&H25,Висновки!A:A,Висновки!F:F) -> Отримано значення деструктивного рівня – військовослужбовець визнається психічно нестійким.
B26: 46021 | C26: =TEXT(B26,"dd.mm.yyyy") -> 30.12.2025 | D26: 43 | E26: солдат | F26: ВЕРСТЮК Євген Дмитрович | G26: {=_xlfn.TEXTSPLIT(F26," ")} -> ВЕРСТЮК | H26: Євген | I26: Дмитрович | J26: Новобоварським РТЦК та СП у Харківській області | K26: =TEXT(L26,"dd.mm.yyyy") -> 05.04.1977 | L26: 28220 | M26: 2821912276 | N26: МК 414303 Лозівським МРВУМВС України в Харківській обл. 15.01.1997 | O26: м.Лозова, Харківська обл. | P26: м. Харків, вул. Велика Панасівська, б. 106, кв.64 | Q26: професійно- технічна | R26: Новомосковський Сільхоз технікум ,м. Новомосковськ, Дніпропетровська обл.,,1998,ветфельшер | S26: ветеринарний санітар | T26: не одружений | U26: тітка Носік Ганна Демидівна, м. Харків, вул. Богомольця буд.7, кв. 104 | V26: 0678946217 | Y26: Резерв КДШВ | Z26: =_xlfn.XLOOKUP(G26&" "&H26,Висновки!A:A,Висновки!B:B) -> Висновок: Інтелектуальний дефект розумова відсталість на рівні дебільності (бали ) | AA26: =_xlfn.XLOOKUP(G26&" "&H26,Висновки!A:A,Висновки!C:C) -> Висновок: Має комунікативні схильності на рівні нижче середнього. Такі люди не прагнуть спілкування, надають перевагу проводити час на самоті. У товаристві чи колективі почуваються скуто. Мають складності в установленні контактів із людьми. Не відстоюють своєї думки, важко переживають образи. Рідко виявляють ініціативу, уникають прийняття самостійних рішень. | AB26: =_xlfn.XLOOKUP(G26&" "&H26,Висновки!A:A,Висновки!D:D) -> Висновок: Інтроверт - має низький рівень екстраверсії, що свідчить про сором’язливість, песимістичність, надання переваги бути самотнім, уникнення соціальних активностей. | AC26: =_xlfn.XLOOKUP(G26&" "&H26,Висновки!A:A,Висновки!E:E) -> Висновок: Рівень схильності до суїцидальних реакцій вище середнього | AD26: =_xlfn.XLOOKUP(G26&" "&H26,Висновки!A:A,Висновки!F:F) -> Отримано значення деструктивного рівня – військовослужбовець визнається психічно нестійким.
A27: 1537/11/2038 | B27: 46080 | C27: =TEXT(B27,"dd.mm.yyyy") -> 27.02.2026 | D27: 4 | E27: солдат | F27: ВИГІВСЬКИЙ Денис Анатолійович | G27: {=_xlfn.TEXTSPLIT(F27," ")} -> ВИГІВСЬКИЙ | H27: Денис | I27: Анатолійович | J27: Дніпровським РТЦК та СП у Київській області | K27: =TEXT(L27,"dd.mm.yyyy") -> 28.09.1986 | L27: 31683 | M27: 3168215372 | N27: МЕ 222316 | O27: м. Київ | P27: м. Київ, вул. Курнатовського буд. 6а, кв. 60 | Q27: вища | R27: КНУ туризму економіки та права, 2009, менеджмент організації | S27: менеджер автомийки, 9 років, будівельник, 10 років Права - В | T27: не одружений | U27: мати: Виговська Станіслава Григорівна, 1954, м. Київ, вул. Курнатовського буд. 6а, кв. 60, 0634685200 | V27: 0983622020 | W27: Придатний до військової служби | Z27: =_xlfn.XLOOKUP(G27&" "&H27,Висновки!A:A,Висновки!B:B) -> Висновок: Інтелект значно вище середнього (бали ) | AA27: =_xlfn.XLOOKUP(G27&" "&H27,Висновки!A:A,Висновки!C:C) -> Висновок: Високий рівень прояву комунікативних схильностей. Такі люди не почуваються розгубленими в новій обстановці, швидко знаходять друзів, прагнуть розширяти коло знайомих, допомагають близьким і друзям, виявляють ініціативу у спілкуванні, здатні приймати рішення у складних, нестандартних ситуаціях. | AB27: =_xlfn.XLOOKUP(G27&" "&H27,Висновки!A:A,Висновки!D:D) -> Висновок: Інтроверт - має низький рівень екстраверсії, що свідчить про сором’язливість, песимістичність, надання переваги бути самотнім, уникнення соціальних активностей. | AC27: =_xlfn.XLOOKUP(G27&" "&H27,Висновки!A:A,Висновки!E:E) -> Висновок: Низький рівень схильності до суїцидальних реакцій | AD27: =_xlfn.XLOOKUP(G27&" "&H27,Висновки!A:A,Висновки!F:F) -> Отримано значення деструктивного рівня – військовослужбовець визнається психічно нестійким.
B28: 46073 | C28: =TEXT(B28,"dd.mm.yyyy") -> 20.02.2026 | D28: 22 | E28: солдат | F28: ВОЙКУ Олег Георгійович | G28: {=_xlfn.TEXTSPLIT(F28," ")} -> ВОЙКУ | H28: Олег | I28: Георгійович | J28: Новобоварським РТЦК та СП у Харківській області | K28: =TEXT(L28,"dd.mm.yyyy") -> 11.12.1988 | L28: 32488 | M28: 3248704812 | N28: МН 730517 Московським РВ ХМУ УМВС України в Харківській обл. 03.03.2005 | O28: м. Харків | P28: м. Харків, просп. Ювілейний, буд. 72, кв. 107 | Q28: вища | R28: ХНАМГ, 2004, менеджер організації міського господарства | S28: голова правління ОСББ, 2 роки, менеджер з продажів, 7 років Права, В | T28: одружений | U28: дружина: Бондаренко Наталія Володимирівна, 1980, Харківська обл., м. Чугуїв, вул. Харківська, буд. 105, кв. 112 | V28: 0957796772 | Y28: Резерв КДШВ | Z28: =_xlfn.XLOOKUP(G28&" "&H28,Висновки!A:A,Висновки!B:B) -> Висновок: Інтелект вище середнього (бали ) | AA28: =_xlfn.XLOOKUP(G28&" "&H28,Висновки!A:A,Висновки!C:C) -> Висновок: Найвищий рівень комунікативних схильностей свідчить про сформовану потребу в комунікативній діяльності. Такі люди швидко орієнтуються в складних ситуаціях. Невимушено поводяться в новому колективі. Ініціативні. Приймають самостійні рішення. Відстоюють свою думку і добиваються прийняття своїх рішень. Залюбки організовують різні заходи. Наполегливі і завзяті в діяльності. | AB28: =_xlfn.XLOOKUP(G28&" "&H28,Висновки!A:A,Висновки!D:D) -> Висновок: Екстраверт - має високий рівень екстраверсії, що свідчить про активність, оптимізм, товариськість і балакучість, схильність до гри, пошук активності. | AC28: =_xlfn.XLOOKUP(G28&" "&H28,Висновки!A:A,Висновки!E:E) -> Висновок: Рівень схильності до суїцидальних реакцій нижче середнього | AD28: =_xlfn.XLOOKUP(G28&" "&H28,Висновки!A:A,Висновки!F:F) -> Військовослужбовець визнається психічно стійким.
A29: 661 | B29: 46076 | C29: =TEXT(B29,"dd.mm.yyyy") -> 23.02.2026 | D29: 5 | E29: солдат | F29: ГАВРИК Євген Анатолійович | G29: {=_xlfn.TEXTSPLIT(F29," ")} -> ГАВРИК | H29: Євген | I29: Анатолійович | J29: Білоцерківським РТЦК та СП у Київській області | K29: =TEXT(L29,"dd.mm.yyyy") -> 27.06.1987 | L29: 31955 | M29: 3195413716 | N29: СМ 568410 Фастівським МРВ ГУ МВС УКР в Київській обл 02.10.2003 | O29: Київська обл., м. Фастів | P29: Київська обл., м. Фастів, вул. Правди, буд. 105 | Q29: професійно- технічна | R29: ПТУ №18, м. Фастів, 2005, столяр | S29: Складальник-пакувальник, 6 років оператор-вантажної лінії, 2 роки Права - | T29: не одружений | U29: батько: Гаврик Анатолій Анатолійович, 1965, Київська обл., м. Фастів, вул. Правди, буд. 105 | V29: 0632444929 | W29: Придатний до військової служби | X29: ІІ Rh+ | Z29: =_xlfn.XLOOKUP(G29&" "&H29,Висновки!A:A,Висновки!B:B) -> Висновок: Невеликий ступінь розумового відставання (бали ) | AA29: =_xlfn.XLOOKUP(G29&" "&H29,Висновки!A:A,Висновки!C:C) -> Висновок: Середній рівень прояву комунікативних схильностей. Такі люди прагнуть контакту з людьми, відстоюють свою думку, рішення, проте потенціал їхніх схильностей не відрізняється високою стійкістю. Потрібна подальша робота з формування й розвитку цих якостей особистості. | AB29: =_xlfn.XLOOKUP(G29&" "&H29,Висновки!A:A,Висновки!D:D) -> Висновок: Інтроверт - має низький рівень екстраверсії, що свідчить про сором’язливість, песимістичність, надання переваги бути самотнім, уникнення соціальних активностей. | AC29: =_xlfn.XLOOKUP(G29&" "&H29,Висновки!A:A,Висновки!E:E) -> Висновок: Середній рівень схильності до суїцидальних реакцій | AD29: =_xlfn.XLOOKUP(G29&" "&H29,Висновки!A:A,Висновки!F:F) -> Рекомендується проведення вибіркових заходів психологічної роботи до 3 годин.
A30: 11/1553 | B30: 46078 | C30: =TEXT(B30,"dd.mm.yyyy") -> 25.02.2026 | D30: 2 | E30: солдат | F30: ГОНЧАРЕНКО Вячеслав Вікторович | G30: {=_xlfn.TEXTSPLIT(F30," ")} -> ГОНЧАРЕНКО | H30: Вячеслав | I30: Вікторович | J30: Шевченківським РТЦК та СП у Київській області | K30: =TEXT(L30,"dd.mm.yyyy") -> 22.02.1982 | L30: 30004 | M30: 3000315097 | N30: СО 062411 Ленінградським РУ ГУ МВС України в м. Києві 24.12.1998 | O30: м. Київ | P30: м. Київ, пр. Берестейський, буд. 144 кв. 8 | Q30: вища | R30: Національний транспортний університет,м. Київ,2009р,вантажні перевезення та логістика | S30: спеціаліст канцелярії в банку - 10р виготовлення вікон водій - 13р Права B, C | T30: не одружений | U30: батько: Гончаренко Віктор Олександрович - 1959 - 0673571110, м. Київ, пр. Берестейський, буд. 144 кв. 8 | V30: 0675504137 | W30: Придатний до військової служби | X30: I Rh + | Z30: =_xlfn.XLOOKUP(G30&" "&H30,Висновки!A:A,Висновки!B:B) -> Висновок: Слабкий, нижче середнього інтелект (бали ) | AA30: =_xlfn.XLOOKUP(G30&" "&H30,Висновки!A:A,Висновки!C:C) -> Висновок: Середній рівень прояву комунікативних схильностей. Такі люди прагнуть контакту з людьми, відстоюють свою думку, рішення, проте потенціал їхніх схильностей не відрізняється високою стійкістю. Потрібна подальша робота з формування й розвитку цих якостей особистості. | AB30: =_xlfn.XLOOKUP(G30&" "&H30,Висновки!A:A,Висновки!D:D) -> Висновок: Екстраверт - має високий рівень екстраверсії, що свідчить про активність, оптимізм, товариськість і балакучість, схильність до гри, пошук активності. | AC30: =_xlfn.XLOOKUP(G30&" "&H30,Висновки!A:A,Висновки!E:E) -> Висновок: Низький рівень схильності до суїцидальних реакцій | AD30: =_xlfn.XLOOKUP(G30&" "&H30,Висновки!A:A,Висновки!F:F) -> Отримано значення деструктивного рівня – військовослужбовець визнається психічно нестійким.
A31: 633 | B31: 46074 | C31: =TEXT(B31,"dd.mm.yyyy") -> 21.02.2026 | D31: 4 | E31: солдат | F31: ГОНЧАРУК Владислав Миколайович | G31: {=_xlfn.TEXTSPLIT(F31," ")} -> ГОНЧАРУК | H31: Владислав | I31: Миколайович | J31: Білоцерківським РТЦК та СП у Київській області | K31: =TEXT(L31,"dd.mm.yyyy") -> 19.03.2000 | L31: 36604 | M31: 3660308950 | N31: 000060180 3210 23.01.2017 | O31: Київська обл., м. Біла Церква | P31: Київська обл., м. Біла Церква, вул. Томилівська, буд. 50, кв. 40 | Q31: повна середня освіта | R31: Білоцерківська ЗОШ №11 | S31: Зварювальник, 3 роки, Права - | T31: не одружений | U31: батько: Гончарук Микола Михайлович, 1974, Київська обл., м. Біла Церква, вул. Томилівська, буд. 50, кв. 40, 0671744505 | V31: 0977019587 | W31: Придатний до військової служби | X31: RH 3+ | Z31: =_xlfn.XLOOKUP(G31&" "&H31,Висновки!A:A,Висновки!B:B) -> #N/A | AA31: =_xlfn.XLOOKUP(G31&" "&H31,Висновки!A:A,Висновки!C:C) -> #N/A | AB31: =_xlfn.XLOOKUP(G31&" "&H31,Висновки!A:A,Висновки!D:D) -> #N/A | AC31: =_xlfn.XLOOKUP(G31&" "&H31,Висновки!A:A,Висновки!E:E) -> #N/A | AD31: =_xlfn.XLOOKUP(G31&" "&H31,Висновки!A:A,Висновки!F:F) -> #N/A
A32: 11/2499 | B32: 46078 | C32: =TEXT(B32,"dd.mm.yyyy") -> 25.02.2026 | D32: 3 | E32: солдат | F32: ГОРБАЧОВ Богдан Віталійович | G32: {=_xlfn.TEXTSPLIT(F32," ")} -> ГОРБАЧОВ | H32: Богдан | I32: Віталійович | J32: Святошинським РТЦК та СП у Київській області | K32: =TEXT(L32,"dd.mm.yyyy") -> 17.09.2000 | L32: 36786 | M32: 3678507715 | N32: 000176202 8032 12.10.2016 | O32: м. Київ | P32: м. Київ, вул. Жмеринська, буд. 24, кв. 279 | Q32: професійно- технічна | R32: КПЛБ і КГ,м. Київ,2019,слюсар, електрик на устаткуванні електричного транспорту | S32: Працівник пошти - 2р Пакувальник - 4р | T32: не одружений | U32: мати: Горчабова Тетяна Василівна - 56 - 0962918854, м. Київ вул. Жмеринська, буд. 24, кв. 279 | V32: 0972308159 | W32: Придатний до військової служби | Z32: =_xlfn.XLOOKUP(G32&" "&H32,Висновки!A:A,Висновки!B:B) -> Висновок: Слабкий, нижче середнього інтелект (бали ) | AA32: =_xlfn.XLOOKUP(G32&" "&H32,Висновки!A:A,Висновки!C:C) -> Висновок: Високий рівень прояву комунікативних схильностей. Такі люди не почуваються розгубленими в новій обстановці, швидко знаходять друзів, прагнуть розширяти коло знайомих, допомагають близьким і друзям, виявляють ініціативу у спілкуванні, здатні приймати рішення у складних, нестандартних ситуаціях. | AB32: =_xlfn.XLOOKUP(G32&" "&H32,Висновки!A:A,Висновки!D:D) -> Висновок: Екстраверт - має високий рівень екстраверсії, що свідчить про активність, оптимізм, товариськість і балакучість, схильність до гри, пошук активності. | AC32: =_xlfn.XLOOKUP(G32&" "&H32,Висновки!A:A,Висновки!E:E) -> Висновок: Рівень схильності до суїцидальних реакцій нижче середнього | AD32: =_xlfn.XLOOKUP(G32&" "&H32,Висновки!A:A,Висновки!F:F) -> Отримано значення деструктивного рівня – військовослужбовець визнається психічно нестійким.
B33: 46076 | C33: =TEXT(B33,"dd.mm.yyyy") -> 23.02.2026 | D33: 41 | E33: солдат | F33: ГРАБКО Андрій Іванович | G33: {=_xlfn.TEXTSPLIT(F33," ")} -> ГРАБКО | H33: Андрій | I33: Іванович | J33: Сумським МТЦК та СП у Сумській області | K33: =TEXT(L33,"dd.mm.yyyy") -> 18.09.1986 | L33: 31673 | M33: 3167201934 | N33: МВ 173258 Л.Долинським РВУМВС України в Сумській обл., 08.02.2003 | O33: Сумська обл., Л. Долинський р-н, с.Колядиниць | P33: м. Суми, вул. Черепіна, б.47, кв. 117 | Q33: вища | R33: СНАУ ,м. Суми,2010,магістр, | S33: зоотехнік кат. В,С1,С | T33: не одружений | U33: мати: Грабко Ганна Дмитриївна - 1959 - 0968446207, Сумська обл., Л. Долинський р-н, с.Колядиниць, вул. Щастя 30 | V33: 0671979898 | Y33: Резерв КДШВ | Z33: =_xlfn.XLOOKUP(G33&" "&H33,Висновки!A:A,Висновки!B:B) -> Висновок: Інтелект нижче середнього (бали ) | AA33: =_xlfn.XLOOKUP(G33&" "&H33,Висновки!A:A,Висновки!C:C) -> Висновок: Має комунікативні схильності на рівні нижче середнього. Такі люди не прагнуть спілкування, надають перевагу проводити час на самоті. У товаристві чи колективі почуваються скуто. Мають складності в установленні контактів із людьми. Не відстоюють своєї думки, важко переживають образи. Рідко виявляють ініціативу, уникають прийняття самостійних рішень. | AB33: =_xlfn.XLOOKUP(G33&" "&H33,Висновки!A:A,Висновки!D:D) -> Висновок: Екстраверт - має високий рівень екстраверсії, що свідчить про активність, оптимізм, товариськість і балакучість, схильність до гри, пошук активності. | AC33: =_xlfn.XLOOKUP(G33&" "&H33,Висновки!A:A,Висновки!E:E) -> Висновок: Рівень схильності до суїцидальних реакцій вище середнього | AD33: =_xlfn.XLOOKUP(G33&" "&H33,Висновки!A:A,Висновки!F:F) -> Отримано значення деструктивного рівня – військовослужбовець визнається психічно нестійким.
A34: 260223-9 | B34: 46076 | C34: =TEXT(B34,"dd.mm.yyyy") -> 23.02.2026 | D34: 6 | E34: солдат | F34: ГРЕЧАНЮК Денис Сергійович | G34: {=_xlfn.TEXTSPLIT(F34," ")} -> ГРЕЧАНЮК | H34: Денис | I34: Сергійович | J34: Солом'янським РТЦК та СП у Київській області | K34: =TEXT(L34,"dd.mm.yyyy") -> 07.02.1996 | L34: 35102 | M34: 3510103050 | N34: 005780250 8034 24.02.2021 | O34: м. Київ | P34: м. Київ, вул. Пилипа Козицького, буд. 3, кв. 32 | Q34: вища | R34: КНАУ, 2016, економіст-кібернетик | S34: Продавець, 6 років Права - | T34: не одружений | U34: мати: Гречанюк Ірина Олександрівна, 1978, м. Київ, 0674088553 | V34: 0505278293 | W34: Придатний до військової служби | X34: IV Rh - | Z34: =_xlfn.XLOOKUP(G34&" "&H34,Висновки!A:A,Висновки!B:B) -> Висновок: Невеликий ступінь розумового відставання (бали ) | AA34: =_xlfn.XLOOKUP(G34&" "&H34,Висновки!A:A,Висновки!C:C) | AB34: =_xlfn.XLOOKUP(G34&" "&H34,Висновки!A:A,Висновки!D:D) -> Висновок: Екстраверт - має високий рівень екстраверсії, що свідчить про активність, оптимізм, товариськість і балакучість, схильність до гри, пошук активності. | AC34: =_xlfn.XLOOKUP(G34&" "&H34,Висновки!A:A,Висновки!E:E) -> Висновок: Рівень схильності до суїцидальних реакцій нижче середнього | AD34: =_xlfn.XLOOKUP(G34&" "&H34,Висновки!A:A,Висновки!F:F) -> Отримано значення деструктивного рівня – військовослужбовець визнається психічно нестійким.
A35: 260228-7 | B35: 46081 | C35: =TEXT(B35,"dd.mm.yyyy") -> 28.02.2026 | D35: 3 | E35: солдат | F35: ГРІЩЕНКО Максим Олегович | G35: {=_xlfn.TEXTSPLIT(F35," ")} -> ГРІЩЕНКО | H35: Максим | I35: Олегович | J35: Солом'янським РТЦК та СП у Київській області | K35: =TEXT(L35,"dd.mm.yyyy") -> 09.12.1987 | L35: 32120 | M35: 3211914316 | N35: МЕ 482954 | O35: м. Київ | P35: м. Київ, вул. Митрополита Василя Липківського, буд. 30, кв. 122 | Q35: вища | R35: ДУІТ, м. Київ, 2012 | S35: Продажі, менеджер, 3 роки | T35: одружений | U35: дружина: Макєєва Ганна Миколаївна, 1989, м. Київ, вул. Митрополита Василя Липківського, буд. 30, кв. 122, 0987000360 | V35: 0976009086 | W35: Придатний до військової служби | X35: III Rh + | Z35: =_xlfn.XLOOKUP(G35&" "&H35,Висновки!A:A,Висновки!B:B) -> Висновок: Нормальний, середній інтелект (бали ) | AA35: =_xlfn.XLOOKUP(G35&" "&H35,Висновки!A:A,Висновки!C:C) -> Висновок: Середній рівень прояву комунікативних схильностей. Такі люди прагнуть контакту з людьми, відстоюють свою думку, рішення, проте потенціал їхніх схильностей не відрізняється високою стійкістю. Потрібна подальша робота з формування й розвитку цих якостей особистості. | AB35: =_xlfn.XLOOKUP(G35&" "&H35,Висновки!A:A,Висновки!D:D) -> Висновок: Екстраверт - має високий рівень екстраверсії, що свідчить про активність, оптимізм, товариськість і балакучість, схильність до гри, пошук активності. | AC35: =_xlfn.XLOOKUP(G35&" "&H35,Висновки!A:A,Висновки!E:E) -> Висновок: Рівень схильності до суїцидальних реакцій вище середнього | AD35: =_xlfn.XLOOKUP(G35&" "&H35,Висновки!A:A,Висновки!F:F) -> Отримано значення деструктивного рівня – військовослужбовець визнається психічно нестійким.
A36: 628 | B36: 46074 | C36: =TEXT(B36,"dd.mm.yyyy") -> 21.02.2026 | D36: 2 | E36: солдат | F36: ГРОХ Андрій Вікторович | G36: {=_xlfn.TEXTSPLIT(F36," ")} -> ГРОХ | H36: Андрій | I36: Вікторович | J36: Білоцерківським РТЦК та СП у Київській області | K36: =TEXT(L36,"dd.mm.yyyy") -> 18.07.1984 | L36: 30881 | M36: 3088000115 | N36: СМ 236283 Міським відділом №1 Білоцерківського МУГУ МВС УКР в Київській обл 15.09.2000 | O36: Київська обл., м. Припʼять | P36: Київська обл., м. Біла Церква, вул. Луки Долинського, буд. 107, кв. 6 | Q36: середня спеціальна | R36: Білоцерківське ПТУ №5, електрогазозварювальник, 2002 | S36: електрогазозварювальник, рихтувальнк автомобілів, 15 років, Права BC | T36: одружений | U36: дружина: Грох Людмила Іванівна, 1986, Київська обл., м. Біла Церква, вул. Луки Долинського, буд. 107, кв. 6, 0986174303 | V36: 0966363660 | W36: Придатний до військової служби | X36: RH 4+ | Z36: =_xlfn.XLOOKUP(G36&" "&H36,Висновки!A:A,Висновки!B:B) -> Висновок: Інтелект вище середнього (бали ) | AA36: =_xlfn.XLOOKUP(G36&" "&H36,Висновки!A:A,Висновки!C:C) -> Висновок: Високий рівень прояву комунікативних схильностей. Такі люди не почуваються розгубленими в новій обстановці, швидко знаходять друзів, прагнуть розширяти коло знайомих, допомагають близьким і друзям, виявляють ініціативу у спілкуванні, здатні приймати рішення у складних, нестандартних ситуаціях. | AB36: =_xlfn.XLOOKUP(G36&" "&H36,Висновки!A:A,Висновки!D:D) -> Висновок: Екстраверт - має високий рівень екстраверсії, що свідчить про активність, оптимізм, товариськість і балакучість, схильність до гри, пошук активності. | AC36: =_xlfn.XLOOKUP(G36&" "&H36,Висновки!A:A,Висновки!E:E) -> Висновок: Рівень схильності до суїцидальних реакцій нижче середнього | AD36: =_xlfn.XLOOKUP(G36&" "&H36,Висновки!A:A,Висновки!F:F) -> Отримано значення деструктивного рівня – військовослужбовець визнається психічно нестійким.
A37: 260228-7 | B37: 46081 | C37: =TEXT(B37,"dd.mm.yyyy") -> 28.02.2026 | D37: 4 | E37: солдат | F37: ГРУЗИНСЬКИЙ Юрій Миколайович | G37: {=_xlfn.TEXTSPLIT(F37," ")} -> ГРУЗИНСЬКИЙ | H37: Юрій | I37: Миколайович | J37: Солом'янським РТЦК та СП у Київській області | K37: =TEXT(L37,"dd.mm.yyyy") -> 12.10.1985 | L37: 31332 | M37: 3133113253 | N37: 003604871 2315 15.07.2019 | O37: м. Запоріжжя | P37: м. Київ, вул. Філіпа Козицького, буд. 7, кв. 3 | Q37: професійно- технічна | R37: ПТУ №1,м. Запоріжжя,2003,зварювальник контролер АТК | S37: Працівник СТО/шиномонтаж - 23р Права B (вилучені) | T37: не одружений | U37: цивільна дуржина: Янченюк Олена Михайлівна - 0960956996, м. Київ вул. Філіпа Козицького, буд. 7, кв. 3 | V37: 0688144881 | W37: Придатний до військової служби | X37: II Rh + | Z37: =_xlfn.XLOOKUP(G37&" "&H37,Висновки!A:A,Висновки!B:B) -> #N/A | AA37: =_xlfn.XLOOKUP(G37&" "&H37,Висновки!A:A,Висновки!C:C) -> #N/A | AB37: =_xlfn.XLOOKUP(G37&" "&H37,Висновки!A:A,Висновки!D:D) -> #N/A | AC37: =_xlfn.XLOOKUP(G37&" "&H37,Висновки!A:A,Висновки!E:E) -> #N/A | AD37: =_xlfn.XLOOKUP(G37&" "&H37,Висновки!A:A,Висновки!F:F) -> #N/A
B38: 46076 | C38: =TEXT(B38,"dd.mm.yyyy") -> 23.02.2026 | D38: 46 | E38: солдат | F38: ГУЛЕНКО Владислав Олександрович | G38: {=_xlfn.TEXTSPLIT(F38," ")} -> ГУЛЕНКО | H38: Владислав | I38: Олександрович | J38: Сумським РТЦК та СП у Сумській області | K38: =TEXT(L38,"dd.mm.yyyy") -> 01.03.1998 | L38: 35855 | M38: 3585409073 | O38: м. Суми | P38: м. Суми, вул. Ковпака, б. 4а | Q38: професійно- технічна | R38: ПТУ №43,м. Краснопілля, Сумська обл., Сумський р-н,кухар-кондитер 5кат,2018 | S38: вантажник | T38: не одружений | U38: батько: Гуленко Олександр Миколайович - 1970 - 0663936035, Сумська обл., Краснопільський р-н, с. Самотоївка, вул. Калініна 170 | V38: не надано | Y38: Резерв КДШВ | Z38: =_xlfn.XLOOKUP(G38&" "&H38,Висновки!A:A,Висновки!B:B) -> Висновок: Невеликий ступінь розумового відставання (бали ) | AA38: =_xlfn.XLOOKUP(G38&" "&H38,Висновки!A:A,Висновки!C:C) -> Висновок: Найвищий рівень комунікативних схильностей свідчить про сформовану потребу в комунікативній діяльності. Такі люди швидко орієнтуються в складних ситуаціях. Невимушено поводяться в новому колективі. Ініціативні. Приймають самостійні рішення. Відстоюють свою думку і добиваються прийняття своїх рішень. Залюбки організовують різні заходи. Наполегливі і завзяті в діяльності. | AB38: =_xlfn.XLOOKUP(G38&" "&H38,Висновки!A:A,Висновки!D:D) -> Висновок: Екстраверт - має високий рівень екстраверсії, що свідчить про активність, оптимізм, товариськість і балакучість, схильність до гри, пошук активності. | AC38: =_xlfn.XLOOKUP(G38&" "&H38,Висновки!A:A,Висновки!E:E) -> Висновок: Низький рівень схильності до суїцидальних реакцій | AD38: =_xlfn.XLOOKUP(G38&" "&H38,Висновки!A:A,Висновки!F:F) -> Рекомендується проведення комплексу заходів психологічної роботи до 11 годин.
A39: 621/МВ | B39: 46081 | C39: =TEXT(B39,"dd.mm.yyyy") -> 28.02.2026 | D39: 5 | E39: солдат | F39: ГУСЄВ Євгеній Олександрович | G39: {=_xlfn.TEXTSPLIT(F39," ")} -> ГУСЄВ | H39: Євгеній | I39: Олександрович | J39: Оболонським РТЦК та СП у Київській області | K39: =TEXT(L39,"dd.mm.yyyy") -> 18.11.1998 | L39: 36117 | M39: 3611608372 | N39: ТТ 264727 Деснянським РВ ГУДМС УКР в м. Києві 20.11.2014 | O39: м. Київ | P39: м. Київ, вул. Мільчакова, буд. 3а | Q39: професійно- технічна | R39: Київське ВПУ, деревообробка | S39: Встановлення кондиціонерів, 4 роки, Права В | T39: не одружений | U39: мати: Зубарєва Катерина Сергвіївна, 1980, м. Київ, вул. Мільчакова, буд. 3а, 0502642717 | V39: 0955390619 | W39: Придатний до військової служби | Z39: =_xlfn.XLOOKUP(G39&" "&H39,Висновки!A:A,Висновки!B:B) -> #N/A | AA39: =_xlfn.XLOOKUP(G39&" "&H39,Висновки!A:A,Висновки!C:C) -> #N/A | AB39: =_xlfn.XLOOKUP(G39&" "&H39,Висновки!A:A,Висновки!D:D) -> #N/A | AC39: =_xlfn.XLOOKUP(G39&" "&H39,Висновки!A:A,Висновки!E:E) -> #N/A | AD39: =_xlfn.XLOOKUP(G39&" "&H39,Висновки!A:A,Висновки!F:F) -> #N/A
B40: 46075 | C40: =TEXT(B40,"dd.mm.yyyy") -> 22.02.2026 | D40: 1 | E40: солдат | F40: ДАВИДЕНКО Богдан Миколайович | G40: {=_xlfn.TEXTSPLIT(F40," ")} -> ДАВИДЕНКО | H40: Богдан | I40: Миколайович | J40: Роменським РТЦК та СП у Сумській області | K40: =TEXT(L40,"dd.mm.yyyy") -> 24.04.1996 | L40: 35179 | M40: 3517807937 | N40: 006233429 Виданий 5930 16.06.2021 | O40: м. Суми | P40: м. Суми, вул. ЗСУ, буд. 65а, кв. 92 | Q40: вища | R40: НТУ ХПІ, 2018, механік-технолог | S40: QA-middle тімлід, 4 роки монтажник, 10 років Права - | T40: не одружений | U40: мати: Давиденко Олена Василівна, 1974, м. Суми, вул. ЗСУ, буд. 65а, кв. 92, 0956851446 | V40: 0999604676 | Y40: Резерв КДШВ | Z40: =_xlfn.XLOOKUP(G40&" "&H40,Висновки!A:A,Висновки!B:B) -> #N/A | AA40: =_xlfn.XLOOKUP(G40&" "&H40,Висновки!A:A,Висновки!C:C) -> #N/A | AB40: =_xlfn.XLOOKUP(G40&" "&H40,Висновки!A:A,Висновки!D:D) -> #N/A | AC40: =_xlfn.XLOOKUP(G40&" "&H40,Висновки!A:A,Висновки!E:E) -> #N/A | AD40: =_xlfn.XLOOKUP(G40&" "&H40,Висновки!A:A,Висновки!F:F) -> #N/A
...

Sheet Висновки
A1: Шаповал Анатолій | B1: Висновок: Інтелект нижче середнього (бали ) | C1: Висновок: Високий рівень прояву комунікативних схильностей. Такі люди не почуваються розгубленими в новій обстановці, швидко знаходять друзів, прагнуть розширяти коло знайомих, допомагають близьким і друзям, виявляють ініціативу у спілкуванні, здатні приймати рішення у складних, нестандартних ситуаціях. | D1: Висновок: Екстраверт - має високий рівень екстраверсії, що свідчить про активність, оптимізм, товариськість і балакучість, схильність до гри, пошук активності. | E1: Висновок: Середній рівень схильності до суїцидальних реакцій | F1: Рекомендується проведення комплексу заходів психологічної роботи до 11 годин.
