Workbook

Sheet Основний
C1: дата | E1: звання | F1: фио | G1: п | H1: і | I1: Б | J1: тцк | K1: рн | M1: инн | N1: паспорт | O1: народження | P1: фактична | Q1: освіта | R1: навчання | S1: праця | T1: стан | U1: сім'я | V1: т | W1: придатний | Z1: Равен | AA1: кос2 | AB1: tipi | AC1: суіцид | AD1: псистійкість
A2: 614 | B2: 46079 | C2: =TEXT(B2,"dd.mm.yyyy") -> 26.02.2026 | D2: 1 | E2: солдат | F2: АБРАМЯН Артур Маратович | G2: {=_xlfn.TEXTSPLIT(F2," ")} -> АБРАМЯН | H2: Артур | I2: Маратович | J2: Дарницьким РТЦК та СП у Київській області | K2: =TEXT(L2,"dd.mm.yyyy") -> 21.10.1998 | L2: 36089 | M2: 3608804152 | N2: ВТ 101396 Приморським РС у м. Маріуполі ГУ ДМС України в Донецькій області 12.06.2015 | O2: м. Донецьк | P2: м. Київ, вул. Бориспільська, буд. 9, кв. 16 | Q2: базова загальна середня | R2: Школа №62,м. Донецьк,2014 | S2: водій таксі - 5 керівник закладу харчування - 1р Права B | T2: не одружений | U2: брат: Губаян Давид Арсенович - 1997 - 0979699989, м. Київ | V2: 0633131383 | W2: Придатний до військової служби | Z2: =_xlfn.XLOOKUP(G2&" "&H2,Висновки!A:A,Висновки!B:B) -> #N/A | AA2: =_xlfn.XLOOKUP(G2&" "&H2,Висновки!A:A,Висновки!C:C) -> #N/A | AB2: =_xlfn.XLOOKUP(G2&" "&H2,Висновки!A:A,Висновки!D:D) -> #N/A | AC2: =_xlfn.XLOOKUP(G2&" "&H2,Висновки!A:A,Висновки!E:E) -> #N/A | AD2: =_xlfn.XLOOKUP(G2&" "&H2,Висновки!A:A,Висновки!F:F) -> #N/A
A3: 4/1868 | B3: 46077 | C3: =TEXT(B3,"dd.mm.yyyy") -> 24.02.2026 | D3: 2 | E3: солдат | F3: АВРАМЕНКО Андрій Миколайович | G3: {=_xlfn.TEXTSPLIT(F3," ")} -> АВРАМЕНКО | H3: Андрій | I3: Миколайович | J3: Чернігівським РТЦК та СП у Чернігівській області | K3: =TEXT(L3,"dd.mm.yyyy") -> 18.06.1984 | L3: 30851 | M3: 3085003094 | O3: Чернігівська обл., м. Городня | P3: Чернігівська обл., м. Городня, вул. Чернігівська, буд. 86, кв 1. | Q3: Вища | R3: ХНУРЕ, 2006, радіотехніка | S3: Програміст, 12 років Права B | T3: не одружений | U3: мати: Авраменко Людмила Михайлівна, 1955, Чернігівська обл., м. Городня, вул. Чернігівська, буд. 86, кв 1, | V3: 0671971309 | W3: Придатний до військової служби | Z3: =_xlfn.XLOOKUP(G3&" "&H3,Висновки!A:A,Висновки!B:B) -> Висновок: Інтелект нижче середнього (бали ) | AA3: =_xlfn.XLOOKUP(G3&" "&H3,Висновки!A:A,Висновки!C:C) -> Висновок: Середній рівень прояву комунікативних схильностей. Такі люди прагнуть контакту з людьми, відстоюють свою думку, рішення, проте потенціал їхніх схильностей не відрізняється високою стійкістю. Потрібна подальша робота з формування й розвитку цих якостей особистості. | AB3: =_xlfn.XLOOKUP(G3&" "&H3,Висновки!A:A,Висновки!D:D) -> Висновок: Екстраверт - має високий рівень екстраверсії, що свідчить про активність, оптимізм, товариськість і балакучість, схильність до гри, пошук активності. | AC3: =_xlfn.XLOOKUP(G3&" "&H3,Висновки!A:A,Висновки!E:E) -> Висновок: Рівень схильності до суїцидальних реакцій нижче середнього | AD3: =_xlfn.XLOOKUP(G3&" "&H3,Висновки!A:A,Висновки!F:F) -> Отримано значення деструктивного рівня – військовослужбовець визнається психічно нестійким.
A4: 1/2363 | B4: 46076 | C4: =TEXT(B4,"dd.mm.yyyy") -> 23.02.2026 | D4: 2 | E4: солдат | F4: АЛЕКСЕНКО Іван Миколайович | G4: {=_xlfn.TEXTSPLIT(F4," ")} -> АЛЕКСЕНКО | H4: Іван | I4: Миколайович | J4: Ніжинським РТЦК та СП у Чернігівській області | K4: =TEXT(L4,"dd.mm.yyyy") -> 23.06.1997 | L4: 35604 | M4: 3560301717 | O4: Чернігівська обл., Карюківський р-н., с. Бондарівка | P4: Чернігівська обл. м. Бахмач, вул. Олени Теліги, буд. 36 | Q4: середня спеціальна | R4: Конотопський аграрний ліцей, 2017, слюсар-механік | S4: Водій, 4 роки Слюсар-механік, 4 роки Права: В, С | T4: одружений | U4: дружина: Алексенко Катерина Анатоліївна, 1994, Чернігівська обл. м. Бахмач, вул. Олени Теліги, буд. 36 | V4: 0632905799 | W4: Придатний до військової служби | X4: I Rh + | Z4: =_xlfn.XLOOKUP(G4&" "&H4,Висновки!A:A,Висновки!B:B) -> Висновок: Невеликий ступінь розумового відставання (бали ) | AA4: =_xlfn.XLOOKUP(G4&" "&H4,Висновки!A:A,Висновки!C:C) -> Висновок: Високий рівень прояву комунікативних схильностей. Такі люди не почуваються розгубленими в новій обстановці, швидко знаходять друзів, прагнуть розширяти коло знайомих, допомагають близьким і друзям, виявляють ініціативу у спілкуванні, здатні приймати рішення у складних, нестандартних ситуаціях. | AB4: =_xlfn.XLOOKUP(G4&" "&H4,Висновки!A:A,Висновки!D:D) -> Висновок: Інтроверт - має низький рівень екстраверсії, що свідчить про сором’язливість, песимістичність, надання переваги бути самотнім, уникнення соціальних активностей. | AC4: =_xlfn.XLOOKUP(G4&" "&H4,Висновки!A:A,Висновки!E:E) -> Висновок: Низький рівень схильності до суїцидальних реакцій | AD4: =_xlfn.XLOOKUP(G4&" "&H4,Висновки!A:A,Висновки!F:F) -> Отримано значення деструктивного рівня – військовослужбовець визнається психічно нестійким.
A5: 260223-9 | B5: 46076 | C5: =TEXT(B5,"dd.mm.yyyy") -> 23.02.2026 | D5: 3 | E5: солдат | F5: АЛІЄВ Парвіз Натікбєкович | G5: {=_xlfn.TEXTSPLIT(F5," ")} -> АЛІЄВ | H5: Парвіз | I5: Натікбєкович | J5: Солом'янським РТЦК та СП у Київській області | K5: =TEXT(L5,"dd.mm.yyyy") -> 07.05.1983 | L5: 30443 | M5: 3044204097 | N5: КС 160333 Київським РВ ДМУ УДМС УКР в Донецькій обл 09.08.2002 | O5: Азербайджан, м. Баку | P5: м. Київ, вул. Копилівська, буд. 30, кв. 54 | Q5: вища | R5: Київський політехнічний Інститут, 2005,Київський економічний Інститут, 2002,електотехнік, економіка | S5: інженер систем безпеки, 25 років Права: Б | T5: не одружений | U5: мати: Лал Різа Заде, 1956, м. Баку, Азербайджан | V5: 0663135516 | W5: Придатний до військової служби | X5: I Rh + | Z5: =_xlfn.XLOOKUP(G5&" "&H5,Висновки!A:A,Висновки!B:B) -> #N/A | AA5: =_xlfn.XLOOKUP(G5&" "&H5,Висновки!A:A,Висновки!C:C) -> #N/A | AB5: =_xlfn.XLOOKUP(G5&" "&H5,Висновки!A:A,Висновки!D:D) -> #N/A | AC5: =_xlfn.XLOOKUP(G5&" "&H5,Висновки!A:A,Висновки!E:E) -> #N/A | AD5: =_xlfn.XLOOKUP(G5&" "&H5,Висновки!A:A,Висновки!F:F) -> #N/A
A6: 2580 | B6: 46080 | C6: =TEXT(B6,"dd.mm.yyyy") -> 27.02.2026 | D6: 1 | E6: солдат | F6: АНДРУШКО Вадим Валентинович | G6: {=_xlfn.TEXTSPLIT(F6," ")} -> АНДРУШКО | H6: Вадим | I6: Валентинович | J6: Житомирським РТЦК та СП у Житомирській області | K6: =TEXT(L6,"dd.mm.yyyy") -> 02.11.1991 | L6: 33544 | M6: 3354308835 | N6: ВН 424127 Вололдарсько-Волинським РВ УМВС в Житомирській області 20.05.2008 | O6: Житомирська обл., Житомирський р-н., смт. Нова Борова | P6: Житомирська обл., Житомирський р-н., смт. Нова Борова, вул. Незалежності, буд. 57 | Q6: професійно- технічна | R6: Житомирське ПТУ №5, 2013, маляр-штукатур | S6: будівельник, 10 років Права В | T6: одружений | U6: дружина: Андрушко Юлія Анатоліївна, 1994, Житомирська обл., Житомирський р-н., смт. Нова Борова, вул. Незалежності, буд. 57 | V6: 0982607646 | W6: Придатний до служби на підводних човнох, на надводних кораблях, у морській піхоті, Десантно-штурмових військах, спеціальних спорудах, підрозділах спеціального призначення | Z6: =_xlfn.XLOOKUP(G6&" "&H6,Висновки!A:A,Висновки!B:B) -> #N/A | AA6: =_xlfn.XLOOKUP(G6&" "&H6,Висновки!A:A,Висновки!C:C) -> #N/A | AB6: =_xlfn.XLOOKUP(G6&" "&H6,Висновки!A:A,Висновки!D:D) -> #N/A | AC6: =_xlfn.XLOOKUP(G6&" "&H6,Висновки!A:A,Висновки!E:E) -> #N/A | AD6: =_xlfn.XLOOKUP(G6&" "&H6,Висновки!A:A,Висновки!F:F) -> #N/A
A7: 1/2342 | B7: 46075 | C7: =TEXT(B7,"dd.mm.yyyy") -> 22.02.2026 | D7: 5 | E7: солдат | F7: АНІСІМОВ Сергій Леонідович | G7: {=_xlfn.TEXTSPLIT(F7," ")} -> АНІСІМОВ | H7: Сергій | I7: Леонідович | J7: Ніжинським РТЦК та СП у Чернігівській області | K7: =TEXT(L7,"dd.mm.yyyy") -> 18.10.1989 | L7: 32799 | M7: 3279802570 | N7: АМ 247948 | O7: Чернігівська обл., м. Ніжин | P7: Чернігівська обл., Ніжинський р-н., с. Велика Кошелівка, вул. Веринарна, буд. 5 | Q7: середня спеціальна | R7: Ніжинське ПТУ №35, водій-механік, 2008 | S7: Тракторист, 10 років Права AB (трактор), B, C | T7: не одружений | U7: мати: Куліш Наталія Василівна, 1960, Чернігівська обл., м. Ніжин, вул. Богуна, буд. 22, 0967676757 | V7: 0985324330 | W7: Придатний до військової служби | X7: RH 2+ | Z7: =_xlfn.XLOOKUP(G7&" "&H7,Висновки!A:A,Висновки!B:B) -> Висновок: Інтелект нижче середнього (бали ) | AA7: =_xlfn.XLOOKUP(G7&" "&H7,Висновки!A:A,Висновки!C:C) -> Висновок: Середній рівень прояву комунікативних схильностей. Такі люди прагнуть контакту з людьми, відстоюють свою думку, рішення, проте потенціал їхніх схильностей не відрізняється високою стійкістю. Потрібна подальша робота з формування й розвитку цих якостей особистості. | AB7: =_xlfn.XLOOKUP(G7&" "&H7,Висновки!A:A,Висновки!D:D) -> Висновок: Екстраверт - має високий рівень екстраверсії, що свідчить про активність, оптимізм, товариськість і балакучість, схильність до гри, пошук активності. | AC7: =_xlfn.XLOOKUP(G7&" "&H7,Висновки!A:A,Висновки!E:E) -> Висновок: Низький рівень схильності до суїцидальних реакцій | AD7: =_xlfn.XLOOKUP(G7&" "&H7,Висновки!A:A,Висновки!F:F) -> Отримано значення деструктивного рівня – військовослужбовець визнається психічно нестійким.
A8: 1452 | B8: 46081 | C8: =TEXT(B8,"dd.mm.yyyy") -> 28.02.2026 | D8: 1 | E8: солдат | F8: АНТОНЮК Дмитро Русланович | G8: {=_xlfn.TEXTSPLIT(F8," ")} -> АНТОНЮК | H8: Дмитро | I8: Русланович | J8: Хмільницьким РТЦК та СП у Вінницькій області | K8: =TEXT(L8,"dd.mm.yyyy") -> 23.03.1999 | L8: 36242 | M8: 3624109257 | N8: АТ 121678 | O8: Житомирська обл. м. Радомишль | P8: м. Вінниця, вул. Генерала Григоренка, буд. 36, кв. 21 | Q8: професійно- технічна | R8: Тульчинський коледж ветеринарної медецини,м. Тульчин,2018,фельдшер ветеринарної медецини | S8: комплектувальник продуктів харчування - 4р | T8: не одружений | U8: мати: Антонюк Оксана Вікторівна - прибл. 43р - 0673588369 - Вінницька обл, Вінницький р-н, с. Гавришівка, вул. ? | V8: 0976880495 | W8: Придатний до військової служби | X8: I Rh + | Z8: =_xlfn.XLOOKUP(G8&" "&H8,Висновки!A:A,Висновки!B:B) -> Висновок: Слабкий, нижче середнього інтелект (бали ) | AA8: =_xlfn.XLOOKUP(G8&" "&H8,Висновки!A:A,Висновки!C:C) -> Висновок: Високий рівень прояву комунікативних схильностей. Такі люди не почуваються розгубленими в новій обстановці, швидко знаходять друзів, прагнуть розширяти коло знайомих, допомагають близьким і друзям, виявляють ініціативу у спілкуванні, здатні приймати рішення у складних, нестандартних ситуаціях. | AB8: =_xlfn.XLOOKUP(G8&" "&H8,Висновки!A:A,Висновки!D:D) -> Висновок: Інтроверт - має низький рівень екстраверсії, що свідчить про сором’язливість, песимістичність, надання переваги бути самотнім, уникнення соціальних активностей. | AC8: =_xlfn.XLOOKUP(G8&" "&H8,Висновки!A:A,Висновки!E:E) -> Висновок: Високий рівень схильності до суїцидальних реакцій | AD8: =_xlfn.XLOOKUP(G8&" "&H8,Висновки!A:A,Висновки!F:F) -> Отримано значення деструктивного рівня – військовослужбовець визнається психічно нестійким.
A9: 2500 | B9: 46078 | C9: =TEXT(B9,"dd.mm.yyyy") -> 25.02.2026 | D9: 1 | E9: солдат | F9: АНТОНЮК Олександр Леонідович | G9: {=_xlfn.TEXTSPLIT(F9," ")} -> АНТОНЮК | H9: Олександр | I9: Леонідович | J9: Житомирським РТЦК та СП у Житомирській області | K9: =TEXT(L9,"dd.mm.yyyy") -> 27.09.1979 | L9: 29125 | M9: 2912410393 | N9: ТТ 193066 Дарнівським РО ГУ ДМС УКР в м. Києві 16.08.2013 | O9: м. Київ | P9: Житомирська обл. Попільнянський р-н., с. Романівка, вул. Миру, буд. 20 | Q9: професійно- технічна | R9: Київське училище №26 | S9: будівельник, 20 років Права- | T9: не одружений | U9: мати: Антонюк Світлана Миколаївна, 1959, м. Київ, вул. Бажана, буд. 9, 0972926021 | V9: 0975269074 | W9: Придатний до військової служби | X9: II Rh + | Z9: =_xlfn.XLOOKUP(G9&" "&H9,Висновки!A:A,Висновки!B:B) -> #N/A | AA9: =_xlfn.XLOOKUP(G9&" "&H9,Висновки!A:A,Висновки!C:C) -> #N/A | AB9: =_xlfn.XLOOKUP(G9&" "&H9,Висновки!A:A,Висновки!D:D) -> #N/A | AC9: =_xlfn.XLOOKUP(G9&" "&H9,Висновки!A:A,Висновки!E:E) -> #N/A | AD9: =_xlfn.XLOOKUP(G9&" "&H9,Висновки!A:A,Висновки!F:F) -> #N/A
A10: 2566 | B10: 46080 | C10: =TEXT(B10,"dd.mm.yyyy") -> 27.02.2026 | D10: 2 | E10: солдат | F10: БАБИЧ Андрій Васильович | G10: {=_xlfn.TEXTSPLIT(F10," ")} -> БАБИЧ | H10: Андрій | I10: Васильович | J10: Житомирським РТЦК та СП у Житомирській області | K10: =TEXT(L10,"dd.mm.yyyy") -> 18.04.1984 | L10: 30790 | M10: 3078922215 | N10: СТ 531446 Чернігівським РС УДМС УКР в Чернігівській обл 24.02.2017 | O10: Чернігівська обл., Чернігівський р-н., с. Павлівка | P10: Житомирський р-н., с. Покостівка, вул. Квіткова, буд. 5 | Q10: професійно- технічна | R10: Чернігівське ПТУ №5, 2002, черговий по станції, провідник | S10: провідник, 8 років Права - | T10: не одружений | U10: сестра: Винниченко Олена Василівна, 1981, м. Чернігів, 0964958186 | V10: 0989386733 | W10: Придатний до служби на підводних човнох, на надводних кораблях, у морській піхоті, Десантно-штурмових військах, спеціальних спорудах, підрозділах спеціального призначення | Z10: =_xlfn.XLOOKUP(G10&" "&H10,Висновки!A:A,Висновки!B:B) -> #N/A | AA10: =_xlfn.XLOOKUP(G10&" "&H10,Висновки!A:A,Висновки!C:C) -> #N/A | AB10: =_xlfn.XLOOKUP(G10&" "&H10,Висновки!A:A,Висновки!D:D) -> #N/A | AC10: =_xlfn.XLOOKUP(G10&" "&H10,Висновки!A:A,Висновки!E:E) -> #N/A | AD10: =_xlfn.XLOOKUP(G10&" "&H10,Висновки!A:A,Висновки!F:F) -> #N/A
A11: 11/1629 | B11: 46080 | C11: =TEXT(B11,"dd.mm.yyyy") -> 27.02.2026 | D11: 3 | E11: солдат | F11: БАСКАКОВ Павло Анатолійович | G11: {=_xlfn.TEXTSPLIT(F11," ")} -> БАСКАКОВ | H11: Павло | I11: Анатолійович | J11: Шевченківським РТЦК та СП у Київській області | K11: =TEXT(L11,"dd.mm.yyyy") -> 02.03.1984 | L11: 30743 | M11: 3074200978 | N11: АМ 064073 Заводським РВ Дніпродзержинського МУ УМВС України в Дніпропетровській області 03.10.2000 | O11: Дніпропетровська обл, м. Дніпродзержинськ | P11: м. Київ, вул. Академіка Корольова, буд. 7, кв. 46 | Q11: професійно- технічна | R11: Дніпродзержинський індустріальнгий коледж,2004,електрик | S11: власник інтернет магазину - 4р Права A, B, C | T11: не одружений | U11: бабуся: Носуля Раїса Іванівна - 0687208035 - 85р - Дніпропетровська обл, м. Кам'янське, вул. Дніпробудівельна, буд. 27, кв. 7 | V11: 0965569916 | W11: Придатний до служби на підводних човнох, на надводних кораблях, у морській піхоті, Десантно-штурмових військах, спеціальних спорудах, підрозділах спеціального призначення | X11: III Rh - | Z11: =_xlfn.XLOOKUP(G11&" "&H11,Висновки!A:A,Висновки!B:B) -> Висновок: Невеликий ступінь розумового відставання (бали ) | AA11: =_xlfn.XLOOKUP(G11&" "&H11,Висновки!A:A,Висновки!C:C) -> Висновок: Середній рівень прояву комунікативних схильностей. Такі люди прагнуть контакту з людьми, відстоюють свою думку, рішення, проте потенціал їхніх схильностей не відрізняється високою стійкістю. Потрібна подальша робота з формування й розвитку цих якостей особистості. | AB11: =_xlfn.XLOOKUP(G11&" "&H11,Висновки!A:A,Висновки!D:D) -> Висновок: Екстраверт - має високий рівень екстраверсії, що свідчить про активність, оптимізм, товариськість і балакучість, схильність до гри, пошук активності. | AC11: =_xlfn.XLOOKUP(G11&" "&H11,Висновки!A:A,Висновки!E:E) -> Висновок: Рівень схильності до суїцидальних реакцій нижче середнього | AD11: =_xlfn.XLOOKUP(G11&" "&H11,Висновки!A:A,Висновки!F:F) -> Отримано значення деструктивного рівня – військовослужбовець визнається психічно нестійким.
A12: 1537/11/2005 | B12: 46079 | C12: =TEXT(B12,"dd.mm.yyyy") -> 26.02.2026 | D12: 2 | E12: солдат | F12: БЕРШАДСЬКИЙ Олександр Миколайович | G12: {=_xlfn.TEXTSPLIT(F12," ")} -> БЕРШАДСЬКИЙ | H12: Олександр | I12: Миколайович | J12: Дніпровським РТЦК та СП у Київській області | K12: =TEXT(L12,"dd.mm.yyyy") -> 15.03.1992 | L12: 33678 | M12: 3367700733 | N12: 003047716 8034 04.03.2019 | O12: Дніпропетровська обл. м. Кривий Ріг | P12: м. Київ, вул. Тичини, буд. 3а, кв. 61 | Q12: вища | R12: КПІ, 2016, ІТ | S12: програміст, 8 років Права - | T12: не одружений | U12: мати: Бершадська Ірина Володимирівна, 1968, м. Київ, вул. Тичини, буд. 3а, кв. 61, 0957958159, 0675784797 | V12: 0934043734 | W12: Придатний до військової служби | Y12: А3316 по розподілу рекомендаційний лист | Z12: =_xlfn.XLOOKUP(G12&" "&H12,Висновки!A:A,Висновки!B:B) -> #N/A | AA12: =_xlfn.XLOOKUP(G12&" "&H12,Висновки!A:A,Висновки!C:C) -> #N/A | AB12: =_xlfn.XLOOKUP(G12&" "&H12,Висновки!A:A,Висновки!D:D) -> #N/A | AC12: =_xlfn.XLOOKUP(G12&" "&H12,Висновки!A:A,Висновки!E:E) -> #N/A | AD12: =_xlfn.XLOOKUP(G12&" "&H12,Висновки!A:A,Висновки!F:F) -> #N/A
A13: 2543 | B13: 46079 | C13: =TEXT(B13,"dd.mm.yyyy") -> 26.02.2026 | D13: 3 | E13: солдат | F13: БІЛОУСОВ Сергій Вікторович | G13: {=_xlfn.TEXTSPLIT(F13," ")} -> БІЛОУСОВ | H13: Сергій | I13: Вікторович | J13: Житомирським ОМТЦК та СП у Житомирській області | K13: =TEXT(L13,"dd.mm.yyyy") -> 04.09.1982 | L13: 30198 | M13: ВМ 632875 | N13: 009302826 1836 23.06.2023 | O13: м. Житомир | P13: м. Житомир, вул. Переїзд Радомишльський, буд. 9 | Q13: повна загальна середня | R13: Житомирська ЗОШ №2 | S13: рихтувальник, 6 років Права - | T13: одружений | U13: дружина: Білоусова Оксана Вікторівна, 1980, м. Житомир, вул. Переїзд Радомишльський, буд. 9, 0960276981 | V13: 0990907846 | W13: Придатний до військової служби | Z13: =_xlfn.XLOOKUP(G13&" "&H13,Висновки!A:A,Висновки!B:B) -> Висновок: Невеликий ступінь розумового відставання (бали ) | AA13: =_xlfn.XLOOKUP(G13&" "&H13,Висновки!A:A,Висновки!C:C) -> Висновок: Середній рівень прояву комунікативних схильностей. Такі люди прагнуть контакту з людьми, відстоюють свою думку, рішення, проте потенціал їхніх схильностей не відрізняється високою стійкістю. Потрібна подальша робота з формування й розвитку цих якостей особистості. | AB13: =_xlfn.XLOOKUP(G13&" "&H13,Висновки!A:A,Висновки!D:D) -> Висновок: Екстраверт - має високий рівень екстраверсії, що свідчить про активність, оптимізм, товариськість і балакучість, схильність до гри, пошук активності. | AC13: =_xlfn.XLOOKUP(G13&" "&H13,Висновки!A:A,Висновки!E:E) -> Висновок: Рівень схильності до суїцидальних реакцій нижче середнього | AD13: =_xlfn.XLOOKUP(G13&" "&H13,Висновки!A:A,Висновки!F:F) -> Отримано значення деструктивного рівня – військовослужбовець визнається психічно нестійким.
B14: 46078 | C14: =TEXT(B14,"dd.mm.yyyy") -> 25.02.2026 | D14: 18 | E14: солдат | F14: БОЙКО Геннадій Володимирович | G14: {=_xlfn.TEXTSPLIT(F14," ")} -> БОЙКО | H14: Геннадій | I14: Володимирович | K14: =TEXT(L14,"dd.mm.yyyy") -> 19.11.1981 | L14: 29909 | M14: 2990807554 | N14: МА 583941 Охтирським МРВУМВС України в Сумській обл., 04.01.1999 | O14: Сумська обл., м. Охтирка, пров. Весняний, буд. 15а | P14: Сумська обл., м. Охтирка, вул. Київська, буд. 107, кв. 57 | Q14: професійно- технічна | R14: ПТУ №7, м. Охтирка, 1999, маляр-штукатур | S14: будівельник, 20 років Права В, С | T14: не одружений | U14: мати: Бойко Алла Миколаївна, 1960, Сумська обл., м. Охтирка, пров. Весняний, буд. 15а | V14: 0665156739 | X14: II Rh + | Y14: Резерв КДШВ | Z14: =_xlfn.XLOOKUP(G14&" "&H14,Висновки!A:A,Висновки!B:B) -> #N/A | AA14: =_xlfn.XLOOKUP(G14&" "&H14,Висновки!A:A,Висновки!C:C) -> #N/A | AB14: =_xlfn.XLOOKUP(G14&" "&H14,Висновки!A:A,Висновки!D:D) -> #N/A | AC14: =_xlfn.XLOOKUP(G14&" "&H14,Висновки!A:A,Висновки!E:E) -> #N/A | AD14: =_xlfn.XLOOKUP(G14&" "&H14,Висновки!A:A,Висновки!F:F) -> #N/A
A15: 1537/11/2005 | B15: 46079 | C15: =TEXT(B15,"dd.mm.yyyy") -> 26.02.2026 | D15: 4 | E15: солдат | F15: БОЛЬШАКОВ Костянтин Євгенович | G15: {=_xlfn.TEXTSPLIT(F15," ")} -> БОЛЬШАКОВ | H15: Костянтин | I15: Євгенович | J15: Дніпровським РТЦК та СП у Київській області | K15: =TEXT(L15,"dd.mm.yyyy") -> 02.07.1992 | L15: 33787 | M15: 3378604531 | N15: ЕН 904717 Краснолуцьким МВ УДМС УКР в Луганській обл 15.11.2012 | O15: Луганська обл, м. Красний Луч | P15: м. Київ,, вул. Русанівська Набережна, буд. 6, кв. 56 | Q15: професійно- технічна | R15: Краснолуцький приладобудівний технікум,м. Красний Луч,2013р,економіка підприємства | S15: Фріланс - 2D дизайн логотипів, оточення для браузерних ігор (Photoshop, AI) - 5р портретист на пам'ятниках - 3р кухар - 1,5р | T15: не одружений | U15: сестра: Большакова Яна Євгеновна - 1990 - 0664203975 - м. Київ, вул. Русанівська Набережна, буд. 6, кв. 56 | V15: 0995045246 | W15: Придатний до військової служби | Z15: =_xlfn.XLOOKUP(G15&" "&H15,Висновки!A:A,Висновки!B:B) -> #N/A | AA15: =_xlfn.XLOOKUP(G15&" "&H15,Висновки!A:A,Висновки!C:C) -> #N/A | AB15: =_xlfn.XLOOKUP(G15&" "&H15,Висновки!A:A,Висновки!D:D) -> #N/A | AC15: =_xlfn.XLOOKUP(G15&" "&H15,Висновки!A:A,Висновки!E:E) -> #N/A | AD15: =_xlfn.XLOOKUP(G15&" "&H15,Висновки!A:A,Висновки!F:F) -> #N/A
A16: 1230 | B16: 46075 | C16: =TEXT(B16,"dd.mm.yyyy") -> 22.02.2026 | D16: 4 | E16: солдат | F16: БОНДАР Андрій Васильович | G16: {=_xlfn.TEXTSPLIT(F16," ")} -> БОНДАР | H16: Андрій | I16: Васильович | J16: Хмільницьким РТЦК та СП у Вінницькій області | K16: =TEXT(L16,"dd.mm.yyyy") -> 29.07.1988 | L16: 32353 | M16: 3235207996 | N16: 011098716 | O16: м. Вінниця | P16: м. Вінниця, вул. Запорізька, буд. 21, кв. 124 | Q16: професійно- технічна | R16: Стрижовська СВК | S16: Будівельник, 1 рік Права - | T16: не одружений | U16: мати: Бондар Лілія Петрівна, 1956, м. Вінниця, вул. Запорізька, буд. 21, кв. 124, 0961876495 | V16: 0970255251 | W16: Придатний до військової служби | Z16: =_xlfn.XLOOKUP(G16&" "&H16,Висновки!A:A,Висновки!B:B) -> Висновок: Інтелектуальний дефект розумова відсталість на рівні дебільності (бали ) | AA16: =_xlfn.XLOOKUP(G16&" "&H16,Висновки!A:A,Висновки!C:C) -> Висновок: Середній рівень прояву комунікативних схильностей. Такі люди прагнуть контакту з людьми, відстоюють свою думку, рішення, проте потенціал їхніх схильностей не відрізняється високою стійкістю. Потрібна подальша робота з формування й розвитку цих якостей особистості. | AB16: =_xlfn.XLOOKUP(G16&" "&H16,Висновки!A:A,Висновки!D:D) -> Висновок: Екстраверт - має високий рівень екстраверсії, що свідчить про активність, оптимізм, товариськість і балакучість, схильність до гри, пошук активності. | AC16: =_xlfn.XLOOKUP(G16&" "&H16,Висновки!A:A,Висновки!E:E) -> Висновок: Рівень схильності до суїцидальних реакцій нижче середнього | AD16: =_xlfn.XLOOKUP(G16&" "&H16,Висновки!A:A,Висновки!F:F) -> Отримано значення деструктивного рівня – військовослужбовець визнається психічно нестійким.
A17: 10/584 | B17: 46075 | C17: =TEXT(B17,"dd.mm.yyyy") -> 22.02.2026 | D17: 10 | E17: солдат | F17: БОРИСОВ Дмитро Сергійович | G17: {=_xlfn.TEXTSPLIT(F17," ")} -> БОРИСОВ | H17: Дмитро | I17: Сергійович | J17: Чернігівським МТЦК та СП у Чернігівській області | K17: =TEXT(L17,"dd.mm.yyyy") -> 16.05.1984 | L17: 30818 | M17: 3081727094 | O17: м. Хабаровськ, росія | P17: м. Чернігів, вул. Мстиславська, буд. 171, кв. 9 | Q17: середня спеціальна | R17: ПУ 63, станиця Денська, Денський р-н., Краснодарський край, водій-автомеханік, 2005 | S17: Менеджер з постачання, 4 роки Права В | T17: одружений | U17: дружина: Борисова Євгенія Вʼячеславівна, 1987, м. Чернігів, вул. Мстиславська, буд. 171, кв. 9, 0632156010 | V17: 0969311148 | W17: Придатний до військової служби | X17: RH 2- | Z17: =_xlfn.XLOOKUP(G17&" "&H17,Висновки!A:A,Висновки!B:B) -> Висновок: Слабкий, нижче середнього інтелект (бали ) | AA17: =_xlfn.XLOOKUP(G17&" "&H17,Висновки!A:A,Висновки!C:C) -> Висновок: Середній рівень прояву комунікативних схильностей. Такі люди прагнуть контакту з людьми, відстоюють свою думку, рішення, проте потенціал їхніх схильностей не відрізняється високою стійкістю. Потрібна подальша робота з формування й розвитку цих якостей особистості. | AB17: =_xlfn.XLOOKUP(G17&" "&H17,Висновки!A:A,Висновки!D:D) -> Висновок: Екстраверт - має високий рівень екстраверсії, що свідчить про активність, оптимізм, товариськість і балакучість, схильність до гри, пошук активності. | AC17: =_xlfn.XLOOKUP(G17&" "&H17,Висновки!A:A,Висновки!E:E) -> Висновок: Середній рівень схильності до суїцидальних реакцій | AD17: =_xlfn.XLOOKUP(G17&" "&H17,Висновки!A:A,Висновки!F:F) -> Отримано значення деструктивного рівня – військовослужбовець визнається психічно нестійким.
A18: 1/2286 | B18: 46074 | C18: =TEXT(B18,"dd.mm.yyyy") -> 21.02.2026 | D18: 1 | E18: солдат | F18: БОРОДАВКО Віталій Михайлович | G18: {=_xlfn.TEXTSPLIT(F18," ")} -> БОРОДАВКО | H18: Віталій | I18: Михайлович | J18: Ніжинським РТЦК та СП у Чернігівській області | K18: =TEXT(L18,"dd.mm.yyyy") -> 10.10.1989 | L18: 32791 | M18: 3279006554 | N18: НМ 247947 Ніжинським МВР УМВС УКР в Чернігівській обл 24.03.2006 | O18: Чернігівська обл., м. Ніжин | P18: Чернігівська обл., м. Ніжин, вул. Станіслава Прощенко, буд. 40/б, кв. 33 | Q18: повна середня освіта | R18: Ніжинська ЗОШ №7 | S18: Торгівельний представник, 6 міс. Права - | T18: не одружений | U18: мати: Бородавко Тетяна Андріївна, 1959, Чернігівська обл., м. Ніжин, вул. Станіслава Прощенко, буд. 40/б, кв. 33, 0682364981 | V18: ненадано | W18: Придатний до військової служби | X18: RH 2+ | Z18: =_xlfn.XLOOKUP(G18&" "&H18,Висновки!A:A,Висновки!B:B) -> Висновок: Слабкий, нижче середнього інтелект (бали ) | AA18: =_xlfn.XLOOKUP(G18&" "&H18,Висновки!A:A,Висновки!C:C) -> Висновок: Високий рівень прояву комунікативних схильностей. Такі люди не почуваються розгубленими в новій обстановці, швидко знаходять друзів, прагнуть розширяти коло знайомих, допомагають близьким і друзям, виявляють ініціативу у спілкуванні, здатні приймати рішення у складних, нестандартних ситуаціях. | AB18: =_xlfn.XLOOKUP(G18&" "&H18,Висновки!A:A,Висновки!D:D) -> Висновок: Екстраверт - має високий рівень екстраверсії, що свідчить про активність, оптимізм, товариськість і балакучість, схильність до гри, пошук активності. | AC18: =_xlfn.XLOOKUP(G18&" "&H18,Висновки!A:A,Висновки!E:E) -> Висновок: Низький рівень схильності до суїцидальних реакцій | AD18: =_xlfn.XLOOKUP(G18&" "&H18,Висновки!A:A,Висновки!F:F) -> Отримано значення деструктивного рівня – військовослужбовець визнається психічно нестійким.
A19: 1/2420 | B19: 46077 | C19: =TEXT(B19,"dd.mm.yyyy") -> 24.02.2026 | D19: 3 | E19: солдат | F19: БРИСКІН Денис Сергійович | G19: {=_xlfn.TEXTSPLIT(F19," ")} -> БРИСКІН | H19: Денис | I19: Сергійович | J19: Ніжинським РТЦК та СП у Чернігівській області | K19: =TEXT(L19,"dd.mm.yyyy") -> 03.09.1982 | L19: 30197 | M19: 3019609990 | O19: м. Київ | P19: м. Чернігів, вул. Текстильників, буд. 24, кв. 42 | Q19: повна загальна середня | R19: Рамаданівська ЗОШ, 2000 | S19: Завідуючий складом, 16 років Начальник охорони, 4 роки Права - | T19: одружений | U19: дружина: Брискіна Ірина Леонідівна, 1973, м. Чернігів, вул. Текстильників, буд. 24, кв. 42, 0992497840 | V19: 0960389583 | W19: Придатний до військової служби | Z19: =_xlfn.XLOOKUP(G19&" "&H19,Висновки!A:A,Висновки!B:B) -> Висновок: Слабкий, нижче середнього інтелект (бали ) | AA19: =_xlfn.XLOOKUP(G19&" "&H19,Висновки!A:A,Висновки!C:C) -> Висновок: Середній рівень прояву комунікативних схильностей. Такі люди прагнуть контакту з людьми, відстоюють свою думку, рішення, проте потенціал їхніх схильностей не відрізняється високою стійкістю. Потрібна подальша робота з формування й розвитку цих якостей особистості. | AB19: =_xlfn.XLOOKUP(G19&" "&H19,Висновки!A:A,Висновки!D:D) -> Висновок: Екстраверт - має високий рівень екстраверсії, що свідчить про активність, оптимізм, товариськість і балакучість, схильність до гри, пошук активності. | AC19: =_xlfn.XLOOKUP(G19&" "&H19,Висновки!A:A,Висновки!E:E) -> Висновок: Низький рівень схильності до суїцидальних реакцій | AD19: =_xlfn.XLOOKUP(G19&" "&H19,Висновки!A:A,Висновки!F:F) -> Отримано значення деструктивного рівня – військовослужбовець визнається психічно нестійким.
A20: 2609 | B20: 46081 | C20: =TEXT(B20,"dd.mm.yyyy") -> 28.02.2026 | D20: 2 | E20: солдат | F20: БРОДОВСЬКИЙ Вадим Феліксович | G20: {=_xlfn.TEXTSPLIT(F20," ")} -> БРОДОВСЬКИЙ | H20: Вадим | I20: Феліксович | J20: Житомирським РТЦК та СП у Житомирській області | K20: =TEXT(L20,"dd.mm.yyyy") -> 09.11.1977 | L20: 28438 | M20: 2843714031 | N20: ВМ 028712 | O20: Житомирська обл., смт Полянка | P20: Житомирська обл., Житомирський р-н., с. Костянинівка, вул. Весняна, буд. 10 | Q20: професійно- технічна | R20: Баранівське ПТУ №11 | S20: Пилорамщик, 20 років Права - | T20: не одружений | U20: сестра: Бродовська Ірина Феліксовна, 1984 | V20: не надано | W20: Придатний до військової служби | Z20: =_xlfn.XLOOKUP(G20&" "&H20,Висновки!A:A,Висновки!B:B) -> Висновок: Інтелект вище середнього (бали ) | AA20: =_xlfn.XLOOKUP(G20&" "&H20,Висновки!A:A,Висновки!C:C) -> Висновок: Високий рівень прояву комунікативних схильностей. Такі люди не почуваються розгубленими в новій обстановці, швидко знаходять друзів, прагнуть розширяти коло знайомих, допомагають близьким і друзям, виявляють ініціативу у спілкуванні, здатні приймати рішення у складних, нестандартних ситуаціях. | AB20: =_xlfn.XLOOKUP(G20&" "&H20,Висновки!A:A,Висновки!D:D) -> Висновок: Екстраверт - має високий рівень екстраверсії, що свідчить про активність, оптимізм, товариськість і балакучість, схильність до гри, пошук активності. | AC20: =_xlfn.XLOOKUP(G20&" "&H20,Висновки!A:A,Висновки!E:E) -> Висновок: Рівень схильності до суїцидальних реакцій нижче середнього | AD20: =_xlfn.XLOOKUP(G20&" "&H20,Висновки!A:A,Висновки!F:F) -> Отримано значення деструктивного рівня – військовослужбовець визнається психічно нестійким.
B21: 46016 | C21: =TEXT(B21,"dd.mm.yyyy") -> 25.12.2025 | D21: 23 | E21: солдат | F21: БРУЯКА Максим Юрійович | G21: {=_xlfn.TEXTSPLIT(F21," ")} -> БРУЯКА | H21: Максим | I21: Юрійович | J21: Сумським МТЦК та СП у Сумській області | K21: =TEXT(L21,"dd.mm.yyyy") -> 28.10.1996 | L21: 35366 | M21: 3536512192 | N21: МВ 516155 Ковпаківським РВ м.Суми УДМС України в Сумській обл. 18.12.2012 | O21: Р | P21: м. Суми, вул. Засумська буд. 16, кв. 45 | Q21: базова загальна середня | R21: Школа №12, м. Суми | S21: різноробочий, 1 рік Права - | T21: не одружений | U21: мати: Бруяка Наталія Володимирівна, 1976, м. Суми, вул. Засумська буд. 16, кв. 45, 0664739829 | V21: 0502773062 | X21: II Rh - | Y21: Резерв КДШВ | Z21: =_xlfn.XLOOKUP(G21&" "&H21,Висновки!A:A,Висновки!B:B) -> #N/A | AA21: =_xlfn.XLOOKUP(G21&" "&H21,Висновки!A:A,Висновки!C:C) -> #N/A | AB21: =_xlfn.XLOOKUP(G21&" "&H21,Висновки!A:A,Висновки!D:D) -> #N/A | AC21: =_xlfn.XLOOKUP(G21&" "&H21,Висновки!A:A,Висновки!E:E) -> #N/A | AD21: =_xlfn.XLOOKUP(G21&" "&H21,Висновки!A:A,Висновки!F:F) -> #N/A
B22: 46080 | C22: =TEXT(B22,"dd.mm.yyyy") -> 27.02.2026 | D22: 38 | E22: солдат | F22: БУРКОВЦОВ Андрій Юрійович | G22: {=_xlfn.TEXTSPLIT(F22," ")} -> БУРКОВЦОВ | H22: Андрій | I22: Юрійович | J22: Роменським ТЦК та СП у Сумській області | K22: =TEXT(L22,"dd.mm.yyyy") -> 09.09.1988 | L22: 32395 | M22: 3239413855 | N22: закордоний паспорт ЕН991201 виданий 7401 08.06.2011 | O22: м. Ніжин, Чернігівська обл. | P22: Сумська обл., Роменський р-н, с. Русанівка, вул. Русанівська 26 | Q22: вища | R22: НДУ ім. Гоголя, м. Ніжин, Чернігівська обл.,спеціаліст вчитель Історії і права,ДАКККІМ м. Київ, бакалавр, дизайнер середовища,КДАІС м. Київ, бакалавр, священослужитель | S22: священик педагог | T22: одружений | U22: дружина Гапон Зоя Сергиіївна - 1988, Сумська обл., Роменський р-н, с. Русанівка, вул. Русанівська 26 | V22: 0973166440 | X22: III Rh + | Y22: Резерв КДШВ | Z22: =_xlfn.XLOOKUP(G22&" "&H22,Висновки!A:A,Висновки!B:B) -> #N/A | AA22: =_xlfn.XLOOKUP(G22&" "&H22,Висновки!A:A,Висновки!C:C) -> #N/A | AB22: =_xlfn.XLOOKUP(G22&" "&H22,Висновки!A:A,Висновки!D:D) -> #N/A | AC22: =_xlfn.XLOOKUP(G22&" "&H22,Висновки!A:A,Висновки!E:E) -> #N/A | AD22: =_xlfn.XLOOKUP(G22&" "&H22,Висновки!A:A,Висновки!F:F) -> #N/A
A23: 614 | B23: 46079 | C23: =TEXT(B23,"dd.mm.yyyy") -> 26.02.2026 | D23: 5 | E23: солдат | F23: БУТКО Руслан Павлович | G23: {=_xlfn.TEXTSPLIT(F23," ")} -> БУТКО | H23: Руслан | I23: Павлович | J23: Дарницьким РТЦК та СП у Київській області | K23: =TEXT(L23,"dd.mm.yyyy") -> 29.07.1998 | L23: 36005 | M23: 3600408276 | N23: 009601452 3214 29.08.2023 | O23: Київська обл., Васильківський р-н., с. Вільшанська Новоселице | P23: м. Київ, вул. Закревського, буд. 27а, кв.38 | Q23: повна загальна середня | R23: Вільшансько Новоселівська ЗОШ | S23: Будівельник, 4 роки Права В | T23: не одружений | U23: брат: Павленко Максим Андрійович, 1997, 0967116383 | V23: 0962685449 | W23: Придатний до військової служби | X23: II Rh + | Z23: =_xlfn.XLOOKUP(G23&" "&H23,Висновки!A:A,Висновки!B:B) -> #N/A | AA23: =_xlfn.XLOOKUP(G23&" "&H23,Висновки!A:A,Висновки!C:C) -> #N/A | AB23: =_xlfn.XLOOKUP(G23&" "&H23,Висновки!A:A,Висновки!D:D) -> #N/A | AC23: =_xlfn.XLOOKUP(G23&" "&H23,Висновки!A:A,Висновки!E:E) -> #N/A | AD23: =_xlfn.XLOOKUP(G23&" "&H23,Висновки!A:A,Висновки!F:F) -> #N/A
B24: 46079 | C24: =TEXT(B24,"dd.mm.yyyy") -> 26.02.2026 | D24: 5 | E24: солдат | F24: ВАСИЛЬЧЕНКО Сергій Анатолійович | G24: {=_xlfn.TEXTSPLIT(F24," ")} -> ВАСИЛЬЧЕНКО | H24: Сергій | I24: Анатолійович | J24: Роменським РТЦК та СП у Сумській області | K24: =TEXT(L24,"dd.mm.yyyy") -> 17.11.1993 | L24: 34290 | M24: 3428909730 | N24: 002997059 виданий 5924 20.02.2019 | O24: Сумська обл., Роменський р-н., с Пустовойтівка | P24: Сумська обл., Роменський р-н., с Пустовойтівка, вул. 5 пер. Берегова, буд. 9 | Q24: базова загальна середня | R24: Пустовійтівська ЗОШ | S24: вантажник, 3 роки Права - | T24: не одружений | U24: мати: Вовк Світлана Григорівна, 1970, Сумська обл., Роменський р-н., с Пустовойтівка, вул. 5 пер. Берегова, буд. 9, 0685482470 | V24: не надано | X24: I Rh + | Y24: Резерв КДШВ | Z24: =_xlfn.XLOOKUP(G24&" "&H24,Висновки!A:A,Висновки!B:B) -> #N/A | AA24: =_xlfn.XLOOKUP(G24&" "&H24,Висновки!A:A,Висновки!C:C) -> #N/A | AB24: =_xlfn.XLOOKUP(G24&" "&H24,Висновки!A:A,Висновки!D:D) -> #N/A | AC24: =_xlfn.XLOOKUP(G24&" "&H24,Висновки!A:A,Висновки!E:E) -> #N/A | AD24: =_xlfn.XLOOKUP(G24&" "&H24,Висновки!A:A,Висновки!F:F) -> #N/A
B25: 46080 | C25: =TEXT(B25,"dd.mm.yyyy") -> 27.02.2026 | D25: 4 | E25: солдат | F25: ВЕРБА Володимир Олександрович | G25: {=_xlfn.TEXTSPLIT(F25," ")} -> ВЕРБА | H25: Володимир | I25: Олександрович | J25: Конотопським РТЦК та СП у Сумській області | K25: =TEXT(L25,"dd.mm.yyyy") -> 28.08.1995 | L25: 34939 | M25: 3493804851 | O25: Миколаївська обл., м. Баштанка | P25: Сумська обл., м. Конотоп, вул. Успенсько-Троїцька, буд. 13, кв. 28 | Q25: професійно- технічна | R25: ПТУ, м. Кременчук, 2013, маляр-штукатур | S25: будівельник, 6 років Права - | T25: одружений | U25: дружина: Верба Марія Сергіївна, 1997, Сумська обл., м. Конотоп, вул. Успенсько-Троїцька, буд. 13, кв. 28, 0977738011 | V25: 0685689787 | X25: II Rh + | Y25: Резерв КДШВ | Z25: =_xlfn.XLOOKUP(G25&" "&H25,Висновки!A:A,Висновки!B:B) -> Висновок: Невеликий ступінь розумового відставання (бали ) | AA25: =_xlfn.XLOOKUP(G25&" "&H25,Висновки!A:A,Висновки!C:C) -> Висновок: Високий рівень прояву комунікативних схильностей. Такі люди не почуваються розгубленими в новій обстановці, швидко знаходять друзів, прагнуть розширяти коло знайомих, допомагають близьким і друзям, виявляють ініціативу у спілкуванні, здатні приймати рішення у складних, нестандартних ситуаціях. | AB25: =_xlfn.XLOOKUP(G25&" "&H25,Висновки!A:A,Висновки!D:D) -> Висновок: Екстраверт - має високий рівень екстраверсії, що свідчить про активність, оптимізм, товариськість і балакучість, схильність до гри, пошук активності. | AC25: =_xlfn.XLOOKUP(G25&" "&H25,Висновки!A:A,Висновки!E:E) -> Висновок: Рівень схильності до суїцидальних реакцій нижче середнього | AD25: =_xlfn.XLOOKUP(G25&" "&H25,Висновки!A:A,Висновки!F:F) -> Отримано значення деструктивного рівня – військовослужбовець визнається психічно нестійким.
B26: 46021 | C26: =TEXT(B26,"dd.mm.yyyy") -> 30.12.2025 | D26: 43 | E26: солдат | F26: ВЕРСТЮК Євген Дмитрович | G26: {=_xlfn.TEXTSPLIT(F26," ")} -> ВЕРСТЮК | H26: Євген | I26: Дмитрович | J26: Новобоварським РТЦК та СП у Харківській області | K26: =TEXT(L26,"dd.mm.yyyy") -> 05.04.1977 | L26: 28220 | M26: 2821912276 | N26: МК 414303 Лозівським МРВУМВС України в Харківській обл. 15.01.1997 | O26: м.Лозова, Харківська обл. | P26: м. Харків, вул. Велика Панасівська, б. 106, кв.64 | Q26: професійно- технічна | R26: Новомосковський Сільхоз технікум ,м. Новомосковськ, Дніпропетровська обл.,,1998,ветфельшер | S26: ветеринарний санітар | T26: не одружений | U26: тітка Носік Ганна Демидівна, м. Харків, вул. Богомольця буд.7, кв. 104 | V26: 0678946217 | Y26: Резерв КДШВ | Z26: =_xlfn.XLOOKUP(G26&" "&H26,Висновки!A:A,Висновки!B:B) -> Висновок: Інтелектуальний дефект розумова відсталість на рівні дебільності (бали ) | AA26: =_xlfn.XLOOKUP(G26&" "&H26,Висновки!A:A,Висновки!C:C) -> Висновок: Має комунікативні схильності на рівні нижче середнього. Такі люди не прагнуть спілкування, надають перевагу проводити час на самоті. У товаристві чи колективі почуваються скуто. Мають складності в установленні контактів із людьми. Не відстоюють своєї думки, важко переживають образи. Рідко виявляють ініціативу, уникають прийняття самостійних рішень. | AB26: =_xlfn.XLOOKUP(G26&" "&H26,Висновки!A:A,Висновки!D:D) -> Висновок: Інтроверт - має низький рівень екстраверсії, що свідчить про сором’язливість, песимістичність, надання переваги бути самотнім, уникнення соціальних активностей. | AC26: =_xlfn.XLOOKUP(G26&" "&H26,Висновки!A:A,Висновки!E:E) -> Висновок: Рівень схильності до суїцидальних реакцій вище середнього | AD26: =_xlfn.XLOOKUP(G26&" "&H26,Висновки!A:A,Висновки!F:F) -> Отримано значення деструктивного рівня – військовослужбовець визнається психічно нестійким.
A27: 1537/11/2038 | B27: 46080 | C27: =TEXT(B27,"dd.mm.yyyy") -> 27.02.2026 | D27: 4 | E27: солдат | F27: ВИГІВСЬКИЙ Денис Анатолійович | G27: {=_xlfn.TEXTSPLIT(F27," ")} -> ВИГІВСЬКИЙ | H27: Денис | I27: Анатолійович | J27: Дніпровським РТЦК та СП у Київській області | K27: =TEXT(L27,"dd.mm.yyyy") -> 28.09.1986 | L27: 31683 | M27: 3168215372 | N27: МЕ 222316 | O27: м. Київ | P27: м. Київ, вул. Курнатовського буд. 6а, кв. 60 | Q27: вища | R27: КНУ туризму економіки та права, 2009, менеджмент організації | S27: менеджер автомийки, 9 років, будівельник, 10 років Права - В | T27: не одружений | U27: мати: Виговська Станіслава Григорівна, 1954, м. Київ, вул. Курнатовського буд. 6а, кв. 60, 0634685200 | V27: 0983622020 | W27: Придатний до військової служби | Z27: =_xlfn.XLOOKUP(G27&" "&H27,Висновки!A:A,Висновки!B:B) -> Висновок: Інтелект значно вище середнього (бали ) | AA27: =_xlfn.XLOOKUP(G27&" "&H27,Висновки!A:A,Висновки!C:C) -> Висновок: Високий рівень прояву комунікативних схильностей. Такі люди не почуваються розгубленими в новій обстановці, швидко знаходять друзів, прагнуть розширяти коло знайомих, допомагають близьким і друзям, виявляють ініціативу у спілкуванні, здатні приймати рішення у складних, нестандартних ситуаціях. | AB27: =_xlfn.XLOOKUP(G27&" "&H27,Висновки!A:A,Висновки!D:D) -> Висновок: Інтроверт - має низький рівень екстраверсії, що свідчить про сором’язливість, песимістичність, надання переваги бути самотнім, уникнення соціальних активностей. | AC27: =_xlfn.XLOOKUP(G27&" "&H27,Висновки!A:A,Висновки!E:E) -> Висновок: Низький рівень схильності до суїцидальних реакцій | AD27: =_xlfn.XLOOKUP(G27&" "&H27,Висновки!A:A,Висновки!F:F) -> Отримано значення деструктивного рівня – військовослужбовець визнається психічно нестійким.
B28: 46073 | C28: =TEXT(B28,"dd.mm.yyyy") -> 20.02.2026 | D28: 22 | E28: солдат | F28: ВОЙКУ Олег Георгійович | G28: {=_xlfn.TEXTSPLIT(F28," ")} -> ВОЙКУ | H28: Олег | I28: Георгійович | J28: Новобоварським РТЦК та СП у Харківській області | K28: =TEXT(L28,"dd.mm.yyyy") -> 11.12.1988 | L28: 32488 | M28: 3248704812 | N28: МН 730517 Московським РВ ХМУ УМВС України в Харківській обл. 03.03.2005 | O28: м. Харків | P28: м. Харків, просп. Ювілейний, буд. 72, кв. 107 | Q28: вища | R28: ХНАМГ, 2004, менеджер організації міського господарства | S28: голова правління ОСББ, 2 роки, менеджер з продажів, 7 років Права, В | T28: одружений | U28: дружина: Бондаренко Наталія Володимирівна, 1980, Харківська обл., м. Чугуїв, вул. Харківська, буд. 105, кв. 112 | V28: 0957796772 | Y28: Резерв КДШВ | Z28: =_xlfn.XLOOKUP(G28&" "&H28,Висновки!A:A,Висновки!B:B) -> Висновок: Інтелект вище середнього (бали ) | AA28: =_xlfn.XLOOKUP(G28&" "&H28,Висновки!A:A,Висновки!C:C) -> Висновок: Найвищий рівень комунікативних схильностей свідчить про сформовану потребу в комунікативній діяльності. Такі люди швидко орієнтуються в складних ситуаціях. Невимушено поводяться в новому колективі. Ініціативні. Приймають самостійні рішення. Відстоюють свою думку і добиваються прийняття своїх рішень. Залюбки організовують різні заходи. Наполегливі і завзяті в діяльності. | AB28: =_xlfn.XLOOKUP(G28&" "&H28,Висновки!A:A,Висновки!D:D) -> Висновок: Екстраверт - має високий рівень екстраверсії, що свідчить про активність, оптимізм, товариськість і балакучість, схильність до гри, пошук активності. | AC28: =_xlfn.XLOOKUP(G28&" "&H28,Висновки!A:A,Висновки!E:E) -> Висновок: Рівень схильності до суїцидальних реакцій нижче середнього | AD28: =_xlfn.XLOOKUP(G28&" "&H28,Висновки!A:A,Висновки!F:F) -> Військовослужбовець визнається психічно стійким.
A29: 661 | B29: 46076 | C29: =TEXT(B29,"dd.mm.yyyy") -> 23.02.2026 | D29: 5 | E29: солдат | F29: ГАВРИК Євген Анатолійович | G29: {=_xlfn.TEXTSPLIT(F29," ")} -> ГАВРИК | H29: Євген | I29: Анатолійович | J29: Білоцерківським РТЦК та СП у Київській області | K29: =TEXT(L29,"dd.mm.yyyy") -> 27.06.1987 | L29: 31955 | M29: 3195413716 | N29: СМ 568410 Фастівським МРВ ГУ МВС УКР в Київській обл 02.10.2003 | O29: Київська обл., м. Фастів | P29: Київська обл., м. Фастів, вул. Правди, буд. 105 | Q29: професійно- технічна | R29: ПТУ №18, м. Фастів, 2005, столяр | S29: Складальник-пакувальник, 6 років оператор-вантажної лінії, 2 роки Права - | T29: не одружений | U29: батько: Гаврик Анатолій Анатолійович, 1965, Київська обл., м. Фастів, вул. Правди, буд. 105 | V29: 0632444929 | W29: Придатний до військової служби | X29: ІІ Rh+ | Z29: =_xlfn.XLOOKUP(G29&" "&H29,Висновки!A:A,Висновки!B:B) -> Висновок: Невеликий ступінь розумового відставання (бали ) | AA29: =_xlfn.XLOOKUP(G29&" "&H29,Висновки!A:A,Висновки!C:C) -> Висновок: Середній рівень прояву комунікативних схильностей. Такі люди прагнуть контакту з людьми, відстоюють свою думку, рішення, проте потенціал їхніх схильностей не відрізняється високою стійкістю. Потрібна подальша робота з формування й розвитку цих якостей особистості. | AB29: =_xlfn.XLOOKUP(G29&" "&H29,Висновки!A:A,Висновки!D:D) -> Висновок: Інтроверт - має низький рівень екстраверсії, що свідчить про сором’язливість, песимістичність, надання переваги бути самотнім, уникнення соціальних активностей. | AC29: =_xlfn.XLOOKUP(G29&" "&H29,Висновки!A:A,Висновки!E:E) -> Висновок: Середній рівень схильності до суїцидальних реакцій | AD29: =_xlfn.XLOOKUP(G29&" "&H29,Висновки!A:A,Висновки!F:F) -> Рекомендується проведення вибіркових заходів психологічної роботи до 3 годин.
A30: 11/1553 | B30: 46078 | C30: =TEXT(B30,"dd.mm.yyyy") -> 25.02.2026 | D30: 2 | E30: солдат | F30: ГОНЧАРЕНКО Вячеслав Вікторович | G30: {=_xlfn.TEXTSPLIT(F30," ")} -> ГОНЧАРЕНКО | H30: Вячеслав | I30: Вікторович | J30: Шевченківським РТЦК та СП у Київській області | K30: =TEXT(L30,"dd.mm.yyyy") -> 22.02.1982 | L30: 30004 | M30: 3000315097 | N30: СО 062411 Ленінградським РУ ГУ МВС України в м. Києві 24.12.1998 | O30: м. Київ | P30: м. Київ, пр. Берестейський, буд. 144 кв. 8 | Q30: вища | R30: Національний транспортний університет,м. Київ,2009р,вантажні перевезення та логістика | S30: спеціаліст канцелярії в банку - 10р виготовлення вікон водій - 13р Права B, C | T30: не одружений | U30: батько: Гончаренко Віктор Олександрович - 1959 - 0673571110, м. Київ, пр. Берестейський, буд. 144 кв. 8 | V30: 0675504137 | W30: Придатний до військової служби | X30: I Rh + | Z30: =_xlfn.XLOOKUP(G30&" "&H30,Висновки!A:A,Висновки!B:B) -> Висновок: Слабкий, нижче середнього інтелект (бали ) | AA30: =_xlfn.XLOOKUP(G30&" "&H30,Висновки!A:A,Висновки!C:C) -> Висновок: Середній рівень прояву комунікативних схильностей. Такі люди прагнуть контакту з людьми, відстоюють свою думку, рішення, проте потенціал їхніх схильностей не відрізняється високою стійкістю. Потрібна подальша робота з формування й розвитку цих якостей особистості. | AB30: =_xlfn.XLOOKUP(G30&" "&H30,Висновки!A:A,Висновки!D:D) -> Висновок: Екстраверт - має високий рівень екстраверсії, що свідчить про активність, оптимізм, товариськість і балакучість, схильність до гри, пошук активності. | AC30: =_xlfn.XLOOKUP(G30&" "&H30,Висновки!A:A,Висновки!E:E) -> Висновок: Низький рівень схильності до суїцидальних реакцій | AD30: =_xlfn.XLOOKUP(G30&" "&H30,Висновки!A:A,Висновки!F:F) -> Отримано значення деструктивного рівня – військовослужбовець визнається психічно нестійким.
A31: 633 | B31: 46074 | C31: =TEXT(B31,"dd.mm.yyyy") -> 21.02.2026 | D31: 4 | E31: солдат | F31: ГОНЧАРУК Владислав Миколайович | G31: {=_xlfn.TEXTSPLIT(F31," ")} -> ГОНЧАРУК | H31: Владислав | I31: Миколайович | J31: Білоцерківським РТЦК та СП у Київській області | K31: =TEXT(L31,"dd.mm.yyyy") -> 19.03.2000 | L31: 36604 | M31: 3660308950 | N31: 000060180 3210 23.01.2017 | O31: Київська обл., м. Біла Церква | P31: Київська обл., м. Біла Церква, вул. Томилівська, буд. 50, кв. 40 | Q31: повна середня освіта | R31: Білоцерківська ЗОШ №11 | S31: Зварювальник, 3 роки, Права - | T31: не одружений | U31: батько: Гончарук Микола Михайлович, 1974, Київська обл., м. Біла Церква, вул. Томилівська, буд. 50, кв. 40, 0671744505 | V31: 0977019587 | W31: Придатний до військової служби | X31: RH 3+ | Z31: =_xlfn.XLOOKUP(G31&" "&H31,Висновки!A:A,Висновки!B:B) -> #N/A | AA31: =_xlfn.XLOOKUP(G31&" "&H31,Висновки!A:A,Висновки!C:C) -> #N/A | AB31: =_xlfn.XLOOKUP(G31&" "&H31,Висновки!A:A,Висновки!D:D) -> #N/A | AC31: =_xlfn.XLOOKUP(G31&" "&H31,Висновки!A:A,Висновки!E:E) -> #N/A | AD31: =_xlfn.XLOOKUP(G31&" "&H31,Висновки!A:A,Висновки!F:F) -> #N/A
A32: 11/2499 | B32: 46078 | C32: =TEXT(B32,"dd.mm.yyyy") -> 25.02.2026 | D32: 3 | E32: солдат | F32: ГОРБАЧОВ Богдан Віталійович | G32: {=_xlfn.TEXTSPLIT(F32," ")} -> ГОРБАЧОВ | H32: Богдан | I32: Віталійович | J32: Святошинським РТЦК та СП у Київській області | K32: =TEXT(L32,"dd.mm.yyyy") -> 17.09.2000 | L32: 36786 | M32: 3678507715 | N32: 000176202 8032 12.10.2016 | O32: м. Київ | P32: м. Київ, вул. Жмеринська, буд. 24, кв. 279 | Q32: професійно- технічна | R32: КПЛБ і КГ,м. Київ,2019,слюсар, електрик на устаткуванні електричного транспорту | S32: Працівник пошти - 2р Пакувальник - 4р | T32: не одружений | U32: мати: Горчабова Тетяна Василівна - 56 - 0962918854, м. Київ вул. Жмеринська, буд. 24, кв. 279 | V32: 0972308159 | W32: Придатний до військової служби | Z32: =_xlfn.XLOOKUP(G32&" "&H32,Висновки!A:A,Висновки!B:B) -> Висновок: Слабкий, нижче середнього інтелект (бали ) | AA32: =_xlfn.XLOOKUP(G32&" "&H32,Висновки!A:A,Висновки!C:C) -> Висновок: Високий рівень прояву комунікативних схильностей. Такі люди не почуваються розгубленими в новій обстановці, швидко знаходять друзів, прагнуть розширяти коло знайомих, допомагають близьким і друзям, виявляють ініціативу у спілкуванні, здатні приймати рішення у складних, нестандартних ситуаціях. | AB32: =_xlfn.XLOOKUP(G32&" "&H32,Висновки!A:A,Висновки!D:D) -> Висновок: Екстраверт - має високий рівень екстраверсії, що свідчить про активність, оптимізм, товариськість і балакучість, схильність до гри, пошук активності. | AC32: =_xlfn.XLOOKUP(G32&" "&H32,Висновки!A:A,Висновки!E:E) -> Висновок: Рівень схильності до суїцидальних реакцій нижче середнього | AD32: =_xlfn.XLOOKUP(G32&" "&H32,Висновки!A:A,Висновки!F:F) -> Отримано значення деструктивного рівня – військовослужбовець визнається психічно нестійким.
B33: 46076 | C33: =TEXT(B33,"dd.mm.yyyy") -> 23.02.2026 | D33: 41 | E33: солдат | F33: ГРАБКО Андрій Іванович | G33: {=_xlfn.TEXTSPLIT(F33," ")} -> ГРАБКО | H33: Андрій | I33: Іванович | J33: Сумським МТЦК та СП у Сумській області | K33: =TEXT(L33,"dd.mm.yyyy") -> 18.09.1986 | L33: 31673 | M33: 3167201934 | N33: МВ 173258 Л.Долинським РВУМВС України в Сумській обл., 08.02.2003 | O33: Сумська обл., Л. Долинський р-н, с.Колядиниць | P33: м. Суми, вул. Черепіна, б.47, кв. 117 | Q33: вища | R33: СНАУ ,м. Суми,2010,магістр, | S33: зоотехнік кат. В,С1,С | T33: не одружений | U33: мати: Грабко Ганна Дмитриївна - 1959 - 0968446207, Сумська обл., Л. Долинський р-н, с.Колядиниць, вул. Щастя 30 | V33: 0671979898 | Y33: Резерв КДШВ | Z33: =_xlfn.XLOOKUP(G33&" "&H33,Висновки!A:A,Висновки!B:B) -> Висновок: Інтелект нижче середнього (бали ) | AA33: =_xlfn.XLOOKUP(G33&" "&H33,Висновки!A:A,Висновки!C:C) -> Висновок: Має комунікативні схильності на рівні нижче середнього. Такі люди не прагнуть спілкування, надають перевагу проводити час на самоті. У товаристві чи колективі почуваються скуто. Мають складності в установленні контактів із людьми. Не відстоюють своєї думки, важко переживають образи. Рідко виявляють ініціативу, уникають прийняття самостійних рішень. | AB33: =_xlfn.XLOOKUP(G33&" "&H33,Висновки!A:A,Висновки!D:D) -> Висновок: Екстраверт - має високий рівень екстраверсії, що свідчить про активність, оптимізм, товариськість і балакучість, схильність до гри, пошук активності. | AC33: =_xlfn.XLOOKUP(G33&" "&H33,Висновки!A:A,Висновки!E:E) -> Висновок: Рівень схильності до суїцидальних реакцій вище середнього | AD33: =_xlfn.XLOOKUP(G33&" "&H33,Висновки!A:A,Висновки!F:F) -> Отримано значення деструктивного рівня – військовослужбовець визнається психічно нестійким.
A34: 260223-9 | B34: 46076 | C34: =TEXT(B34,"dd.mm.yyyy") -> 23.02.2026 | D34: 6 | E34: солдат | F34: ГРЕЧАНЮК Денис Сергійович | G34: {=_xlfn.TEXTSPLIT(F34," ")} -> ГРЕЧАНЮК | H34: Денис | I34: Сергійович | J34: Солом'янським РТЦК та СП у Київській області | K34: =TEXT(L34,"dd.mm.yyyy") -> 07.02.1996 | L34: 35102 | M34: 3510103050 | N34: 005780250 8034 24.02.2021 | O34: м. Київ | P34: м. Київ, вул. Пилипа Козицького, буд. 3, кв. 32 | Q34: вища | R34: КНАУ, 2016, економіст-кібернетик | S34: Продавець, 6 років Права - | T34: не одружений | U34: мати: Гречанюк Ірина Олександрівна, 1978, м. Київ, 0674088553 | V34: 0505278293 | W34: Придатний до військової служби | X34: IV Rh - | Z34: =_xlfn.XLOOKUP(G34&" "&H34,Висновки!A:A,Висновки!B:B) -> Висновок: Невеликий ступінь розумового відставання (бали ) | AA34: =_xlfn.XLOOKUP(G34&" "&H34,Висновки!A:A,Висновки!C:C) | AB34: =_xlfn.XLOOKUP(G34&" "&H34,Висновки!A:A,Висновки!D:D) -> Висновок: Екстраверт - має високий рівень екстраверсії, що свідчить про активність, оптимізм, товариськість і балакучість, схильність до гри, пошук активності. | AC34: =_xlfn.XLOOKUP(G34&" "&H34,Висновки!A:A,Висновки!E:E) -> Висновок: Рівень схильності до суїцидальних реакцій нижче середнього | AD34: =_xlfn.XLOOKUP(G34&" "&H34,Висновки!A:A,Висновки!F:F) -> Отримано значення деструктивного рівня – військовослужбовець визнається психічно нестійким.
A35: 260228-7 | B35: 46081 | C35: =TEXT(B35,"dd.mm.yyyy") -> 28.02.2026 | D35: 3 | E35: солдат | F35: ГРІЩЕНКО Максим Олегович | G35: {=_xlfn.TEXTSPLIT(F35," ")} -> ГРІЩЕНКО | H35: Максим | I35: Олегович | J35: Солом'янським РТЦК та СП у Київській області | K35: =TEXT(L35,"dd.mm.yyyy") -> 09.12.1987 | L35: 32120 | M35: 3211914316 | N35: МЕ 482954 | O35: м. Київ | P35: м. Київ, вул. Митрополита Василя Липківського, буд. 30, кв. 122 | Q35: вища | R35: ДУІТ, м. Київ, 2012 | S35: Продажі, менеджер, 3 роки | T35: одружений | U35: дружина: Макєєва Ганна Миколаївна, 1989, м. Київ, вул. Митрополита Василя Липківського, буд. 30, кв. 122, 0987000360 | V35: 0976009086 | W35: Придатний до військової служби | X35: III Rh + | Z35: =_xlfn.XLOOKUP(G35&" "&H35,Висновки!A:A,Висновки!B:B) -> Висновок: Нормальний, середній інтелект (бали ) | AA35: =_xlfn.XLOOKUP(G35&" "&H35,Висновки!A:A,Висновки!C:C) -> Висновок: Середній рівень прояву комунікативних схильностей. Такі люди прагнуть контакту з людьми, відстоюють свою думку, рішення, проте потенціал їхніх схильностей не відрізняється високою стійкістю. Потрібна подальша робота з формування й розвитку цих якостей особистості. | AB35: =_xlfn.XLOOKUP(G35&" "&H35,Висновки!A:A,Висновки!D:D) -> Висновок: Екстраверт - має високий рівень екстраверсії, що свідчить про активність, оптимізм, товариськість і балакучість, схильність до гри, пошук активності. | AC35: =_xlfn.XLOOKUP(G35&" "&H35,Висновки!A:A,Висновки!E:E) -> Висновок: Рівень схильності до суїцидальних реакцій вище середнього | AD35: =_xlfn.XLOOKUP(G35&" "&H35,Висновки!A:A,Висновки!F:F) -> Отримано значення деструктивного рівня – військовослужбовець визнається психічно нестійким.
A36: 628 | B36: 46074 | C36: =TEXT(B36,"dd.mm.yyyy") -> 21.02.2026 | D36: 2 | E36: солдат | F36: ГРОХ Андрій Вікторович | G36: {=_xlfn.TEXTSPLIT(F36," ")} -> ГРОХ | H36: Андрій | I36: Вікторович | J36: Білоцерківським РТЦК та СП у Київській області | K36: =TEXT(L36,"dd.mm.yyyy") -> 18.07.1984 | L36: 30881 | M36: 3088000115 | N36: СМ 236283 Міським відділом №1 Білоцерківського МУГУ МВС УКР в Київській обл 15.09.2000 | O36: Київська обл., м. Припʼять | P36: Київська обл., м. Біла Церква, вул. Луки Долинського, буд. 107, кв. 6 | Q36: середня спеціальна | R36: Білоцерківське ПТУ №5, електрогазозварювальник, 2002 | S36: електрогазозварювальник, рихтувальнк автомобілів, 15 років, Права BC | T36: одружений | U36: дружина: Грох Людмила Іванівна, 1986, Київська обл., м. Біла Церква, вул. Луки Долинського, буд. 107, кв. 6, 0986174303 | V36: 0966363660 | W36: Придатний до військової служби | X36: RH 4+ | Z36: =_xlfn.XLOOKUP(G36&" "&H36,Висновки!A:A,Висновки!B:B) -> Висновок: Інтелект вище середнього (бали ) | AA36: =_xlfn.XLOOKUP(G36&" "&H36,Висновки!A:A,Висновки!C:C) -> Висновок: Високий рівень прояву комунікативних схильностей. Такі люди не почуваються розгубленими в новій обстановці, швидко знаходять друзів, прагнуть розширяти коло знайомих, допомагають близьким і друзям, виявляють ініціативу у спілкуванні, здатні приймати рішення у складних, нестандартних ситуаціях. | AB36: =_xlfn.XLOOKUP(G36&" "&H36,Висновки!A:A,Висновки!D:D) -> Висновок: Екстраверт - має високий рівень екстраверсії, що свідчить про активність, оптимізм, товариськість і балакучість, схильність до гри, пошук активності. | AC36: =_xlfn.XLOOKUP(G36&" "&H36,Висновки!A:A,Висновки!E:E) -> Висновок: Рівень схильності до суїцидальних реакцій нижче середнього | AD36: =_xlfn.XLOOKUP(G36&" "&H36,Висновки!A:A,Висновки!F:F) -> Отримано значення деструктивного рівня – військовослужбовець визнається психічно нестійким.
A37: 260228-7 | B37: 46081 | C37: =TEXT(B37,"dd.mm.yyyy") -> 28.02.2026 | D37: 4 | E37: солдат | F37: ГРУЗИНСЬКИЙ Юрій Миколайович | G37: {=_xlfn.TEXTSPLIT(F37," ")} -> ГРУЗИНСЬКИЙ | H37: Юрій | I37: Миколайович | J37: Солом'янським РТЦК та СП у Київській області | K37: =TEXT(L37,"dd.mm.yyyy") -> 12.10.1985 | L37: 31332 | M37: 3133113253 | N37: 003604871 2315 15.07.2019 | O37: м. Запоріжжя | P37: м. Київ, вул. Філіпа Козицького, буд. 7, кв. 3 | Q37: професійно- технічна | R37: ПТУ №1,м. Запоріжжя,2003,зварювальник контролер АТК | S37: Працівник СТО/шиномонтаж - 23р Права B (вилучені) | T37: не одружений | U37: цивільна дуржина: Янченюк Олена Михайлівна - 0960956996, м. Київ вул. Філіпа Козицького, буд. 7, кв. 3 | V37: 0688144881 | W37: Придатний до військової служби | X37: II Rh + | Z37: =_xlfn.XLOOKUP(G37&" "&H37,Висновки!A:A,Висновки!B:B) -> #N/A | AA37: =_xlfn.XLOOKUP(G37&" "&H37,Висновки!A:A,Висновки!C:C) -> #N/A | AB37: =_xlfn.XLOOKUP(G37&" "&H37,Висновки!A:A,Висновки!D:D) -> #N/A | AC37: =_xlfn.XLOOKUP(G37&" "&H37,Висновки!A:A,Висновки!E:E) -> #N/A | AD37: =_xlfn.XLOOKUP(G37&" "&H37,Висновки!A:A,Висновки!F:F) -> #N/A
B38: 46076 | C38: =TEXT(B38,"dd.mm.yyyy") -> 23.02.2026 | D38: 46 | E38: солдат | F38: ГУЛЕНКО Владислав Олександрович | G38: {=_xlfn.TEXTSPLIT(F38," ")} -> ГУЛЕНКО | H38: Владислав | I38: Олександрович | J38: Сумським РТЦК та СП у Сумській області | K38: =TEXT(L38,"dd.mm.yyyy") -> 01.03.1998 | L38: 35855 | M38: 3585409073 | O38: м. Суми | P38: м. Суми, вул. Ковпака, б. 4а | Q38: професійно- технічна | R38: ПТУ №43,м. Краснопілля, Сумська обл., Сумський р-н,кухар-кондитер 5кат,2018 | S38: вантажник | T38: не одружений | U38: батько: Гуленко Олександр Миколайович - 1970 - 0663936035, Сумська обл., Краснопільський р-н, с. Самотоївка, вул. Калініна 170 | V38: не надано | Y38: Резерв КДШВ | Z38: =_xlfn.XLOOKUP(G38&" "&H38,Висновки!A:A,Висновки!B:B) -> Висновок: Невеликий ступінь розумового відставання (бали ) | AA38: =_xlfn.XLOOKUP(G38&" "&H38,Висновки!A:A,Висновки!C:C) -> Висновок: Найвищий рівень комунікативних схильностей свідчить про сформовану потребу в комунікативній діяльності. Такі люди швидко орієнтуються в складних ситуаціях. Невимушено поводяться в новому колективі. Ініціативні. Приймають самостійні рішення. Відстоюють свою думку і добиваються прийняття своїх рішень. Залюбки організовують різні заходи. Наполегливі і завзяті в діяльності. | AB38: =_xlfn.XLOOKUP(G38&" "&H38,Висновки!A:A,Висновки!D:D) -> Висновок: Екстраверт - має високий рівень екстраверсії, що свідчить про активність, оптимізм, товариськість і балакучість, схильність до гри, пошук активності. | AC38: =_xlfn.XLOOKUP(G38&" "&H38,Висновки!A:A,Висновки!E:E) -> Висновок: Низький рівень схильності до суїцидальних реакцій | AD38: =_xlfn.XLOOKUP(G38&" "&H38,Висновки!A:A,Висновки!F:F) -> Рекомендується проведення комплексу заходів психологічної роботи до 11 годин.
A39: 621/МВ | B39: 46081 | C39: =TEXT(B39,"dd.mm.yyyy") -> 28.02.2026 | D39: 5 | E39: солдат | F39: ГУСЄВ Євгеній Олександрович | G39: {=_xlfn.TEXTSPLIT(F39," ")} -> ГУСЄВ | H39: Євгеній | I39: Олександрович | J39: Оболонським РТЦК та СП у Київській області | K39: =TEXT(L39,"dd.mm.yyyy") -> 18.11.1998 | L39: 36117 | M39: 3611608372 | N39: ТТ 264727 Деснянським РВ ГУДМС УКР в м. Києві 20.11.2014 | O39: м. Київ | P39: м. Київ, вул. Мільчакова, буд. 3а | Q39: професійно- технічна | R39: Київське ВПУ, деревообробка | S39: Встановлення кондиціонерів, 4 роки, Права В | T39: не одружений | U39: мати: Зубарєва Катерина Сергвіївна, 1980, м. Київ, вул. Мільчакова, буд. 3а, 0502642717 | V39: 0955390619 | W39: Придатний до військової служби | Z39: =_xlfn.XLOOKUP(G39&" "&H39,Висновки!A:A,Висновки!B:B) -> #N/A | AA39: =_xlfn.XLOOKUP(G39&" "&H39,Висновки!A:A,Висновки!C:C) -> #N/A | AB39: =_xlfn.XLOOKUP(G39&" "&H39,Висновки!A:A,Висновки!D:D) -> #N/A | AC39: =_xlfn.XLOOKUP(G39&" "&H39,Висновки!A:A,Висновки!E:E) -> #N/A | AD39: =_xlfn.XLOOKUP(G39&" "&H39,Висновки!A:A,Висновки!F:F) -> #N/A
B40: 46075 | C40: =TEXT(B40,"dd.mm.yyyy") -> 22.02.2026 | D40: 1 | E40: солдат | F40: ДАВИДЕНКО Богдан Миколайович | G40: {=_xlfn.TEXTSPLIT(F40," ")} -> ДАВИДЕНКО | H40: Богдан | I40: Миколайович | J40: Роменським РТЦК та СП у Сумській області | K40: =TEXT(L40,"dd.mm.yyyy") -> 24.04.1996 | L40: 35179 | M40: 3517807937 | N40: 006233429 Виданий 5930 16.06.2021 | O40: м. Суми | P40: м. Суми, вул. ЗСУ, буд. 65а, кв. 92 | Q40: вища | R40: НТУ ХПІ, 2018, механік-технолог | S40: QA-middle тімлід, 4 роки монтажник, 10 років Права - | T40: не одружений | U40: мати: Давиденко Олена Василівна, 1974, м. Суми, вул. ЗСУ, буд. 65а, кв. 92, 0956851446 | V40: 0999604676 | Y40: Резерв КДШВ | Z40: =_xlfn.XLOOKUP(G40&" "&H40,Висновки!A:A,Висновки!B:B) -> #N/A | AA40: =_xlfn.XLOOKUP(G40&" "&H40,Висновки!A:A,Висновки!C:C) -> #N/A | AB40: =_xlfn.XLOOKUP(G40&" "&H40,Висновки!A:A,Висновки!D:D) -> #N/A | AC40: =_xlfn.XLOOKUP(G40&" "&H40,Висновки!A:A,Висновки!E:E) -> #N/A | AD40: =_xlfn.XLOOKUP(G40&" "&H40,Висновки!A:A,Висновки!F:F) -> #N/A
A41: 2581 | B41: 46080 | C41: =TEXT(B41,"dd.mm.yyyy") -> 27.02.2026 | D41: 5 | E41: старший солдат | F41: ДАЦЮК Вячеслав Іванович | G41: {=_xlfn.TEXTSPLIT(F41," ")} -> ДАЦЮК | H41: Вячеслав | I41: Іванович | J41: Житомирського ОМТЦК та СП у Житомирській області | K41: =TEXT(L41,"dd.mm.yyyy") -> 31.05.1981 | L41: 29737 | M41: 2973607431 | N41: ВМ 546751 Богунським РВ УМВС України в Житомирській області 30.05.1998 | O41: м. Житомир | P41: м. Житомир, вул. Бориса Тена, буд. 96, кв. 72 | Q41: професійно- технічна | R41: СПТУ №1,м. Житомир,1998,муляр, штукатур | S41: будівельник (бетонні роботи, дах, цегляна кладка) - 23р Права B | T41: одружений | U41: дружина: Дацюк Наталія Анатоліївна - 1980 - 0686362312 - м. Житомир вул. Бориса Тена, буд. 96, кв. 72 | V41: 0961552828 | W41: Придатний до військової служби | X41: II Rh - | Z41: =_xlfn.XLOOKUP(G41&" "&H41,Висновки!A:A,Висновки!B:B) -> Висновок: Інтелект нижче середнього (бали ) | AA41: =_xlfn.XLOOKUP(G41&" "&H41,Висновки!A:A,Висновки!C:C) -> Висновок: Найвищий рівень комунікативних схильностей свідчить про сформовану потребу в комунікативній діяльності. Такі люди швидко орієнтуються в складних ситуаціях. Невимушено поводяться в новому колективі. Ініціативні. Приймають самостійні рішення. Відстоюють свою думку і добиваються прийняття своїх рішень. Залюбки організовують різні заходи. Наполегливі і завзяті в діяльності. | AB41: =_xlfn.XLOOKUP(G41&" "&H41,Висновки!A:A,Висновки!D:D) -> Висновок: Екстраверт - має високий рівень екстраверсії, що свідчить про активність, оптимізм, товариськість і балакучість, схильність до гри, пошук активності. | AC41: =_xlfn.XLOOKUP(G41&" "&H41,Висновки!A:A,Висновки!E:E) -> Висновок: Середній рівень схильності до суїцидальних реакцій | AD41: =_xlfn.XLOOKUP(G41&" "&H41,Висновки!A:A,Висновки!F:F) -> Військовослужбовець визнається психічно стійким.
B42: 46076 | C42: =TEXT(B42,"dd.mm.yyyy") -> 23.02.2026 | D42: 8 | E42: солдат | F42: ДЕНИСЕНКО Артем Олегович | G42: {=_xlfn.TEXTSPLIT(F42," ")} -> ДЕНИСЕНКО | H42: Артем | I42: Олегович | J42: Сумським МТЦК та СП у Сумській області | K42: =TEXT(L42,"dd.mm.yyyy") -> 02.02.1991 | L42: 33271 | M42: 3327015430 | N42: МВ 340950 Зарічним ВМ СМВ УМВС України в Сумській обл. 27.03.2007 | O42: м. Суми | P42: м. Суми, вул. Друга Замостянська, буд. 82 | Q42: повна загальна середня | R42: ПТУ №11, м. Суми, столяр | S42: оператор відеонагляду, 7 років Права - | T42: одружений | U42: дружина: Денисенко Людмила Сергіївна, 1992, м. Суми, вул. Друга Замостянська, буд. 82, 0953130945 | V42: 0508008954 | X42: II Rh + | Y42: Резерв КДШВ | Z42: =_xlfn.XLOOKUP(G42&" "&H42,Висновки!A:A,Висновки!B:B) -> #N/A | AA42: =_xlfn.XLOOKUP(G42&" "&H42,Висновки!A:A,Висновки!C:C) -> #N/A | AB42: =_xlfn.XLOOKUP(G42&" "&H42,Висновки!A:A,Висновки!D:D) -> #N/A | AC42: =_xlfn.XLOOKUP(G42&" "&H42,Висновки!A:A,Висновки!E:E) -> #N/A | AD42: =_xlfn.XLOOKUP(G42&" "&H42,Висновки!A:A,Висновки!F:F) -> #N/A
A43: 466 | B43: 46079 | C43: =TEXT(B43,"dd.mm.yyyy") -> 26.02.2026 | D43: 6 | E43: солдат | F43: ДЕРЕВЛЮК Сергій Степанович | G43: {=_xlfn.TEXTSPLIT(F43," ")} -> ДЕРЕВЛЮК | H43: Сергій | I43: Степанович | J43: Деснянським РТЦК та СП у Київській області | K43: =TEXT(L43,"dd.mm.yyyy") -> 09.10.1975 | L43: 27676 | M43: 2767516699 | N43: 009085361 8029 01.05.2023 | O43: Київська обл., Васильківський р-н., с. Барахти | P43: м. Київ, Бережанська, буд. 12, кв. 46 | Q43: базова загальна середня | R43: Київська ЗОШ №74 | S43: склопакети, 3 роки Права - | T43: не одружений | U43: брат: Деревлюк Віктор Степанович, 1982, м. Київ, Бережанська, буд. 12, кв. 46, 0734737591 | V43: 0731557234 | W43: Придатний до військової служби | Z43: =_xlfn.XLOOKUP(G43&" "&H43,Висновки!A:A,Висновки!B:B) -> Висновок: Інтелект нижче середнього (бали ) | AA43: =_xlfn.XLOOKUP(G43&" "&H43,Висновки!A:A,Висновки!C:C) -> Висновок: Має комунікативні схильності на рівні нижче середнього. Такі люди не прагнуть спілкування, надають перевагу проводити час на самоті. У товаристві чи колективі почуваються скуто. Мають складності в установленні контактів із людьми. Не відстоюють своєї думки, важко переживають образи. Рідко виявляють ініціативу, уникають прийняття самостійних рішень. | AB43: =_xlfn.XLOOKUP(G43&" "&H43,Висновки!A:A,Висновки!D:D) -> Висновок: Інтроверт - має низький рівень екстраверсії, що свідчить про сором’язливість, песимістичність, надання переваги бути самотнім, уникнення соціальних активностей. | AC43: =_xlfn.XLOOKUP(G43&" "&H43,Висновки!A:A,Висновки!E:E) -> Висновок: Середній рівень схильності до суїцидальних реакцій | AD43: =_xlfn.XLOOKUP(G43&" "&H43,Висновки!A:A,Висновки!F:F) -> Отримано значення деструктивного рівня – військовослужбовець визнається психічно нестійким.
A44: 239 | B44: 46077 | C44: =TEXT(B44,"dd.mm.yyyy") -> 24.02.2026 | D44: 5 | E44: солдат | F44: ДЕРКАЧ Антон Олександрович | G44: {=_xlfn.TEXTSPLIT(F44," ")} -> ДЕРКАЧ | H44: Антон | I44: Олександрович | J44: Прилуцьким РТЦК та СП у Чернігівській області | K44: =TEXT(L44,"dd.mm.yyyy") -> 20.04.1988 | L44: 32253 | M44: 3225211077 | O44: Чернігівська обл., Прилуки | P44: Чернігівська обл., Прилуки, вул. Переяслівська, буд. 10, кв. 9 | Q44: середня спеціальна | R44: ПТУ, Прилуки, 2007, електрогазозварювальник | S44: водій електронавантажувач, 14 років, комірник, 14 років Права - | T44: одружений | U44: мати: Деркач Любов Борисівна, 1962, м. Київ | V44: 0668325680 | W44: Придатний до військової служби | Z44: =_xlfn.XLOOKUP(G44&" "&H44,Висновки!A:A,Висновки!B:B) -> Висновок: Слабкий, нижче середнього інтелект (бали ) | AA44: =_xlfn.XLOOKUP(G44&" "&H44,Висновки!A:A,Висновки!C:C) -> Висновок: Характеризується низьким рівнем прояву комунікативних схильностей | AB44: =_xlfn.XLOOKUP(G44&" "&H44,Висновки!A:A,Висновки!D:D) -> Висновок: Екстраверт - має високий рівень екстраверсії, що свідчить про активність, оптимізм, товариськість і балакучість, схильність до гри, пошук активності. | AC44: =_xlfn.XLOOKUP(G44&" "&H44,Висновки!A:A,Висновки!E:E) -> Висновок: Середній рівень схильності до суїцидальних реакцій | AD44: =_xlfn.XLOOKUP(G44&" "&H44,Висновки!A:A,Висновки!F:F) -> Отримано значення деструктивного рівня – військовослужбовець визнається психічно нестійким.
A45: 1/2421 | B45: 46077 | C45: =TEXT(B45,"dd.mm.yyyy") -> 24.02.2026 | D45: 1 | E45: солдат | F45: ДРИГА Сергій Олександрович | G45: {=_xlfn.TEXTSPLIT(F45," ")} -> ДРИГА | H45: Сергій | I45: Олександрович | J45: Ніжинським РТЦК та СП у Чернігівській області | K45: =TEXT(L45,"dd.mm.yyyy") -> 08.12.1986 | L45: 31754 | M45: 3175313158 | O45: Полтавська обл. Кобилянський р-н., с. Бутенки | P45: Полтавська обл. Кобилянський р-н., с. Вишневе, вул. Гоголя, буд. 10 | Q45: повна загальна середня | R45: Бутенська ЗОШ | S45: Дорожний робітник, 4 роки Права - | T45: не одружений | U45: мати: Дрига Марія Олексіївна, 1961, Полтавська обл. Кобилянський р-н., с. Бутенки, вул. Набережна, буд. 45, 0994590369 | V45: 0997810722 | W45: Придатний до військової служби | X45: I Rh + | Z45: =_xlfn.XLOOKUP(G45&" "&H45,Висновки!A:A,Висновки!B:B) -> #N/A | AA45: =_xlfn.XLOOKUP(G45&" "&H45,Висновки!A:A,Висновки!C:C) -> #N/A | AB45: =_xlfn.XLOOKUP(G45&" "&H45,Висновки!A:A,Висновки!D:D) -> #N/A | AC45: =_xlfn.XLOOKUP(G45&" "&H45,Висновки!A:A,Висновки!E:E) -> #N/A | AD45: =_xlfn.XLOOKUP(G45&" "&H45,Висновки!A:A,Висновки!F:F) -> #N/A
C46: =TEXT(B46,"dd.mm.yyyy") -> 00.01.1900 | E46: солдат | F46: ЄРМАКОВ Дмитро Олександрович | G46: {=_xlfn.TEXTSPLIT(F46," ")} -> ЄРМАКОВ | H46: Дмитро | I46: Олександрович | J46: Дніпровським РТЦК та СП у Дніпропетровській області | K46: =TEXT(L46,"dd.mm.yyyy") -> 26.12.1976 | L46: 28120 | O46: м. Дніпро | P46: Дніпропетровська обл. смт. Підгороднє, вул. Залізнична, буд. 8 | Q46: повна загальна середня | R46: ПСШ №2, Підгороднє | S46: Міліція, 3 роки Водій, 15 років Права A, B,C, D, E | T46: одружений | U46: дружина: Волошко Надія Миколаївна, 1978, Дніпропетровська обл. смт. Підгороднє, вул. Залізнична, буд. 8 | V46: 0989854651 | X46: I Rh + | Z46: =_xlfn.XLOOKUP(G46&" "&H46,Висновки!A:A,Висновки!B:B) -> Висновок: Нормальний, середній інтелект (бали ) | AA46: =_xlfn.XLOOKUP(G46&" "&H46,Висновки!A:A,Висновки!C:C) -> Висновок: Високий рівень прояву комунікативних схильностей. Такі люди не почуваються розгубленими в новій обстановці, швидко знаходять друзів, прагнуть розширяти коло знайомих, допомагають близьким і друзям, виявляють ініціативу у спілкуванні, здатні приймати рішення у складних, нестандартних ситуаціях. | AB46: =_xlfn.XLOOKUP(G46&" "&H46,Висновки!A:A,Висновки!D:D) -> Висновок: Екстраверт - має високий рівень екстраверсії, що свідчить про активність, оптимізм, товариськість і балакучість, схильність до гри, пошук активності. | AC46: =_xlfn.XLOOKUP(G46&" "&H46,Висновки!A:A,Висновки!E:E) -> Висновок: Низький рівень схильності до суїцидальних реакцій | AD46: =_xlfn.XLOOKUP(G46&" "&H46,Висновки!A:A,Висновки!F:F) -> Рекомендується проведення комплексу заходів психологічної роботи до 11 годин.
A47: 2584 | B47: 46080 | C47: =TEXT(B47,"dd.mm.yyyy") -> 27.02.2026 | D47: 6 | E47: старший солдат | F47: ЖЕРЕБЦОВ Данило Вадимович | G47: {=_xlfn.TEXTSPLIT(F47," ")} -> ЖЕРЕБЦОВ | H47: Данило | I47: Вадимович | J47: Житомирського ОМТЦК та СП у Житомирській області | K47: =TEXT(L47,"dd.mm.yyyy") -> 26.11.1997 | L47: 35760 | M47: 3575904092 | N47: 009028574 1237 17.04.2023 | O47: Дніпропетровська обл., м. Тернівка | P47: м. Житомир, вул. Ю. Вороного, буд. 5, кв. 58 | Q47: професійно- технічна | R47: Тернівський проф. гірничий ліцей, 2017, електрослсар-підземний | S47: Електрослсар-підземний, 9 років, Права: А, В | T47: одружений | U47: дружина: Жеребцова Евеліна Олександрівна, м. Житомир, вул. Ю. Вороного, буд. 5, кв. 58, 0505033165 | V47: 0999402691 | W47: Придатний до служби у військових частинах забезпечення, ТЦК та СП, ВВНЗ, навчальних центрах, закладах (установах), медичних підрозділах, підрозділах логістики, зв'язку, оперативного забезпечення, охорони | X47: II Rh - | Y47: А2900 по розподілу 1НБ діловод | Z47: =_xlfn.XLOOKUP(G47&" "&H47,Висновки!A:A,Висновки!B:B) -> #N/A | AA47: =_xlfn.XLOOKUP(G47&" "&H47,Висновки!A:A,Висновки!C:C) -> #N/A | AB47: =_xlfn.XLOOKUP(G47&" "&H47,Висновки!A:A,Висновки!D:D) -> #N/A | AC47: =_xlfn.XLOOKUP(G47&" "&H47,Висновки!A:A,Висновки!E:E) -> #N/A | AD47: =_xlfn.XLOOKUP(G47&" "&H47,Висновки!A:A,Висновки!F:F) -> #N/A
B48: 46075 | C48: =TEXT(B48,"dd.mm.yyyy") -> 22.02.2026 | D48: 31 | E48: солдат | F48: ЗАБАЙРАЧНИЙ Антон Валерійович | G48: {=_xlfn.TEXTSPLIT(F48," ")} -> ЗАБАЙРАЧНИЙ | H48: Антон | I48: Валерійович | J48: Сумським МТЦК та СП у Сумській області | K48: =TEXT(L48,"dd.mm.yyyy") -> 19.05.1989 | L48: 32647 | M48: 3264613873 | N48: ЕН 435216 Северодонецьким МВУМВС України в Луганській обл. 23.07.2005 | O48: м. Суми | P48: м. Суми, площа Пришибська б.16, кв.8а | Q48: повна загальна середня | R48: МВК №7,м. Суми,2004, | S48: бізнесмен | T48: не одружений | U48: мати: Забайрачна Ольга Анатоліївна - 1965 - Чехія | V48: 0994827403 | X48: II Rh + | Y48: Резерв КДШВ | Z48: =_xlfn.XLOOKUP(G48&" "&H48,Висновки!A:A,Висновки!B:B) -> #N/A | AA48: =_xlfn.XLOOKUP(G48&" "&H48,Висновки!A:A,Висновки!C:C) -> #N/A | AB48: =_xlfn.XLOOKUP(G48&" "&H48,Висновки!A:A,Висновки!D:D) -> #N/A | AC48: =_xlfn.XLOOKUP(G48&" "&H48,Висновки!A:A,Висновки!E:E) -> #N/A | AD48: =_xlfn.XLOOKUP(G48&" "&H48,Висновки!A:A,Висновки!F:F) -> #N/A
A49: 1/2364 | B49: 46076 | C49: =TEXT(B49,"dd.mm.yyyy") -> 23.02.2026 | D49: 1 | E49: солдат | F49: ЗАЇКА Віталій Олександрович | G49: {=_xlfn.TEXTSPLIT(F49," ")} -> ЗАЇКА | H49: Віталій | I49: Олександрович | J49: Ніжинським РТЦК та СП у Чернігівській області | K49: =TEXT(L49,"dd.mm.yyyy") -> 05.07.1980 | L49: 29407 | M49: 2940603255 | O49: Чернігівська обл., Бахмацький р-н., с. Щуча-Гребля | P49: Чернігівська обл., Ніжинський р-н., м. Бобровиця, вул. Святкова, буд. 6 | Q49: професійно- технічна | R49: Бобровицький ДСГТ, 2000, агроном | S49: слюсар, 2 роки оператор крупʼяного виробництва, 10 років Технік склада, 6 років Права - | T49: не одружений | U49: мати: Заїка Валентина Миколаївна, 1960, Чернігівська обл., Ніжинський р-н., м. Бобровиця, вул. Чергігівська, буд. 9а, кв. 10 | V49: 0681939861 | W49: Придатний до військової служби | X49: I Rh + | Z49: =_xlfn.XLOOKUP(G49&" "&H49,Висновки!A:A,Висновки!B:B) -> Висновок: Невеликий ступінь розумового відставання (бали ) | AA49: =_xlfn.XLOOKUP(G49&" "&H49,Висновки!A:A,Висновки!C:C) -> Висновок: Високий рівень прояву комунікативних схильностей. Такі люди не почуваються розгубленими в новій обстановці, швидко знаходять друзів, прагнуть розширяти коло знайомих, допомагають близьким і друзям, виявляють ініціативу у спілкуванні, здатні приймати рішення у складних, нестандартних ситуаціях. | AB49: =_xlfn.XLOOKUP(G49&" "&H49,Висновки!A:A,Висновки!D:D) -> Висновок: Екстраверт - має високий рівень екстраверсії, що свідчить про активність, оптимізм, товариськість і балакучість, схильність до гри, пошук активності. | AC49: =_xlfn.XLOOKUP(G49&" "&H49,Висновки!A:A,Висновки!E:E) -> Висновок: Рівень схильності до суїцидальних реакцій нижче середнього | AD49: =_xlfn.XLOOKUP(G49&" "&H49,Висновки!A:A,Висновки!F:F) -> Рекомендується проведення комплексу заходів психологічної роботи до 11 годин.
B50: 46074 | C50: =TEXT(B50,"dd.mm.yyyy") -> 21.02.2026 | D50: 40 | E50: солдат | F50: ЗВАДА Микита Іванович | G50: {=_xlfn.TEXTSPLIT(F50," ")} -> ЗВАДА | H50: Микита | I50: Іванович | J50: Сумським МТЦК та СП у Сумській області | K50: =TEXT(L50,"dd.mm.yyyy") -> 15.01.2001 | L50: 36906 | M50: 3690507477 | N50: 006012577 виданий 5922 23.04.2021 | O50: м. Санкт- Петербург | P50: Сумська обл., Роменський р-н, с Вільшана, вул. Озерна 55 | Q50: повна загальна середня | R50: Вільшанська ЗОШ,Сумська обл., с.Вільшана,2017 | S50: водій кат В,С | T50: не одружений | U50: батько: Звада Іван Михайлович - 1968 - 0500662946, Сумська обл., Роменський р-н, с Вільшана, вул. Озерна 55 | V50: 0683586538 | X50: I Rh + | Y50: Резерв КДШВ | Z50: =_xlfn.XLOOKUP(G50&" "&H50,Висновки!A:A,Висновки!B:B) -> #N/A | AA50: =_xlfn.XLOOKUP(G50&" "&H50,Висновки!A:A,Висновки!C:C) -> #N/A | AB50: =_xlfn.XLOOKUP(G50&" "&H50,Висновки!A:A,Висновки!D:D) -> #N/A | AC50: =_xlfn.XLOOKUP(G50&" "&H50,Висновки!A:A,Висновки!E:E) -> #N/A | AD50: =_xlfn.XLOOKUP(G50&" "&H50,Висновки!A:A,Висновки!F:F) -> #N/A
A51: 11/3193 | B51: 46078 | C51: =TEXT(B51,"dd.mm.yyyy") -> 25.02.2026 | D51: 4 | E51: солдат | F51: ЗВЯГІНЦЕВ Вадим Сергійович | G51: {=_xlfn.TEXTSPLIT(F51," ")} -> ЗВЯГІНЦЕВ | H51: Вадим | I51: Сергійович | J51: Подільським РТЦК та СП у Київській області | K51: =TEXT(L51,"dd.mm.yyyy") -> 19.05.1990 | L51: 33012 | M51: 3301112235 | N51: СМ 828673 | O51: Київська обл. Бучанський р-н., смт. Коцюбинське | P51: Київська обл. Бучанський р-н., смт. Коцюбинське, вул. Пономарьова, кв. 78 | Q51: професійно- технічна | R51: Київський проф. коледж ім. А. Макаренка, 2010, правознавство | S51: водій, 10 років, кладовщик, 6 років Права В | T51: одружений | U51: дружина: Звягінцева Катерина Сергіївна, 1992, Київська обл. Бучанський р-н., смт. Коцюбинське, вул. Пономарьова, кв. 78, 0684331879 | V51: 0636364510 | W51: Придатний до військової служби | Z51: =_xlfn.XLOOKUP(G51&" "&H51,Висновки!A:A,Висновки!B:B) -> Висновок: Інтелект нижче середнього (бали ) | AA51: =_xlfn.XLOOKUP(G51&" "&H51,Висновки!A:A,Висновки!C:C) -> Висновок: Має комунікативні схильності на рівні нижче середнього. Такі люди не прагнуть спілкування, надають перевагу проводити час на самоті. У товаристві чи колективі почуваються скуто. Мають складності в установленні контактів із людьми. Не відстоюють своєї думки, важко переживають образи. Рідко виявляють ініціативу, уникають прийняття самостійних рішень. | AB51: =_xlfn.XLOOKUP(G51&" "&H51,Висновки!A:A,Висновки!D:D) -> Висновок: Інтроверт - має низький рівень екстраверсії, що свідчить про сором’язливість, песимістичність, надання переваги бути самотнім, уникнення соціальних активностей. | AC51: =_xlfn.XLOOKUP(G51&" "&H51,Висновки!A:A,Висновки!E:E) -> Висновок: Середній рівень схильності до суїцидальних реакцій | AD51: =_xlfn.XLOOKUP(G51&" "&H51,Висновки!A:A,Висновки!F:F) -> Рекомендується проведення вибіркових заходів психологічної роботи до 3 годин.
A52: 260228-7 | B52: 46081 | C52: =TEXT(B52,"dd.mm.yyyy") -> 28.02.2026 | D52: 6 | E52: солдат | F52: ЗУБКО Андрій Валерійович | G52: {=_xlfn.TEXTSPLIT(F52," ")} -> ЗУБКО | H52: Андрій | I52: Валерійович | J52: Солом'янським РТЦК та СП у Київській області | K52: =TEXT(L52,"dd.mm.yyyy") -> 17.11.2000 | L52: 36847 | M52: 3684602658 | N52: СЮ 439586 | O52: Запорізька обл. Кам'янсько-Дніпровський р-н, с. Водяне | P52: м. Київ, вул. Залізнична, буд. 34, кв. 112 | Q52: вища | R52: ХАІ, 2022, авіаційна та ракетна проекційна техніка | S52: інженер з міцності, 4 роки Права В | T52: одружений | U52: Тітка: Уварова Людмила Григорівна, 0675255951 | V52: 0687091749 | W52: Придатний до військової служби | X52: II Rh + | Y52: А3316 по розподілу рекомендаційний лист | Z52: =_xlfn.XLOOKUP(G52&" "&H52,Висновки!A:A,Висновки!B:B) -> Висновок: Інтелект нижче середнього (бали ) | AA52: =_xlfn.XLOOKUP(G52&" "&H52,Висновки!A:A,Висновки!C:C) -> Висновок: Середній рівень прояву комунікативних схильностей. Такі люди прагнуть контакту з людьми, відстоюють свою думку, рішення, проте потенціал їхніх схильностей не відрізняється високою стійкістю. Потрібна подальша робота з формування й розвитку цих якостей особистості. | AB52: =_xlfn.XLOOKUP(G52&" "&H52,Висновки!A:A,Висновки!D:D) -> Висновок: Екстраверт - має високий рівень екстраверсії, що свідчить про активність, оптимізм, товариськість і балакучість, схильність до гри, пошук активності. | AC52: =_xlfn.XLOOKUP(G52&" "&H52,Висновки!A:A,Висновки!E:E) -> Висновок: Рівень схильності до суїцидальних реакцій нижче середнього | AD52: =_xlfn.XLOOKUP(G52&" "&H52,Висновки!A:A,Висновки!F:F) -> Отримано значення деструктивного рівня – військовослужбовець визнається психічно нестійким.
B53: 46076 | C53: =TEXT(B53,"dd.mm.yyyy") -> 23.02.2026 | D53: 16 | E53: солдат | F53: КАЛЬЧЕНКО Олександр Іванович | G53: {=_xlfn.TEXTSPLIT(F53," ")} -> КАЛЬЧЕНКО | H53: Олександр | I53: Іванович | J53: Сумським МТЦК та СП у Сумській області | K53: =TEXT(L53,"dd.mm.yyyy") -> 25.01.1980 | L53: 29245 | M53: 2924420790 | O53: Сумська обл., м. Білопілля | P53: м. Суми, вул. Харківська, буд. 28/1, кв. 46 | Q53: вища | R53: АМСУ, м. Дніпро, 2009, облік, аудит, правознавство | S53: інспектор митниці, 14 років ФОП, 8 років Права В | T53: одружений | U53: дружина: Кальченко Вікторія Володимирівна, м. Суми, пр. Перемоги, буд. 51, кв. 132, 0958425595 | V53: 0675997775 | X53: II Rh + | Y53: Резерв КДШВ | Z53: =_xlfn.XLOOKUP(G53&" "&H53,Висновки!A:A,Висновки!B:B) -> #N/A | AA53: =_xlfn.XLOOKUP(G53&" "&H53,Висновки!A:A,Висновки!C:C) -> #N/A | AB53: =_xlfn.XLOOKUP(G53&" "&H53,Висновки!A:A,Висновки!D:D) -> #N/A | AC53: =_xlfn.XLOOKUP(G53&" "&H53,Висновки!A:A,Висновки!E:E) -> #N/A | AD53: =_xlfn.XLOOKUP(G53&" "&H53,Висновки!A:A,Висновки!F:F) -> #N/A
A54: 1376 | B54: 46079 | C54: =TEXT(B54,"dd.mm.yyyy") -> 26.02.2026 | D54: 7 | E54: солдат | F54: КАМІНСЬКИЙ Андрій Михайлович | G54: {=_xlfn.TEXTSPLIT(F54," ")} -> КАМІНСЬКИЙ | H54: Андрій | I54: Михайлович | J54: Хмільницьким РТЦК та СП у Вінницькій області | K54: =TEXT(L54,"dd.mm.yyyy") -> 17.12.1996 | L54: 35416 | M54: 3541511375 | N54: АТ 021347 Ленінським РВ УПМС України у Вінницькій області 17.01.2013 | O54: Вінницька обл., Вінницький р-н., с. Пултівці | P54: м. Вінниця, вул. Пирогова, буд. 103а, кв. 157 | Q54: повна загальна середня | R54: Гімназія №1, Медичний коледж ім. Д.К. Заболотного, м. Вінниця, 2016 | S54: комплектувальник, 3 роки, Права - | T54: одружений | U54: дружина: Камінська Валентина Петрівна, 1998, м. Вінниця, вул. Пирогова, буд. 103а, кв. 157, 0501442286 | V54: 0933511962 | W54: Придатний до військової служби | X54: III Rh + | Z54: =_xlfn.XLOOKUP(G54&" "&H54,Висновки!A:A,Висновки!B:B) -> Висновок: Інтелект нижче середнього (бали ) | AA54: =_xlfn.XLOOKUP(G54&" "&H54,Висновки!A:A,Висновки!C:C) -> Висновок: Високий рівень прояву комунікативних схильностей. Такі люди не почуваються розгубленими в новій обстановці, швидко знаходять друзів, прагнуть розширяти коло знайомих, допомагають близьким і друзям, виявляють ініціативу у спілкуванні, здатні приймати рішення у складних, нестандартних ситуаціях. | AB54: =_xlfn.XLOOKUP(G54&" "&H54,Висновки!A:A,Висновки!D:D) -> Висновок: Інтроверт - має низький рівень екстраверсії, що свідчить про сором’язливість, песимістичність, надання переваги бути самотнім, уникнення соціальних активностей. | AC54: =_xlfn.XLOOKUP(G54&" "&H54,Висновки!A:A,Висновки!E:E) -> Висновок: Низький рівень схильності до суїцидальних реакцій | AD54: =_xlfn.XLOOKUP(G54&" "&H54,Висновки!A:A,Висновки!F:F) -> Рекомендується проведення комплексу заходів психологічної роботи до 11 годин.
A55: 11/1553 | B55: 46078 | C55: =TEXT(B55,"dd.mm.yyyy") -> 25.02.2026 | D55: 5 | E55: солдат | F55: КАТЕРУША Ярослав Ігорович | G55: {=_xlfn.TEXTSPLIT(F55," ")} -> КАТЕРУША | H55: Ярослав | I55: Ігорович | J55: Шевченківським РТЦК та СП у Київській області | K55: =TEXT(L55,"dd.mm.yyyy") -> 06.07.1996 | L55: 35252 | M55: 3525107076 | N55: НЕ 670190 Городищенським РС УДМС УКР в Черкаській обл 12.09.2012 | O55: Черкаська обл., Черкаський р-н, м. Городище | P55: Черкаська обл., Черкаський р-н, м. Городище, вул. Миру, буд. 56, кв. 10 | Q55: вища | R55: Київський національний лінгвістичний університет, 2018, філологія (мова та література англійська) | S55: менеджер з продажів, 3 роки перекладач, 8 років Права В | T55: не одружений | U55: мати: Яременко Ольга Вікторівна, 1973, Черкаська обл., Черкаський р-н, м. Городище, вул. Миру, буд. 56, кв. 10, 0983966889 | V55: 0733474748 | W55: Придатний до військової служби | Y55: А3316 по розподілу рекомендаційний лист!!! | Z55: =_xlfn.XLOOKUP(G55&" "&H55,Висновки!A:A,Висновки!B:B) -> #N/A | AA55: =_xlfn.XLOOKUP(G55&" "&H55,Висновки!A:A,Висновки!C:C) -> #N/A | AB55: =_xlfn.XLOOKUP(G55&" "&H55,Висновки!A:A,Висновки!D:D) -> #N/A | AC55: =_xlfn.XLOOKUP(G55&" "&H55,Висновки!A:A,Висновки!E:E) -> #N/A | AD55: =_xlfn.XLOOKUP(G55&" "&H55,Висновки!A:A,Висновки!F:F) -> #N/A
A56: 10/590 | B56: 46076 | C56: =TEXT(B56,"dd.mm.yyyy") -> 23.02.2026 | D56: 7 | E56: солдат | F56: КАЧУРА Олексій Олександрович | G56: {=_xlfn.TEXTSPLIT(F56," ")} -> КАЧУРА | H56: Олексій | I56: Олександрович | J56: Чернігівським МТЦК та СП у Чернігівській області | K56: =TEXT(L56,"dd.mm.yyyy") -> 01.03.1998 | L56: 35855 | M56: 3585404453 | O56: м. Чернігів | P56: м. Чернігів, просп. Миру, буд. 201б, кв. 20 | Q56: вища | R56: Чернігівський педагогічний університет, 2021, фізичне виховання, хореографія | S56: Тренер із спортивних бальних танців, 22 роки Права - | T56: не одружений | U56: мати: Качура Оксана Валеріївна, 1974, м. Чернігів, просп. Миру, буд. 201б, кв. 20, 0509957275 | V56: 0664746771 | W56: Придатний до військової служби | Z56: =_xlfn.XLOOKUP(G56&" "&H56,Висновки!A:A,Висновки!B:B) -> Висновок: Слабкий, нижче середнього інтелект (бали ) | AA56: =_xlfn.XLOOKUP(G56&" "&H56,Висновки!A:A,Висновки!C:C) -> Висновок: Високий рівень прояву комунікативних схильностей. Такі люди не почуваються розгубленими в новій обстановці, швидко знаходять друзів, прагнуть розширяти коло знайомих, допомагають близьким і друзям, виявляють ініціативу у спілкуванні, здатні приймати рішення у складних, нестандартних ситуаціях. | AB56: =_xlfn.XLOOKUP(G56&" "&H56,Висновки!A:A,Висновки!D:D) -> Висновок: Екстраверт - має високий рівень екстраверсії, що свідчить про активність, оптимізм, товариськість і балакучість, схильність до гри, пошук активності. | AC56: =_xlfn.XLOOKUP(G56&" "&H56,Висновки!A:A,Висновки!E:E) -> Висновок: Рівень схильності до суїцидальних реакцій нижче середнього | AD56: =_xlfn.XLOOKUP(G56&" "&H56,Висновки!A:A,Висновки!F:F) -> Отримано значення деструктивного рівня – військовослужбовець визнається психічно нестійким.
B57: 46080 | C57: =TEXT(B57,"dd.mm.yyyy") -> 27.02.2026 | D57: 20 | E57: солдат | F57: КВАША Сергій Анатолійович | G57: {=_xlfn.TEXTSPLIT(F57," ")} -> КВАША | H57: Сергій | I57: Анатолійович | J57: Роменським РТЦК та СП у Сумської області | K57: =TEXT(L57,"dd.mm.yyyy") -> 03.03.1990 | L57: 32935 | M57: 3293410951 | N57: МВ 341636 Роменським МРВУМВС України в Сумській обл., 10.01.2007 | O57: Сумська обл., Роменський р-н., с. Анастасівка | P57: Сумська обл., Роменський р-н., с. Анастасівка, вул. Паркова, буд. 6 | Q57: професійно- технічна | R57: Глинське ПТУ, 2009, слюсар, зварювальник | S57: доглядач за тваринами, 6 років Права - | T57: не одружений | U57: мати: Кваша Надія Іванівна, 1964, Сумська обл., Роменський р-н., с. Анастасівка, вул. Паркова, буд. 6, 0987449092 | V57: 0686718122 | X57: II Rh + | Y57: Резерв КДШВ | Z57: =_xlfn.XLOOKUP(G57&" "&H57,Висновки!A:A,Висновки!B:B) -> #N/A | AA57: =_xlfn.XLOOKUP(G57&" "&H57,Висновки!A:A,Висновки!C:C) -> #N/A | AB57: =_xlfn.XLOOKUP(G57&" "&H57,Висновки!A:A,Висновки!D:D) -> #N/A | AC57: =_xlfn.XLOOKUP(G57&" "&H57,Висновки!A:A,Висновки!E:E) -> #N/A | AD57: =_xlfn.XLOOKUP(G57&" "&H57,Висновки!A:A,Висновки!F:F) -> #N/A
B58: 46077 | C58: =TEXT(B58,"dd.mm.yyyy") -> 24.02.2026 | D58: 26 | E58: солдат | F58: КЛИМЕНЧЕНКО Максим Анатолійович | G58: {=_xlfn.TEXTSPLIT(F58," ")} -> КЛИМЕНЧЕНКО | H58: Максим | I58: Анатолійович | J58: Шосткинським РТЦК та СП у Сумській області | K58: =TEXT(L58,"dd.mm.yyyy") -> 04.01.1990 | L58: 32877 | M58: 3287611732 | N58: МВ 302722 Глухівським МРВ УМВС України в Сумській обл. 07.07.2006 | O58: Сумська обл., м. Глухів | P58: Сумська обл., м. Глухів.ю вул. Франка, буд. 39 | Q58: професійно- технічна | R58: ПТУ, м. Глухів, муляр, печник, штукатур | S58: слюсар, 9 років Права - | T58: не одружений | U58: мати: Клименченко Інна Петрівна, 1972, Сумська обл., м. Глухів.ю вул. Франка, буд. 39, 0956028336 | V58: 0667570803 | X58: I Rh + | Y58: Резерв КДШВ | Z58: =_xlfn.XLOOKUP(G58&" "&H58,Висновки!A:A,Висновки!B:B) -> #N/A | AA58: =_xlfn.XLOOKUP(G58&" "&H58,Висновки!A:A,Висновки!C:C) -> #N/A | AB58: =_xlfn.XLOOKUP(G58&" "&H58,Висновки!A:A,Висновки!D:D) -> #N/A | AC58: =_xlfn.XLOOKUP(G58&" "&H58,Висновки!A:A,Висновки!E:E) -> #N/A | AD58: =_xlfn.XLOOKUP(G58&" "&H58,Висновки!A:A,Висновки!F:F) -> #N/A
B59: 46077 | C59: =TEXT(B59,"dd.mm.yyyy") -> 24.02.2026 | D59: 28 | E59: солдат | F59: КНЯЗЄВ Олексадр Олексійович | G59: {=_xlfn.TEXTSPLIT(F59," ")} -> КНЯЗЄВ | H59: Олексадр | I59: Олексійович | J59: Сумським РтЦК та СП у Сумській області | K59: =TEXT(L59,"dd.mm.yyyy") -> 10.01.1984 | L59: 30691 | M59: 3069007313 | N59: МВ 580136 Лебединським МСУДМС України в Сумській обл., 18.03.2015 | O59: Сумська обл., Сумський р-й, с.Першотравневе | P59: м. Лебедин, вул. Капранів б.24, Сумська обл. | Q59: професійно- технічна | R59: ПТУ34, 2002, будівельник | S59: будівельник, кат.В | T59: одружений | U59: дружина Князєва Анна Миколаївна - 1990 - 0988266864 | V59: 0984312805 | X59: I Rh + | Y59: Резерв КДШВ | Z59: =_xlfn.XLOOKUP(G59&" "&H59,Висновки!A:A,Висновки!B:B) -> #N/A | AA59: =_xlfn.XLOOKUP(G59&" "&H59,Висновки!A:A,Висновки!C:C) -> #N/A | AB59: =_xlfn.XLOOKUP(G59&" "&H59,Висновки!A:A,Висновки!D:D) -> #N/A | AC59: =_xlfn.XLOOKUP(G59&" "&H59,Висновки!A:A,Висновки!E:E) -> #N/A | AD59: =_xlfn.XLOOKUP(G59&" "&H59,Висновки!A:A,Висновки!F:F) -> #N/A
A60: 2611 | B60: 46081 | C60: =TEXT(B60,"dd.mm.yyyy") -> 28.02.2026 | D60: 7 | E60: солдат | F60: КОВАЛЕНКО Анатолій Григорович | G60: {=_xlfn.TEXTSPLIT(F60," ")} -> КОВАЛЕНКО | H60: Анатолій | I60: Григорович | J60: Житомирським РТЦК та СП у Житомирській області | K60: =TEXT(L60,"dd.mm.yyyy") -> 21.12.1980 | L60: 29576 | M60: 2957514658 | N60: ВМ 531816 Корольовським РВ УМВС України в Житомирській області 04.04.1998 | O60: м. Житомир | P60: м. Житомир, вул. Володимира Гнатюка, буд. 30, кв. 309 | Q60: професійно- технічна | R60: ПТУ №17,м. Житомир,1999,автослюсар-водій | S60: слюсар - 20р Права B, C | T60: одружений | U60: дружина: Коваленко Оксана Вікторівна - 1982 - 0963146316 - м. Житомир, пров. Соломії Крушельницької, буд. 6 | V60: 0963148587 | W60: Придатний до військової служби | X60: II Rh + | Z60: =_xlfn.XLOOKUP(G60&" "&H60,Висновки!A:A,Висновки!B:B) -> Висновок: Невеликий ступінь розумового відставання (бали ) | AA60: =_xlfn.XLOOKUP(G60&" "&H60,Висновки!A:A,Висновки!C:C) -> Висновок: Середній рівень прояву комунікативних схильностей. Такі люди прагнуть контакту з людьми, відстоюють свою думку, рішення, проте потенціал їхніх схильностей не відрізняється високою стійкістю. Потрібна подальша робота з формування й розвитку цих якостей особистості. | AB60: =_xlfn.XLOOKUP(G60&" "&H60,Висновки!A:A,Висновки!D:D) -> Висновок: Екстраверт - має високий рівень екстраверсії, що свідчить про активність, оптимізм, товариськість і балакучість, схильність до гри, пошук активності. | AC60: =_xlfn.XLOOKUP(G60&" "&H60,Висновки!A:A,Висновки!E:E) -> Висновок: Низький рівень схильності до суїцидальних реакцій | AD60: =_xlfn.XLOOKUP(G60&" "&H60,Висновки!A:A,Висновки!F:F) -> Отримано значення деструктивного рівня – військовослужбовець визнається психічно нестійким.
A61: 260228-7 | B61: 46081 | C61: =TEXT(B61,"dd.mm.yyyy") -> 28.02.2026 | D61: 8 | E61: солдат | F61: КОВАЛЕНКО Дмитро Валентинович | G61: {=_xlfn.TEXTSPLIT(F61," ")} -> КОВАЛЕНКО | H61: Дмитро | I61: Валентинович | J61: Солом'янським РТЦК та СП у Київській області | K61: =TEXT(L61,"dd.mm.yyyy") -> 29.10.1984 | L61: 30984 | M61: 3098314219 | N61: 004120993 8026 28.10.2019 | O61: м. Київ | P61: м. Київ, просп. Червоної Калини, буд. 22а, кв. 114 | Q61: повна загальна середня | R61: ЗОШ №238,м. Київ,2001 | S61: бухгалтер - 6р промоутер реклами - 10р | T61: не одружений | U61: мати: Коваленко Лариса Євгеновна - 1960 - 0630463778, м. Київ просп. Червоної Калини, буд. 22а, кв. 114 | V61: 0930344674 | W61: Придатний до військової служби | X61: IV Rh + | Z61: =_xlfn.XLOOKUP(G61&" "&H61,Висновки!A:A,Висновки!B:B) -> Висновок: Невеликий ступінь розумового відставання (бали ) | AA61: =_xlfn.XLOOKUP(G61&" "&H61,Висновки!A:A,Висновки!C:C) -> Висновок: Середній рівень прояву комунікативних схильностей. Такі люди прагнуть контакту з людьми, відстоюють свою думку, рішення, проте потенціал їхніх схильностей не відрізняється високою стійкістю. Потрібна подальша робота з формування й розвитку цих якостей особистості. | AB61: =_xlfn.XLOOKUP(G61&" "&H61,Висновки!A:A,Висновки!D:D) -> Висновок: Екстраверт - має високий рівень екстраверсії, що свідчить про активність, оптимізм, товариськість і балакучість, схильність до гри, пошук активності. | AC61: =_xlfn.XLOOKUP(G61&" "&H61,Висновки!A:A,Висновки!E:E) -> Висновок: Низький рівень схильності до суїцидальних реакцій | AD61: =_xlfn.XLOOKUP(G61&" "&H61,Висновки!A:A,Висновки!F:F) -> Рекомендується проведення комплексу заходів психологічної роботи до 11 годин.
A62: 620/МВ | B62: 46081 | C62: =TEXT(B62,"dd.mm.yyyy") -> 28.02.2026 | D62: 9 | E62: солдат | F62: КОВАЛЕНКО Олег Андрійович | G62: {=_xlfn.TEXTSPLIT(F62," ")} -> КОВАЛЕНКО | H62: Олег | I62: Андрійович | J62: Оболонським РТЦК та СП у Київській області | K62: =TEXT(L62,"dd.mm.yyyy") -> 17.05.1993 | L62: 34106 | M62: 3410506256 | N62: МР 295449 | O62: м. Херсон | P62: м. Київ, просп. Оболонський, буд. 28б | Q62: вища | R62: ХДПУ, 2019, тренер | S62: менеджер басейну, тренер з плавання, 15 років Права - | T62: одружений | U62: дружина: Коваленко Катерина Андріївна, 1994, м. Київ, просп. Оболонський, буд. 28б, 0508486881 | V62: 0990928972 | W62: Придатний до військової служби | X62: II Rh - | Z62: =_xlfn.XLOOKUP(G62&" "&H62,Висновки!A:A,Висновки!B:B) -> #N/A | AA62: =_xlfn.XLOOKUP(G62&" "&H62,Висновки!A:A,Висновки!C:C) -> #N/A | AB62: =_xlfn.XLOOKUP(G62&" "&H62,Висновки!A:A,Висновки!D:D) -> #N/A | AC62: =_xlfn.XLOOKUP(G62&" "&H62,Висновки!A:A,Висновки!E:E) -> #N/A | AD62: =_xlfn.XLOOKUP(G62&" "&H62,Висновки!A:A,Висновки!F:F) -> #N/A
A63: 1379 | B63: 46079 | C63: =TEXT(B63,"dd.mm.yyyy") -> 26.02.2026 | D63: 8 | E63: солдат | F63: КОВАЛЬ Сергій Степанович | G63: {=_xlfn.TEXTSPLIT(F63," ")} -> КОВАЛЬ | H63: Сергій | I63: Степанович | J63: Хмільницьким РТЦК та СП у Вінницькій області | K63: =TEXT(L63,"dd.mm.yyyy") -> 09.09.1982 | L63: 30203 | M63: 3020225699 | N63: АТ 170876 Хмільницьким РС УДМС УКР в Вінницькій обл 27.10.2016 | O63: Вінницька обл., Хмільницький р-н., с. Вербівка | P63: Вінницька обл., Хмільницький р-н., с. Вербівка, вул. Космонавтів, буд. 48 | Q63: базова загальна середня | R63: Хмільницька ЗОШ №4 | S63: автослюсар, 12 років | T63: не одружений | U63: сестра: Коваль Леся Степанівна, 1978, Вінницька обл., Хмільницький р-н., с. Вербівка, вул. Космонавтів, буд. 48, 0682159607 | V63: 0681797617 | W63: Придатний до військової служби | Z63: =_xlfn.XLOOKUP(G63&" "&H63,Висновки!A:A,Висновки!B:B) -> Висновок: Слабкий, нижче середнього інтелект (бали ) | AA63: =_xlfn.XLOOKUP(G63&" "&H63,Висновки!A:A,Висновки!C:C) -> Висновок: Середній рівень прояву комунікативних схильностей. Такі люди прагнуть контакту з людьми, відстоюють свою думку, рішення, проте потенціал їхніх схильностей не відрізняється високою стійкістю. Потрібна подальша робота з формування й розвитку цих якостей особистості. | AB63: =_xlfn.XLOOKUP(G63&" "&H63,Висновки!A:A,Висновки!D:D) -> Висновок: Екстраверт - має високий рівень екстраверсії, що свідчить про активність, оптимізм, товариськість і балакучість, схильність до гри, пошук активності. | AC63: =_xlfn.XLOOKUP(G63&" "&H63,Висновки!A:A,Висновки!E:E) -> Висновок: Рівень схильності до суїцидальних реакцій нижче середнього | AD63: =_xlfn.XLOOKUP(G63&" "&H63,Висновки!A:A,Висновки!F:F) -> Отримано значення деструктивного рівня – військовослужбовець визнається психічно нестійким.
B64: 46084 | C64: =TEXT(B64,"dd.mm.yyyy") -> 03.03.2026 | D64: 16 | E64: солдат | F64: КОВАЛЬОВ Владислав Віталійович | G64: {=_xlfn.TEXTSPLIT(F64," ")} -> КОВАЛЬОВ | H64: Владислав | I64: Віталійович | J64: Кам'янським РТЦК та СП у Дніпропетровскій області | K64: =TEXT(L64,"dd.mm.yyyy") -> 16.04.2001 | L64: 36997 | O64: Дніпровська обл. Дніпропетровський р-н,с. Партизанське | P64: Дніпропетровська обл., Дніпропетровський р-н, с. Балівка, вул. Калинова, буд. 55 | Q64: повна загальна середня учіліще | R64: Професійне технічне учіліще №79 м. Дніпро, 2019, водій сільско-господарських, лісо-господарських машин, слюсар ремонтник 3 разряду | S64: водій, 3,5 року, Права В | T64: не одружений | U64: мати: Головата Юлія Василівна, 13.01.1983, Дніпропетровська обл., Дніпроперовський р-н, с. Балівка, вул. Калинова, буд. 55. | V64: 0664717290 | W64: Придатний до військової служби | X64: I Rh + | Y64: А5242 відношення РОТА ОХОРОНИ стрілець зенітник 4 ст., контракт | Z64: =_xlfn.XLOOKUP(G64&" "&H64,Висновки!A:A,Висновки!B:B) -> Висновок: Інтелект нижче середнього (бали ) | AA64: =_xlfn.XLOOKUP(G64&" "&H64,Висновки!A:A,Висновки!C:C) -> Висновок: Середній рівень прояву комунікативних схильностей. Такі люди прагнуть контакту з людьми, відстоюють свою думку, рішення, проте потенціал їхніх схильностей не відрізняється високою стійкістю. Потрібна подальша робота з формування й розвитку цих якостей особистості. | AB64: =_xlfn.XLOOKUP(G64&" "&H64,Висновки!A:A,Висновки!D:D) -> Висновок: Екстраверт - має високий рівень екстраверсії, що свідчить про активність, оптимізм, товариськість і балакучість, схильність до гри, пошук активності. | AC64: =_xlfn.XLOOKUP(G64&" "&H64,Висновки!A:A,Висновки!E:E) -> Висновок: Низький рівень схильності до суїцидальних реакцій | AD64: =_xlfn.XLOOKUP(G64&" "&H64,Висновки!A:A,Висновки!F:F) -> Отримано значення деструктивного рівня – військовослужбовець визнається психічно нестійким.
B65: 46073 | C65: =TEXT(B65,"dd.mm.yyyy") -> 20.02.2026 | D65: 30 | E65: старший сержант | F65: КОЛОДЧЕНКО Олег Григорович | G65: {=_xlfn.TEXTSPLIT(F65," ")} -> КОЛОДЧЕНКО | H65: Олег | I65: Григорович | J65: Індустріальним РТЦК та СП 20.02.2026 | K65: =TEXT(L65,"dd.mm.yyyy") -> 10.03.1990 | L65: 32942 | M65: 3294101893 | N65: МВ 321644 Великописарівським РВУМВС України в Сумській обл. 25.07.2006 | O65: Сумська обл., Ахтирський р-н, с. Попівка | P65: м. Чугуїв, вул. Піщана 48 | Q65: професійно- технічна | R65: Велекописерівська філія Ахтирскього профліцею, Сумська обл., смт.Велика Писарівка,2008 | S65: війсковий трахторист В,С,С1 | T65: одружений | U65: дружина: Колодченко Єлена Ігорівна - 1989 - 0980437691 - м. Одеса | V65: 0950483028 | X65: III Rh + | Y65: Резерв КДШВ | Z65: =_xlfn.XLOOKUP(G65&" "&H65,Висновки!A:A,Висновки!B:B) -> #N/A | AA65: =_xlfn.XLOOKUP(G65&" "&H65,Висновки!A:A,Висновки!C:C) -> #N/A | AB65: =_xlfn.XLOOKUP(G65&" "&H65,Висновки!A:A,Висновки!D:D) -> #N/A | AC65: =_xlfn.XLOOKUP(G65&" "&H65,Висновки!A:A,Висновки!E:E) -> #N/A | AD65: =_xlfn.XLOOKUP(G65&" "&H65,Висновки!A:A,Висновки!F:F) -> #N/A
A66: 4/1847/1 | B66: 46076 | C66: =TEXT(B66,"dd.mm.yyyy") -> 23.02.2026 | D66: 8 | E66: солдат | F66: КОНОВАЛ Євгеній Миколайович | G66: {=_xlfn.TEXTSPLIT(F66," ")} -> КОНОВАЛ | H66: Євгеній | I66: Миколайович | J66: Чернігівським РТЦК та СП у Чернігівській області | K66: =TEXT(L66,"dd.mm.yyyy") -> 01.06.1984 | L66: 30834 | M66: 3083303814 | O66: Дніппопетровська обл., м. Новомосковськ | P66: Чернігівська обл., Чернігівський р-н., с. Десна, вул. Захисників України, буд. 3, кв. 38 | Q66: вища | R66: Чернігівський інститут економіки та управління, 2007, маркетолог | S66: системний адміністратор, 18 років Права: С | T66: не одружений | U66: батько: Коновал Микола Сергійович, 1953, Чернігівська обл., Чернігівський р-н., с. Десна, вул. Захисників України, буд. 3, кв. 38, 0931987601 | V66: 0937859535 | W66: Придатний до військової служби | X66: І RH + | Z66: =_xlfn.XLOOKUP(G66&" "&H66,Висновки!A:A,Висновки!B:B) -> Висновок: Інтелект нижче середнього (бали ) | AA66: =_xlfn.XLOOKUP(G66&" "&H66,Висновки!A:A,Висновки!C:C) -> Висновок: Має комунікативні схильності на рівні нижче середнього. Такі люди не прагнуть спілкування, надають перевагу проводити час на самоті. У товаристві чи колективі почуваються скуто. Мають складності в установленні контактів із людьми. Не відстоюють своєї думки, важко переживають образи. Рідко виявляють ініціативу, уникають прийняття самостійних рішень. | AB66: =_xlfn.XLOOKUP(G66&" "&H66,Висновки!A:A,Висновки!D:D) -> Висновок: Інтроверт - має низький рівень екстраверсії, що свідчить про сором’язливість, песимістичність, надання переваги бути самотнім, уникнення соціальних активностей. | AC66: =_xlfn.XLOOKUP(G66&" "&H66,Висновки!A:A,Висновки!E:E) -> Висновок: Низький рівень схильності до суїцидальних реакцій | AD66: =_xlfn.XLOOKUP(G66&" "&H66,Висновки!A:A,Висновки!F:F) -> Отримано значення деструктивного рівня – військовослужбовець визнається психічно нестійким.
B67: 46077 | C67: =TEXT(B67,"dd.mm.yyyy") -> 24.02.2026 | D67: 24 | E67: солдат | F67: КОРЕНЄВ Віталій Віталійович | G67: {=_xlfn.TEXTSPLIT(F67," ")} -> КОРЕНЄВ | H67: Віталій | I67: Віталійович | J67: Конотопським РТЦК та СП у Сумській області | K67: =TEXT(L67,"dd.mm.yyyy") -> 24.02.1989 | L67: 32563 | M67: 3256220573 | N67: закордоний паспорт FM731032 виданий 5901 05.04.2018 | O67: м. Суми | P67: м. Суми, вул. Роменська, буд. 98, кв. 48 | Q67: базова загальна середня | R67: Школа №1, м. Суми | S67: муляр, 19 років Права В | T67: не одружений | U67: батько: Коренєв Віталій Олексійович, 1962, м. Суми, вул. Роменська, буд. 98, кв. 48, 0507243078 | V67: 0661495776 | X67: IV Rh - | Y67: Резерв КДШВ | Z67: =_xlfn.XLOOKUP(G67&" "&H67,Висновки!A:A,Висновки!B:B) -> #N/A | AA67: =_xlfn.XLOOKUP(G67&" "&H67,Висновки!A:A,Висновки!C:C) -> #N/A | AB67: =_xlfn.XLOOKUP(G67&" "&H67,Висновки!A:A,Висновки!D:D) -> #N/A | AC67: =_xlfn.XLOOKUP(G67&" "&H67,Висновки!A:A,Висновки!E:E) -> #N/A | AD67: =_xlfn.XLOOKUP(G67&" "&H67,Висновки!A:A,Висновки!F:F) -> #N/A
B68: 46080 | C68: =TEXT(B68,"dd.mm.yyyy") -> 27.02.2026 | D68: 35 | E68: солдат | F68: КОСЕНКО Віталій Якович | G68: {=_xlfn.TEXTSPLIT(F68," ")} -> КОСЕНКО | H68: Віталій | I68: Якович | J68: Сумським МТЦК та СП у Сумській області | K68: =TEXT(L68,"dd.mm.yyyy") -> 25.10.1994 | L68: 34632 | M68: 3463112994 | N68: 008368296 виданий 5922 21.10.2022 | O68: с. Немудруї, Сумська обл., Роменський р-н | P68: Сумська обл, с. Недригалів, вул. Заболотівка 80 | Q68: повна загальна середня | R68: ПТУ №41,с. Недригалів, Сумська обл.,2013 | S68: водій кат В,С трахторист кат. А1, А2 | T68: не одружений | U68: батько: Косенко Яків Петрович - 1964 - 0500535095, Сумська обл, с. Недригалів, вул. Заболотівка 80 | V68: 0991610466 | X68: IV Rh - | Y68: Резерв КДШВ | Z68: =_xlfn.XLOOKUP(G68&" "&H68,Висновки!A:A,Висновки!B:B) -> #N/A | AA68: =_xlfn.XLOOKUP(G68&" "&H68,Висновки!A:A,Висновки!C:C) -> #N/A | AB68: =_xlfn.XLOOKUP(G68&" "&H68,Висновки!A:A,Висновки!D:D) -> #N/A | AC68: =_xlfn.XLOOKUP(G68&" "&H68,Висновки!A:A,Висновки!E:E) -> #N/A | AD68: =_xlfn.XLOOKUP(G68&" "&H68,Висновки!A:A,Висновки!F:F) -> #N/A
A69: 466 | B69: 46079 | C69: =TEXT(B69,"dd.mm.yyyy") -> 26.02.2026 | D69: 9 | E69: солдат | F69: КОСЕНЮК Валерій Анатолійович | G69: {=_xlfn.TEXTSPLIT(F69," ")} -> КОСЕНЮК | H69: Валерій | I69: Анатолійович | J69: Деснянським РТЦК та СП у Київській області | K69: =TEXT(L69,"dd.mm.yyyy") -> 23.07.1975 | L69: 27598 | M69: 2759713830 | N69: СН 289053 | O69: м. Київ | P69: м. Київ, вул. Кіото, буд. 5, кв. 117 | Q69: вища | R69: КДАККМ, 2005, звукорежисура, театральне мистецтво | S69: музикант, 35 років Права: - | T69: одружений | U69: дружина: Щипан-Косенюк Олександра Олегівна, 1981, м. Київ, вул. Кіото, буд. 5, кв. 117, 0503803966 | V69: 0503803960 | W69: Придатний до служби у військових частинах забезпечення, ТЦК та СП, ВВНЗ, навчальних центрах, закладах (установах), медичних підрозділах, підрозділах логістики, зв'язку, оперативного забезпечення, охорони | Y69: А2900 по розподілу Біліченко Руслан Петрович оркестр | Z69: =_xlfn.XLOOKUP(G69&" "&H69,Висновки!A:A,Висновки!B:B) -> Висновок: Нормальний, середній інтелект (бали ) | AA69: =_xlfn.XLOOKUP(G69&" "&H69,Висновки!A:A,Висновки!C:C) -> Висновок: Середній рівень прояву комунікативних схильностей. Такі люди прагнуть контакту з людьми, відстоюють свою думку, рішення, проте потенціал їхніх схильностей не відрізняється високою стійкістю. Потрібна подальша робота з формування й розвитку цих якостей особистості. | AB69: =_xlfn.XLOOKUP(G69&" "&H69,Висновки!A:A,Висновки!D:D) -> Висновок: Інтроверт - має низький рівень екстраверсії, що свідчить про сором’язливість, песимістичність, надання переваги бути самотнім, уникнення соціальних активностей. | AC69: =_xlfn.XLOOKUP(G69&" "&H69,Висновки!A:A,Висновки!E:E) -> Висновок: Рівень схильності до суїцидальних реакцій нижче середнього | AD69: =_xlfn.XLOOKUP(G69&" "&H69,Висновки!A:A,Висновки!F:F) -> Отримано значення деструктивного рівня – військовослужбовець визнається психічно нестійким.
B70: 46077 | C70: =TEXT(B70,"dd.mm.yyyy") -> 24.02.2026 | D70: 7 | E70: солдат | F70: КОСЬМІН Юрій Віталійович | G70: {=_xlfn.TEXTSPLIT(F70," ")} -> КОСЬМІН | H70: Юрій | I70: Віталійович | J70: Конотопським РТЦК та СП у Сумській області | K70: =TEXT(L70,"dd.mm.yyyy") -> 12.07.1980 | L70: 29414 | M70: 2941315057 | O70: Сумська обл., м. Путивль | P70: Сумська обл., м. Путивль, вул. І. Путивльського, буд. 7 | Q70: базова загальна середня | R70: Бурса №9, м. Путивль | S70: будівельник, 20 років Права - | T70: не одружений | U70: батько: Косьмін Віталій | V70: 0662402865 | X70: II Rh + | Y70: Резерв КДШВ | Z70: =_xlfn.XLOOKUP(G70&" "&H70,Висновки!A:A,Висновки!B:B) -> #N/A | AA70: =_xlfn.XLOOKUP(G70&" "&H70,Висновки!A:A,Висновки!C:C) -> #N/A | AB70: =_xlfn.XLOOKUP(G70&" "&H70,Висновки!A:A,Висновки!D:D) -> #N/A | AC70: =_xlfn.XLOOKUP(G70&" "&H70,Висновки!A:A,Висновки!E:E) -> #N/A | AD70: =_xlfn.XLOOKUP(G70&" "&H70,Висновки!A:A,Висновки!F:F) -> #N/A
A71: 2504 | B71: 46078 | C71: =TEXT(B71,"dd.mm.yyyy") -> 25.02.2026 | D71: 6 | E71: солдат | F71: КРЕЙДИЧ Жан Віталійович | G71: {=_xlfn.TEXTSPLIT(F71," ")} -> КРЕЙДИЧ | H71: Жан | I71: Віталійович | J71: Житомирського ОМТЦК та СП у Житомирській області | K71: =TEXT(L71,"dd.mm.yyyy") -> 11.03.1985 | L71: 31117 | M71: 3111620917 | N71: ВН 498883 Корольовським РВ УМВС України в Житомирській області 17.08.2010 | O71: м. Житомир | P71: м. Житомир, вул. Вітрука, буд. 27, кв. 53 | T71: одружений | U71: дружина: Шмідт Ірина Володимирівна, 1988 | V71: не надано | W71: Придатний до військової служби | Z71: =_xlfn.XLOOKUP(G71&" "&H71,Висновки!A:A,Висновки!B:B) -> Висновок: Інтелект вище середнього (бали ) | AA71: =_xlfn.XLOOKUP(G71&" "&H71,Висновки!A:A,Висновки!C:C) -> Висновок: Має комунікативні схильності на рівні нижче середнього. Такі люди не прагнуть спілкування, надають перевагу проводити час на самоті. У товаристві чи колективі почуваються скуто. Мають складності в установленні контактів із людьми. Не відстоюють своєї думки, важко переживають образи. Рідко виявляють ініціативу, уникають прийняття самостійних рішень. | AB71: =_xlfn.XLOOKUP(G71&" "&H71,Висновки!A:A,Висновки!D:D) -> Висновок: Інтроверт - має низький рівень екстраверсії, що свідчить про сором’язливість, песимістичність, надання переваги бути самотнім, уникнення соціальних активностей. | AC71: =_xlfn.XLOOKUP(G71&" "&H71,Висновки!A:A,Висновки!E:E) -> Висновок: Рівень схильності до суїцидальних реакцій нижче середнього | AD71: =_xlfn.XLOOKUP(G71&" "&H71,Висновки!A:A,Висновки!F:F) -> Отримано значення деструктивного рівня – військовослужбовець визнається психічно нестійким.
B72: 46074 | C72: =TEXT(B72,"dd.mm.yyyy") -> 21.02.2026 | D72: 44 | E72: солдат | F72: КРИВОГУЗ Віталій Олександович | G72: {=_xlfn.TEXTSPLIT(F72," ")} -> КРИВОГУЗ | H72: Віталій | I72: Олександович | J72: Сумським МТЦК та СП у Сумській області | K72: =TEXT(L72,"dd.mm.yyyy") -> 01.03.1980 | L72: 29281 | M72: 2928021037 | N72: МА 314704, Буринським РВУМВС України в Сумський обл., 04.08.1997 | O72: м. Ромни, Сумска обл. | P72: Сумська обл., м. Буринь, вул. Пірогова, б.1б/2 | Q72: вища | R72: ПУСК м. Полтава,бакалавр,товарознавство і комерційна діяльність,2003 | S72: ФОП кат. В | T72: не одружений | U72: мати: Дзюба Євгенія Миколайвна - 1957, Сумська обл., м. Буринь, вул. 121 Стрілецької Дивізії, буд. 13, кв.2 | V72: 0994461246 | Y72: Резерв КДШВ | Z72: =_xlfn.XLOOKUP(G72&" "&H72,Висновки!A:A,Висновки!B:B) -> #N/A | AA72: =_xlfn.XLOOKUP(G72&" "&H72,Висновки!A:A,Висновки!C:C) -> #N/A | AB72: =_xlfn.XLOOKUP(G72&" "&H72,Висновки!A:A,Висновки!D:D) -> #N/A | AC72: =_xlfn.XLOOKUP(G72&" "&H72,Висновки!A:A,Висновки!E:E) -> #N/A | AD72: =_xlfn.XLOOKUP(G72&" "&H72,Висновки!A:A,Висновки!F:F) -> #N/A
A73: 2612 | B73: 46081 | C73: =TEXT(B73,"dd.mm.yyyy") -> 28.02.2026 | D73: 10 | E73: солдат | F73: КУЗЬМИШИН Юрій Миколайович | G73: {=_xlfn.TEXTSPLIT(F73," ")} -> КУЗЬМИШИН | H73: Юрій | I73: Миколайович | J73: Житомирським РТЦК та СП у Київській області | K73: =TEXT(L73,"dd.mm.yyyy") -> 07.05.1989 | L73: 32635 | M73: 3263419370 | N73: 012496201 1819 27.10.2025 | O73: Житомирська обл. Житомирський р-н. с. Висока Піч | P73: Житомирська обл., Житомирський р-н., с. Висока Піч, вул. Воронкіна, буд. 1, кв. 38 | Q73: професійно- технічна | R73: Турчинівка (училище),Житомирська обл, м. Чуднів,2007,електрогазозварювальник, водій | S73: водій (грузова) - 10р Права B, C, CE | T73: не одружений | U73: тітка: Бондарчук Антоніна Анатоліївна - 42р - 0688241992, Житомирська обл, Житомирський р-н, с. Нова Рудня, вул. Шевченка, буд. ? | V73: 0673197537 | W73: Придатний до військової служби | X73: III Rh + | Z73: =_xlfn.XLOOKUP(G73&" "&H73,Висновки!A:A,Висновки!B:B) -> Висновок: Невеликий ступінь розумового відставання (бали ) | AA73: =_xlfn.XLOOKUP(G73&" "&H73,Висновки!A:A,Висновки!C:C) -> Висновок: Середній рівень прояву комунікативних схильностей. Такі люди прагнуть контакту з людьми, відстоюють свою думку, рішення, проте потенціал їхніх схильностей не відрізняється високою стійкістю. Потрібна подальша робота з формування й розвитку цих якостей особистості. | AB73: =_xlfn.XLOOKUP(G73&" "&H73,Висновки!A:A,Висновки!D:D) -> Висновок: Екстраверт - має високий рівень екстраверсії, що свідчить про активність, оптимізм, товариськість і балакучість, схильність до гри, пошук активності. | AC73: =_xlfn.XLOOKUP(G73&" "&H73,Висновки!A:A,Висновки!E:E) -> Висновок: Середній рівень схильності до суїцидальних реакцій | AD73: =_xlfn.XLOOKUP(G73&" "&H73,Висновки!A:A,Висновки!F:F) -> Отримано значення деструктивного рівня – військовослужбовець визнається психічно нестійким.
A74: 11/2499 | B74: 46078 | C74: =TEXT(B74,"dd.mm.yyyy") -> 25.02.2026 | D74: 7 | E74: солдат | F74: КУЧЕРЕНКО Анатолій Михайлович | G74: {=_xlfn.TEXTSPLIT(F74," ")} -> КУЧЕРЕНКО | H74: Анатолій | I74: Михайлович | J74: Святошинським РТЦК та СП у Київській області | K74: =TEXT(L74,"dd.mm.yyyy") -> 22.12.1992 | L74: 33960 | M74: 3395907198 | N74: 005837755 5926 11.03.2021 | O74: Сумська обл, Сумський р-н, с. Нижня Сироватка | P74: м. Київ,, просп. Академіка Корольова, буд. 6, кв 245 | Q74: професійно- технічна | R74: ПТУ №16,м. Суми,2012,охоронник | S74: робітник на складі | T74: не одружений | U74: мати: Кучеренко Любов Іванівна - 1961 - 0992350554 - Сумська обл, Сумський р-н, с. Нижня Сироватка, пров. Перемоги, буд. 6 | V74: 0668498110 | W74: Придатний до військової служби | Z74: =_xlfn.XLOOKUP(G74&" "&H74,Висновки!A:A,Висновки!B:B) -> #N/A | AA74: =_xlfn.XLOOKUP(G74&" "&H74,Висновки!A:A,Висновки!C:C) -> #N/A | AB74: =_xlfn.XLOOKUP(G74&" "&H74,Висновки!A:A,Висновки!D:D) -> #N/A | AC74: =_xlfn.XLOOKUP(G74&" "&H74,Висновки!A:A,Висновки!E:E) -> #N/A | AD74: =_xlfn.XLOOKUP(G74&" "&H74,Висновки!A:A,Висновки!F:F) -> #N/A
A75: 470 | B75: 46080 | C75: =TEXT(B75,"dd.mm.yyyy") -> 27.02.2026 | D75: 7 | E75: солдат | F75: КУЧУРА Андрій Віталійович | G75: {=_xlfn.TEXTSPLIT(F75," ")} -> КУЧУРА | H75: Андрій | I75: Віталійович | J75: Деснянським РТЦК та СП у Київській області | K75: =TEXT(L75,"dd.mm.yyyy") -> 08.02.1988 | L75: 32181 | M75: 3218006254 | N75: НМ 474141 | O75: Чернігівська обл., м. Борзна | P75: Чернігівська обл., м. Борзна, вул. Олійника, буд. 41 | Q75: повна загальна середня | R75: Борзнівська ЗОШ | S75: будівельник, 10 років Права - | T75: не одружений | U75: мати: Кучура Тетяна Іванівна, Чернігівська обл., м. Борзна, вул. Олійника, буд. 41, 0639370324 | V75: 0937290800 | W75: Придатний до військової служби | X75: I Rh + | Z75: =_xlfn.XLOOKUP(G75&" "&H75,Висновки!A:A,Висновки!B:B) -> #N/A | AA75: =_xlfn.XLOOKUP(G75&" "&H75,Висновки!A:A,Висновки!C:C) -> #N/A | AB75: =_xlfn.XLOOKUP(G75&" "&H75,Висновки!A:A,Висновки!D:D) -> #N/A | AC75: =_xlfn.XLOOKUP(G75&" "&H75,Висновки!A:A,Висновки!E:E) -> #N/A | AD75: =_xlfn.XLOOKUP(G75&" "&H75,Висновки!A:A,Висновки!F:F) -> #N/A
B76: 46077 | C76: =TEXT(B76,"dd.mm.yyyy") -> 24.02.2026 | D76: 29 | E76: сержант | F76: КУЩ Андрій Петрович | G76: {=_xlfn.TEXTSPLIT(F76," ")} -> КУЩ | H76: Андрій | I76: Петрович | J76: Сумським МТЦК та СП у Сумській області | K76: =TEXT(L76,"dd.mm.yyyy") -> 20.03.1979 | L76: 28934 | M76: 2893300213 | N76: МВ 429139 Буринським РВГУМВС України в Сумській обл., 28.01.2010 | O76: Сумська обл., Буринськийр-н, с. Михайлівка, вул. Лесі Українки 33 | P76: м. Суми, вул. Ковпака, б. 85, кв.52 | Q76: повна загальна середня | R76: Михайлівська ЗОШ Сумська обл., | S76: електрогазозварник | T76: одружений | U76: дружина: Кущ Світлана Олександрівна - 1987 - 0990357418 | V76: 0669213337 | X76: II Rh + | Y76: Резерв КДШВ | Z76: =_xlfn.XLOOKUP(G76&" "&H76,Висновки!A:A,Висновки!B:B) -> #N/A | AA76: =_xlfn.XLOOKUP(G76&" "&H76,Висновки!A:A,Висновки!C:C) -> #N/A | AB76: =_xlfn.XLOOKUP(G76&" "&H76,Висновки!A:A,Висновки!D:D) -> #N/A | AC76: =_xlfn.XLOOKUP(G76&" "&H76,Висновки!A:A,Висновки!E:E) -> #N/A | AD76: =_xlfn.XLOOKUP(G76&" "&H76,Висновки!A:A,Висновки!F:F) -> #N/A
A77: 260223-9 | B77: 46076 | C77: =TEXT(B77,"dd.mm.yyyy") -> 23.02.2026 | D77: 9 | E77: солдат | F77: ЛЕВЕНЕЦЬ Максим Дмитрович | G77: {=_xlfn.TEXTSPLIT(F77," ")} -> ЛЕВЕНЕЦЬ | H77: Максим | I77: Дмитрович | J77: Солом'янським РТЦК та СП у Київській області | K77: =TEXT(L77,"dd.mm.yyyy") -> 01.08.1988 | L77: 32356 | M77: 3235521550 | N77: МЕ 490408 Шевченківського РУ ГУ МВС УКР в м. Києві 28.04.2005 | O77: м. Київ | P77: м. Київ, вул. Дмитрицька, буд. 82, кв. 16 | Q77: вища | R77: Київський бізнес коледж | S77: ІТ-фахівець, 20 років Права - | T77: не одружений | U77: не вказано | V77: 0930007874 | W77: Придатний до військової служби | Y77: А3316 по розподілу рекомендаційний лист | Z77: =_xlfn.XLOOKUP(G77&" "&H77,Висновки!A:A,Висновки!B:B) -> Висновок: Слабкий, нижче середнього інтелект (бали ) | AA77: =_xlfn.XLOOKUP(G77&" "&H77,Висновки!A:A,Висновки!C:C) -> Висновок: Середній рівень прояву комунікативних схильностей. Такі люди прагнуть контакту з людьми, відстоюють свою думку, рішення, проте потенціал їхніх схильностей не відрізняється високою стійкістю. Потрібна подальша робота з формування й розвитку цих якостей особистості. | AB77: =_xlfn.XLOOKUP(G77&" "&H77,Висновки!A:A,Висновки!D:D) -> Висновок: Екстраверт - має високий рівень екстраверсії, що свідчить про активність, оптимізм, товариськість і балакучість, схильність до гри, пошук активності. | AC77: =_xlfn.XLOOKUP(G77&" "&H77,Висновки!A:A,Висновки!E:E) | AD77: =_xlfn.XLOOKUP(G77&" "&H77,Висновки!A:A,Висновки!F:F) -> Отримано значення деструктивного рівня – військовослужбовець визнається психічно нестійким.
B78: 46077 | C78: =TEXT(B78,"dd.mm.yyyy") -> 24.02.2026 | D78: 33 | E78: солдат | F78: ЛЕВЧИЧ Олександр Миколайович | G78: {=_xlfn.TEXTSPLIT(F78," ")} -> ЛЕВЧИЧ | H78: Олександр | I78: Миколайович | J78: Сумським МТЦК та СП у Сумській області | K78: =TEXT(L78,"dd.mm.yyyy") -> 17.06.1978 | L78: 28658 | M78: 2865716296 | N78: 010064683 Виданий 5930 21.12.2023 | O78: м. Суми | P78: м. Суми, вул. ЗСУ , буд.6, кв 119 | Q78: повна загальна середня | R78: СВШ №2,м. Суми,1996 | S78: В | T78: не одружений | U78: брат: Левчич Володимир Миколайович - 1971 - 0503074035, м. Суми | V78: 0501372378 | X78: I Rh + | Y78: Резерв КДШВ | Z78: =_xlfn.XLOOKUP(G78&" "&H78,Висновки!A:A,Висновки!B:B) -> #N/A | AA78: =_xlfn.XLOOKUP(G78&" "&H78,Висновки!A:A,Висновки!C:C) -> #N/A | AB78: =_xlfn.XLOOKUP(G78&" "&H78,Висновки!A:A,Висновки!D:D) -> #N/A | AC78: =_xlfn.XLOOKUP(G78&" "&H78,Висновки!A:A,Висновки!E:E) -> #N/A | AD78: =_xlfn.XLOOKUP(G78&" "&H78,Висновки!A:A,Висновки!F:F) -> #N/A
B79: 46077 | C79: =TEXT(B79,"dd.mm.yyyy") -> 24.02.2026 | D79: 3 | E79: солдат | F79: ЛИТВИНКО Олександр Сергійович | G79: {=_xlfn.TEXTSPLIT(F79," ")} -> ЛИТВИНКО | H79: Олександр | I79: Сергійович | J79: Роменським РТЦК та СП у Сумській області | K79: =TEXT(L79,"dd.mm.yyyy") -> 21.07.2000 | L79: 36728 | M79: 3672709816 | N79: 006384474 Виданий 5924 19.07.2021 | O79: Сумська обл., Роменський р-н., с Перекопівка | P79: Сумська обл., Роменський р-н., с Перекопівка, вул. Космонавтів, буд. 107 | Q79: професійно- технічна | R79: Глинський ПТАЛ, 2019, водій-тракторист, слюсар з ремонту с\г машин, ,Путивльський ветеринарний коледж, 2023, ветеринарна медицина | S79: тракторист, 7 років Права А, В, С, тракторні | T79: одружений | U79: дружина: Литвинко Катерина Олександрівна, 2004, Сумська обл., Роменський р-н., с Перекопівка, вул. Космонавтів, буд. 107, 0993483660 | V79: не надано | Y79: Резерв КДШВ | Z79: =_xlfn.XLOOKUP(G79&" "&H79,Висновки!A:A,Висновки!B:B) -> #N/A | AA79: =_xlfn.XLOOKUP(G79&" "&H79,Висновки!A:A,Висновки!C:C) -> #N/A | AB79: =_xlfn.XLOOKUP(G79&" "&H79,Висновки!A:A,Висновки!D:D) -> #N/A | AC79: =_xlfn.XLOOKUP(G79&" "&H79,Висновки!A:A,Висновки!E:E) -> #N/A | AD79: =_xlfn.XLOOKUP(G79&" "&H79,Висновки!A:A,Висновки!F:F) -> #N/A
A80: 2581 | B80: 46080 | C80: =TEXT(B80,"dd.mm.yyyy") -> 27.02.2026 | D80: 8 | E80: солдат | F80: ЛЮЛЕВИЧ Віталій Михайлович | G80: {=_xlfn.TEXTSPLIT(F80," ")} -> ЛЮЛЕВИЧ | H80: Віталій | I80: Михайлович | J80: Житомирського ОМТЦК та СП у Житомирській області | K80: =TEXT(L80,"dd.mm.yyyy") -> 21.08.1989 | L80: 32741 | M80: 3274005414 | N80: ВН 610181 Корольовським РВ у м. Житомирі УДМС УКР в Житомирській обл 07.09.2013 | O80: м. Житомир | P80: м. Житомир, Огієнко, буд. 1/34, кв. 71 | Q80: повна загальна середня | R80: Житомирська ЗОШ №14 | S80: водій, 20 років Права: всі окрім D, небезпечні вантажі | T80: не одружений | U80: батько: Люлевич Михайло Йосипович 0679593591 | V80: 0973712130 | W80: Придатний до служби на підводних човнох, на надводних кораблях, у морській піхоті, Десантно-штурмових військах, спеціальних спорудах, підрозділах спеціального призначення | Z80: =_xlfn.XLOOKUP(G80&" "&H80,Висновки!A:A,Висновки!B:B) -> #N/A | AA80: =_xlfn.XLOOKUP(G80&" "&H80,Висновки!A:A,Висновки!C:C) -> #N/A | AB80: =_xlfn.XLOOKUP(G80&" "&H80,Висновки!A:A,Висновки!D:D) -> #N/A | AC80: =_xlfn.XLOOKUP(G80&" "&H80,Висновки!A:A,Висновки!E:E) -> #N/A | AD80: =_xlfn.XLOOKUP(G80&" "&H80,Висновки!A:A,Висновки!F:F) -> #N/A
B81: 46072 | C81: =TEXT(B81,"dd.mm.yyyy") -> 19.02.2026 | E81: солдат | F81: МАЗУРКЕВИЧ Віталій Петрович | G81: {=_xlfn.TEXTSPLIT(F81," ")} -> МАЗУРКЕВИЧ | H81: Віталій | I81: Петрович | J81: Подільський РТЦК та СП 19.02.2026 | K81: =TEXT(L81,"dd.mm.yyyy") -> 29.03.1993 | L81: 34057 | M81: 3405600870 | O81: Вінницька обл., Літинський р-н., с. Громадське | P81: м. Київ, вул. В. Липківського, буд. 13, кв. 27 | Q81: повна загальна середня | R81: Громадська ЗОШ, 2008, | S81: автомеханік, 12 років Права: В, С | T81: одружений | U81: дружина: Мазуркевич Марина Анатоліївна, 1991, м. Київ, вул. В. Липківського, буд. 13, кв. 27, 0631378707 | V81: 0638014463 | Y81: Резерв КДШВ | Z81: =_xlfn.XLOOKUP(G81&" "&H81,Висновки!A:A,Висновки!B:B) -> #N/A | AA81: =_xlfn.XLOOKUP(G81&" "&H81,Висновки!A:A,Висновки!C:C) -> #N/A | AB81: =_xlfn.XLOOKUP(G81&" "&H81,Висновки!A:A,Висновки!D:D) -> #N/A | AC81: =_xlfn.XLOOKUP(G81&" "&H81,Висновки!A:A,Висновки!E:E) -> #N/A | AD81: =_xlfn.XLOOKUP(G81&" "&H81,Висновки!A:A,Висновки!F:F) -> #N/A
A82: 2501 | B82: 46078 | C82: =TEXT(B82,"dd.mm.yyyy") -> 25.02.2026 | D82: 8 | E82: солдат | F82: МАТЮНІН Іван Леонідович | G82: {=_xlfn.TEXTSPLIT(F82," ")} -> МАТЮНІН | H82: Іван | I82: Леонідович | J82: Житомирського ОМТЦК та СП у Житомирській області | K82: =TEXT(L82,"dd.mm.yyyy") -> 09.10.1984 | L82: 30964 | M82: 3096315737 | N82: ВН 566980 Корольовським РВ УМВС України в Житомирській області 01.01.2000 | O82: м. Житомир | P82: м. Житомир,, вул. Короленка, буд. 52, кв. 2 | Q82: повна загальна середня | R82: Вечірня школа №1,м. Житомир,2005 | S82: Стропольщик башеного крану - 6р | T82: не одружений | U82: мати: Матюніна Наталія Сергіївна - 1960 - 0977692131, м. Житомир, вул. Короленка, буд. 52, кв. 2 | V82: 0975383164 | W82: Придатний до військової служби | Z82: =_xlfn.XLOOKUP(G82&" "&H82,Висновки!A:A,Висновки!B:B) -> Висновок: Інтелект вище середнього (бали ) | AA82: =_xlfn.XLOOKUP(G82&" "&H82,Висновки!A:A,Висновки!C:C) -> Висновок: Високий рівень прояву комунікативних схильностей. Такі люди не почуваються розгубленими в новій обстановці, швидко знаходять друзів, прагнуть розширяти коло знайомих, допомагають близьким і друзям, виявляють ініціативу у спілкуванні, здатні приймати рішення у складних, нестандартних ситуаціях. | AB82: =_xlfn.XLOOKUP(G82&" "&H82,Висновки!A:A,Висновки!D:D) -> Висновок: Екстраверт - має високий рівень екстраверсії, що свідчить про активність, оптимізм, товариськість і балакучість, схильність до гри, пошук активності. | AC82: =_xlfn.XLOOKUP(G82&" "&H82,Висновки!A:A,Висновки!E:E) -> Висновок: Низький рівень схильності до суїцидальних реакцій | AD82: =_xlfn.XLOOKUP(G82&" "&H82,Висновки!A:A,Висновки!F:F) -> Отримано значення деструктивного рівня – військовослужбовець визнається психічно нестійким.
B83: 46016 | C83: =TEXT(B83,"dd.mm.yyyy") -> 25.12.2025 | D83: 42 | E83: солдат | F83: МЕНЬШИКОВ Олексій Єгорович | G83: {=_xlfn.TEXTSPLIT(F83," ")} -> МЕНЬШИКОВ | H83: Олексій | I83: Єгорович | J83: Харківським ТЦК та СП у Харківській області | K83: =TEXT(L83,"dd.mm.yyyy") -> 30.03.1980 | L83: 29310 | M83: 2930900615 | N83: МК 119294, Пісочинським ВМ Харківського РВУМВС України 09.04.1996 | O83: м. Харків | P83: Харківська обл., Харківський р-н, смт. Пісочин, пров. Лісовий 20 | Q83: базова загальна середня | R83: Пісочинська ЗОШ,Харківська обл., смт. Пісочин,1995 | S83: сантехнік | T83: одружений | U83: дружина Меньшикова Маргарита Сергиївна - 1989, Харківська обл., Харківський р-н, с. Санжари, вул. Майська 1 | V83: 0669377797 | X83: III Rh + | Y83: Резерв КДШВ | Z83: =_xlfn.XLOOKUP(G83&" "&H83,Висновки!A:A,Висновки!B:B) -> #N/A | AA83: =_xlfn.XLOOKUP(G83&" "&H83,Висновки!A:A,Висновки!C:C) -> #N/A | AB83: =_xlfn.XLOOKUP(G83&" "&H83,Висновки!A:A,Висновки!D:D) -> #N/A | AC83: =_xlfn.XLOOKUP(G83&" "&H83,Висновки!A:A,Висновки!E:E) -> #N/A | AD83: =_xlfn.XLOOKUP(G83&" "&H83,Висновки!A:A,Висновки!F:F) -> #N/A
B84: 46073 | C84: =TEXT(B84,"dd.mm.yyyy") -> 20.02.2026 | D84: 9 | E84: солдат | F84: НЄЖНОВ Сергій Миколайович | G84: {=_xlfn.TEXTSPLIT(F84," ")} -> НЄЖНОВ | H84: Сергій | I84: Миколайович | J84: Харківським РТЦК та СП у Сумській області | K84: =TEXT(L84,"dd.mm.yyyy") -> 11.01.1977 | L84: 28136 | M84: 2813500653 | N84: МН 840776 Червонозаводським РВХМУУМВС України в Харківській обл., 25.04.2006 | O84: м. Харків | P84: м. Харків, вул. Заводська, буд. 114 | Q84: професійно- технічна | R84: СПТУ №9 м. Харків, 1995, електрогазозварювальник | S84: водій, 30 років Права: В, С, Д | T84: одружений | U84: дружина: Нєжнова Надія Іванівна, 1979, м. Харків, вул. Заводська, буд. 114, 0671567613 | V84: 0962762720 | X84: I Rh - | Y84: Резерв КДШВ | Z84: =_xlfn.XLOOKUP(G84&" "&H84,Висновки!A:A,Висновки!B:B) -> #N/A | AA84: =_xlfn.XLOOKUP(G84&" "&H84,Висновки!A:A,Висновки!C:C) -> #N/A | AB84: =_xlfn.XLOOKUP(G84&" "&H84,Висновки!A:A,Висновки!D:D) -> #N/A | AC84: =_xlfn.XLOOKUP(G84&" "&H84,Висновки!A:A,Висновки!E:E) -> #N/A | AD84: =_xlfn.XLOOKUP(G84&" "&H84,Висновки!A:A,Висновки!F:F) -> #N/A
A85: 2505 | B85: 46079 | C85: =TEXT(B85,"dd.mm.yyyy") -> 26.02.2026 | D85: 10 | E85: солдат | F85: ОСАДЧУК Олександр Олександрович | G85: {=_xlfn.TEXTSPLIT(F85," ")} -> ОСАДЧУК | H85: Олександр | I85: Олександрович | J85: Житомирським РТЦК та СП у Житомирській області | K85: =TEXT(L85,"dd.mm.yyyy") -> 06.04.1988 | L85: 32239 | M85: 3223818474 | N85: ВН 554655 Корольовським РВ УМВС УКР в Житомирській обл 17.04.2012 | O85: м. Житомир | P85: Житомирська обл., Пулинський р-н., с.Бабичівка, вул. Польова, 1 | Q85: базова загальна середня | R85: Мартинівська ЗОШ | S85: Різноробочий, 4 роки, Права - | T85: не одружений | U85: мати: Осадчук Альвіна Зиновіївна, 1963, Житомирська обл., Пулинський р-н., с.Бабичівка, вул. Польова, 1 | V85: не надано | W85: Придатний до військової служби | X85: II Rh + | Z85: =_xlfn.XLOOKUP(G85&" "&H85,Висновки!A:A,Висновки!B:B) -> Висновок: Інтелект нижче середнього (бали ) | AA85: =_xlfn.XLOOKUP(G85&" "&H85,Висновки!A:A,Висновки!C:C) -> Висновок: Середній рівень прояву комунікативних схильностей. Такі люди прагнуть контакту з людьми, відстоюють свою думку, рішення, проте потенціал їхніх схильностей не відрізняється високою стійкістю. Потрібна подальша робота з формування й розвитку цих якостей особистості. | AB85: =_xlfn.XLOOKUP(G85&" "&H85,Висновки!A:A,Висновки!D:D) -> Висновок: Екстраверт - має високий рівень екстраверсії, що свідчить про активність, оптимізм, товариськість і балакучість, схильність до гри, пошук активності. | AC85: =_xlfn.XLOOKUP(G85&" "&H85,Висновки!A:A,Висновки!E:E) -> Висновок: Середній рівень схильності до суїцидальних реакцій | AD85: =_xlfn.XLOOKUP(G85&" "&H85,Висновки!A:A,Висновки!F:F) -> Отримано значення деструктивного рівня – військовослужбовець визнається психічно нестійким.
B86: 46076 | C86: =TEXT(B86,"dd.mm.yyyy") -> 23.02.2026 | D86: 45 | E86: солдат | F86: ПАНЧЕНКО Олексадр Валерійович | G86: {=_xlfn.TEXTSPLIT(F86," ")} -> ПАНЧЕНКО | H86: Олексадр | I86: Валерійович | J86: Конотопським РТЦК та СП у Сумській області | K86: =TEXT(L86,"dd.mm.yyyy") -> 13.12.1982 | L86: 30298 | M86: 3029719656 | N86: 005500019 | O86: Конотопський р-н, с. Підлипне | P86: Сумська обл., Конотопський р-н, м. Кролевец, вул. Зелинського, буд. 1, кв. 4 | Q86: базова загальна середня | R86: Грузківська ЗОШ ,Сумська обл., Кроливецький р-н, с. Грузків, | S86: будівельник | T86: одружений | U86: дружина Панченко Оксана Володимирівна - 1987 - 0960923346, Сумська обл., Конотопський р-н, м. Кролевец, вул. Зелинського, буд. 1, кв. 4 | V86: не надано | X86: III Rh + | Y86: Резерв КДШВ | Z86: =_xlfn.XLOOKUP(G86&" "&H86,Висновки!A:A,Висновки!B:B) -> #N/A | AA86: =_xlfn.XLOOKUP(G86&" "&H86,Висновки!A:A,Висновки!C:C) -> #N/A | AB86: =_xlfn.XLOOKUP(G86&" "&H86,Висновки!A:A,Висновки!D:D) -> #N/A | AC86: =_xlfn.XLOOKUP(G86&" "&H86,Висновки!A:A,Висновки!E:E) -> #N/A | AD86: =_xlfn.XLOOKUP(G86&" "&H86,Висновки!A:A,Висновки!F:F) -> #N/A
B87: 46074 | C87: =TEXT(B87,"dd.mm.yyyy") -> 21.02.2026 | D87: 21 | E87: солдат | F87: ПАРХОМЕНКО Володимир Анатолійович | G87: {=_xlfn.TEXTSPLIT(F87," ")} -> ПАРХОМЕНКО | H87: Володимир | I87: Анатолійович | J87: Конотопським РТЦК та СП у Сумській області | K87: =TEXT(L87,"dd.mm.yyyy") -> 29.12.1985 | L87: 31410 | M87: 3140913593 | N87: МВ 078689 Крокевецьким РВ УМВС України в Сумській обл 22.10.2002 | O87: Сумська обл., Конотопський р-н., м. Кролевець | P87: Сумська обл., Конотопський р-н., с. Зазірки, вул. Маричанівка, буд. 12 | Q87: професійно- технічна | R87: ПТУ №23 м. Київ, муляр-штукатур | S87: будівельник, 20 років, Права - | T87: не одружений | U87: брат: Пархоменко Юрій Анатолійович, 1988, м. Кролевець | V87: 0685057883 | Y87: Резерв КДШВ | Z87: =_xlfn.XLOOKUP(G87&" "&H87,Висновки!A:A,Висновки!B:B) -> #N/A | AA87: =_xlfn.XLOOKUP(G87&" "&H87,Висновки!A:A,Висновки!C:C) -> #N/A | AB87: =_xlfn.XLOOKUP(G87&" "&H87,Висновки!A:A,Висновки!D:D) -> #N/A | AC87: =_xlfn.XLOOKUP(G87&" "&H87,Висновки!A:A,Висновки!E:E) -> #N/A | AD87: =_xlfn.XLOOKUP(G87&" "&H87,Висновки!A:A,Висновки!F:F) -> #N/A
A88: 1/2870 | B88: 46079 | C88: =TEXT(B88,"dd.mm.yyyy") -> 26.02.2026 | D88: 11 | E88: солдат | F88: ПАРШИКОВ Артем Вадимович | G88: {=_xlfn.TEXTSPLIT(F88," ")} -> ПАРШИКОВ | H88: Артем | I88: Вадимович | J88: Кропивницьким РТЦК та СП у Кіровоградській області | K88: =TEXT(L88,"dd.mm.yyyy") -> 15.09.1998 | L88: 36053 | M88: 3605210974 | N88: ЕВ 370186 Кіровським РВ у м. Кіровограді УДМС УКР в Кіровоградській обл 12.09.2014 | O88: Кіровоградсбка обл. Бобрунецький р-н., с. Кохана | P88: м. Кропивницький, вул. Павла Сніцера, буд. 1 | Q88: вища | R88: Кропвницький інстинут державного та муніципального управління, 2022, право | S88: Кухар, 3 роки Права: - | T88: не одружений | U88: батько: Паршиков Вадим Миколайович, 1976, Кіровоградсбка обл. Бобрунецький р-н., с. Кохана,вул. Степова, буд. 5, 0970189569 | V88: 0961367161 | W88: Придатний до військової служби | Z88: =_xlfn.XLOOKUP(G88&" "&H88,Висновки!A:A,Висновки!B:B) -> #N/A | AA88: =_xlfn.XLOOKUP(G88&" "&H88,Висновки!A:A,Висновки!C:C) -> #N/A | AB88: =_xlfn.XLOOKUP(G88&" "&H88,Висновки!A:A,Висновки!D:D) -> #N/A | AC88: =_xlfn.XLOOKUP(G88&" "&H88,Висновки!A:A,Висновки!E:E) -> #N/A | AD88: =_xlfn.XLOOKUP(G88&" "&H88,Висновки!A:A,Висновки!F:F) -> #N/A
B89: 46080 | C89: =TEXT(B89,"dd.mm.yyyy") -> 27.02.2026 | D89: 17 | E89: солдат | F89: ПАШКОВ Денис Геннадійович | G89: {=_xlfn.TEXTSPLIT(F89," ")} -> ПАШКОВ | H89: Денис | I89: Геннадійович | J89: Слобідським РТЦК та СП м. Харків 27.02.2026 | K89: =TEXT(L89,"dd.mm.yyyy") -> 01.02.1989 | L89: 32540 | M89: 3253904779 | N89: МН773485 Орджонікідзевським РВХМУУМВС України в Харківській обл. 16.06.2005 | O89: м. Харків | P89: м. Харків, просп. Індустріальний, буд. 31, кв. 28 | Q89: вища | R89: Академія НГУ, 2008, командник, менеджер організації | S89: реабілітолог, 15 років, Права - | T89: не одружений | U89: мати: Пашкова Ніна Опанасівна, 1954, м. Харків, просп. Індустріальний, буд. 31, кв. 28, 0661600161 | V89: 0669166227 | X89: I Rh + | Y89: Резерв КДШВ | Z89: =_xlfn.XLOOKUP(G89&" "&H89,Висновки!A:A,Висновки!B:B) -> #N/A | AA89: =_xlfn.XLOOKUP(G89&" "&H89,Висновки!A:A,Висновки!C:C) -> #N/A | AB89: =_xlfn.XLOOKUP(G89&" "&H89,Висновки!A:A,Висновки!D:D) -> #N/A | AC89: =_xlfn.XLOOKUP(G89&" "&H89,Висновки!A:A,Висновки!E:E) -> #N/A | AD89: =_xlfn.XLOOKUP(G89&" "&H89,Висновки!A:A,Висновки!F:F) -> #N/A
B90: 46076 | C90: =TEXT(B90,"dd.mm.yyyy") -> 23.02.2026 | D90: 2 | E90: старший солдат | F90: ПЕТРАШ Віктор Володимирович | G90: {=_xlfn.TEXTSPLIT(F90," ")} -> ПЕТРАШ | H90: Віктор | I90: Володимирович | J90: Сумським МТЦК та СП у Сумській області | K90: =TEXT(L90,"dd.mm.yyyy") -> 04.09.1984 | L90: 30929 | M90: 3092805058 | N90: МА 942892 Лебединським МРВУМВС України в Сумській обл., 27.02.2002 | O90: Магаданський край, с. Ягідне | P90: Сумська обл, Сумський р-н., с. Коршачина, вул. Шкільна, буд. 52 | Q90: професійно- технічна | R90: Маловисторопський державний аграрний коледж СНАУ, 2004, фельдшер ветеринарної медицини | S90: ветеринар, 4 роки Вальцювальник гумових сумішей, 10 років, Бруківник, 7 років Права В | T90: не одружений | U90: мати: Петраш Віра Юріївна, 1961, Сумська обл, Сумський р-н., с. Коршачина, вул. Шкільна, буд. 56, 0997604401 | V90: 0953467547 | X90: IV Rh + | Y90: Резерв КДШВ | Z90: =_xlfn.XLOOKUP(G90&" "&H90,Висновки!A:A,Висновки!B:B) -> #N/A | AA90: =_xlfn.XLOOKUP(G90&" "&H90,Висновки!A:A,Висновки!C:C) -> #N/A | AB90: =_xlfn.XLOOKUP(G90&" "&H90,Висновки!A:A,Висновки!D:D) -> #N/A | AC90: =_xlfn.XLOOKUP(G90&" "&H90,Висновки!A:A,Висновки!E:E) -> #N/A | AD90: =_xlfn.XLOOKUP(G90&" "&H90,Висновки!A:A,Висновки!F:F) -> #N/A
A91: 1/2345 | B91: 46075 | C91: =TEXT(B91,"dd.mm.yyyy") -> 22.02.2026 | D91: 8 | E91: солдат | F91: ПИРОГАНИЧ Ігор Ігорович | G91: {=_xlfn.TEXTSPLIT(F91," ")} -> ПИРОГАНИЧ | H91: Ігор | I91: Ігорович | J91: Ніжинським РТЦК та СП у Чернігівській області | K91: =TEXT(L91,"dd.mm.yyyy") -> 05.03.1991 | L91: 33302 | M91: 3330114316 | N91: 006435172 5124 27.07.2021 | O91: Одеська обл. м. Арциз | P91: Чернігівська обл., Ніжинський р-н., с. Крути, вул. Ніжинського полку, буд. 5 | Q91: базова середня | R91: ЗОШ с. Черниш, 2006 | S91: Вантажник кар, 3 роки Права - | T91: не одружений | U91: мати: Пироганич Любов Миколаївна, 1973, Чернігівська обл., Ніжинський р-н., с. Крути, вул. Ніжинського полку, буд. 5, 0972447274 | V91: 0663157097 | W91: Придатний до військової служби | Z91: =_xlfn.XLOOKUP(G91&" "&H91,Висновки!A:A,Висновки!B:B) -> #N/A | AA91: =_xlfn.XLOOKUP(G91&" "&H91,Висновки!A:A,Висновки!C:C) -> #N/A | AB91: =_xlfn.XLOOKUP(G91&" "&H91,Висновки!A:A,Висновки!D:D) -> #N/A | AC91: =_xlfn.XLOOKUP(G91&" "&H91,Висновки!A:A,Висновки!E:E) -> #N/A | AD91: =_xlfn.XLOOKUP(G91&" "&H91,Висновки!A:A,Висновки!F:F) -> #N/A
A92: 1454 | B92: 46081 | C92: =TEXT(B92,"dd.mm.yyyy") -> 28.02.2026 | D92: 11 | E92: солдат | F92: ПЛАТКІВСЬКИЙ Олександр Анатолійович | G92: {=_xlfn.TEXTSPLIT(F92," ")} -> ПЛАТКІВСЬКИЙ | H92: Олександр | I92: Анатолійович | J92: Хмільницьким РТЦК та СП у Вінницькій області | K92: =TEXT(L92,"dd.mm.yyyy") -> 21.04.1985 | L92: 31158 | M92: 3115715211 | N92: ВН 355573 | O92: м. Житомир | P92: м. Житомир, вул. Захисників України буд. 12, кв. 28 | Q92: професійно- технічна | R92: Сільхозтехнікум,м. Житомир,2005р,механізація | S92: водій таксі - 15р Права B | T92: не одружений | U92: цивільна дружина: Куницька Вікторія Русланівна - 2001 - 0632966285 - м. Житомир вул. Захисників України буд. 12, кв. 28 | V92: 0969999707 | W92: Придатний до військової служби | Z92: =_xlfn.XLOOKUP(G92&" "&H92,Висновки!A:A,Висновки!B:B) -> #N/A | AA92: =_xlfn.XLOOKUP(G92&" "&H92,Висновки!A:A,Висновки!C:C) -> #N/A | AB92: =_xlfn.XLOOKUP(G92&" "&H92,Висновки!A:A,Висновки!D:D) -> #N/A | AC92: =_xlfn.XLOOKUP(G92&" "&H92,Висновки!A:A,Висновки!E:E) -> #N/A | AD92: =_xlfn.XLOOKUP(G92&" "&H92,Висновки!A:A,Висновки!F:F) -> #N/A
A93: 1377 | B93: 46079 | C93: =TEXT(B93,"dd.mm.yyyy") -> 26.02.2026 | D93: 12 | E93: солдат | F93: ПОЛІЩЕНКО Олександр Петрович | G93: {=_xlfn.TEXTSPLIT(F93," ")} -> ПОЛІЩЕНКО | H93: Олександр | I93: Петрович | J93: Хмільницьким РТЦК та СП у Вінницькій області | K93: =TEXT(L93,"dd.mm.yyyy") -> 07.12.1993 | L93: 34310 | M93: 3430910630 | N93: 004508736 29.01.2020 | O93: м. Вінниця | P93: Вінницька обл., с. Веселівка, вул. Лесі Українки, буд. 118 | Q93: професійно- технічна | R93: Вінницький технічний коледж, 2013 | S93: маркетолог, 13 років Права В | T93: не одружений | U93: батько: Поліщенко Петро Кирилович, 1968, м. Вінниця, 0673027474 | V93: 0966336888 | W93: Придатний до військової служби | Z93: =_xlfn.XLOOKUP(G93&" "&H93,Висновки!A:A,Висновки!B:B) -> #N/A | AA93: =_xlfn.XLOOKUP(G93&" "&H93,Висновки!A:A,Висновки!C:C) -> #N/A | AB93: =_xlfn.XLOOKUP(G93&" "&H93,Висновки!A:A,Висновки!D:D) -> #N/A | AC93: =_xlfn.XLOOKUP(G93&" "&H93,Висновки!A:A,Висновки!E:E) -> #N/A | AD93: =_xlfn.XLOOKUP(G93&" "&H93,Висновки!A:A,Висновки!F:F) -> #N/A
A94: 1/2342 | B94: 46075 | C94: =TEXT(B94,"dd.mm.yyyy") -> 22.02.2026 | D94: 6 | E94: старший солдат | F94: ПОЛТОРАЦЬКИЙ Сергій Олександрович | G94: {=_xlfn.TEXTSPLIT(F94," ")} -> ПОЛТОРАЦЬКИЙ | H94: Сергій | I94: Олександрович | J94: Ніжинським РТЦК та СП у Чернігівській області | K94: =TEXT(L94,"dd.mm.yyyy") -> 09.09.1991 | L94: 33490 | M94: 3348900619 | N94: НМ 302525 Ніжинським МРВ УМВС УКР в Чернігівській обл 02.11.2007 | O94: Чернігівська обл., м. Ніжин | P94: Чернігівська обл., Ніжинський р-н., с. Вертіївка, вул. Миру, буд. 41 | Q94: середня спеціальна | R94: Ніжинське ПТУ №35, електрогазозварник-водій, 2009 | S94: Оператор АЗС, 3,5 роки Права: А1, B, C | T94: не одружений | U94: мати: Полторацька Світлана Іванівна, 1973, Чернігівська обл., Ніжинський р-н., с. Вертіївка, вул. Миру, буд. 41, 0984353167 | V94: 0500779439 | W94: Придатний до військової служби | Z94: =_xlfn.XLOOKUP(G94&" "&H94,Висновки!A:A,Висновки!B:B) -> Висновок: Слабкий, нижче середнього інтелект (бали ) | AA94: =_xlfn.XLOOKUP(G94&" "&H94,Висновки!A:A,Висновки!C:C) -> Висновок: Середній рівень прояву комунікативних схильностей. Такі люди прагнуть контакту з людьми, відстоюють свою думку, рішення, проте потенціал їхніх схильностей не відрізняється високою стійкістю. Потрібна подальша робота з формування й розвитку цих якостей особистості. | AB94: =_xlfn.XLOOKUP(G94&" "&H94,Висновки!A:A,Висновки!D:D) -> Висновок: Екстраверт - має високий рівень екстраверсії, що свідчить про активність, оптимізм, товариськість і балакучість, схильність до гри, пошук активності. | AC94: =_xlfn.XLOOKUP(G94&" "&H94,Висновки!A:A,Висновки!E:E) -> Висновок: Низький рівень схильності до суїцидальних реакцій | AD94: =_xlfn.XLOOKUP(G94&" "&H94,Висновки!A:A,Висновки!F:F) -> Отримано значення деструктивного рівня – військовослужбовець визнається психічно нестійким.
A95: 11/1553 | B95: 46078 | C95: =TEXT(B95,"dd.mm.yyyy") -> 25.02.2026 | D95: 9 | E95: солдат | F95: ПОНОМАРЕНКО Володимир Миколайович | G95: {=_xlfn.TEXTSPLIT(F95," ")} -> ПОНОМАРЕНКО | H95: Володимир | I95: Миколайович | J95: Шевченківським РТЦК та СП у Київській області | K95: =TEXT(L95,"dd.mm.yyyy") -> 03.10.1987 | L95: 32053 | M95: 3205210030 | N95: НЕ 335807 Смілянським МРВ УМВС України в Черкаській області 25.12.2003 | O95: Черкаська обл, м. Сміла | P95: Черкаська обл,, м. Сміла, вул. Софії Ковалевської, буд. 16 | Q95: вища | R95: Харківський національний університет внутрішніх справ,2009,право та підприємництво | S95: Водій (5т, 12м) - 20р Права A, B, C | T95: не одружений | U95: мати: Пономаренко Ольга Іванівна - 1967 - 0638900538, Черкаська обл, м. Сміла, вул. Софії Ковалевської, буд. 16 | V95: 0631406221 | W95: Придатний до військової служби | Y95: А2900 по розподілу ВОДІЙ | Z95: =_xlfn.XLOOKUP(G95&" "&H95,Висновки!A:A,Висновки!B:B) -> #N/A | AA95: =_xlfn.XLOOKUP(G95&" "&H95,Висновки!A:A,Висновки!C:C) -> #N/A | AB95: =_xlfn.XLOOKUP(G95&" "&H95,Висновки!A:A,Висновки!D:D) -> #N/A | AC95: =_xlfn.XLOOKUP(G95&" "&H95,Висновки!A:A,Висновки!E:E) -> #N/A | AD95: =_xlfn.XLOOKUP(G95&" "&H95,Висновки!A:A,Висновки!F:F) -> #N/A
A96: 260228-8 | B96: 46081 | C96: =TEXT(B96,"dd.mm.yyyy") -> 28.02.2026 | D96: 12 | E96: солдат | F96: ПРИЩЕПЧУК Андрій Олександрович | G96: {=_xlfn.TEXTSPLIT(F96," ")} -> ПРИЩЕПЧУК | H96: Андрій | I96: Олександрович | J96: Солом'янським РТЦК та СП у Київській області | K96: =TEXT(L96,"dd.mm.yyyy") -> 06.08.1991 | L96: 33456 | M96: 3345513459 | N96: СМ 957975 Бородянським РВ ГУ МВС УКР в Київській обл 29.09.2007 | O96: Київська обл., Бородянський р-н., с. Пісківка | P96: м. Київ, вул. Якуба Колоса, буд. 2, кв. 104 | Q96: вища | R96: ІТТУ, Київ, інженер | S96: ІТ, 15 років Права А, В, С, С1 | T96: не одружений | U96: мати: Прищепчук Світлана Петрівна, 1970, м. Київ, вул. Якуба Колоса, буд. 2, кв. 104, 0673192335 | V96: 0631562438 | W96: Придатний до військової служби | Z96: =_xlfn.XLOOKUP(G96&" "&H96,Висновки!A:A,Висновки!B:B) -> Висновок: Нормальний, середній інтелект (бали ) | AA96: =_xlfn.XLOOKUP(G96&" "&H96,Висновки!A:A,Висновки!C:C) -> Висновок: Високий рівень прояву комунікативних схильностей. Такі люди не почуваються розгубленими в новій обстановці, швидко знаходять друзів, прагнуть розширяти коло знайомих, допомагають близьким і друзям, виявляють ініціативу у спілкуванні, здатні приймати рішення у складних, нестандартних ситуаціях. | AB96: =_xlfn.XLOOKUP(G96&" "&H96,Висновки!A:A,Висновки!D:D) -> Висновок: Екстраверт - має високий рівень екстраверсії, що свідчить про активність, оптимізм, товариськість і балакучість, схильність до гри, пошук активності. | AC96: =_xlfn.XLOOKUP(G96&" "&H96,Висновки!A:A,Висновки!E:E) -> Висновок: Низький рівень схильності до суїцидальних реакцій | AD96: =_xlfn.XLOOKUP(G96&" "&H96,Висновки!A:A,Висновки!F:F) -> Отримано значення деструктивного рівня – військовослужбовець визнається психічно нестійким.
A97: 2542 | B97: 46079 | C97: =TEXT(B97,"dd.mm.yyyy") -> 26.02.2026 | D97: 13 | E97: солдат | F97: ПРОКОПЧУК Євген Антонович | G97: {=_xlfn.TEXTSPLIT(F97," ")} -> ПРОКОПЧУК | H97: Євген | I97: Антонович | J97: Житомирським РТЦК та СП у Житомирській області | K97: =TEXT(L97,"dd.mm.yyyy") -> 18.03.1981 | L97: 29663 | M97: 2966217453 | N97: ВМ 570005 Богунським РВ УМВС УКР в Житоминській обл 17.06.1998 | O97: м. Житомир | P97: м. Житомир, вул. Вільсбкий Шлях, буд. 64 | Q97: професійно- технічна | R97: Житомирське ПТУ №5, 1997, пічник-штукатур | S97: Будівельник, 12 років, Права - | T97: не одружений | U97: не вказано | V97: 0677402215 | W97: Придатний до військової служби | Z97: =_xlfn.XLOOKUP(G97&" "&H97,Висновки!A:A,Висновки!B:B) -> Висновок: Інтелект нижче середнього (бали ) | AA97: =_xlfn.XLOOKUP(G97&" "&H97,Висновки!A:A,Висновки!C:C) -> Висновок: Середній рівень прояву комунікативних схильностей. Такі люди прагнуть контакту з людьми, відстоюють свою думку, рішення, проте потенціал їхніх схильностей не відрізняється високою стійкістю. Потрібна подальша робота з формування й розвитку цих якостей особистості. | AB97: =_xlfn.XLOOKUP(G97&" "&H97,Висновки!A:A,Висновки!D:D) -> Висновок: Екстраверт - має високий рівень екстраверсії, що свідчить про активність, оптимізм, товариськість і балакучість, схильність до гри, пошук активності. | AC97: =_xlfn.XLOOKUP(G97&" "&H97,Висновки!A:A,Висновки!E:E) -> Висновок: Низький рівень схильності до суїцидальних реакцій | AD97: =_xlfn.XLOOKUP(G97&" "&H97,Висновки!A:A,Висновки!F:F) -> Отримано значення деструктивного рівня – військовослужбовець визнається психічно нестійким.
A98: 11/1629 | B98: 46080 | C98: =TEXT(B98,"dd.mm.yyyy") -> 27.02.2026 | D98: 9 | E98: солдат | F98: ПЯТНІКОВ Анатолій Вікторович | G98: {=_xlfn.TEXTSPLIT(F98," ")} -> ПЯТНІКОВ | H98: Анатолій | I98: Вікторович | J98: Шевченківським РТЦК та СП у Київській області | K98: =TEXT(L98,"dd.mm.yyyy") -> 17.12.1978 | L98: 28841 | M98: 2884021413 | N98: 009833927 8017 24.10.2023 | O98: м. Київ | P98: м. Київ, вул. Дмирівська, буд. 69, кв. 124 | Q98: повна загальна середня | R98: Київ, №271 | S98: ТОВ, 20 років Права - | T98: не одружений | U98: не вказано | V98: 0676933296 | W98: Придатний до військової служби | Y98: А2900 по розподілу телекомунікації. Директор Софтлінк ІТ Телесеть | Z98: =_xlfn.XLOOKUP(G98&" "&H98,Висновки!A:A,Висновки!B:B) -> Висновок: Інтелект нижче середнього (бали ) | AA98: =_xlfn.XLOOKUP(G98&" "&H98,Висновки!A:A,Висновки!C:C) -> Висновок: Середній рівень прояву комунікативних схильностей. Такі люди прагнуть контакту з людьми, відстоюють свою думку, рішення, проте потенціал їхніх схильностей не відрізняється високою стійкістю. Потрібна подальша робота з формування й розвитку цих якостей особистості. | AB98: =_xlfn.XLOOKUP(G98&" "&H98,Висновки!A:A,Висновки!D:D) -> Висновок: Екстраверт - має високий рівень екстраверсії, що свідчить про активність, оптимізм, товариськість і балакучість, схильність до гри, пошук активності. | AC98: =_xlfn.XLOOKUP(G98&" "&H98,Висновки!A:A,Висновки!E:E) -> Висновок: Середній рівень схильності до суїцидальних реакцій | AD98: =_xlfn.XLOOKUP(G98&" "&H98,Висновки!A:A,Висновки!F:F) -> Отримано значення деструктивного рівня – військовослужбовець визнається психічно нестійким.
B99: 46072 | C99: =TEXT(B99,"dd.mm.yyyy") -> 19.02.2026 | E99: солдат | F99: РЕДЬКО Вадим Юрійович | G99: {=_xlfn.TEXTSPLIT(F99," ")} -> РЕДЬКО | H99: Вадим | I99: Юрійович | J99: Дніпровський РТЦК та СП 19.02.2026 | K99: =TEXT(L99,"dd.mm.yyyy") -> 22.04.1992 | L99: 33716 | M99: 3371514395 | O99: м. Київ | P99: м. Київ, вул. Іжкарська, буд. 8а | Q99: професійно- технічна | R99: Київський професійний будівелний ліцей, 2012, автослюсар | S99: Менеджер з продажу, 13 років, Права В | T99: одружений | U99: дружина: Редько Юлія Сергіївна, 1991, м. Київ, вул. Іжкарська, буд. 8а, 0976891224 | V99: 0672492265 | Y99: Резерв КДШВ | Z99: =_xlfn.XLOOKUP(G99&" "&H99,Висновки!A:A,Висновки!B:B) -> #N/A | AA99: =_xlfn.XLOOKUP(G99&" "&H99,Висновки!A:A,Висновки!C:C) -> #N/A | AB99: =_xlfn.XLOOKUP(G99&" "&H99,Висновки!A:A,Висновки!D:D) -> #N/A | AC99: =_xlfn.XLOOKUP(G99&" "&H99,Висновки!A:A,Висновки!E:E) -> #N/A | AD99: =_xlfn.XLOOKUP(G99&" "&H99,Висновки!A:A,Висновки!F:F) -> #N/A
B100: 46077 | C100: =TEXT(B100,"dd.mm.yyyy") -> 24.02.2026 | D100: 36 | E100: солдат | F100: РІЗНИЧОК Ігор Миколайович | G100: {=_xlfn.TEXTSPLIT(F100," ")} -> РІЗНИЧОК | H100: Ігор | I100: Миколайович | J100: Конотопським РТЦК та СП у Сумській області | K100: =TEXT(L100,"dd.mm.yyyy") -> 28.08.1990 | L100: 33113 | M100: 3311204310 | N100: 007897814 Виданий 5920 12.07.2022 | O100: с.Довга Лука, Липоодолинський р-н, Сумська обл. | P100: м. Лебедин, Сумська обл., Сумський р-н, вул. Павла Чубинського, б. 4 | Q100: повна загальна середня | R100: Синівський ПАЛ,Сумська обл., с. Синівка,2009 | S100: тракторист кат А, В, С водій кат В,С | T100: не одружений | U100: мати: Різничок Любов Михайлівна - 1963 - 0995630158, с. Довга Лука, Сумська обл., Роменський р-н | V100: 0957600927 | X100: II Rh + | Y100: Резерв КДШВ | Z100: =_xlfn.XLOOKUP(G100&" "&H100,Висновки!A:A,Висновки!B:B) -> #N/A | AA100: =_xlfn.XLOOKUP(G100&" "&H100,Висновки!A:A,Висновки!C:C) -> #N/A | AB100: =_xlfn.XLOOKUP(G100&" "&H100,Висновки!A:A,Висновки!D:D) -> #N/A | AC100: =_xlfn.XLOOKUP(G100&" "&H100,Висновки!A:A,Висновки!E:E) -> #N/A | AD100: =_xlfn.XLOOKUP(G100&" "&H100,Висновки!A:A,Висновки!F:F) -> #N/A
...

Sheet Висновки
A1: Шаповал Анатолій | B1: Висновок: Інтелект нижче середнього (бали ) | C1: Висновок: Високий рівень прояву комунікативних схильностей. Такі люди не почуваються розгубленими в новій обстановці, швидко знаходять друзів, прагнуть розширяти коло знайомих, допомагають близьким і друзям, виявляють ініціативу у спілкуванні, здатні приймати рішення у складних, нестандартних ситуаціях. | D1: Висновок: Екстраверт - має високий рівень екстраверсії, що свідчить про активність, оптимізм, товариськість і балакучість, схильність до гри, пошук активності. | E1: Висновок: Середній рівень схильності до суїцидальних реакцій | F1: Рекомендується проведення комплексу заходів психологічної роботи до 11 годин.
A2: Бондар Андрій | B2: Висновок: Інтелектуальний дефект розумова відсталість на рівні дебільності (бали ) | C2: Висновок: Середній рівень прояву комунікативних схильностей. Такі люди прагнуть контакту з людьми, відстоюють свою думку, рішення, проте потенціал їхніх схильностей не відрізняється високою стійкістю. Потрібна подальша робота з формування й розвитку цих якостей особистості. | D2: Висновок: Екстраверт - має високий рівень екстраверсії, що свідчить про активність, оптимізм, товариськість і балакучість, схильність до гри, пошук активності. | E2: Висновок: Рівень схильності до суїцидальних реакцій нижче середнього | F2: Отримано значення деструктивного рівня – військовослужбовець визнається психічно нестійким.
A3: Войку Олег | B3: Висновок: Інтелект вище середнього (бали ) | C3: Висновок: Найвищий рівень комунікативних схильностей свідчить про сформовану потребу в комунікативній діяльності. Такі люди швидко орієнтуються в складних ситуаціях. Невимушено поводяться в новому колективі. Ініціативні. Приймають самостійні рішення. Відстоюють свою думку і добиваються прийняття своїх рішень. Залюбки організовують різні заходи. Наполегливі і завзяті в діяльності. | D3: Висновок: Екстраверт - має високий рівень екстраверсії, що свідчить про активність, оптимізм, товариськість і балакучість, схильність до гри, пошук активності. | E3: Висновок: Рівень схильності до суїцидальних реакцій нижче середнього | F3: Військовослужбовець визнається психічно стійким.
A4: Ступак Олександр | B4: Висновок: Інтелект нижче середнього (бали ) | C4: Висновок: Середній рівень прояву комунікативних схильностей. Такі люди прагнуть контакту з людьми, відстоюють свою думку, рішення, проте потенціал їхніх схильностей не відрізняється високою стійкістю. Потрібна подальша робота з формування й розвитку цих якостей особистості. | D4: Висновок: Інтроверт - має низький рівень екстраверсії, що свідчить про сором’язливість, песимістичність, надання переваги бути самотнім, уникнення соціальних активностей. | E4: Висновок: Середній рівень схильності до суїцидальних реакцій | F4: Отримано значення деструктивного рівня – військовослужбовець визнається психічно нестійким.
A5: Полторацький Сергій | B5: Висновок: Слабкий, нижче середнього інтелект (бали ) | C5: Висновок: Середній рівень прояву комунікативних схильностей. Такі люди прагнуть контакту з людьми, відстоюють свою думку, рішення, проте потенціал їхніх схильностей не відрізняється високою стійкістю. Потрібна подальша робота з формування й розвитку цих якостей особистості. | D5: Висновок: Екстраверт - має високий рівень екстраверсії, що свідчить про активність, оптимізм, товариськість і балакучість, схильність до гри, пошук активності. | E5: Висновок: Низький рівень схильності до суїцидальних реакцій | F5: Отримано значення деструктивного рівня – військовослужбовець визнається психічно нестійким.
A6: Борисов Дмитро | B6: Висновок: Слабкий, нижче середнього інтелект (бали ) | C6: Висновок: Середній рівень прояву комунікативних схильностей. Такі люди прагнуть контакту з людьми, відстоюють свою думку, рішення, проте потенціал їхніх схильностей не відрізняється високою стійкістю. Потрібна подальша робота з формування й розвитку цих якостей особистості. | D6: Висновок: Екстраверт - має високий рівень екстраверсії, що свідчить про активність, оптимізм, товариськість і балакучість, схильність до гри, пошук активності. | E6: Висновок: Середній рівень схильності до суїцидальних реакцій | F6: Отримано значення деструктивного рівня – військовослужбовець визнається психічно нестійким.
A7: Коновал Євгеній | B7: Висновок: Інтелект нижче середнього (бали ) | C7: Висновок: Має комунікативні схильності на рівні нижче середнього. Такі люди не прагнуть спілкування, надають перевагу проводити час на самоті. У товаристві чи колективі почуваються скуто. Мають складності в установленні контактів із людьми. Не відстоюють своєї думки, важко переживають образи. Рідко виявляють ініціативу, уникають прийняття самостійних рішень. | D7: Висновок: Інтроверт - має низький рівень екстраверсії, що свідчить про сором’язливість, песимістичність, надання переваги бути самотнім, уникнення соціальних активностей. | E7: Висновок: Низький рівень схильності до суїцидальних реакцій | F7: Отримано значення деструктивного рівня – військовослужбовець визнається психічно нестійким.
A8: Грох Андрій | B8: Висновок: Інтелект вище середнього (бали ) | C8: Висновок: Високий рівень прояву комунікативних схильностей. Такі люди не почуваються розгубленими в новій обстановці, швидко знаходять друзів, прагнуть розширяти коло знайомих, допомагають близьким і друзям, виявляють ініціативу у спілкуванні, здатні приймати рішення у складних, нестандартних ситуаціях. | D8: Висновок: Екстраверт - має високий рівень екстраверсії, що свідчить про активність, оптимізм, товариськість і балакучість, схильність до гри, пошук активності. | E8: Висновок: Рівень схильності до суїцидальних реакцій нижче середнього | F8: Отримано значення деструктивного рівня – військовослужбовець визнається психічно нестійким.
A9: Гуленко Владислав | B9: Висновок: Невеликий ступінь розумового відставання (бали ) | C9: Висновок: Найвищий рівень комунікативних схильностей свідчить про сформовану потребу в комунікативній діяльності. Такі люди швидко орієнтуються в складних ситуаціях. Невимушено поводяться в новому колективі. Ініціативні. Приймають самостійні рішення. Відстоюють свою думку і добиваються прийняття своїх рішень. Залюбки організовують різні заходи. Наполегливі і завзяті в діяльності. | D9: Висновок: Екстраверт - має високий рівень екстраверсії, що свідчить про активність, оптимізм, товариськість і балакучість, схильність до гри, пошук активності. | E9: Висновок: Низький рівень схильності до суїцидальних реакцій | F9: Рекомендується проведення комплексу заходів психологічної роботи до 11 годин.
A10: Денисенко Артем | B10: Висновок: Інтелектуальний дефект розумова відсталість на рівні дебільності (бали ) | C10: Висновок: Високий рівень прояву комунікативних схильностей. Такі люди не почуваються розгубленими в новій обстановці, швидко знаходять друзів, прагнуть розширяти коло знайомих, допомагають близьким і друзям, виявляють ініціативу у спілкуванні, здатні приймати рішення у складних, нестандартних ситуаціях. | D10: Висновок: Екстраверт - має високий рівень екстраверсії, що свідчить про активність, оптимізм, товариськість і балакучість, схильність до гри, пошук активності. | E10: Висновок: Низький рівень схильності до суїцидальних реакцій | F10: Рекомендується проведення комплексу заходів психологічної роботи до 11 годин.
A11: Верба Володимир | B11: Висновок: Невеликий ступінь розумового відставання (бали ) | C11: Висновок: Високий рівень прояву комунікативних схильностей. Такі люди не почуваються розгубленими в новій обстановці, швидко знаходять друзів, прагнуть розширяти коло знайомих, допомагають близьким і друзям, виявляють ініціативу у спілкуванні, здатні приймати рішення у складних, нестандартних ситуаціях. | D11: Висновок: Екстраверт - має високий рівень екстраверсії, що свідчить про активність, оптимізм, товариськість і балакучість, схильність до гри, пошук активності. | E11: Висновок: Рівень схильності до суїцидальних реакцій нижче середнього | F11: Отримано значення деструктивного рівня – військовослужбовець визнається психічно нестійким.
A12: Коваленко Олег | B12: Висновок: Інтелект нижче середнього (бали ) | C12: Висновок: Середній рівень прояву комунікативних схильностей. Такі люди прагнуть контакту з людьми, відстоюють свою думку, рішення, проте потенціал їхніх схильностей не відрізняється високою стійкістю. Потрібна подальша робота з формування й розвитку цих якостей особистості. | D12: Висновок: Екстраверт - має високий рівень екстраверсії, що свідчить про активність, оптимізм, товариськість і балакучість, схильність до гри, пошук активності. | E12: Висновок: Рівень схильності до суїцидальних реакцій нижче середнього | F12: Отримано значення деструктивного рівня – військовослужбовець визнається психічно нестійким.
... A14: Білоусов Сергій | B14: Висновок: Невеликий ступінь розумового відставання (бали ) | C14: Висновок: Середній рівень прояву комунікативних схильностей. Такі люди прагнуть контакту з людьми, відстоюють свою думку, рішення, проте потенціал їхніх схильностей не відрізняється високою стійкістю. Потрібна подальша робота з формування й розвитку цих якостей особистості. | D14: Висновок: Екстраверт - має високий рівень екстраверсії, що свідчить про активність, оптимізм, товариськість і балакучість, схильність до гри, пошук активності. | E14: Висновок: Рівень схильності до суїцидальних реакцій нижче середнього | F14: Отримано значення деструктивного рівня – військовослужбовець визнається психічно нестійким.
A15: Левенець Максим | B15: Висновок: Слабкий, нижче середнього інтелект (бали ) | C15: Висновок: Середній рівень прояву комунікативних схильностей. Такі люди прагнуть контакту з людьми, відстоюють свою думку, рішення, проте потенціал їхніх схильностей не відрізняється високою стійкістю. Потрібна подальша робота з формування й розвитку цих якостей особистості. | D15: Висновок: Екстраверт - має високий рівень екстраверсії, що свідчить про активність, оптимізм, товариськість і балакучість, схильність до гри, пошук активності. | F15: Отримано значення деструктивного рівня – військовослужбовець визнається психічно нестійким.
A16: Кучеренко Анатолій | B16: Висновок: Невеликий ступінь розумового відставання (бали ) | C16: Висновок: Високий рівень прояву комунікативних схильностей. Такі люди не почуваються розгубленими в новій обстановці, швидко знаходять друзів, прагнуть розширяти коло знайомих, допомагають близьким і друзям, виявляють ініціативу у спілкуванні, здатні приймати рішення у складних, нестандартних ситуаціях. | D16: Висновок: Інтроверт - має низький рівень екстраверсії, що свідчить про сором’язливість, песимістичність, надання переваги бути самотнім, уникнення соціальних активностей. | E16: Висновок: Середній рівень схильності до суїцидальних реакцій | F16: Отримано значення деструктивного рівня – військовослужбовець визнається психічно нестійким.
A17: Федоров Вадим | B17: Висновок: Інтелект значно вище середнього (бали ) | C17: Висновок: Найвищий рівень комунікативних схильностей свідчить про сформовану потребу в комунікативній діяльності. Такі люди швидко орієнтуються в складних ситуаціях. Невимушено поводяться в новому колективі. Ініціативні. Приймають самостійні рішення. Відстоюють свою думку і добиваються прийняття своїх рішень. Залюбки організовують різні заходи. Наполегливі і завзяті в діяльності. | D17: Висновок: Екстраверт - має високий рівень екстраверсії, що свідчить про активність, оптимізм, товариськість і балакучість, схильність до гри, пошук активності. | E17: Висновок: Низький рівень схильності до суїцидальних реакцій | F17: Рекомендується проведення вибіркових заходів психологічної роботи до 3 годин.
A18: Антонюк Дмитро | B18: Висновок: Слабкий, нижче середнього інтелект (бали ) | C18: Висновок: Високий рівень прояву комунікативних схильностей. Такі люди не почуваються розгубленими в новій обстановці, швидко знаходять друзів, прагнуть розширяти коло знайомих, допомагають близьким і друзям, виявляють ініціативу у спілкуванні, здатні приймати рішення у складних, нестандартних ситуаціях. | D18: Висновок: Інтроверт - має низький рівень екстраверсії, що свідчить про сором’язливість, песимістичність, надання переваги бути самотнім, уникнення соціальних активностей. | E18: Висновок: Високий рівень схильності до суїцидальних реакцій | F18: Отримано значення деструктивного рівня – військовослужбовець визнається психічно нестійким.
A19: Камінський Андрій | B19: Висновок: Інтелект нижче середнього (бали ) | C19: Висновок: Високий рівень прояву комунікативних схильностей. Такі люди не почуваються розгубленими в новій обстановці, швидко знаходять друзів, прагнуть розширяти коло знайомих, допомагають близьким і друзям, виявляють ініціативу у спілкуванні, здатні приймати рішення у складних, нестандартних ситуаціях. | D19: Висновок: Інтроверт - має низький рівень екстраверсії, що свідчить про сором’язливість, песимістичність, надання переваги бути самотнім, уникнення соціальних активностей. | E19: Висновок: Низький рівень схильності до суїцидальних реакцій | F19: Рекомендується проведення комплексу заходів психологічної роботи до 11 годин.
A20: Дацюк Вячеслав | B20: Висновок: Інтелект нижче середнього (бали ) | C20: Висновок: Найвищий рівень комунікативних схильностей свідчить про сформовану потребу в комунікативній діяльності. Такі люди швидко орієнтуються в складних ситуаціях. Невимушено поводяться в новому колективі. Ініціативні. Приймають самостійні рішення. Відстоюють свою думку і добиваються прийняття своїх рішень. Залюбки організовують різні заходи. Наполегливі і завзяті в діяльності. | D20: Висновок: Екстраверт - має високий рівень екстраверсії, що свідчить про активність, оптимізм, товариськість і балакучість, схильність до гри, пошук активності. | E20: Висновок: Середній рівень схильності до суїцидальних реакцій | F20: Військовослужбовець визнається психічно стійким.
A21: Коваль Сергій | B21: Висновок: Слабкий, нижче середнього інтелект (бали ) | C21: Висновок: Середній рівень прояву комунікативних схильностей. Такі люди прагнуть контакту з людьми, відстоюють свою думку, рішення, проте потенціал їхніх схильностей не відрізняється високою стійкістю. Потрібна подальша робота з формування й розвитку цих якостей особистості. | D21: Висновок: Екстраверт - має високий рівень екстраверсії, що свідчить про активність, оптимізм, товариськість і балакучість, схильність до гри, пошук активності. | E21: Висновок: Рівень схильності до суїцидальних реакцій нижче середнього | F21: Отримано значення деструктивного рівня – військовослужбовець визнається психічно нестійким.
A22: Степанцов Олександр | B22: Висновок: Інтелект нижче середнього (бали ) | C22: Висновок: Середній рівень прояву комунікативних схильностей. Такі люди прагнуть контакту з людьми, відстоюють свою думку, рішення, проте потенціал їхніх схильностей не відрізняється високою стійкістю. Потрібна подальша робота з формування й розвитку цих якостей особистості. | D22: Висновок: Екстраверт - має високий рівень екстраверсії, що свідчить про активність, оптимізм, товариськість і балакучість, схильність до гри, пошук активності. | E22: Висновок: Низький рівень схильності до суїцидальних реакцій | F22: Отримано значення деструктивного рівня – військовослужбовець визнається психічно нестійким.
A23: Деркач Антон | B23: Висновок: Слабкий, нижче середнього інтелект (бали ) | C23: Висновок: Характеризується низьким рівнем прояву комунікативних схильностей | D23: Висновок: Екстраверт - має високий рівень екстраверсії, що свідчить про активність, оптимізм, товариськість і балакучість, схильність до гри, пошук активності. | E23: Висновок: Середній рівень схильності до суїцидальних реакцій | F23: Отримано значення деструктивного рівня – військовослужбовець визнається психічно нестійким.
A24: Гречанюк Денис | B24: Висновок: Невеликий ступінь розумового відставання (бали ) | D24: Висновок: Екстраверт - має високий рівень екстраверсії, що свідчить про активність, оптимізм, товариськість і балакучість, схильність до гри, пошук активності. | E24: Висновок: Рівень схильності до суїцидальних реакцій нижче середнього | F24: Отримано значення деструктивного рівня – військовослужбовець визнається психічно нестійким.
A25: Грузинский Юрій | B25: Висновок: Слабкий, нижче середнього інтелект (бали ) | C25: Висновок: Високий рівень прояву комунікативних схильностей. Такі люди не почуваються розгубленими в новій обстановці, швидко знаходять друзів, прагнуть розширяти коло знайомих, допомагають близьким і друзям, виявляють ініціативу у спілкуванні, здатні приймати рішення у складних, нестандартних ситуаціях. | D25: Висновок: Інтроверт - має низький рівень екстраверсії, що свідчить про сором’язливість, песимістичність, надання переваги бути самотнім, уникнення соціальних активностей. | E25: Висновок: Рівень схильності до суїцидальних реакцій нижче середнього | F25: Отримано значення деструктивного рівня – військовослужбовець визнається психічно нестійким.
A26: Горбачов Богдан | B26: Висновок: Слабкий, нижче середнього інтелект (бали ) | C26: Висновок: Високий рівень прояву комунікативних схильностей. Такі люди не почуваються розгубленими в новій обстановці, швидко знаходять друзів, прагнуть розширяти коло знайомих, допомагають близьким і друзям, виявляють ініціативу у спілкуванні, здатні приймати рішення у складних, нестандартних ситуаціях. | D26: Висновок: Екстраверт - має високий рівень екстраверсії, що свідчить про активність, оптимізм, товариськість і балакучість, схильність до гри, пошук активності. | E26: Висновок: Рівень схильності до суїцидальних реакцій нижче середнього | F26: Отримано значення деструктивного рівня – військовослужбовець визнається психічно нестійким.
A27: Пироганич Ігорь | B27: Висновок: Інтелект нижче середнього (бали ) | C27: Висновок: Має комунікативні схильності на рівні нижче середнього. Такі люди не прагнуть спілкування, надають перевагу проводити час на самоті. У товаристві чи колективі почуваються скуто. Мають складності в установленні контактів із людьми. Не відстоюють своєї думки, важко переживають образи. Рідко виявляють ініціативу, уникають прийняття самостійних рішень. | D27: Висновок: Екстраверт - має високий рівень екстраверсії, що свідчить про активність, оптимізм, товариськість і балакучість, схильність до гри, пошук активності. | E27: Висновок: Середній рівень схильності до суїцидальних реакцій | F27: Рекомендується проведення комплексу заходів психологічної роботи до 11 годин.
A28: Баскаков Павло | B28: Висновок: Невеликий ступінь розумового відставання (бали ) | C28: Висновок: Середній рівень прояву комунікативних схильностей. Такі люди прагнуть контакту з людьми, відстоюють свою думку, рішення, проте потенціал їхніх схильностей не відрізняється високою стійкістю. Потрібна подальша робота з формування й розвитку цих якостей особистості. | D28: Висновок: Екстраверт - має високий рівень екстраверсії, що свідчить про активність, оптимізм, товариськість і балакучість, схильність до гри, пошук активності. | E28: Висновок: Рівень схильності до суїцидальних реакцій нижче середнього | F28: Отримано значення деструктивного рівня – військовослужбовець визнається психічно нестійким.
A29: тризма Максім | B29: Висновок: Інтелект нижче середнього (бали ) | C29: Висновок: Середній рівень прояву комунікативних схильностей. Такі люди прагнуть контакту з людьми, відстоюють свою думку, рішення, проте потенціал їхніх схильностей не відрізняється високою стійкістю. Потрібна подальша робота з формування й розвитку цих якостей особистості. | D29: Висновок: Екстраверт - має високий рівень екстраверсії, що свідчить про активність, оптимізм, товариськість і балакучість, схильність до гри, пошук активності. | E29: Висновок: Рівень схильності до суїцидальних реакцій нижче середнього | F29: Рекомендується проведення комплексу заходів психологічної роботи до 11 годин.
A30: Максим Зайцев | B30: Висновок: Інтелектуальний дефект розумова відсталість на рівні дебільності (бали ) | C30: Висновок: Середній рівень прояву комунікативних схильностей. Такі люди прагнуть контакту з людьми, відстоюють свою думку, рішення, проте потенціал їхніх схильностей не відрізняється високою стійкістю. Потрібна подальша робота з формування й розвитку цих якостей особистості. | D30: Висновок: Екстраверт - має високий рівень екстраверсії, що свідчить про активність, оптимізм, товариськість і балакучість, схильність до гри, пошук активності. | E30: Висновок: Рівень схильності до суїцидальних реакцій нижче середнього | F30: Рекомендується проведення вибіркових заходів психологічної роботи до 3 годин.
A31: Алексенко Іван | B31: Висновок: Невеликий ступінь розумового відставання (бали ) | C31: Висновок: Високий рівень прояву комунікативних схильностей. Такі люди не почуваються розгубленими в новій обстановці, швидко знаходять друзів, прагнуть розширяти коло знайомих, допомагають близьким і друзям, виявляють ініціативу у спілкуванні, здатні приймати рішення у складних, нестандартних ситуаціях. | D31: Висновок: Інтроверт - має низький рівень екстраверсії, що свідчить про сором’язливість, песимістичність, надання переваги бути самотнім, уникнення соціальних активностей. | E31: Висновок: Низький рівень схильності до суїцидальних реакцій | F31: Отримано значення деструктивного рівня – військовослужбовець визнається психічно нестійким.
A32: Кузьмишин Юрій | B32: Висновок: Невеликий ступінь розумового відставання (бали ) | C32: Висновок: Середній рівень прояву комунікативних схильностей. Такі люди прагнуть контакту з людьми, відстоюють свою думку, рішення, проте потенціал їхніх схильностей не відрізняється високою стійкістю. Потрібна подальша робота з формування й розвитку цих якостей особистості. | D32: Висновок: Екстраверт - має високий рівень екстраверсії, що свідчить про активність, оптимізм, товариськість і балакучість, схильність до гри, пошук активності. | E32: Висновок: Середній рівень схильності до суїцидальних реакцій | F32: Отримано значення деструктивного рівня – військовослужбовець визнається психічно нестійким.
A33: Гончаренко Вячеслав | B33: Висновок: Слабкий, нижче середнього інтелект (бали ) | C33: Висновок: Середній рівень прояву комунікативних схильностей. Такі люди прагнуть контакту з людьми, відстоюють свою думку, рішення, проте потенціал їхніх схильностей не відрізняється високою стійкістю. Потрібна подальша робота з формування й розвитку цих якостей особистості. | D33: Висновок: Екстраверт - має високий рівень екстраверсії, що свідчить про активність, оптимізм, товариськість і балакучість, схильність до гри, пошук активності. | E33: Висновок: Низький рівень схильності до суїцидальних реакцій | F33: Отримано значення деструктивного рівня – військовослужбовець визнається психічно нестійким.
A34: Качура Олексій | B34: Висновок: Слабкий, нижче середнього інтелект (бали ) | C34: Висновок: Високий рівень прояву комунікативних схильностей. Такі люди не почуваються розгубленими в новій обстановці, швидко знаходять друзів, прагнуть розширяти коло знайомих, допомагають близьким і друзям, виявляють ініціативу у спілкуванні, здатні приймати рішення у складних, нестандартних ситуаціях. | D34: Висновок: Екстраверт - має високий рівень екстраверсії, що свідчить про активність, оптимізм, товариськість і балакучість, схильність до гри, пошук активності. | E34: Висновок: Рівень схильності до суїцидальних реакцій нижче середнього | F34: Отримано значення деструктивного рівня – військовослужбовець визнається психічно нестійким.
A35: Анісімов Сергій | B35: Висновок: Інтелект нижче середнього (бали ) | C35: Висновок: Середній рівень прояву комунікативних схильностей. Такі люди прагнуть контакту з людьми, відстоюють свою думку, рішення, проте потенціал їхніх схильностей не відрізняється високою стійкістю. Потрібна подальша робота з формування й розвитку цих якостей особистості. | D35: Висновок: Екстраверт - має високий рівень екстраверсії, що свідчить про активність, оптимізм, товариськість і балакучість, схильність до гри, пошук активності. | E35: Висновок: Низький рівень схильності до суїцидальних реакцій | F35: Отримано значення деструктивного рівня – військовослужбовець визнається психічно нестійким.
A36: Коваленко Анатолій | B36: Висновок: Невеликий ступінь розумового відставання (бали ) | C36: Висновок: Середній рівень прояву комунікативних схильностей. Такі люди прагнуть контакту з людьми, відстоюють свою думку, рішення, проте потенціал їхніх схильностей не відрізняється високою стійкістю. Потрібна подальша робота з формування й розвитку цих якостей особистості. | D36: Висновок: Екстраверт - має високий рівень екстраверсії, що свідчить про активність, оптимізм, товариськість і балакучість, схильність до гри, пошук активності. | E36: Висновок: Низький рівень схильності до суїцидальних реакцій | F36: Отримано значення деструктивного рівня – військовослужбовець визнається психічно нестійким.
... A73: Сардачук Олексій | B73: Висновок: Інтелект вище середнього (бали ) | C73: Висновок: Середній рівень прояву комунікативних схильностей. Такі люди прагнуть контакту з людьми, відстоюють свою думку, рішення, проте потенціал їхніх схильностей не відрізняється високою стійкістю. Потрібна подальша робота з формування й розвитку цих якостей особистості. | D73: Висновок: Екстраверт - має високий рівень екстраверсії, що свідчить про активність, оптимізм, товариськість і балакучість, схильність до гри, пошук активності. | E73: Висновок: Рівень схильності до суїцидальних реакцій нижче середнього | F73: Отримано значення деструктивного рівня – військовослужбовець визнається психічно нестійким.
A74: Білоусов Сергій | C74: Висновок: Середній рівень прояву комунікативних схильностей. Такі люди прагнуть контакту з людьми, відстоюють свою думку, рішення, проте потенціал їхніх схильностей не відрізняється високою стійкістю. Потрібна подальша робота з формування й розвитку цих якостей особистості. | D74: Висновок: Екстраверт - має високий рівень екстраверсії, що свідчить про активність, оптимізм, товариськість і балакучість, схильність до гри, пошук активності. | E74: Висновок: Середній рівень схильності до суїцидальних реакцій | F74: Отримано значення деструктивного рівня – військовослужбовець визнається психічно нестійким.
A75: Верстюк Євген | B75: Висновок: Інтелектуальний дефект розумова відсталість на рівні дебільності (бали ) | C75: Висновок: Має комунікативні схильності на рівні нижче середнього. Такі люди не прагнуть спілкування, надають перевагу проводити час на самоті. У товаристві чи колективі почуваються скуто. Мають складності в установленні контактів із людьми. Не відстоюють своєї думки, важко переживають образи. Рідко виявляють ініціативу, уникають прийняття самостійних рішень. | D75: Висновок: Інтроверт - має низький рівень екстраверсії, що свідчить про сором’язливість, песимістичність, надання переваги бути самотнім, уникнення соціальних активностей. | E75: Висновок: Рівень схильності до суїцидальних реакцій вище середнього | F75: Отримано значення деструктивного рівня – військовослужбовець визнається психічно нестійким.
A76: Брискін Денис | B76: Висновок: Слабкий, нижче середнього інтелект (бали ) | C76: Висновок: Середній рівень прояву комунікативних схильностей. Такі люди прагнуть контакту з людьми, відстоюють свою думку, рішення, проте потенціал їхніх схильностей не відрізняється високою стійкістю. Потрібна подальша робота з формування й розвитку цих якостей особистості. | D76: Висновок: Екстраверт - має високий рівень екстраверсії, що свідчить про активність, оптимізм, товариськість і балакучість, схильність до гри, пошук активності. | E76: Висновок: Низький рівень схильності до суїцидальних реакцій | F76: Отримано значення деструктивного рівня – військовослужбовець визнається психічно нестійким.
A77: Грабко Андрій | B77: Висновок: Інтелект нижче середнього (бали ) | C77: Висновок: Має комунікативні схильності на рівні нижче середнього. Такі люди не прагнуть спілкування, надають перевагу проводити час на самоті. У товаристві чи колективі почуваються скуто. Мають складності в установленні контактів із людьми. Не відстоюють своєї думки, важко переживають образи. Рідко виявляють ініціативу, уникають прийняття самостійних рішень. | D77: Висновок: Екстраверт - має високий рівень екстраверсії, що свідчить про активність, оптимізм, товариськість і балакучість, схильність до гри, пошук активності. | E77: Висновок: Рівень схильності до суїцидальних реакцій вище середнього | F77: Отримано значення деструктивного рівня – військовослужбовець визнається психічно нестійким.
A78: Крейдич Жан | B78: Висновок: Інтелект вище середнього (бали ) | C78: Висновок: Має комунікативні схильності на рівні нижче середнього. Такі люди не прагнуть спілкування, надають перевагу проводити час на самоті. У товаристві чи колективі почуваються скуто. Мають складності в установленні контактів із людьми. Не відстоюють своєї думки, важко переживають образи. Рідко виявляють ініціативу, уникають прийняття самостійних рішень. | D78: Висновок: Інтроверт - має низький рівень екстраверсії, що свідчить про сором’язливість, песимістичність, надання переваги бути самотнім, уникнення соціальних активностей. | E78: Висновок: Рівень схильності до суїцидальних реакцій нижче середнього | F78: Отримано значення деструктивного рівня – військовослужбовець визнається психічно нестійким.
A79: Чернецький Олександр | B79: Висновок: Інтелект нижче середнього (бали ) | C79: Висновок: Має комунікативні схильності на рівні нижче середнього. Такі люди не прагнуть спілкування, надають перевагу проводити час на самоті. У товаристві чи колективі почуваються скуто. Мають складності в установленні контактів із людьми. Не відстоюють своєї думки, важко переживають образи. Рідко виявляють ініціативу, уникають прийняття самостійних рішень. | D79: Висновок: Інтроверт - має низький рівень екстраверсії, що свідчить про сором’язливість, песимістичність, надання переваги бути самотнім, уникнення соціальних активностей. | E79: Висновок: Середній рівень схильності до суїцидальних реакцій | F79: Отримано значення деструктивного рівня – військовослужбовець визнається психічно нестійким.
A80: Пясецький Віталій | B80: Висновок: Невеликий ступінь розумового відставання (бали ) | C80: Висновок: Має комунікативні схильності на рівні нижче середнього. Такі люди не прагнуть спілкування, надають перевагу проводити час на самоті. У товаристві чи колективі почуваються скуто. Мають складності в установленні контактів із людьми. Не відстоюють своєї думки, важко переживають образи. Рідко виявляють ініціативу, уникають прийняття самостійних рішень. | D80: Висновок: Інтроверт - має низький рівень екстраверсії, що свідчить про сором’язливість, песимістичність, надання переваги бути самотнім, уникнення соціальних активностей. | E80: Висновок: Середній рівень схильності до суїцидальних реакцій | F80: Отримано значення деструктивного рівня – військовослужбовець визнається психічно нестійким.
F81: Отримано значення деструктивного рівня – військовослужбовець визнається психічно нестійким.
F82: Рекомендується проведення комплексу заходів психологічної роботи до 11 годин.
F83: Отримано значення деструктивного рівня – військовослужбовець визнається психічно нестійким.
F84: Рекомендується проведення комплексу заходів психологічної роботи до 11 годин.
F85: Рекомендується проведення вибіркових заходів психологічної роботи до 3 годин.
F86: Отримано значення деструктивного рівня – військовослужбовець визнається психічно нестійким.
F87: Отримано значення деструктивного рівня – військовослужбовець визнається психічно нестійким.
F88: Отримано значення деструктивного рівня – військовослужбовець визнається психічно нестійким.
F89: Отримано значення деструктивного рівня – військовослужбовець визнається психічно нестійким.
F90: Отримано значення деструктивного рівня – військовослужбовець визнається психічно нестійким.
F91: Отримано значення деструктивного рівня – військовослужбовець визнається психічно нестійким.
F92: Отримано значення деструктивного рівня – військовослужбовець визнається психічно нестійким.
... F135: Отримано значення деструктивного рівня – військовослужбовець визнається психічно нестійким.

Sheet Аркуш2

Sheet Перевірка
A1: {=Основний!D2:D26} -> 1 | B1: {=CONCATENATE("", Основний!F2:F26)} -> АБРАМЯН Артур Маратович | C1: {=CONCATENATE("", TEXT(Основний!L2:L26,"dd.mm.yyyy"))} -> 21.10.1998 | D1: {=CONCATENATE("", Основний!M2:M26)} -> 3608804152 | E1: Перевірка | F1: {=CONCATENATE("", Основний!#REF!)} -> #REF! | G1: Перевірка | H1: {=CONCATENATE("", Основний!N2:N26)} -> ВТ 101396 Приморським РС у м. Маріуполі ГУ ДМС України в Донецькій області 12.06.2015 | I1: Перевірка | J1: Алфавітка | K1: Д = А | L1: Поіменний Список | M1: Д = ПС | N1: А = ПС
A2: 2 | B2: АВРАМЕНКО Андрій Миколайович | C2: 18.06.1984 | D2: 3085003094 | F2: #REF! | J2: - | K2: - | L2: - | M2: - | N2: - | O2: =DATEVALUE(C2) <> INT(LEFT(D2,5)) +1 -> FALSE
A3: 2 | B3: АЛЕКСЕНКО Іван Миколайович | C3: 23.06.1997 | D3: 3560301717 | E3: =IF(D3="", "", LEN(D3)) -> 10 | F3: #REF! | G3: =IF(F3="", "", LEN(F3)) -> #REF! | I3: =IF(H3="", "", LEN(H3)) | J3: Антоненко Руслан Олександрович | K3: =IF(J3="", "", B3=J3) -> FALSE | M3: =IF(L3="", "", B3=L3) | N3: =IF(L3="", "", J3=L3) | O3: =DATEVALUE(C3) <> INT(LEFT(D3,5)) +1 -> FALSE | P3: =DATEVALUE(C3) -> 35604
A4: 3 | B4: АЛІЄВ Парвіз Натікбєкович | C4: 07.05.1983 | D4: 3044204097 | E4: =IF(D4="", "", LEN(D4)) -> 10 | F4: #REF! | G4: =IF(F4="", "", LEN(F4)) -> #REF! | H4: КС 160333 Київським РВ ДМУ УДМС УКР в Донецькій обл 09.08.2002 | I4: =IF(H4="", "", LEN(H4)) -> 62 | J4: Баранов Дмитро Геннадійович | K4: =IF(J4="", "", B4=J4) -> FALSE | M4: =IF(L4="", "", B4=L4) | N4: =IF(L4="", "", J4=L4) | O4: =DATEVALUE(C4) <> INT(LEFT(D4,5)) +1 -> FALSE
A5: 1 | B5: АНДРУШКО Вадим Валентинович | C5: 02.11.1991 | D5: 3354308835 | E5: =IF(D5="", "", LEN(D5)) -> 10 | F5: #REF! | G5: =IF(F5="", "", LEN(F5)) -> #REF! | H5: ВН 424127 Вололдарсько-Волинським РВ УМВС в Житомирській області 20.05.2008 | I5: =IF(H5="", "", LEN(H5)) -> 75 | J5: Боровик Юрій Володимирович | K5: =IF(J5="", "", B5=J5) -> FALSE | M5: =IF(L5="", "", B5=L5) | N5: =IF(L5="", "", J5=L5) | O5: =DATEVALUE(C5) <> INT(LEFT(D5,5)) +1 -> FALSE
A6: 5 | B6: АНІСІМОВ Сергій Леонідович | C6: 18.10.1989 | D6: 3279802570 | E6: =IF(D6="", "", LEN(D6)) -> 10 | F6: #REF! | G6: =IF(F6="", "", LEN(F6)) -> #REF! | H6: АМ 247948 | I6: =IF(H6="", "", LEN(H6)) -> 9 | J6: Горбатенко Олександр Олегович | K6: =IF(J6="", "", B6=J6) -> FALSE | M6: =IF(L6="", "", B6=L6) | N6: =IF(L6="", "", J6=L6)
A7: 1 | B7: АНТОНЮК Дмитро Русланович | C7: 23.03.1999 | D7: 3624109257 | E7: =IF(D7="", "", LEN(D7)) -> 10 | F7: #REF! | G7: =IF(F7="", "", LEN(F7)) -> #REF! | H7: АТ 121678 | I7: =IF(H7="", "", LEN(H7)) -> 9 | J7: Жестовський Сергій Сергійович | K7: =IF(J7="", "", B7=J7) -> FALSE | M7: =IF(L7="", "", B7=L7) | N7: =IF(L7="", "", J7=L7)
A8: 1 | B8: АНТОНЮК Олександр Леонідович | C8: 27.09.1979 | D8: 2912410393 | E8: =IF(D8="", "", LEN(D8)) -> 10 | F8: #REF! | G8: =IF(F8="", "", LEN(F8)) -> #REF! | H8: ТТ 193066 Дарнівським РО ГУ ДМС УКР в м. Києві 16.08.2013 | I8: =IF(H8="", "", LEN(H8)) -> 57 | J8: Ісаков Олександр Сергійович | K8: =IF(J8="", "", B8=J8) -> FALSE | M8: =IF(L8="", "", B8=L8) | N8: =IF(L8="", "", J8=L8)
A9: 2 | B9: БАБИЧ Андрій Васильович | C9: 18.04.1984 | D9: 3078922215 | E9: =IF(D9="", "", LEN(D9)) -> 10 | F9: #REF! | G9: =IF(F9="", "", LEN(F9)) -> #REF! | H9: СТ 531446 Чернігівським РС УДМС УКР в Чернігівській обл 24.02.2017 | I9: =IF(H9="", "", LEN(H9)) -> 67 | J9: Клімчук Олександр Олександрович | K9: =IF(J9="", "", B9=J9) -> FALSE | M9: =IF(L9="", "", B9=L9) | N9: =IF(L9="", "", J9=L9)
A10: 3 | B10: БАСКАКОВ Павло Анатолійович | C10: 02.03.1984 | D10: 3074200978 | E10: =IF(D10="", "", LEN(D10)) -> 10 | F10: #REF! | G10: =IF(F10="", "", LEN(F10)) -> #REF! | H10: АМ 064073 Заводським РВ Дніпродзержинського МУ УМВС України в Дніпропетровській області 03.10.2000 | I10: =IF(H10="", "", LEN(H10)) -> 98 | J10: Колесніков Сергій Сергійович | K10: =IF(J10="", "", B10=J10) -> FALSE | M10: =IF(L10="", "", B10=L10) | N10: =IF(L10="", "", J10=L10)
A11: 2 | B11: БЕРШАДСЬКИЙ Олександр Миколайович | C11: 15.03.1992 | D11: 3367700733 | E11: =IF(D11="", "", LEN(D11)) -> 10 | F11: #REF! | G11: =IF(F11="", "", LEN(F11)) -> #REF! | H11: 003047716 8034 04.03.2019 | I11: =IF(H11="", "", LEN(H11)) -> 25 | J11: Опанасюк Ігор Петрович | K11: =IF(J11="", "", B11=J11) -> FALSE | M11: =IF(L11="", "", B11=L11) | N11: =IF(L11="", "", J11=L11)
A12: 3 | B12: БІЛОУСОВ Сергій Вікторович | C12: 04.09.1982 | D12: ВМ 632875 | E12: =IF(D12="", "", LEN(D12)) -> 9 | F12: #REF! | G12: =IF(F12="", "", LEN(F12)) -> #REF! | H12: 009302826 1836 23.06.2023 | I12: =IF(H12="", "", LEN(H12)) -> 25 | J12: Ручин Дмитро Вікторович | K12: =IF(J12="", "", B12=J12) -> FALSE | M12: =IF(L12="", "", B12=L12) | N12: =IF(L12="", "", J12=L12)
A13: 18 | B13: БОЙКО Геннадій Володимирович | C13: 19.11.1981 | D13: 2990807554 | E13: =IF(D13="", "", LEN(D13)) -> 10 | F13: #REF! | G13: =IF(F13="", "", LEN(F13)) -> #REF! | H13: МА 583941 Охтирським МРВУМВС України в Сумській обл., 04.01.1999 | I13: =IF(H13="", "", LEN(H13)) -> 64 | J13: Солоденко Анатолій Сергійович | K13: =IF(J13="", "", B13=J13) -> FALSE | M13: =IF(L13="", "", B13=L13) | N13: =IF(L13="", "", J13=L13)
A14: 4 | B14: БОЛЬШАКОВ Костянтин Євгенович | C14: 02.07.1992 | D14: 3378604531 | E14: =IF(D14="", "", LEN(D14)) -> 10 | F14: #REF! | G14: =IF(F14="", "", LEN(F14)) -> #REF! | H14: ЕН 904717 Краснолуцьким МВ УДМС УКР в Луганській обл 15.11.2012 | I14: =IF(H14="", "", LEN(H14)) -> 63 | J14: Фістікан Василь Петрович | K14: =IF(J14="", "", B14=J14) -> FALSE | M14: =IF(L14="", "", B14=L14) | N14: =IF(L14="", "", J14=L14)
A15: 4 | B15: БОНДАР Андрій Васильович | C15: 29.07.1988 | D15: 3235207996 | E15: =IF(D15="", "", LEN(D15)) -> 10 | F15: #REF! | G15: =IF(F15="", "", LEN(F15)) -> #REF! | H15: 011098716 | I15: =IF(H15="", "", LEN(H15)) -> 9 | J15: Чабан Михайло Григорович | K15: =IF(J15="", "", B15=J15) -> FALSE | M15: =IF(L15="", "", B15=L15) | N15: =IF(L15="", "", J15=L15)
A16: 10 | B16: БОРИСОВ Дмитро Сергійович | C16: 16.05.1984 | D16: 3081727094 | E16: =IF(D16="", "", LEN(D16)) -> 10 | F16: #REF! | G16: =IF(F16="", "", LEN(F16)) -> #REF! | I16: =IF(H16="", "", LEN(H16)) | K16: =IF(J16="", "", B16=J16) | M16: =IF(L16="", "", B16=L16) | N16: =IF(L16="", "", J16=L16)
A17: 1 | B17: БОРОДАВКО Віталій Михайлович | C17: 10.10.1989 | D17: 3279006554 | E17: =IF(D17="", "", LEN(D17)) -> 10 | F17: #REF! | G17: =IF(F17="", "", LEN(F17)) -> #REF! | H17: НМ 247947 Ніжинським МВР УМВС УКР в Чернігівській обл 24.03.2006 | I17: =IF(H17="", "", LEN(H17)) -> 64 | K17: =IF(J17="", "", B17=J17) | M17: =IF(L17="", "", B17=L17) | N17: =IF(L17="", "", J17=L17)
A18: 3 | B18: БРИСКІН Денис Сергійович | C18: 03.09.1982 | D18: 3019609990 | E18: =IF(D18="", "", LEN(D18)) -> 10 | F18: #REF! | G18: =IF(F18="", "", LEN(F18)) -> #REF! | I18: =IF(H18="", "", LEN(H18)) | K18: =IF(J18="", "", B18=J18) | M18: =IF(L18="", "", B18=L18) | N18: =IF(L18="", "", J18=L18)
A19: 2 | B19: БРОДОВСЬКИЙ Вадим Феліксович | C19: 09.11.1977 | D19: 2843714031 | E19: =IF(D19="", "", LEN(D19)) -> 10 | F19: #REF! | G19: =IF(F19="", "", LEN(F19)) -> #REF! | H19: ВМ 028712 | I19: =IF(H19="", "", LEN(H19)) -> 9 | K19: =IF(J19="", "", B19=J19) | M19: =IF(L19="", "", B19=L19) | N19: =IF(L19="", "", J19=L19)
A20: 23 | B20: БРУЯКА Максим Юрійович | C20: 28.10.1996 | D20: 3536512192 | E20: =IF(D20="", "", LEN(D20)) -> 10 | F20: #REF! | G20: =IF(F20="", "", LEN(F20)) -> #REF! | H20: МВ 516155 Ковпаківським РВ м.Суми УДМС України в Сумській обл. 18.12.2012 | I20: =IF(H20="", "", LEN(H20)) -> 73 | K20: =IF(J20="", "", B20=J20) | M20: =IF(L20="", "", B20=L20) | N20: =IF(L20="", "", J20=L20)
A21: 38 | B21: БУРКОВЦОВ Андрій Юрійович | C21: 09.09.1988 | D21: 3239413855 | E21: =IF(D21="", "", LEN(D21)) -> 10 | F21: #REF! | G21: =IF(F21="", "", LEN(F21)) -> #REF! | H21: закордоний паспорт ЕН991201 виданий 7401 08.06.2011 | I21: =IF(H21="", "", LEN(H21)) -> 51 | K21: =IF(J21="", "", B21=J21) | M21: =IF(L21="", "", B21=L21) | N21: =IF(L21="", "", J21=L21)
A22: 5 | B22: БУТКО Руслан Павлович | C22: 29.07.1998 | D22: 3600408276 | E22: =IF(D22="", "", LEN(D22)) -> 10 | F22: #REF! | G22: =IF(F22="", "", LEN(F22)) -> #REF! | H22: 009601452 3214 29.08.2023 | I22: =IF(H22="", "", LEN(H22)) -> 25 | K22: =IF(J22="", "", B22=J22) | M22: =IF(L22="", "", B22=L22) | N22: =IF(L22="", "", J22=L22)
A23: 5 | B23: ВАСИЛЬЧЕНКО Сергій Анатолійович | C23: 17.11.1993 | D23: 3428909730 | E23: =IF(D23="", "", LEN(D23)) -> 10 | F23: #REF! | G23: =IF(F23="", "", LEN(F23)) -> #REF! | H23: 002997059 виданий 5924 20.02.2019 | I23: =IF(H23="", "", LEN(H23)) -> 33 | K23: =IF(J23="", "", B23=J23) | M23: =IF(L23="", "", B23=L23) | N23: =IF(L23="", "", J23=L23)
A24: 4 | B24: ВЕРБА Володимир Олександрович | C24: 28.08.1995 | D24: 3493804851 | E24: =IF(D24="", "", LEN(D24)) -> 10 | F24: #REF! | G24: =IF(F24="", "", LEN(F24)) -> #REF! | I24: =IF(H24="", "", LEN(H24)) | K24: =IF(J24="", "", B24=J24) | M24: =IF(L24="", "", B24=L24) | N24: =IF(L24="", "", J24=L24)
A25: 43 | B25: ВЕРСТЮК Євген Дмитрович | C25: 05.04.1977 | D25: 2821912276 | E25: =IF(D25="", "", LEN(D25)) -> 10 | F25: #REF! | G25: =IF(F25="", "", LEN(F25)) -> #REF! | H25: МК 414303 Лозівським МРВУМВС України в Харківській обл. 15.01.1997 | I25: =IF(H25="", "", LEN(H25)) -> 68 | K25: =IF(J25="", "", B25=J25) | M25: =IF(L25="", "", B25=L25) | N25: =IF(L25="", "", J25=L25)
A26: #N/A | B26: #N/A | C26: #N/A | D26: #N/A | E26: =IF(D26="", "", LEN(D26)) -> #N/A | F26: #REF! | G26: =IF(F26="", "", LEN(F26)) -> #REF! | H26: #N/A | I26: =IF(H26="", "", LEN(H26)) -> #N/A | K26: =IF(J26="", "", B26=J26) | M26: =IF(L26="", "", B26=L26) | N26: =IF(L26="", "", J26=L26)
A27: #N/A | B27: #N/A | C27: #N/A | D27: #N/A | E27: =IF(D27="", "", LEN(D27)) -> #N/A | F27: #REF! | G27: =IF(F27="", "", LEN(F27)) -> #REF! | H27: #N/A | I27: =IF(H27="", "", LEN(H27)) -> #N/A | K27: =IF(J27="", "", B27=J27) | M27: =IF(L27="", "", B27=L27) | N27: =IF(L27="", "", J27=L27)
A28: #N/A | B28: #N/A | C28: #N/A | D28: #N/A | E28: =IF(D28="", "", LEN(D28)) -> #N/A | F28: #REF! | G28: =IF(F28="", "", LEN(F28)) -> #REF! | H28: #N/A | I28: =IF(H28="", "", LEN(H28)) -> #N/A | K28: =IF(J28="", "", B28=J28) | M28: =IF(L28="", "", B28=L28) | N28: =IF(L28="", "", J28=L28)
A29: #N/A | B29: #N/A | C29: #N/A | D29: #N/A | E29: =IF(D29="", "", LEN(D29)) -> #N/A | F29: #REF! | G29: =IF(F29="", "", LEN(F29)) -> #REF! | H29: #N/A | I29: =IF(H29="", "", LEN(H29)) -> #N/A | K29: =IF(J29="", "", B29=J29) | M29: =IF(L29="", "", B29=L29) | N29: =IF(L29="", "", J29=L29)
A30: #N/A | B30: #N/A | C30: #N/A | D30: #N/A | E30: =IF(D30="", "", LEN(D30)) -> #N/A | F30: #REF! | G30: =IF(F30="", "", LEN(F30)) -> #REF! | H30: #N/A | I30: =IF(H30="", "", LEN(H30)) -> #N/A | K30: =IF(J30="", "", B30=J30) | M30: =IF(L30="", "", B30=L30) | N30: =IF(L30="", "", J30=L30)
A31: #N/A | B31: #N/A | C31: #N/A | D31: #N/A | E31: =IF(D31="", "", LEN(D31)) -> #N/A | F31: #REF! | G31: =IF(F31="", "", LEN(F31)) -> #REF! | H31: #N/A | I31: =IF(H31="", "", LEN(H31)) -> #N/A | K31: =IF(J31="", "", B31=J31) | M31: =IF(L31="", "", B31=L31) | N31: =IF(L31="", "", J31=L31)
A32: #N/A | B32: #N/A | C32: #N/A | D32: #N/A | E32: =IF(D32="", "", LEN(D32)) -> #N/A | F32: #REF! | G32: =IF(F32="", "", LEN(F32)) -> #REF! | H32: #N/A | I32: =IF(H32="", "", LEN(H32)) -> #N/A | K32: =IF(J32="", "", B32=J32) | M32: =IF(L32="", "", B32=L32) | N32: =IF(L32="", "", J32=L32)
A33: #N/A | B33: #N/A | C33: #N/A | D33: #N/A | E33: =IF(D33="", "", LEN(D33)) -> #N/A | F33: #REF! | G33: =IF(F33="", "", LEN(F33)) -> #REF! | H33: #N/A | I33: =IF(H33="", "", LEN(H33)) -> #N/A | K33: =IF(J33="", "", B33=J33) | M33: =IF(L33="", "", B33=L33) | N33: =IF(L33="", "", J33=L33)
A34: #N/A | B34: #N/A | C34: #N/A | D34: #N/A | E34: =IF(D34="", "", LEN(D34)) -> #N/A | F34: #REF! | G34: =IF(F34="", "", LEN(F34)) -> #REF! | H34: #N/A | I34: =IF(H34="", "", LEN(H34)) -> #N/A | K34: =IF(J34="", "", B34=J34) | M34: =IF(L34="", "", B34=L34) | N34: =IF(L34="", "", J34=L34)
A35: #N/A | B35: #N/A | C35: #N/A | D35: #N/A | E35: =IF(D35="", "", LEN(D35)) -> #N/A | F35: #REF! | G35: =IF(F35="", "", LEN(F35)) -> #REF! | H35: #N/A | I35: =IF(H35="", "", LEN(H35)) -> #N/A | K35: =IF(J35="", "", B35=J35) | M35: =IF(L35="", "", B35=L35) | N35: =IF(L35="", "", J35=L35)
A36: #N/A | B36: #N/A | C36: #N/A | D36: #N/A | E36: =IF(D36="", "", LEN(D36)) -> #N/A | F36: #REF! | G36: =IF(F36="", "", LEN(F36)) -> #REF! | H36: #N/A | I36: =IF(H36="", "", LEN(H36)) -> #N/A | K36: =IF(J36="", "", B36=J36) | M36: =IF(L36="", "", B36=L36) | N36: =IF(L36="", "", J36=L36)
A37: #N/A | B37: #N/A | C37: #N/A | D37: #N/A | E37: =IF(D37="", "", LEN(D37)) -> #N/A | F37: #REF! | G37: =IF(F37="", "", LEN(F37)) -> #REF! | H37: #N/A | I37: =IF(H37="", "", LEN(H37)) -> #N/A | K37: =IF(J37="", "", B37=J37) | M37: =IF(L37="", "", B37=L37) | N37: =IF(L37="", "", J37=L37)
... A172: #N/A | B172: #N/A | C172: #N/A | D172: #N/A | E172: =IF(D172="", "", LEN(D172)) -> #N/A | F172: #REF! | G172: =IF(F172="", "", LEN(F172)) -> #REF! | H172: #N/A | I172: =IF(H172="", "", LEN(H172)) -> #N/A | K172: =IF(J172="", "", B172=J172) | M172: =IF(L172="", "", B172=L172) | N172: =IF(L172="", "", J172=L172)
E173: =IF(D173="", "", LEN(D173)) | G173: =IF(F173="", "", LEN(F173)) | I173: =IF(H173="", "", LEN(H173)) | K173: =IF(J173="", "", B173=J173) | M173: =IF(L173="", "", B173=L173) | N173: =IF(L173="", "", J173=L173)
E174: =IF(D174="", "", LEN(D174)) | G174: =IF(F174="", "", LEN(F174)) | I174: =IF(H174="", "", LEN(H174)) | K174: =IF(J174="", "", B174=J174) | M174: =IF(L174="", "", B174=L174) | N174: =IF(L174="", "", J174=L174)
E175: =IF(D175="", "", LEN(D175)) | G175: =IF(F175="", "", LEN(F175)) | I175: =IF(H175="", "", LEN(H175)) | K175: =IF(J175="", "", B175=J175) | M175: =IF(L175="", "", B175=L175) | N175: =IF(L175="", "", J175=L175)
E176: =IF(D176="", "", LEN(D176)) | G176: =IF(F176="", "", LEN(F176)) | I176: =IF(H176="", "", LEN(H176)) | K176: =IF(J176="", "", B176=J176) | M176: =IF(L176="", "", B176=L176) | N176: =IF(L176="", "", J176=L176)
E177: =IF(D177="", "", LEN(D177)) | G177: =IF(F177="", "", LEN(F177)) | I177: =IF(H177="", "", LEN(H177)) | K177: =IF(J177="", "", B177=J177) | M177: =IF(L177="", "", B177=L177) | N177: =IF(L177="", "", J177=L177)
E178: =IF(D178="", "", LEN(D178)) | G178: =IF(F178="", "", LEN(F178)) | I178: =IF(H178="", "", LEN(H178)) | K178: =IF(J178="", "", B178=J178) | M178: =IF(L178="", "", B178=L178) | N178: =IF(L178="", "", J178=L178)
E179: =IF(D179="", "", LEN(D179)) | G179: =IF(F179="", "", LEN(F179)) | I179: =IF(H179="", "", LEN(H179)) | K179: =IF(J179="", "", B179=J179) | M179: =IF(L179="", "", B179=L179) | N179: =IF(L179="", "", J179=L179)
E180: =IF(D180="", "", LEN(D180)) | G180: =IF(F180="", "", LEN(F180)) | I180: =IF(H180="", "", LEN(H180)) | K180: =IF(J180="", "", B180=J180) | M180: =IF(L180="", "", B180=L180) | N180: =IF(L180="", "", J180=L180)
E181: =IF(D181="", "", LEN(D181)) | G181: =IF(F181="", "", LEN(F181)) | I181: =IF(H181="", "", LEN(H181)) | K181: =IF(J181="", "", B181=J181) | M181: =IF(L181="", "", B181=L181) | N181: =IF(L181="", "", J181=L181)
E182: =IF(D182="", "", LEN(D182)) | G182: =IF(F182="", "", LEN(F182)) | I182: =IF(H182="", "", LEN(H182)) | K182: =IF(J182="", "", B182=J182) | M182: =IF(L182="", "", B182=L182) | N182: =IF(L182="", "", J182=L182)
E183: =IF(D183="", "", LEN(D183)) | G183: =IF(F183="", "", LEN(F183)) | I183: =IF(H183="", "", LEN(H183)) | K183: =IF(J183="", "", B183=J183) | M183: =IF(L183="", "", B183=L183) | N183: =IF(L183="", "", J183=L183)
E184: =IF(D184="", "", LEN(D184)) | G184: =IF(F184="", "", LEN(F184)) | I184: =IF(H184="", "", LEN(H184)) | K184: =IF(J184="", "", B184=J184) | M184: =IF(L184="", "", B184=L184) | N184: =IF(L184="", "", J184=L184)
... E202: =IF(D202="", "", LEN(D202)) | G202: =IF(F202="", "", LEN(F202)) | I202: =IF(H202="", "", LEN(H202)) | K202: =IF(J202="", "", B202=J202) | M202: =IF(L202="", "", B202=L202) | N202: =IF(L202="", "", J202=L202)
K203: =IF(J203="", "", B203=J203)
K204: =IF(J204="", "", B204=J204)
K205: =IF(J205="", "", B205=J205)
K206: =IF(J206="", "", B206=J206)
K207: =IF(J207="", "", B207=J207)
K208: =IF(J208="", "", B208=J208)
K209: =IF(J209="", "", B209=J209)
K210: =IF(J210="", "", B210=J210)
K211: =IF(J211="", "", B211=J211)
K212: =IF(J212="", "", B212=J212)
K213: =IF(J213="", "", B213=J213)
K214: =IF(J214="", "", B214=J214)
... K627: =IF(J627="", "", B627=J627)

Sheet Аркуш1
C2: `=MOD(MOD(-MID(D2;1;1) + MID(D2;2;1)*5 + MID(D2;3;1)*7 + MID(D2;4;1)*9 + MID(D2;5;1)*4 + MID(D2;6;1)*6 + MID(D2;7;1)*10 + MID(D2;8;1)*5 + MID(D2;9;1)*7; 11);10) <> VALUE( MID(D2;10;1))
C6: `=DATEVALUE( C2) <> INT(LEFT(D2;5)) +1

Sheet Алфавітки
A1: № з/п | B1: В/звання | D1: Місце народження | E1: адреса (фактична) | F1: Освіта | G1: склад сім’ї | H1: № телефону
A2: 1 | B2: солдат | C2: Антоненко Руслан Олександрович | D2: Миколаївська обл. Миколаївський р-н, с. Весняне | E2: м. Миколаїв вул. Айвазовського буд. 6 кв. 809-809 | F2: середня-спеціальна, ПТУ №1 м. Миколаїв 2005 судобудівельник, зварювальник (права категорії Б, ФОП Парус, будівельник 18р.) | G2: Розлучений Мати: Калага Лідія Миронівна, м. Миколаїв вул. Айвазовського буд. 6 кв. 809-809, 0663420925 | H2: 660263238
A3: 8 | B3: солдат | C3: Баранов Дмитро Генащдійович | D3: с. Кірове Базарський р-н Херсонської обл. | E3: Херсонської обл. Базарський р-н, с. Олександрівка вул. Мельнична 5 | F3: середньо-спеціальна Судобудівельний ліцей 2018р. Зварювальник Содозбірник (Категорія прав Б, С1, С, СЕ, далекобійник 4р.) | G3: неодружений Батько: Баранов Генадій Анатолійович Херсонської обл. Базарський р-н, с. Олександрівка вул. Мельнична 5, тел. 0668290286 | H3: 505059149
A4: 12 | B4: солдат | C4: Боровик Юрій Володимирович | D4: м. Миколаїв | E4: м. Миколаїв вул. Восьма Лінія буд. 68 | F4: середньо-спеціальна Теплодарський професійний ліцей 2011р. Кухар (категорія прав Б, автоелектрик 1р) | G4: цивільний шлюб Цивільна дружина: Голубченко Юлія Вадимівна, м. Миколаїв вул. Восьма Лінія буд. 68, тел. 0950975840 | H4: 993803701
A5: 7 | B5: солдат | C5: Горбатенко Олександр Олегович | D5: м. Миколаїв | E5: м. Миколаїв вул. Архітектора Староба 3 кв.1 | F5: повна середня ЗОШ № 64 2009р.(кухар 7р) | G5: неодружений Бабуся: Горбатенко Людмила Іванівна м. Миколаїв вул. Архітектора Староба 6б кв. 24, тел. 0966366295 | H5: 677153559
A6: 4 | B6: солдат | C6: Жестовський Сергій Сергійович | D6: Миколаївська обл. Первомайський р-н, с. Новопавлівка | E6: Миколаївська обл. Первомайський р-н, с. Новопавлівка вул. Роднікова 18 | F6: середньо-спеціальна Одеський професійний ліцей морського транспорту 2008р. електрозварювальник (категорія прав Б, Будівельник 2р.) | G6: Одружений Дружина: Жестовська Ірина Анатоліївна Миколаївська обл. Первомайський р-н, с. Новопавлівка вул. Роднікова 18, 0974890880 | H6: 683977036
A7: 6 | B7: солдат | C7: Ісаков Олександ Сергійович | D7: Кропивницька обл. Новоархангельський р-н с. Скалівські Хутори | E7: Миколаївська обл. Баштанський р-н с. Поляне, вул. Садова, буд. 22 | F7: середньо-спеціальна ЧПБЛ №4 2013р. Маляр-штукатур (Фермерське господарство немировський) | G7: Одружений Дружина: Ісакова Оксана Миколаївна, Миколаївська обл. Баштанський р-н с. Поляне, вул. Садова, буд. 22, тел. 0988180989 | H7: 682269805
A8: 13 | B8: солдат | C8: Клімчкук Олександ Олександрович | D8: Вінницька обл. Хмільницький р-н, смт Бродецьке | E8: Вінницька обл. Хмільницький р-н, смт Бродецьке вул. Першотравнева 72 | F8: повна середня ЗОШ смт. Бродецьке 2007р. (Мясний мультикомплекс транспортувальник 1р.) | G8: одружений Дружина: Клімчук Алла Вадимівна, Вінницька обл. Хмільницький р-н, смт Бродецьке вул. Першотравнева 72, тел. 0631960845 | H8: 990631915
A9: 9 | B9: солдат | C9: Колесніков Сергій Сергійович | D9: с. Балтазарівка Чуплинський р-н, Херсонської обл. | E9: Микорлаївська обл. м. Первомайськ вул. Марія Демченка 33 | F9: середньо-спеціальна Електротехнічний ліцей №7 2013р.електрогазозварювальник (пожежний рятувальник 3р.) | G9: одружений Дружина: Колеснікова Ганна Миколаївна, Микорлаївська обл. м. Первомайськ вул. Марія Демченка 33, тел. 0683767312 | H9: 956741071
A10: 3 | B10: солдат | C10: Опанасюк Ігор Перрович | D10: Миколаївська обл. м. Новий Буг | E10: Миколаївська обл. Новобузький р-н с. Нова Хрестофорівка буд. 65 | F10: середньо-спеціальна Новобузький аграрний професійний ліцей 2013р. (права категорії Б, С, СЕ, Фермерське господарство Орбіта Водій) | G10: Розлучений Мати: Опанасюк Валентина Ігорівна, Миколаївська обл. Новобузький р-н с. Нова Хрестофорівка буд. 65, тел. 0508511843 | H10: 934248356
A11: 11 | B11: солдат | C11: Ручин Дмитро Вікторович | D11: Миколаївська обл. м. Баштанка | E11: Миколаївська обл. м. Баштанка вул. Грушевського 46 | F11: середньо-спеціальна ПТУ №9 м. Баштанка 2015р. Кухар (пекарня 1р) | G11: неодружений Мати: Дмитренко Алла Петрівна, Миколаївська обл. м. Баштанка вул. Грушевського 46, тел, 0636322801 | H11: 983438936
A12: 5 | B12: солдат | C12: Солоденко Анатолій Сергійович | D12: Миколаївська обл. Вознесенський р-н, с. Яструбинове | E12: Миколаївська обл. Вознесенський р-н, с. Яструбинове вул. Першотравнева 20 | F12: середньо-спеціальна ПТУ №18 2016р. будівельник (Гружчик 1р.) | G12: неодружений Сестрат: Черемуха Анастасія Сергіївна, тел. 0985362292 | H12: 938839470
A13: 2 | B13: солдат | C13: Фістікан Василь Петрович | D13: Миколаївська обл. Первомайський р-н, с. Софіївка | E13: Миколаївська обл. Первомайський р-н, с. Синюшин Брід, вул. Перемоги 38 | F13: середньо-спеціальна ПТУ №22 м. Первомайськ 2018р. Маляр-Штукатур (Сканувальник на новій пошті) | G13: Неодружений Мати: Фістікан Марія Вікторівна, Миколаївська обл. Первомайський р-н, с. Синюшин Брід, вул. Молодіжна 8, тел. 0967926486 | H13: 967927329
A14: 10 | B14: солдат | C14: Чабан Михайло Григорович | D14: Миколаївська обл. Березанського р-н, с. Новоподілля | E14: м. Миколаїв, 12 Повздовжня 47а, кв. 59 | F14: середньо-спеціальна ліцей №13 2012р. Автослюсар (СТО 9р) | G14: одружений Дружина: Чабан Влада Владиславівна, м. Миколаїв, 12 Повздовжня 47а, кв. 59, тел. 0971910656 | H14: 967953093
A15: 14 | B15: солдат
A16: 15 | B16: солдат
A17: 16 | B17: солдат
A18: 17 | B18: солдат
A19: 18 | B19: солдат
A20: 19 | B20: солдат
A21: 20 | B21: солдат
A22: 21 | B22: солдат
A23: 22 | B23: солдат
A24: 23 | B24: солдат
A25: 24 | B25: солдат
A26: 25 | B26: солдат
... A101: 100 | B101: солдат
