Workbook
Name _Hlk154059476: Аркуш2!$A$9
Name _Hlk197690086: Лист1!#REF!
Name _Hlk199841210: Лист1!#REF!
Name OLE_LINK1: Лист1!$A$6
Name OLE_LINK18: Лист1!$A$156
Name дата_проведення_заняття: 45761

Sheet Аркуш1
A1: № п/п | B1: військове звання | C1: ПІП | D1: Номер телефону | E1: 45311 | F1: 45312 | G1: 45313 | H1: 45314 | I1: 45315 | J1: 45316 | K1: 45317 | L1: 45318 | M1: 45319 | N1: 45320 | O1: 45321 | P1: 45322
A2: 1 | B2: старший лейтенант | C2: СТЕПАНЮК Д. М. | D2: +38(097) 740 1325
A3: 2 | B3: молодший сержант | C3: ПОТАПОВ О. Є. | D3: +38(063) 632 6316
A4: 3 | B4: молодший сержант | C4: ГЕНЗЕЛЬ Б. Г. | D4: +38(096) 057 6993
A5: 4 | B5: сержант | C5: ГУЗОВСЬКИЙ П. Й. | D5: +38(098) 701 5944
A6: 5 | B6: сержант | C6: СІПРАК В. С. | D6: +38(093) 544 5914
A7: 6 | B7: головний сержант | C7: ДУДАРОВ Р. Р. | D7: +38(063) 105 2259
A8: 7 | B8: молодший лейтенант | C8: ДЕМЯНЧУК Н.В. | D8: +38(097) 742 7783

Sheet Аркуш2
A1: ВІДОМІСТЬ
A2: складання заліку зі знань вимог безпеки під час проведення занять з вогневої, тактичної та психологічної підготовки
A3: Військова частина: А2900
A4: Підрозділ: 1 навчальна рота 1 навчального батальйону в/ч А2900
D5: ___.04. 2026 року
A6: № | B6: Дата (число, місяць, рік) проведення інструктажу | C6: Посада особи, яку інструктують | D6: Військове звання | E6: Прізвище та ініціали | F6: Причина проведення інструктажу | G6: Підпис особи, яку інструктують | H6: Посада, військове звання, прізвище та ініціали, підпис особи, яка проводила інструктаж
A7: з/п
A8: 1 | B8: 2 | C8: 3 | D8: 4 | E8: 5 | F8: 6 | G8: 7 | H8: 8
A9: 1 | B9: ____.04.2026 | C9: курсант | D9: солдат | E9: АВРАМЕНКО Андрій Миколайович | F9: Ознайомлення з інструкціями по заходам безпеки під час проведення занять з вогневої, тактичної та психологічної підготовки | H9: Тимчасово виконуючий обов'язки командира 1 навчальної роти 1 навчального батальйону лейтенант Богдан ГЕНЗЕЛЬ ___.04. 2026 року
A10: 2 | B10: ____.04.2026 | C10: курсант | D10: солдат | E10: АЛЕКСЕНКО Іван Миколайович
A11: 3 | B11: ____.04.2026 | C11: курсант | D11: солдат | E11: АНІСІМОВ Сергій Леонідович
A12: 4 | B12: ____.04.2026 | C12: курсант | D12: солдат | E12: АНТОНЮК Дмитро Русланович
A13: 5 | B13: ____.04.2026 | C13: курсант | D13: солдат | E13: БАБИЧ Андрій Васильович
A14: 6 | B14: ____.04.2026 | C14: курсант | D14: солдат | E14: БАСКАКОВ Павло Анатолійович
A15: 7 | B15: ____.04.2026 | C15: курсант | D15: солдат | E15: БІЛОУСОВ Сергій Вікторович
A16: 8 | B16: ____.04.2026 | C16: курсант | D16: солдат | E16: БОЙКО Геннадій Володимирович
A17: 9 | B17: ____.04.2026 | C17: курсант | D17: солдат | E17: БОНДАР Андрій Васильович
A18: 10 | B18: ____.04.2026 | C18: курсант | D18: солдат | E18: БОРИСОВ Дмитро Сергійович
A19: 11 | B19: ____.04.2026 | C19: курсант | D19: солдат | E19: БОРОДАВКО Віталій Михайлович
A20: 12 | B20: ____.04.2026 | C20: курсант | D20: солдат | E20: БРИСКІН Денис Сергійович
A21: 13 | B21: ____.04.2026 | C21: курсант | D21: солдат | E21: БРУЯКА Максим Юрійович
... A58: 50 | B58: ____.04.2026 | C58: курсант | D58: солдат | E58: КОВАЛЬОВ Владислав Віталійович
A59: 51 | B59: ____.04.2026 | C59: курсант | D59: солдат | E59: КОНОВАЛ Євгеній Миколайович | F59: Ознайомлення з інструкціями по заходам безпеки під час проведення занять з вогневої, тактичної та психологічної підготовки | H59: Тимчасово виконуючий обов'язки командира 1 навчальної роти 1 навчального батальйону лейтенант Богдан ГЕНЗЕЛЬ ___.04. 2026 року
A60: 52 | B60: ____.04.2026 | C60: курсант | D60: солдат | E60: КОРЕНЄВ Віталій Віталійович
A61: 53 | B61: ____.04.2026 | C61: курсант | D61: солдат | E61: КОСЕНЮК Валерій Анатолійович
A62: 54 | B62: ____.04.2026 | C62: курсант | D62: солдат | E62: КОСЬМІН Юрій Віталійович
A63: 55 | B63: ____.04.2026 | C63: курсант | D63: солдат | E63: КРЕЙДИЧ Жан Віталійович
A64: 56 | B64: ____.04.2026 | C64: курсант | D64: солдат | E64: КУЗЬМИШИН Юрій Миколайович
A65: 57 | B65: ____.04.2026 | C65: курсант | D65: солдат | E65: КУЧЕРЕНКО Анатолій Михайлович
A66: 58 | B66: ____.04.2026 | C66: курсант | D66: с-нт | E66: КУЩ Андрій Петрович
A67: 59 | B67: ____.04.2026 | C67: курсант | D67: солдат | E67: ЛЕВЕНЕЦЬ Максим Дмитрович
A68: 60 | B68: ____.04.2026 | C68: курсант | D68: солдат | E68: ЛЕВЧИЧ Олександр Миколайович
A69: 61 | B69: ____.04.2026 | C69: курсант | D69: солдат | E69: ЛИТВИНКО Олександр Сергійович
A70: 62 | B70: ____.04.2026 | C70: курсант | D70: солдат | E70: МАТЮНІН Іван Леонідович
A71: 63 | B71: ____.04.2026 | C71: курсант | D71: солдат | E71: МАЛУШКА Костянтин Іванович
... A117: 109 | B117: ____.04.2026 | C117: курсант | D117: солдат | E117: САВИЦЬКИЙ Олексій Васильович
A118: 110 | B118: ____.04.2026 | C118: курсант | D118: солдат | E118: РЕДЬКО Вадим Юрійович | F118: Ознайомлення з інструкціями по заходам безпеки під час проведення занять з вогневої, тактичної та психологічної підготовки | H118: Тимчасово виконуючий обов'язки командира 1 навчальної роти 1 навчального батальйону лейтенант Богдан ГЕНЗЕЛЬ ___.04. 2026 року
A119: 111 | B119: ____.04.2026 | C119: курсант | D119: солдат | E119: БЕЗВЕРХИЙ Микола Олександрович
A120: 112 | B120: ____.04.2026 | C120: курсант | D120: солдат | E120: БУХОВСЬКИЙ Леонід Валентинович
A121: 113 | B121: ____.04.2026 | C121: курсант | D121: солдат | E121: ДИНЬКА Дмитро Олександрович
A122: 114 | B122: ____.04.2026 | C122: курсант | D122: солдат | E122: ДРОЗД Ігор Анатолійович
A123: 115 | B123: ____.04.2026 | C123: курсант | D123: солдат | E123: ПЯСЕЦЬКИЙ Віталій Анатолійович
A124: 116 | B124: ____.04.2026 | C124: курсант | D124: солдат | E124: РОМАНЮК Сергій Дмитрович
A125: 117 | B125: ____.04.2026 | C125: курсант | D125: солдат | E125: ЦИГАНЧУК Віталій Сергійович
A126: 118 | B126: ____.04.2026 | C126: курсант
A127: 119 | B127: ____.04.2026 | C127: курсант
A128: 120 | B128: ____.04.2026 | C128: курсант
A129: 121 | B129: ____.04.2026 | C129: курсант
A130: 122 | B130: ____.04.2026 | C130: курсант
A131: 123 | B131: ____.04.2026 | C131: курсант
A132: 124 | B132: ____.04.2026 | C132: курсант
A133: 125 | B133: ____.04.2026 | C133: курсант
A134: 126 | B134: ____.04.2026 | C134: курсант
A135: 127 | B135: ____.04.2026 | C135: курсант
A136: 128 | B136: ____.04.2026 | C136: курсант
A137: 129 | B137: ____.04.2026 | C137: курсант
... A174: 166 | B174: ____.04.2026 | C174: курсант
A177: Тимчасово виконуючий обов'язки командира 1 навчальної роти 1 навчального батальйону
A178: лейтенант | F178: Богдан ГЕНЗЕЛЬ
A179: ____.04.2026

Sheet Аркуш3
A1: =UPPER(LEFT(Аркуш5!A1,FIND(" ",Аркуш5!A1)-1)) & " " & UPPER(MID(Аркуш5!A1,FIND(" ",Аркуш5!A1)+1,1)) & "." & UPPER(MID(Аркуш5!A1,FIND(" ",Аркуш5!A1,FIND(" ",Аркуш5!A1)+1)+1,1)) & "." -> АБРАМЯН А.М.
A2: =UPPER(LEFT(Аркуш5!A2,FIND(" ",Аркуш5!A2)-1)) & " " & UPPER(MID(Аркуш5!A2,FIND(" ",Аркуш5!A2)+1,1)) & "." & UPPER(MID(Аркуш5!A2,FIND(" ",Аркуш5!A2,FIND(" ",Аркуш5!A2)+1)+1,1)) & "." -> АВРАМЕНКО А.М.
A3: =UPPER(LEFT(Аркуш5!A3,FIND(" ",Аркуш5!A3)-1)) & " " & UPPER(MID(Аркуш5!A3,FIND(" ",Аркуш5!A3)+1,1)) & "." & UPPER(MID(Аркуш5!A3,FIND(" ",Аркуш5!A3,FIND(" ",Аркуш5!A3)+1)+1,1)) & "." -> АЛЕКСЕНКО І.М.
A4: =UPPER(LEFT(Аркуш5!A4,FIND(" ",Аркуш5!A4)-1)) & " " & UPPER(MID(Аркуш5!A4,FIND(" ",Аркуш5!A4)+1,1)) & "." & UPPER(MID(Аркуш5!A4,FIND(" ",Аркуш5!A4,FIND(" ",Аркуш5!A4)+1)+1,1)) & "." -> АЛІЄВ П.Н.
A5: =UPPER(LEFT(Аркуш5!A5,FIND(" ",Аркуш5!A5)-1)) & " " & UPPER(MID(Аркуш5!A5,FIND(" ",Аркуш5!A5)+1,1)) & "." & UPPER(MID(Аркуш5!A5,FIND(" ",Аркуш5!A5,FIND(" ",Аркуш5!A5)+1)+1,1)) & "." -> АНДРУШКО В.В.
A6: =UPPER(LEFT(Аркуш5!A6,FIND(" ",Аркуш5!A6)-1)) & " " & UPPER(MID(Аркуш5!A6,FIND(" ",Аркуш5!A6)+1,1)) & "." & UPPER(MID(Аркуш5!A6,FIND(" ",Аркуш5!A6,FIND(" ",Аркуш5!A6)+1)+1,1)) & "." -> АНІСІМОВ С.Л.
A7: =UPPER(LEFT(Аркуш5!A7,FIND(" ",Аркуш5!A7)-1)) & " " & UPPER(MID(Аркуш5!A7,FIND(" ",Аркуш5!A7)+1,1)) & "." & UPPER(MID(Аркуш5!A7,FIND(" ",Аркуш5!A7,FIND(" ",Аркуш5!A7)+1)+1,1)) & "." -> АНТОНЮК Д.Р.
A8: =UPPER(LEFT(Аркуш5!A8,FIND(" ",Аркуш5!A8)-1)) & " " & UPPER(MID(Аркуш5!A8,FIND(" ",Аркуш5!A8)+1,1)) & "." & UPPER(MID(Аркуш5!A8,FIND(" ",Аркуш5!A8,FIND(" ",Аркуш5!A8)+1)+1,1)) & "." -> АНТОНЮК О.Л.
A9: =UPPER(LEFT(Аркуш5!A9,FIND(" ",Аркуш5!A9)-1)) & " " & UPPER(MID(Аркуш5!A9,FIND(" ",Аркуш5!A9)+1,1)) & "." & UPPER(MID(Аркуш5!A9,FIND(" ",Аркуш5!A9,FIND(" ",Аркуш5!A9)+1)+1,1)) & "." -> БАБИЧ А.В.
A10: =UPPER(LEFT(Аркуш5!A10,FIND(" ",Аркуш5!A10)-1)) & " " & UPPER(MID(Аркуш5!A10,FIND(" ",Аркуш5!A10)+1,1)) & "." & UPPER(MID(Аркуш5!A10,FIND(" ",Аркуш5!A10,FIND(" ",Аркуш5!A10)+1)+1,1)) & "." -> БАСКАКОВ П.А.
A11: =UPPER(LEFT(Аркуш5!A11,FIND(" ",Аркуш5!A11)-1)) & " " & UPPER(MID(Аркуш5!A11,FIND(" ",Аркуш5!A11)+1,1)) & "." & UPPER(MID(Аркуш5!A11,FIND(" ",Аркуш5!A11,FIND(" ",Аркуш5!A11)+1)+1,1)) & "." -> БЕРШАДСЬКИЙ О.М.
A12: =UPPER(LEFT(Аркуш5!A12,FIND(" ",Аркуш5!A12)-1)) & " " & UPPER(MID(Аркуш5!A12,FIND(" ",Аркуш5!A12)+1,1)) & "." & UPPER(MID(Аркуш5!A12,FIND(" ",Аркуш5!A12,FIND(" ",Аркуш5!A12)+1)+1,1)) & "." -> БІЛОУСОВ С.В.
... A148: =UPPER(LEFT(Аркуш5!A148,FIND(" ",Аркуш5!A148)-1)) & " " & UPPER(MID(Аркуш5!A148,FIND(" ",Аркуш5!A148)+1,1)) & "." & UPPER(MID(Аркуш5!A148,FIND(" ",Аркуш5!A148,FIND(" ",Аркуш5!A148)+1)+1,1)) & "." -> #VALUE!
A149: =UPPER(LEFT(Аркуш5!#REF!,FIND(" ",Аркуш5!#REF!)-1)) & " " & UPPER(MID(Аркуш5!#REF!,FIND(" ",Аркуш5!#REF!)+1,1)) & "." & UPPER(MID(Аркуш5!#REF!,FIND(" ",Аркуш5!#REF!,FIND(" ",Аркуш5!#REF!)+1)+1,1)) & "." -> #REF!
A150: =UPPER(LEFT(Аркуш5!A150,FIND(" ",Аркуш5!A150)-1)) & " " & UPPER(MID(Аркуш5!A150,FIND(" ",Аркуш5!A150)+1,1)) & "." & UPPER(MID(Аркуш5!A150,FIND(" ",Аркуш5!A150,FIND(" ",Аркуш5!A150)+1)+1,1)) & "." -> #VALUE!
A151: =UPPER(LEFT(Аркуш5!A151,FIND(" ",Аркуш5!A151)-1)) & " " & UPPER(MID(Аркуш5!A151,FIND(" ",Аркуш5!A151)+1,1)) & "." & UPPER(MID(Аркуш5!A151,FIND(" ",Аркуш5!A151,FIND(" ",Аркуш5!A151)+1)+1,1)) & "." -> #VALUE!
A152: =UPPER(LEFT(Аркуш5!A152,FIND(" ",Аркуш5!A152)-1)) & " " & UPPER(MID(Аркуш5!A152,FIND(" ",Аркуш5!A152)+1,1)) & "." & UPPER(MID(Аркуш5!A152,FIND(" ",Аркуш5!A152,FIND(" ",Аркуш5!A152)+1)+1,1)) & "." -> #VALUE!
A153: =UPPER(LEFT(Аркуш5!A153,FIND(" ",Аркуш5!A153)-1)) & " " & UPPER(MID(Аркуш5!A153,FIND(" ",Аркуш5!A153)+1,1)) & "." & UPPER(MID(Аркуш5!A153,FIND(" ",Аркуш5!A153,FIND(" ",Аркуш5!A153)+1)+1,1)) & "." -> #VALUE!
A154: =UPPER(LEFT(Аркуш5!A154,FIND(" ",Аркуш5!A154)-1)) & " " & UPPER(MID(Аркуш5!A154,FIND(" ",Аркуш5!A154)+1,1)) & "." & UPPER(MID(Аркуш5!A154,FIND(" ",Аркуш5!A154,FIND(" ",Аркуш5!A154)+1)+1,1)) & "." -> #VALUE!
A155: =UPPER(LEFT(Аркуш5!A155,FIND(" ",Аркуш5!A155)-1)) & " " & UPPER(MID(Аркуш5!A155,FIND(" ",Аркуш5!A155)+1,1)) & "." & UPPER(MID(Аркуш5!A155,FIND(" ",Аркуш5!A155,FIND(" ",Аркуш5!A155)+1)+1,1)) & "." -> #VALUE!
A156: =UPPER(LEFT(Аркуш5!A156,FIND(" ",Аркуш5!A156)-1)) & " " & UPPER(MID(Аркуш5!A156,FIND(" ",Аркуш5!A156)+1,1)) & "." & UPPER(MID(Аркуш5!A156,FIND(" ",Аркуш5!A156,FIND(" ",Аркуш5!A156)+1)+1,1)) & "." -> #VALUE!
A157: =UPPER(LEFT(Аркуш5!A157,FIND(" ",Аркуш5!A157)-1)) & " " & UPPER(MID(Аркуш5!A157,FIND(" ",Аркуш5!A157)+1,1)) & "." & UPPER(MID(Аркуш5!A157,FIND(" ",Аркуш5!A157,FIND(" ",Аркуш5!A157)+1)+1,1)) & "." -> #VALUE!
A158: =UPPER(LEFT(Аркуш5!A158,FIND(" ",Аркуш5!A158)-1)) & " " & UPPER(MID(Аркуш5!A158,FIND(" ",Аркуш5!A158)+1,1)) & "." & UPPER(MID(Аркуш5!A158,FIND(" ",Аркуш5!A158,FIND(" ",Аркуш5!A158)+1)+1,1)) & "." -> #VALUE!
A159: =UPPER(LEFT(Аркуш5!A159,FIND(" ",Аркуш5!A159)-1)) & " " & UPPER(MID(Аркуш5!A159,FIND(" ",Аркуш5!A159)+1,1)) & "." & UPPER(MID(Аркуш5!A159,FIND(" ",Аркуш5!A159,FIND(" ",Аркуш5!A159)+1)+1,1)) & "." -> #VALUE!
A160: =UPPER(LEFT(Аркуш5!A160,FIND(" ",Аркуш5!A160)-1)) & " " & UPPER(MID(Аркуш5!A160,FIND(" ",Аркуш5!A160)+1,1)) & "." & UPPER(MID(Аркуш5!A160,FIND(" ",Аркуш5!A160,FIND(" ",Аркуш5!A160)+1)+1,1)) & "." -> #VALUE!

Sheet Лист1
A1: солдат | B1: АЙБ Руслан Ігорович
A2: солдат | B2: АНТОНОВИЧ В'ячеслав Васильович
A3: солдат | B3: БАЗИЛЕВИЧ Максим Олександрович
A4: солдат | B4: БАЛАЦЬКИЙ Микола Анатолійович
A5: ст. матрос | B5: БАРАБАШ Олександр Сергійович
A6: солдат | B6: БАТУРА Віктор Сергійович
A7: солдат | B7: БЕЛІНСЬКИЙ Сергій Юрійович
A8: солдат | B8: БЕРЕЖНИЙ Євгеній Олегович
A9: солдат | B9: БІЛОУС Сергій Олегович
A10: солдат | B10: БІРЮКОВ Євген Анатолійович
A11: солдат | B11: БОБРОВСЬКИЙ Олександр Іванович
A12: солдат | B12: БОНДАРЕНКО Роман Ігорович
... A172: солдат | B172: РУДИЧ Євгеній Костянтинович

Sheet Лист2
A1: 1 | B1: солдат | C1: АЛЕКСІЄНКО Єгор Вікторович
A2: 2 | B2: солдат | C2: АМАДОР Євген Сесарович
A3: 3 | B3: солдат | C3: АНДРІЄЧКО Дмитро Ярославович
A4: 4 | B4: солдат | C4: АРТЕМОВ Олег В'ячеславович
A5: 5 | B5: солдат | C5: БАБІЧ Микола Юрійович
A6: 6 | B6: солдат | C6: БАЛАН Денис Сергійович
A7: 7 | B7: солдат | C7: БЕДНАРСЬКИЙ Назарій Тарасович
A8: 8 | B8: солдат | C8: БЕЗКОРОВАЙНИЙ Володимир Васильович
A9: 9 | B9: солдат | C9: БЕКЕТОВ МАКСИМ Володимирович
A10: 10 | B10: солдат | C10: БЕНДОВСЬКИЙ Ігор Віталійович
A11: 11 | B11: солдат | C11: БЕРЕЖНИЙ Сергій Григорович
A12: 12 | B12: солдат | C12: БИКОВЕЦЬ Антон Романович
... A145: 145 | B145: солдат | C145: ЯВДОХАЧ Андрій Володимирович

Sheet Аркуш5
A1: Абрамян Артур Маратович
A2: Авраменко Андрій Миколайович
A3: Алексенко Іван Миколайович
A4: Алієв Парвіз Натікбєкович
A5: Андрушко Вадим Валентинович
A6: Анісімов Сергій Леонідович
A7: Антонюк Дмитро Русланович
A8: Антонюк Олександр Леонідович
A9: Бабич Андрій Васильович
A10: Баскаков Павло Анатолійович
A11: Бершадський Олександр Миколайович
A12: Білоусов Сергій Вікторович
... A148: МАЛУШКА Костянтин Іванович
