Workbook
Name _Hlk154059476: Аркуш2!$A$9
Name _Hlk197690086: Лист1!#REF!
Name _Hlk199841210: Лист1!#REF!
Name OLE_LINK1: Лист1!$A$6
Name OLE_LINK18: Лист1!$A$156
Name дата_проведення_заняття: 45761

Sheet Аркуш1
A1: № п/п | B1: військове звання | C1: ПІП | D1: Номер телефону | E1: 45311 | F1: 45312 | G1: 45313 | H1: 45314 | I1: 45315 | J1: 45316 | K1: 45317 | L1: 45318 | M1: 45319 | N1: 45320 | O1: 45321 | P1: 45322
A2: 1 | B2: старший лейтенант | C2: СТЕПАНЮК Д. М. | D2: +38(097) 740 1325
A3: 2 | B3: молодший сержант | C3: ПОТАПОВ О. Є. | D3: +38(063) 632 6316
A4: 3 | B4: молодший сержант | C4: ГЕНЗЕЛЬ Б. Г. | D4: +38(096) 057 6993
A5: 4 | B5: сержант | C5: ГУЗОВСЬКИЙ П. Й. | D5: +38(098) 701 5944
A6: 5 | B6: сержант | C6: СІПРАК В. С. | D6: +38(093) 544 5914
A7: 6 | B7: головний сержант | C7: ДУДАРОВ Р. Р. | D7: +38(063) 105 2259
A8: 7 | B8: молодший лейтенант | C8: ДЕМЯНЧУК Н.В. | D8: +38(097) 742 7783

Sheet Аркуш2
A1: ВІДОМІСТЬ
A2: складання заліку зі знань вимог безпеки під час проведення занять з вогневої, тактичної та психологічної підготовки
A3: Військова частина: А2900
A4: Підрозділ: 1 навчальна рота 1 навчального батальйону в/ч А2900
D5: 21.03.2026 року
A6: № | B6: Дата (число, місяць, рік) проведення інструктажу | C6: Посада особи, яку інструктують | D6: Військове звання | E6: Прізвище та ініціали | F6: Причина проведення інструктажу | G6: Підпис особи, яку інструктують | H6: Посада, військове звання, прізвище та ініціали, підпис особи, яка проводила інструктаж
A7: з/п
A8: 1 | B8: 2 | C8: 3 | D8: 4 | E8: 5 | F8: 6 | G8: 7 | H8: 8
A9: 1 | B9: 46101 | C9: курсант | D9: солдат | E9: =UPPER(LEFT([1]Аркуш5!A10,FIND(" ",[1]Аркуш5!A10)-1)) & MID([1]Аркуш5!A10,FIND(" ",[1]Аркуш5!A10),LEN([1]Аркуш5!A10)) -> АБРАМЯН Артур Маратович | F9: Ознайомлення з інструкціями по заходам безпеки під час проведення занять з вогневої, тактичної та психологічної підготовки | H9: Командир 1 навчальної роти 1 навчального батальйону майор Д. СТЕПАНЮК 20.03. 2026 року
A10: 2 | B10: 46101 | C10: курсант | D10: солдат | E10: =UPPER(LEFT([1]Аркуш5!A11,FIND(" ",[1]Аркуш5!A11)-1)) & MID([1]Аркуш5!A11,FIND(" ",[1]Аркуш5!A11),LEN([1]Аркуш5!A11)) -> АВРАМЕНКО Андрій Миколайович
A11: 3 | B11: 46101 | C11: курсант | D11: солдат | E11: =UPPER(LEFT([1]Аркуш5!A12,FIND(" ",[1]Аркуш5!A12)-1)) & MID([1]Аркуш5!A12,FIND(" ",[1]Аркуш5!A12),LEN([1]Аркуш5!A12)) -> АЛЕКСЕНКО Іван Миколайович
A12: 4 | B12: 46101 | C12: курсант | D12: солдат | E12: =UPPER(LEFT([1]Аркуш5!A13,FIND(" ",[1]Аркуш5!A13)-1)) & MID([1]Аркуш5!A13,FIND(" ",[1]Аркуш5!A13),LEN([1]Аркуш5!A13)) -> АЛІЄВ Парвіз Натікбєкович
A13: 5 | B13: 46101 | C13: курсант | D13: солдат | E13: =UPPER(LEFT([1]Аркуш5!A14,FIND(" ",[1]Аркуш5!A14)-1)) & MID([1]Аркуш5!A14,FIND(" ",[1]Аркуш5!A14),LEN([1]Аркуш5!A14)) -> АНДРУШКО Вадим Валентинович
A14: 6 | B14: 46101 | C14: курсант | D14: солдат | E14: =UPPER(LEFT([1]Аркуш5!A15,FIND(" ",[1]Аркуш5!A15)-1)) & MID([1]Аркуш5!A15,FIND(" ",[1]Аркуш5!A15),LEN([1]Аркуш5!A15)) -> АНІСІМОВ Сергій Леонідович
A15: 7 | B15: 46101 | C15: курсант | D15: солдат | E15: =UPPER(LEFT([1]Аркуш5!A16,FIND(" ",[1]Аркуш5!A16)-1)) & MID([1]Аркуш5!A16,FIND(" ",[1]Аркуш5!A16),LEN([1]Аркуш5!A16)) -> АНТОНЮК Дмитро Русланович
A16: 8 | B16: 46101 | C16: курсант | D16: солдат | E16: =UPPER(LEFT([1]Аркуш5!A17,FIND(" ",[1]Аркуш5!A17)-1)) & MID([1]Аркуш5!A17,FIND(" ",[1]Аркуш5!A17),LEN([1]Аркуш5!A17)) -> БАБИЧ Андрій Васильович
A17: 9 | B17: 46101 | C17: курсант | D17: солдат | E17: =UPPER(LEFT([1]Аркуш5!A18,FIND(" ",[1]Аркуш5!A18)-1)) & MID([1]Аркуш5!A18,FIND(" ",[1]Аркуш5!A18),LEN([1]Аркуш5!A18)) -> БАСКАКОВ Павло Анатолійович
A18: 10 | B18: 46101 | C18: курсант | D18: солдат | E18: =UPPER(LEFT([1]Аркуш5!A20,FIND(" ",[1]Аркуш5!A20)-1)) & MID([1]Аркуш5!A20,FIND(" ",[1]Аркуш5!A20),LEN([1]Аркуш5!A20)) -> БІЛОУСОВ Сергій Вікторович
A19: 11 | B19: 46101 | C19: курсант | D19: солдат | E19: =UPPER(LEFT([1]Аркуш5!A21,FIND(" ",[1]Аркуш5!A21)-1)) & MID([1]Аркуш5!A21,FIND(" ",[1]Аркуш5!A21),LEN([1]Аркуш5!A21)) -> БОЙКО Геннадій Володимирович
A20: 12 | B20: 46101 | C20: курсант | D20: солдат | E20: =UPPER(LEFT([1]Аркуш5!A22,FIND(" ",[1]Аркуш5!A22)-1)) & MID([1]Аркуш5!A22,FIND(" ",[1]Аркуш5!A22),LEN([1]Аркуш5!A22)) -> БОЛЬШАКОВ Костянтин Євгенович
A21: 13 | B21: 46101 | C21: курсант | D21: солдат | E21: =UPPER(LEFT([1]Аркуш5!A23,FIND(" ",[1]Аркуш5!A23)-1)) & MID([1]Аркуш5!A23,FIND(" ",[1]Аркуш5!A23),LEN([1]Аркуш5!A23)) -> БОНДАР Андрій Васильович
A22: 14 | B22: 46101 | C22: курсант | D22: солдат | E22: =UPPER(LEFT([1]Аркуш5!A24,FIND(" ",[1]Аркуш5!A24)-1)) & MID([1]Аркуш5!A24,FIND(" ",[1]Аркуш5!A24),LEN([1]Аркуш5!A24)) -> БОРИСОВ Дмитро Сергійович
A23: 15 | B23: 46101 | C23: курсант | D23: солдат | E23: =UPPER(LEFT([1]Аркуш5!A25,FIND(" ",[1]Аркуш5!A25)-1)) & MID([1]Аркуш5!A25,FIND(" ",[1]Аркуш5!A25),LEN([1]Аркуш5!A25)) -> БОРОДАВКО Віталій Михайлович
A24: 16 | B24: 46101 | C24: курсант | D24: солдат | E24: =UPPER(LEFT([1]Аркуш5!A26,FIND(" ",[1]Аркуш5!A26)-1)) & MID([1]Аркуш5!A26,FIND(" ",[1]Аркуш5!A26),LEN([1]Аркуш5!A26)) -> БРИСКІН Денис Сергійович
A25: 17 | B25: 46101 | C25: курсант | D25: солдат | E25: =UPPER(LEFT([1]Аркуш5!A27,FIND(" ",[1]Аркуш5!A27)-1)) & MID([1]Аркуш5!A27,FIND(" ",[1]Аркуш5!A27),LEN([1]Аркуш5!A27)) -> БРОДОВСЬКИЙ Вадим Феліксович
A26: 18 | B26: 46101 | C26: курсант | D26: солдат | E26: =UPPER(LEFT([1]Аркуш5!A28,FIND(" ",[1]Аркуш5!A28)-1)) & MID([1]Аркуш5!A28,FIND(" ",[1]Аркуш5!A28),LEN([1]Аркуш5!A28)) -> БРУЯКА Максим Юрійович
A27: 19 | B27: 46101 | C27: курсант | D27: солдат | E27: =UPPER(LEFT([1]Аркуш5!A29,FIND(" ",[1]Аркуш5!A29)-1)) & MID([1]Аркуш5!A29,FIND(" ",[1]Аркуш5!A29),LEN([1]Аркуш5!A29)) -> БУРКОВЦОВ Андрій Юрійович
A28: 20 | B28: 46101 | C28: курсант | D28: солдат | E28: =UPPER(LEFT([1]Аркуш5!A30,FIND(" ",[1]Аркуш5!A30)-1)) & MID([1]Аркуш5!A30,FIND(" ",[1]Аркуш5!A30),LEN([1]Аркуш5!A30)) -> БУТКО Руслан Павлович
A29: 21 | B29: 46101 | C29: курсант | D29: солдат | E29: =UPPER(LEFT([1]Аркуш5!A31,FIND(" ",[1]Аркуш5!A31)-1)) & MID([1]Аркуш5!A31,FIND(" ",[1]Аркуш5!A31),LEN([1]Аркуш5!A31)) -> ВАСИЛЬЧЕНКО Сергій Анатолійович
... A48: 40 | B48: 46101 | C48: курсант | D48: солдат | E48: =UPPER(LEFT([1]Аркуш5!A50,FIND(" ",[1]Аркуш5!A50)-1)) & MID([1]Аркуш5!A50,FIND(" ",[1]Аркуш5!A50),LEN([1]Аркуш5!A50)) -> ДЕРКАЧ Антон Олександрович
A49: 42 | B49: 46101 | C49: курсант | D49: солдат | E49: =UPPER(LEFT([1]Аркуш5!A52,FIND(" ",[1]Аркуш5!A52)-1)) & MID([1]Аркуш5!A52,FIND(" ",[1]Аркуш5!A52),LEN([1]Аркуш5!A52)) -> ЄРМАКОВ Дмитро Олександрович
A50: 43 | B50: 46101 | C50: курсант | D50: ст. солдат | E50: =UPPER(LEFT([1]Аркуш5!A53,FIND(" ",[1]Аркуш5!A53)-1)) & MID([1]Аркуш5!A53,FIND(" ",[1]Аркуш5!A53),LEN([1]Аркуш5!A53)) -> ЖЕРЕБЦОВ Данило Вадимович
A51: 44 | B51: 46101 | C51: курсант | D51: солдат | E51: =UPPER(LEFT([1]Аркуш5!A54,FIND(" ",[1]Аркуш5!A54)-1)) & MID([1]Аркуш5!A54,FIND(" ",[1]Аркуш5!A54),LEN([1]Аркуш5!A54)) -> ЗАБАЙРАЧНИЙ Антон Валерійович
A52: 45 | B52: 46101 | C52: курсант | D52: солдат | E52: =UPPER(LEFT([1]Аркуш5!A55,FIND(" ",[1]Аркуш5!A55)-1)) & MID([1]Аркуш5!A55,FIND(" ",[1]Аркуш5!A55),LEN([1]Аркуш5!A55)) -> ЗАЇКА Віталій Олександрович | F52: Ознайомлення з інструкціями по заходам безпеки під час проведення занять з вогневої, тактичної та психологічної підготовки | H52: Командир 1 навчальної роти 1 навчального батальйону майор Д. СТЕПАНЮК 20.03.2026 року
A53: 46 | B53: 46101 | C53: курсант | D53: солдат | E53: =UPPER(LEFT([1]Аркуш5!A56,FIND(" ",[1]Аркуш5!A56)-1)) & MID([1]Аркуш5!A56,FIND(" ",[1]Аркуш5!A56),LEN([1]Аркуш5!A56)) -> ЗВАДА Микита Іванович
A54: 47 | B54: 46101 | C54: курсант | D54: солдат | E54: =UPPER(LEFT([1]Аркуш5!A57,FIND(" ",[1]Аркуш5!A57)-1)) & MID([1]Аркуш5!A57,FIND(" ",[1]Аркуш5!A57),LEN([1]Аркуш5!A57)) -> ЗВЯГІНЦЕВ Вадим Сергійович
A55: 48 | B55: 46101 | C55: курсант | D55: солдат | E55: =UPPER(LEFT([1]Аркуш5!A58,FIND(" ",[1]Аркуш5!A58)-1)) & MID([1]Аркуш5!A58,FIND(" ",[1]Аркуш5!A58),LEN([1]Аркуш5!A58)) -> ЗУБКО Андрій Валерійович
A56: 49 | B56: 46101 | C56: курсант | D56: солдат | E56: =UPPER(LEFT([1]Аркуш5!A59,FIND(" ",[1]Аркуш5!A59)-1)) & MID([1]Аркуш5!A59,FIND(" ",[1]Аркуш5!A59),LEN([1]Аркуш5!A59)) -> КАЛЬЧЕНКО Олександр Іванович
A57: 50 | B57: 46101 | C57: курсант | D57: солдат | E57: =UPPER(LEFT([1]Аркуш5!A60,FIND(" ",[1]Аркуш5!A60)-1)) & MID([1]Аркуш5!A60,FIND(" ",[1]Аркуш5!A60),LEN([1]Аркуш5!A60)) -> КАМІНСЬКИЙ Андрій Михайлович
A58: 51 | B58: 46101 | C58: курсант | D58: солдат | E58: =UPPER(LEFT([1]Аркуш5!A61,FIND(" ",[1]Аркуш5!A61)-1)) & MID([1]Аркуш5!A61,FIND(" ",[1]Аркуш5!A61),LEN([1]Аркуш5!A61)) -> КАТЕРУША Ярослав Ігорович
...

Sheet Лист1
A1: солдат | B1: АЙБ Руслан Ігорович
A2: солдат | B2: АНТОНОВИЧ В'ячеслав Васильович
A3: солдат | B3: БАЗИЛЕВИЧ Максим Олександрович
A4: солдат | B4: БАЛАЦЬКИЙ Микола Анатолійович
A5: ст. матрос | B5: БАРАБАШ Олександр Сергійович
A6: солдат | B6: БАТУРА Віктор Сергійович
A7: солдат | B7: БЕЛІНСЬКИЙ Сергій Юрійович
A8: солдат | B8: БЕРЕЖНИЙ Євгеній Олегович
A9: солдат | B9: БІЛОУС Сергій Олегович
A10: солдат | B10: БІРЮКОВ Євген Анатолійович
A11: солдат | B11: БОБРОВСЬКИЙ Олександр Іванович
A12: солдат | B12: БОНДАРЕНКО Роман Ігорович
... A172: солдат | B172: РУДИЧ Євгеній Костянтинович

Sheet Лист2
A1: 1 | B1: солдат | C1: АЛЕКСІЄНКО Єгор Вікторович
A2: 2 | B2: солдат | C2: АМАДОР Євген Сесарович
A3: 3 | B3: солдат | C3: АНДРІЄЧКО Дмитро Ярославович
A4: 4 | B4: солдат | C4: АРТЕМОВ Олег В'ячеславович
A5: 5 | B5: солдат | C5: БАБІЧ Микола Юрійович
A6: 6 | B6: солдат | C6: БАЛАН Денис Сергійович
A7: 7 | B7: солдат | C7: БЕДНАРСЬКИЙ Назарій Тарасович
A8: 8 | B8: солдат | C8: БЕЗКОРОВАЙНИЙ Володимир Васильович
A9: 9 | B9: солдат | C9: БЕКЕТОВ МАКСИМ Володимирович
A10: 10 | B10: солдат | C10: БЕНДОВСЬКИЙ Ігор Віталійович
A11: 11 | B11: солдат | C11: БЕРЕЖНИЙ Сергій Григорович
A12: 12 | B12: солдат | C12: БИКОВЕЦЬ Антон Романович
... A145: 145 | B145: солдат | C145: ЯВДОХАЧ Андрій Володимирович
