Workbook
Name _Hlk154059476: Аркуш2!$A$9
Name _Hlk197690086: Лист1!#REF!
Name _Hlk199841210: Лист1!#REF!
Name OLE_LINK1: Лист1!$A$6
Name OLE_LINK18: Лист1!$A$156
Name дата_проведення_заняття: 45761

Sheet Аркуш1
A1: № п/п | B1: військове звання | C1: ПІП | D1: Номер телефону | E1: 45311 | F1: 45312 | G1: 45313 | H1: 45314 | I1: 45315 | J1: 45316 | K1: 45317 | L1: 45318 | M1: 45319 | N1: 45320 | O1: 45321 | P1: 45322
A2: 1 | B2: старший лейтенант | C2: СТЕПАНЮК Д. М. | D2: +38(097) 740 1325
A3: 2 | B3: молодший сержант | C3: ПОТАПОВ О. Є. | D3: +38(063) 632 6316
A4: 3 | B4: молодший сержант | C4: ГЕНЗЕЛЬ Б. Г. | D4: +38(096) 057 6993
A5: 4 | B5: сержант | C5: ГУЗОВСЬКИЙ П. Й. | D5: +38(098) 701 5944
A6: 5 | B6: сержант | C6: СІПРАК В. С. | D6: +38(093) 544 5914
A7: 6 | B7: головний сержант | C7: ДУДАРОВ Р. Р. | D7: +38(063) 105 2259
A8: 7 | B8: молодший лейтенант | C8: ДЕМЯНЧУК Н.В. | D8: +38(097) 742 7783

Sheet Аркуш2
A1: ВІДОМІСТЬ
A2: складання заліку зі знань вимог безпеки під час проведення занять з вогневої, тактичної та психологічної підготовки
A3: Військова частина: А2900
A4: Підрозділ: 1 навчальна рота 1 навчального батальйону в/ч А2900
D5: 21.03.2026 року
A6: № | B6: Дата (число, місяць, рік) проведення інструктажу | C6: Посада особи, яку інструктують | D6: Військове звання | E6: Прізвище та ініціали | F6: Причина проведення інструктажу | G6: Підпис особи, яку інструктують | H6: Посада, військове звання, прізвище та ініціали, підпис особи, яка проводила інструктаж
A7: з/п
A8: 1 | B8: 2 | C8: 3 | D8: 4 | E8: 5 | F8: 6 | G8: 7 | H8: 8
A9: 1 | B9: 46101 | C9: курсант | D9: солдат | E9: =UPPER(LEFT([1]Аркуш5!A10,FIND(" ",[1]Аркуш5!A10)-1)) & MID([1]Аркуш5!A10,FIND(" ",[1]Аркуш5!A10),LEN([1]Аркуш5!A10)) -> АБРАМЯН Артур Маратович | F9: Ознайомлення з інструкціями по заходам безпеки під час проведення занять з вогневої, тактичної та психологічної підготовки | H9: Командир 1 навчальної роти 1 навчального батальйону майор Д. СТЕПАНЮК 20.03. 2026 року
A10: 2 | B10: 46101 | C10: курсант | D10: солдат | E10: =UPPER(LEFT([1]Аркуш5!A11,FIND(" ",[1]Аркуш5!A11)-1)) & MID([1]Аркуш5!A11,FIND(" ",[1]Аркуш5!A11),LEN([1]Аркуш5!A11)) -> АВРАМЕНКО Андрій Миколайович
A11: 3 | B11: 46101 | C11: курсант | D11: солдат | E11: =UPPER(LEFT([1]Аркуш5!A12,FIND(" ",[1]Аркуш5!A12)-1)) & MID([1]Аркуш5!A12,FIND(" ",[1]Аркуш5!A12),LEN([1]Аркуш5!A12)) -> АЛЕКСЕНКО Іван Миколайович
A12: 4 | B12: 46101 | C12: курсант | D12: солдат | E12: =UPPER(LEFT([1]Аркуш5!A13,FIND(" ",[1]Аркуш5!A13)-1)) & MID([1]Аркуш5!A13,FIND(" ",[1]Аркуш5!A13),LEN([1]Аркуш5!A13)) -> АЛІЄВ Парвіз Натікбєкович
A13: 5 | B13: 46101 | C13: курсант | D13: солдат | E13: =UPPER(LEFT([1]Аркуш5!A14,FIND(" ",[1]Аркуш5!A14)-1)) & MID([1]Аркуш5!A14,FIND(" ",[1]Аркуш5!A14),LEN([1]Аркуш5!A14)) -> АНДРУШКО Вадим Валентинович
A14: 6 | B14: 46101 | C14: курсант | D14: солдат | E14: =UPPER(LEFT([1]Аркуш5!A15,FIND(" ",[1]Аркуш5!A15)-1)) & MID([1]Аркуш5!A15,FIND(" ",[1]Аркуш5!A15),LEN([1]Аркуш5!A15)) -> АНІСІМОВ Сергій Леонідович
A15: 7 | B15: 46101 | C15: курсант | D15: солдат | E15: =UPPER(LEFT([1]Аркуш5!A16,FIND(" ",[1]Аркуш5!A16)-1)) & MID([1]Аркуш5!A16,FIND(" ",[1]Аркуш5!A16),LEN([1]Аркуш5!A16)) -> АНТОНЮК Дмитро Русланович
A16: 8 | B16: 46101 | C16: курсант | D16: солдат | E16: =UPPER(LEFT([1]Аркуш5!A17,FIND(" ",[1]Аркуш5!A17)-1)) & MID([1]Аркуш5!A17,FIND(" ",[1]Аркуш5!A17),LEN([1]Аркуш5!A17)) -> БАБИЧ Андрій Васильович
A17: 9 | B17: 46101 | C17: курсант | D17: солдат | E17: =UPPER(LEFT([1]Аркуш5!A18,FIND(" ",[1]Аркуш5!A18)-1)) & MID([1]Аркуш5!A18,FIND(" ",[1]Аркуш5!A18),LEN([1]Аркуш5!A18)) -> БАСКАКОВ Павло Анатолійович
A18: 10 | B18: 46101 | C18: курсант | D18: солдат | E18: =UPPER(LEFT([1]Аркуш5!A20,FIND(" ",[1]Аркуш5!A20)-1)) & MID([1]Аркуш5!A20,FIND(" ",[1]Аркуш5!A20),LEN([1]Аркуш5!A20)) -> БІЛОУСОВ Сергій Вікторович
A19: 11 | B19: 46101 | C19: курсант | D19: солдат | E19: =UPPER(LEFT([1]Аркуш5!A21,FIND(" ",[1]Аркуш5!A21)-1)) & MID([1]Аркуш5!A21,FIND(" ",[1]Аркуш5!A21),LEN([1]Аркуш5!A21)) -> БОЙКО Геннадій Володимирович
A20: 12 | B20: 46101 | C20: курсант | D20: солдат | E20: =UPPER(LEFT([1]Аркуш5!A22,FIND(" ",[1]Аркуш5!A22)-1)) & MID([1]Аркуш5!A22,FIND(" ",[1]Аркуш5!A22),LEN([1]Аркуш5!A22)) -> БОЛЬШАКОВ Костянтин Євгенович
A21: 13 | B21: 46101 | C21: курсант | D21: солдат | E21: =UPPER(LEFT([1]Аркуш5!A23,FIND(" ",[1]Аркуш5!A23)-1)) & MID([1]Аркуш5!A23,FIND(" ",[1]Аркуш5!A23),LEN([1]Аркуш5!A23)) -> БОНДАР Андрій Васильович
A22: 14 | B22: 46101 | C22: курсант | D22: солдат | E22: =UPPER(LEFT([1]Аркуш5!A24,FIND(" ",[1]Аркуш5!A24)-1)) & MID([1]Аркуш5!A24,FIND(" ",[1]Аркуш5!A24),LEN([1]Аркуш5!A24)) -> БОРИСОВ Дмитро Сергійович
A23: 15 | B23: 46101 | C23: курсант | D23: солдат | E23: =UPPER(LEFT([1]Аркуш5!A25,FIND(" ",[1]Аркуш5!A25)-1)) & MID([1]Аркуш5!A25,FIND(" ",[1]Аркуш5!A25),LEN([1]Аркуш5!A25)) -> БОРОДАВКО Віталій Михайлович
A24: 16 | B24: 46101 | C24: курсант | D24: солдат | E24: =UPPER(LEFT([1]Аркуш5!A26,FIND(" ",[1]Аркуш5!A26)-1)) & MID([1]Аркуш5!A26,FIND(" ",[1]Аркуш5!A26),LEN([1]Аркуш5!A26)) -> БРИСКІН Денис Сергійович
A25: 17 | B25: 46101 | C25: курсант | D25: солдат | E25: =UPPER(LEFT([1]Аркуш5!A27,FIND(" ",[1]Аркуш5!A27)-1)) & MID([1]Аркуш5!A27,FIND(" ",[1]Аркуш5!A27),LEN([1]Аркуш5!A27)) -> БРОДОВСЬКИЙ Вадим Феліксович
A26: 18 | B26: 46101 | C26: курсант | D26: солдат | E26: =UPPER(LEFT([1]Аркуш5!A28,FIND(" ",[1]Аркуш5!A28)-1)) & MID([1]Аркуш5!A28,FIND(" ",[1]Аркуш5!A28),LEN([1]Аркуш5!A28)) -> БРУЯКА Максим Юрійович
A27: 19 | B27: 46101 | C27: курсант | D27: солдат | E27: =UPPER(LEFT([1]Аркуш5!A29,FIND(" ",[1]Аркуш5!A29)-1)) & MID([1]Аркуш5!A29,FIND(" ",[1]Аркуш5!A29),LEN([1]Аркуш5!A29)) -> БУРКОВЦОВ Андрій Юрійович
A28: 20 | B28: 46101 | C28: курсант | D28: солдат | E28: =UPPER(LEFT([1]Аркуш5!A30,FIND(" ",[1]Аркуш5!A30)-1)) & MID([1]Аркуш5!A30,FIND(" ",[1]Аркуш5!A30),LEN([1]Аркуш5!A30)) -> БУТКО Руслан Павлович
A29: 21 | B29: 46101 | C29: курсант | D29: солдат | E29: =UPPER(LEFT([1]Аркуш5!A31,FIND(" ",[1]Аркуш5!A31)-1)) & MID([1]Аркуш5!A31,FIND(" ",[1]Аркуш5!A31),LEN([1]Аркуш5!A31)) -> ВАСИЛЬЧЕНКО Сергій Анатолійович
... A48: 40 | B48: 46101 | C48: курсант | D48: солдат | E48: =UPPER(LEFT([1]Аркуш5!A50,FIND(" ",[1]Аркуш5!A50)-1)) & MID([1]Аркуш5!A50,FIND(" ",[1]Аркуш5!A50),LEN([1]Аркуш5!A50)) -> ДЕРКАЧ Антон Олександрович
A49: 42 | B49: 46101 | C49: курсант | D49: солдат | E49: =UPPER(LEFT([1]Аркуш5!A52,FIND(" ",[1]Аркуш5!A52)-1)) & MID([1]Аркуш5!A52,FIND(" ",[1]Аркуш5!A52),LEN([1]Аркуш5!A52)) -> ЄРМАКОВ Дмитро Олександрович
A50: 43 | B50: 46101 | C50: курсант | D50: ст. солдат | E50: =UPPER(LEFT([1]Аркуш5!A53,FIND(" ",[1]Аркуш5!A53)-1)) & MID([1]Аркуш5!A53,FIND(" ",[1]Аркуш5!A53),LEN([1]Аркуш5!A53)) -> ЖЕРЕБЦОВ Данило Вадимович
A51: 44 | B51: 46101 | C51: курсант | D51: солдат | E51: =UPPER(LEFT([1]Аркуш5!A54,FIND(" ",[1]Аркуш5!A54)-1)) & MID([1]Аркуш5!A54,FIND(" ",[1]Аркуш5!A54),LEN([1]Аркуш5!A54)) -> ЗАБАЙРАЧНИЙ Антон Валерійович
A52: 45 | B52: 46101 | C52: курсант | D52: солдат | E52: =UPPER(LEFT([1]Аркуш5!A55,FIND(" ",[1]Аркуш5!A55)-1)) & MID([1]Аркуш5!A55,FIND(" ",[1]Аркуш5!A55),LEN([1]Аркуш5!A55)) -> ЗАЇКА Віталій Олександрович | F52: Ознайомлення з інструкціями по заходам безпеки під час проведення занять з вогневої, тактичної та психологічної підготовки | H52: Командир 1 навчальної роти 1 навчального батальйону майор Д. СТЕПАНЮК 20.03.2026 року
A53: 46 | B53: 46101 | C53: курсант | D53: солдат | E53: =UPPER(LEFT([1]Аркуш5!A56,FIND(" ",[1]Аркуш5!A56)-1)) & MID([1]Аркуш5!A56,FIND(" ",[1]Аркуш5!A56),LEN([1]Аркуш5!A56)) -> ЗВАДА Микита Іванович
A54: 47 | B54: 46101 | C54: курсант | D54: солдат | E54: =UPPER(LEFT([1]Аркуш5!A57,FIND(" ",[1]Аркуш5!A57)-1)) & MID([1]Аркуш5!A57,FIND(" ",[1]Аркуш5!A57),LEN([1]Аркуш5!A57)) -> ЗВЯГІНЦЕВ Вадим Сергійович
A55: 48 | B55: 46101 | C55: курсант | D55: солдат | E55: =UPPER(LEFT([1]Аркуш5!A58,FIND(" ",[1]Аркуш5!A58)-1)) & MID([1]Аркуш5!A58,FIND(" ",[1]Аркуш5!A58),LEN([1]Аркуш5!A58)) -> ЗУБКО Андрій Валерійович
A56: 49 | B56: 46101 | C56: курсант | D56: солдат | E56: =UPPER(LEFT([1]Аркуш5!A59,FIND(" ",[1]Аркуш5!A59)-1)) & MID([1]Аркуш5!A59,FIND(" ",[1]Аркуш5!A59),LEN([1]Аркуш5!A59)) -> КАЛЬЧЕНКО Олександр Іванович
A57: 50 | B57: 46101 | C57: курсант | D57: солдат | E57: =UPPER(LEFT([1]Аркуш5!A60,FIND(" ",[1]Аркуш5!A60)-1)) & MID([1]Аркуш5!A60,FIND(" ",[1]Аркуш5!A60),LEN([1]Аркуш5!A60)) -> КАМІНСЬКИЙ Андрій Михайлович
A58: 51 | B58: 46101 | C58: курсант | D58: солдат | E58: =UPPER(LEFT([1]Аркуш5!A61,FIND(" ",[1]Аркуш5!A61)-1)) & MID([1]Аркуш5!A61,FIND(" ",[1]Аркуш5!A61),LEN([1]Аркуш5!A61)) -> КАТЕРУША Ярослав Ігорович
A59: 52 | B59: 46101 | C59: курсант | D59: солдат | E59: =UPPER(LEFT([1]Аркуш5!A62,FIND(" ",[1]Аркуш5!A62)-1)) & MID([1]Аркуш5!A62,FIND(" ",[1]Аркуш5!A62),LEN([1]Аркуш5!A62)) -> КАЧУРА Олексій Олександрович
A60: 53 | B60: 46101 | C60: курсант | D60: солдат | E60: =UPPER(LEFT([1]Аркуш5!A63,FIND(" ",[1]Аркуш5!A63)-1)) & MID([1]Аркуш5!A63,FIND(" ",[1]Аркуш5!A63),LEN([1]Аркуш5!A63)) -> КВАША Сергій Анатолійович
A61: 54 | B61: 46101 | C61: курсант | D61: солдат | E61: =UPPER(LEFT([1]Аркуш5!A64,FIND(" ",[1]Аркуш5!A64)-1)) & MID([1]Аркуш5!A64,FIND(" ",[1]Аркуш5!A64),LEN([1]Аркуш5!A64)) -> КЛИМЕНЧЕНКО Максим Анатолійович
A62: 55 | B62: 46101 | C62: курсант | D62: солдат | E62: =UPPER(LEFT([1]Аркуш5!A65,FIND(" ",[1]Аркуш5!A65)-1)) & MID([1]Аркуш5!A65,FIND(" ",[1]Аркуш5!A65),LEN([1]Аркуш5!A65)) -> КНЯЗЄВ Олексадр Олексійович
A63: 56 | B63: 46101 | C63: курсант | D63: солдат | E63: =UPPER(LEFT([1]Аркуш5!A66,FIND(" ",[1]Аркуш5!A66)-1)) & MID([1]Аркуш5!A66,FIND(" ",[1]Аркуш5!A66),LEN([1]Аркуш5!A66)) -> КОВАЛЕНКО Анатолій Григорович
A64: 57 | B64: 46101 | C64: курсант | D64: солдат | E64: =UPPER(LEFT([1]Аркуш5!A67,FIND(" ",[1]Аркуш5!A67)-1)) & MID([1]Аркуш5!A67,FIND(" ",[1]Аркуш5!A67),LEN([1]Аркуш5!A67)) -> КОВАЛЕНКО Дмитро Валентинович
... A101: 94 | B101: 46101 | C101: курсант | D101: солдат | E101: =UPPER(LEFT([1]Аркуш5!A104,FIND(" ",[1]Аркуш5!A104)-1)) & MID([1]Аркуш5!A104,FIND(" ",[1]Аркуш5!A104),LEN([1]Аркуш5!A104)) -> РІЗНИЧОК Ігор Миколайович
A102: 95 | B102: 46101 | C102: курсант | D102: солдат | E102: =UPPER(LEFT([1]Аркуш5!A106,FIND(" ",[1]Аркуш5!A106)-1)) & MID([1]Аркуш5!A106,FIND(" ",[1]Аркуш5!A106),LEN([1]Аркуш5!A106)) -> САДИКА Роман Олександрович
A103: 96 | B103: 46101 | C103: курсант | D103: солдат | E103: =UPPER(LEFT([1]Аркуш5!A107,FIND(" ",[1]Аркуш5!A107)-1)) & MID([1]Аркуш5!A107,FIND(" ",[1]Аркуш5!A107),LEN([1]Аркуш5!A107)) -> САРДАЧУК Олексій Вікторович
A104: 97 | B104: 46101 | C104: курсант | D104: солдат | E104: =UPPER(LEFT([1]Аркуш5!A108,FIND(" ",[1]Аркуш5!A108)-1)) & MID([1]Аркуш5!A108,FIND(" ",[1]Аркуш5!A108),LEN([1]Аркуш5!A108)) -> СКАНДАКОВ Віталій Олександрович
A105: 98 | B105: 46101 | C105: курсант | D105: солдат | E105: =UPPER(LEFT([1]Аркуш5!A109,FIND(" ",[1]Аркуш5!A109)-1)) & MID([1]Аркуш5!A109,FIND(" ",[1]Аркуш5!A109),LEN([1]Аркуш5!A109)) -> СКРОМІНСЬКИЙ Ярослав Вікторович
A106: 99 | B106: 46101 | C106: курсант | D106: солдат | E106: =UPPER(LEFT([1]Аркуш5!A110,FIND(" ",[1]Аркуш5!A110)-1)) & MID([1]Аркуш5!A110,FIND(" ",[1]Аркуш5!A110),LEN([1]Аркуш5!A110)) -> СОЛОВЙОВ Роман Ленідович | F106: Ознайомлення з інструкціями по заходам безпеки під час проведення занять з вогневої, тактичної та психологічної підготовки | H106: Командир 1 навчальної роти 1 навчального батальйону майор Д. СТЕПАНЮК 20.03.2026 року
A107: 100 | B107: 46101 | C107: курсант | D107: солдат | E107: =UPPER(LEFT([1]Аркуш5!A111,FIND(" ",[1]Аркуш5!A111)-1)) & MID([1]Аркуш5!A111,FIND(" ",[1]Аркуш5!A111),LEN([1]Аркуш5!A111)) -> СОМОК Олег Михайлович
A108: 101 | B108: 46101 | C108: курсант | D108: солдат | E108: =UPPER(LEFT([1]Аркуш5!A112,FIND(" ",[1]Аркуш5!A112)-1)) & MID([1]Аркуш5!A112,FIND(" ",[1]Аркуш5!A112),LEN([1]Аркуш5!A112)) -> СОРОКІН Олег Павлович
A109: 102 | B109: 46101 | C109: курсант | D109: солдат | E109: =UPPER(LEFT([1]Аркуш5!A113,FIND(" ",[1]Аркуш5!A113)-1)) & MID([1]Аркуш5!A113,FIND(" ",[1]Аркуш5!A113),LEN([1]Аркуш5!A113)) -> СТЕПАНЦОВ Олександр Васильович
A110: 103 | B110: 46101 | C110: курсант | D110: солдат | E110: =UPPER(LEFT([1]Аркуш5!A114,FIND(" ",[1]Аркуш5!A114)-1)) & MID([1]Аркуш5!A114,FIND(" ",[1]Аркуш5!A114),LEN([1]Аркуш5!A114)) -> СТОЖОК Єгор Сергійович
A111: 104 | B111: 46101 | C111: курсант | D111: солдат | E111: =UPPER(LEFT([1]Аркуш5!A115,FIND(" ",[1]Аркуш5!A115)-1)) & MID([1]Аркуш5!A115,FIND(" ",[1]Аркуш5!A115),LEN([1]Аркуш5!A115)) -> СТУПАК Олександр Валерійович
A112: 105 | B112: 46101 | C112: курсант | D112: солдат | E112: =UPPER(LEFT([1]Аркуш5!A116,FIND(" ",[1]Аркуш5!A116)-1)) & MID([1]Аркуш5!A116,FIND(" ",[1]Аркуш5!A116),LEN([1]Аркуш5!A116)) -> СУДАРЕНКО Владислав Володимирович
A113: 106 | B113: 46101 | C113: курсант | D113: солдат | E113: =UPPER(LEFT([1]Аркуш5!A117,FIND(" ",[1]Аркуш5!A117)-1)) & MID([1]Аркуш5!A117,FIND(" ",[1]Аркуш5!A117),LEN([1]Аркуш5!A117)) -> СУКРУТ Олександр Миколайович
A114: 107 | B114: 46101 | C114: курсант | D114: солдат | E114: =UPPER(LEFT([1]Аркуш5!A118,FIND(" ",[1]Аркуш5!A118)-1)) & MID([1]Аркуш5!A118,FIND(" ",[1]Аркуш5!A118),LEN([1]Аркуш5!A118)) -> ТАРАСОВ Максим Миколайович
A115: 108 | B115: 46101 | C115: курсант | D115: солдат | E115: =UPPER(LEFT([1]Аркуш5!A119,FIND(" ",[1]Аркуш5!A119)-1)) & MID([1]Аркуш5!A119,FIND(" ",[1]Аркуш5!A119),LEN([1]Аркуш5!A119)) -> ТЕМЕНИК Андрій Володимирович
A116: 109 | B116: 46101 | C116: курсант | D116: солдат | E116: =UPPER(LEFT([1]Аркуш5!A120,FIND(" ",[1]Аркуш5!A120)-1)) & MID([1]Аркуш5!A120,FIND(" ",[1]Аркуш5!A120),LEN([1]Аркуш5!A120)) -> ТЕРЕШИН Сергій Валерійович
A117: 110 | B117: 46101 | C117: курсант | D117: ст. солдат | E117: =UPPER(LEFT([1]Аркуш5!A121,FIND(" ",[1]Аркуш5!A121)-1)) & MID([1]Аркуш5!A121,FIND(" ",[1]Аркуш5!A121),LEN([1]Аркуш5!A121)) -> ТЕРНЮК Андрій Олексійович
A118: 111 | B118: 46101 | C118: курсант | D118: солдат | E118: =UPPER(LEFT([1]Аркуш5!A122,FIND(" ",[1]Аркуш5!A122)-1)) & MID([1]Аркуш5!A122,FIND(" ",[1]Аркуш5!A122),LEN([1]Аркуш5!A122)) -> ТИМЧЕНКО Олександр Олександрович
A119: 112 | B119: 46101 | C119: курсант | D119: солдат | E119: =UPPER(LEFT([1]Аркуш5!A123,FIND(" ",[1]Аркуш5!A123)-1)) & MID([1]Аркуш5!A123,FIND(" ",[1]Аркуш5!A123),LEN([1]Аркуш5!A123)) -> ТОДОРОВСЬКИЙ Дмитрій Анатолійович
A120: 114 | B120: 46101 | C120: курсант | D120: мол. с-нт | E120: =UPPER(LEFT([1]Аркуш5!A125,FIND(" ",[1]Аркуш5!A125)-1)) & MID([1]Аркуш5!A125,FIND(" ",[1]Аркуш5!A125),LEN([1]Аркуш5!A125)) -> ТРИЗНА Максим Геннадійович
A121: 115 | B121: 46101 | C121: курсант | D121: солдат | E121: =UPPER(LEFT([1]Аркуш5!A126,FIND(" ",[1]Аркуш5!A126)-1)) & MID([1]Аркуш5!A126,FIND(" ",[1]Аркуш5!A126),LEN([1]Аркуш5!A126)) -> ФЕДОРОВ Вадим Юрійович
A122: 116 | B122: 46101 | C122: курсант | D122: солдат | E122: =UPPER(LEFT([1]Аркуш5!A127,FIND(" ",[1]Аркуш5!A127)-1)) & MID([1]Аркуш5!A127,FIND(" ",[1]Аркуш5!A127),LEN([1]Аркуш5!A127)) -> ФЕДЧУН Віктор Миколайович
A123: 117 | B123: 46101 | C123: курсант | D123: солдат | E123: =UPPER(LEFT([1]Аркуш5!A128,FIND(" ",[1]Аркуш5!A128)-1)) & MID([1]Аркуш5!A128,FIND(" ",[1]Аркуш5!A128),LEN([1]Аркуш5!A128)) -> ФЕЛТИН Роман Миколайович
A124: 118 | B124: 46101 | C124: курсант | D124: солдат | E124: =UPPER(LEFT([1]Аркуш5!A129,FIND(" ",[1]Аркуш5!A129)-1)) & MID([1]Аркуш5!A129,FIND(" ",[1]Аркуш5!A129),LEN([1]Аркуш5!A129)) -> ФЕЩУК Олександр Олександрович
A125: 119 | B125: 46101 | C125: курсант | D125: ст. солдат | E125: =UPPER(LEFT([1]Аркуш5!A130,FIND(" ",[1]Аркуш5!A130)-1)) & MID([1]Аркуш5!A130,FIND(" ",[1]Аркуш5!A130),LEN([1]Аркуш5!A130)) -> ФІЛОНЕНКО Анатолій Анатолійович
A126: 120 | B126: 46101 | C126: курсант | D126: солдат | E126: =UPPER(LEFT([1]Аркуш5!A131,FIND(" ",[1]Аркуш5!A131)-1)) & MID([1]Аркуш5!A131,FIND(" ",[1]Аркуш5!A131),LEN([1]Аркуш5!A131)) -> ХВЕЩУК Дмитро Володимирович
A127: 121 | B127: 46101 | C127: курсант | D127: солдат | E127: =UPPER(LEFT([1]Аркуш5!A132,FIND(" ",[1]Аркуш5!A132)-1)) & MID([1]Аркуш5!A132,FIND(" ",[1]Аркуш5!A132),LEN([1]Аркуш5!A132)) -> ЧЕРНЕЦЬКИЙ Олександр Володимирович
A128: 122 | B128: 46101 | C128: курсант | D128: солдат | E128: =UPPER(LEFT([1]Аркуш5!A133,FIND(" ",[1]Аркуш5!A133)-1)) & MID([1]Аркуш5!A133,FIND(" ",[1]Аркуш5!A133),LEN([1]Аркуш5!A133)) -> ЧІКАЛОВ Богдан Володимирович
A129: 123 | B129: 46101 | C129: курсант | D129: солдат | E129: =UPPER(LEFT([1]Аркуш5!A134,FIND(" ",[1]Аркуш5!A134)-1)) & MID([1]Аркуш5!A134,FIND(" ",[1]Аркуш5!A134),LEN([1]Аркуш5!A134)) -> ШАКАЛО Олександр Леонідович
A130: 124 | B130: 46101 | C130: курсант | D130: солдат | E130: =UPPER(LEFT([1]Аркуш5!A135,FIND(" ",[1]Аркуш5!A135)-1)) & MID([1]Аркуш5!A135,FIND(" ",[1]Аркуш5!A135),LEN([1]Аркуш5!A135)) -> ШАПОВАЛ Анатолій Борисович
A131: 125 | B131: 46101 | C131: курсант | D131: солдат | E131: =UPPER(LEFT([1]Аркуш5!A136,FIND(" ",[1]Аркуш5!A136)-1)) & MID([1]Аркуш5!A136,FIND(" ",[1]Аркуш5!A136),LEN([1]Аркуш5!A136)) -> ШЕВЧЕНКО Павло Миколайович
... A140: 134 | B140: 46101 | C140: курсант | D140: солдат | E140: =UPPER(LEFT([1]Аркуш5!A145,FIND(" ",[1]Аркуш5!A145)-1)) & MID([1]Аркуш5!A145,FIND(" ",[1]Аркуш5!A145),LEN([1]Аркуш5!A145)) -> ЯНЦ Сергій Геннадійович
A141: 136 | B141: 46101 | C141: курсант | D141: солдат | E141: =UPPER(LEFT([1]Аркуш5!A147,FIND(" ",[1]Аркуш5!A147)-1)) & MID([1]Аркуш5!A147,FIND(" ",[1]Аркуш5!A147),LEN([1]Аркуш5!A147)) -> САВИЦЬКИЙ Олексій Васильович
A142: 137 | B142: 46101 | C142: курсант | D142: солдат | E142: =UPPER(LEFT([1]Аркуш5!A148,FIND(" ",[1]Аркуш5!A148)-1)) & MID([1]Аркуш5!A148,FIND(" ",[1]Аркуш5!A148),LEN([1]Аркуш5!A148)) -> РЕДЬКО Вадим Юрійович
A143: 138 | B143: 46101 | C143: курсант | D143: солдат | E143: =UPPER(LEFT([1]Аркуш5!A1,FIND(" ",[1]Аркуш5!A1)-1)) & MID([1]Аркуш5!A1,FIND(" ",[1]Аркуш5!A1),LEN([1]Аркуш5!A1)) -> БЕЗВЕРХИЙ Микола Олександрович
A144: 139 | B144: 46101 | C144: курсант | D144: солдат | E144: =UPPER(LEFT([1]Аркуш5!A2,FIND(" ",[1]Аркуш5!A2)-1)) & MID([1]Аркуш5!A2,FIND(" ",[1]Аркуш5!A2),LEN([1]Аркуш5!A2)) -> БУХОВСЬКИЙ Леонід Валентинович
A145: 140 | B145: 46101 | C145: курсант | D145: солдат | E145: =UPPER(LEFT([1]Аркуш5!A3,FIND(" ",[1]Аркуш5!A3)-1)) & MID([1]Аркуш5!A3,FIND(" ",[1]Аркуш5!A3),LEN([1]Аркуш5!A3)) -> ДИНЬКА Дмитро Олександрович
A146: 141 | B146: 46101 | C146: курсант | D146: солдат | E146: =UPPER(LEFT([1]Аркуш5!A4,FIND(" ",[1]Аркуш5!A4)-1)) & MID([1]Аркуш5!A4,FIND(" ",[1]Аркуш5!A4),LEN([1]Аркуш5!A4)) -> ДРОЗД Ігор Анатолійович
A147: 142 | B147: 46101 | C147: курсант | D147: солдат | E147: =UPPER(LEFT([1]Аркуш5!A5,FIND(" ",[1]Аркуш5!A5)-1)) & MID([1]Аркуш5!A5,FIND(" ",[1]Аркуш5!A5),LEN([1]Аркуш5!A5)) -> КОСЮК Максим Васильович
A148: 143 | B148: 46101 | C148: курсант | D148: солдат | E148: =UPPER(LEFT([1]Аркуш5!A6,FIND(" ",[1]Аркуш5!A6)-1)) & MID([1]Аркуш5!A6,FIND(" ",[1]Аркуш5!A6),LEN([1]Аркуш5!A6)) -> ПЯСЕЦЬКИЙ Віталій Анатолійович
A149: 144 | B149: 46101 | C149: курсант | D149: солдат | E149: =UPPER(LEFT([1]Аркуш5!A7,FIND(" ",[1]Аркуш5!A7)-1)) & MID([1]Аркуш5!A7,FIND(" ",[1]Аркуш5!A7),LEN([1]Аркуш5!A7)) -> РОМАНЮК Сергій Дмитрович
A150: 145 | B150: 46101 | C150: курсант | D150: солдат | E150: =UPPER(LEFT([1]Аркуш5!A8,FIND(" ",[1]Аркуш5!A8)-1)) & MID([1]Аркуш5!A8,FIND(" ",[1]Аркуш5!A8),LEN([1]Аркуш5!A8)) -> РУСНЯК Денис Олександрович
A151: 146 | B151: 46101 | C151: курсант | D151: солдат | E151: =UPPER(LEFT([1]Аркуш5!A9,FIND(" ",[1]Аркуш5!A9)-1)) & MID([1]Аркуш5!A9,FIND(" ",[1]Аркуш5!A9),LEN([1]Аркуш5!A9)) -> ЦИГАНЧУК Віталій Сергійович
A152: 147 | B152: 46101 | C152: курсант
A153: 148 | B153: 46101 | C153: курсант
A154: 149 | B154: 46101 | C154: курсант
A155: 150 | B155: 46101 | C155: курсант
A158: Командир 1 навчальної роти 1 навчального батальйону
A159: майор | F159: Д. СТЕПАНЮК
A160: 46102

Sheet Лист1
A1: солдат | B1: АЙБ Руслан Ігорович
A2: солдат | B2: АНТОНОВИЧ В'ячеслав Васильович
A3: солдат | B3: БАЗИЛЕВИЧ Максим Олександрович
A4: солдат | B4: БАЛАЦЬКИЙ Микола Анатолійович
A5: ст. матрос | B5: БАРАБАШ Олександр Сергійович
A6: солдат | B6: БАТУРА Віктор Сергійович
A7: солдат | B7: БЕЛІНСЬКИЙ Сергій Юрійович
A8: солдат | B8: БЕРЕЖНИЙ Євгеній Олегович
A9: солдат | B9: БІЛОУС Сергій Олегович
A10: солдат | B10: БІРЮКОВ Євген Анатолійович
A11: солдат | B11: БОБРОВСЬКИЙ Олександр Іванович
A12: солдат | B12: БОНДАРЕНКО Роман Ігорович
... A172: солдат | B172: РУДИЧ Євгеній Костянтинович

Sheet Лист2
A1: 1 | B1: солдат | C1: АЛЕКСІЄНКО Єгор Вікторович
A2: 2 | B2: солдат | C2: АМАДОР Євген Сесарович
A3: 3 | B3: солдат | C3: АНДРІЄЧКО Дмитро Ярославович
A4: 4 | B4: солдат | C4: АРТЕМОВ Олег В'ячеславович
A5: 5 | B5: солдат | C5: БАБІЧ Микола Юрійович
A6: 6 | B6: солдат | C6: БАЛАН Денис Сергійович
A7: 7 | B7: солдат | C7: БЕДНАРСЬКИЙ Назарій Тарасович
A8: 8 | B8: солдат | C8: БЕЗКОРОВАЙНИЙ Володимир Васильович
A9: 9 | B9: солдат | C9: БЕКЕТОВ МАКСИМ Володимирович
A10: 10 | B10: солдат | C10: БЕНДОВСЬКИЙ Ігор Віталійович
A11: 11 | B11: солдат | C11: БЕРЕЖНИЙ Сергій Григорович
A12: 12 | B12: солдат | C12: БИКОВЕЦЬ Антон Романович
... A145: 145 | B145: солдат | C145: ЯВДОХАЧ Андрій Володимирович
