Workbook

Sheet Основний
Y2: Додаток
Y3: (Форма 5.10. ОС)
C4: ДОНЕСЕННЯ
C5: про зарахування військовослужбовців військової служби за контрактом на навчання до навчального центру (ВВНЗ, ВНП ЗВО)
C6: військова частина А2900
C7: найменування навчального центру (ВВНЗ, ВНЗ ЗВО)
C9: 1. Список військовослужбовців військової служби за контрактом, які зараховані на навчання
A10: №ПС | B10: Дата ПС | C10: № з/п | D10: Військове звання | E10: {=SUMPRODUCT(--(TRIM(E12:E855)<>""))} -> 141 | F10: Військова частина, ТЦК та СП | G10: Місто | H10: Область | I10: Дата народження | J10: ідентифікаційний код | K10: військовий квиток | L10: Паспорт, ким і коли виданий | M10: Місце народження | N10: адреса (фактична) | O10: Рівень освіти | P10: Заклад який закінчив Рік закінчення Професія | Q10: Професійний досвід Права | R10: склад сім’ї | S10: № телефону | T10: ВОС (попередній) | U10: Спеціальність, за якою зарахований на навчання | X10: Дата зарахування | Y10: № наказу про зарахування | Z10: присяга | AA10: Дата висновку ВЛК | AB10: Придатність | AC10: Група крові | AD10: Примітка | AE10: =COUNT(AE12:AE9817) -> 53 | AF10: =COUNT(AF12:AF9817) -> 67 | AG10: =COUNT(AG12:AG9817) -> 18 | AH10: =IFERROR(AVERAGE(AE12:AG9817),0) -> 37.231884
U11: посада | V11: ВОС | W11: код посади | AE11: 25-35 | AF11: 36-45 | AG11: 46-50 | AH11: Середній вік
A12: 614 | B12: 26 лютого 2026 року | C12: 1 | D12: солдат | E12: Абрамян Артур Маратович | F12: Дарницького районного | H12: {=IF( ISBLANK(F12), "", IF( COUNTIF([1]Settings!G$1:G$609, F12) = 1, INDEX([1]Settings!H$1:H$609, MATCH(F12, [1]Settings!G$1:G$609, 0)), IFERROR( INDEX([1]Settings!H$1:H$609, MATCH(1, ([1]Settings!G$1:G$609=F12) * ([1]Settings!D$1:D$609=G12), 0 ) ), "" ) ) )} -> #VALUE! | I12: 36089 | J12: 3608804152 | K12: 040520251458450705269/1 | L12: ВТ 101396 Приморським РС у м. Маріуполі ГУ ДМС України в Донецькій області 12.06.2015 | M12: м. Донецьк | N12: м. Київ вул. Бориспільська, буд. 9, кв. 16 | O12: базова загальна середня | P12: Школа №62 м. Донецьк 2014 | Q12: водій таксі - 5 керівник закладу харчування - 1р Права B | R12: не одружений брат: Губаян Давид Арсенович - 1997 - 0979699989, м. Київ, вул. ? Брат: Губаян Арсен Арменович - 1996 - 0935538585 - м. Київ, вул. ? | S12: 633131383 | U12: курсант | V12: 100 | X12: 46079 | Y12: № 60 | Z12: =IF(E12="","",IF(T12="","ні","так")) -> ні | AA12: 46079 | AB12: Придатний до військової служби | AE12: =IF(AND(INT(YEARFRAC(I12,TODAY()))>=25,INT(YEARFRAC(I12,TODAY()))<=35),INT(YEARFRAC(I12,TODAY())),"") -> 27 | AF12: =IF(AND(INT(YEARFRAC(I12,TODAY()))>=36,INT(YEARFRAC(I12,TODAY()))<=45),INT(YEARFRAC(I12,TODAY())),"") | AG12: =IF(AND(INT(YEARFRAC(I12,TODAY()))>=46,INT(YEARFRAC(I12,TODAY()))<=50),INT(YEARFRAC(I12,TODAY())),"")
A13: 4/1868 | B13: 24 лютого 2026 року | C13: 2 | D13: солдат | E13: Авраменко Андрій Миколайович | F13: Чернігівського районного | G13: м. Городня | H13: {=IF( ISBLANK(F13), "", IF( COUNTIF([2]Settings!G$1:G$609, F13) = 1, INDEX([2]Settings!H$1:H$609, MATCH(F13, [2]Settings!G$1:G$609, 0)), IFERROR( INDEX([2]Settings!H$1:H$609, MATCH(1, ([2]Settings!G$1:G$609=F13) * ([2]Settings!D$1:D$609=G13), 0 ) ), "" ) ) )} -> #VALUE! | I13: 30851 | J13: 3085003094 | M13: Чернігівська обл., м. Городня | N13: Чернігівська обл., м. Городня, вул. Чернігівська, буд. 86, кв 1. | O13: Вища | P13: ХНУРЕ, 2006, радіотехніка | Q13: Програміст, 12 років Права B | R13: не одружений, мати: Авраменко Людмила Михайлівна, 1955, Чернігівська обл., м. Городня, вул. Чернігівська, буд. 86, кв 1, | S13: 0671971309 | U13: курсант | V13: 100 | X13: 46077 | Y13: № 58 | Z13: =IF(E13="","",IF(T13="","ні","так")) -> ні | AA13: 46077 | AB13: Придатний до військової служби | AE13: =IF(AND(INT(YEARFRAC(I13,TODAY()))>=25,INT(YEARFRAC(I13,TODAY()))<=35),INT(YEARFRAC(I13,TODAY())),"") | AF13: =IF(AND(INT(YEARFRAC(I13,TODAY()))>=36,INT(YEARFRAC(I13,TODAY()))<=45),INT(YEARFRAC(I13,TODAY())),"") -> 41 | AG13: =IF(AND(INT(YEARFRAC(I13,TODAY()))>=46,INT(YEARFRAC(I13,TODAY()))<=50),INT(YEARFRAC(I13,TODAY())),"")
A14: 1/2363 | B14: 23 лютого 2026 року | C14: 2 | D14: солдат | E14: Алексенко Іван Миколайович | F14: Ніжинського районного | G14: Бахмач | H14: {=IF( ISBLANK(F14), "", IF( COUNTIF([3]Settings!G$1:G$609, F14) = 1, INDEX([3]Settings!H$1:H$609, MATCH(F14, [3]Settings!G$1:G$609, 0)), IFERROR( INDEX([3]Settings!H$1:H$609, MATCH(1, ([3]Settings!G$1:G$609=F14) * ([3]Settings!D$1:D$609=G14), 0 ) ), "" ) ) )} -> #VALUE! | I14: 35604 | J14: 3560301717 | M14: Чернігівська обл., Карюківський р-н., с. Бондарівка | N14: Чернігівська обл. м. Бахмач, вул. Олени Теліги, буд. 36 | O14: середня спеціальна | P14: Конотопський аграрний ліцей, 2017, слюсар-механік | Q14: Водій, 4 роки Слюсар-механік, 4 роки Права: В, С | R14: одружений, дружина: Алексенко Катерина Анатоліївна, 1994, Чернігівська обл. м. Бахмач, вул. Олени Теліги, буд. 36 | S14: 0632905799 | U14: курсант | V14: 100 | X14: 46076 | Y14: № 57 | Z14: =IF(E14="","",IF(T14="","ні","так")) -> ні | AA14: 46076 | AB14: Придатний до військової служби | AC14: I Rh + | AE14: =IF(AND(INT(YEARFRAC(I14,TODAY()))>=25,INT(YEARFRAC(I14,TODAY()))<=35),INT(YEARFRAC(I14,TODAY())),"") -> 28 | AF14: =IF(AND(INT(YEARFRAC(I14,TODAY()))>=36,INT(YEARFRAC(I14,TODAY()))<=45),INT(YEARFRAC(I14,TODAY())),"") | AG14: =IF(AND(INT(YEARFRAC(I14,TODAY()))>=46,INT(YEARFRAC(I14,TODAY()))<=50),INT(YEARFRAC(I14,TODAY())),"")
A15: 260223-9 | B15: 23 лютого 2026 року | C15: 3 | D15: солдат | E15: Алієв Парвіз Натікбєкович | F15: Солом'янського районного | H15: {=IF( ISBLANK(F15), "", IF( COUNTIF([3]Settings!G$1:G$609, F15) = 1, INDEX([3]Settings!H$1:H$609, MATCH(F15, [3]Settings!G$1:G$609, 0)), IFERROR( INDEX([3]Settings!H$1:H$609, MATCH(1, ([3]Settings!G$1:G$609=F15) * ([3]Settings!D$1:D$609=G15), 0 ) ), "" ) ) )} -> #VALUE! | I15: 30443 | J15: 3044204097 | K15: АГ 629818 | L15: КС 160333 Київським РВ ДМУ УДМС УКР в Донецькій обл 09.08.2002 | M15: Азербайджан, м. Баку | N15: м. Київ, вул. Копилівська, буд. 30, кв. 54 | O15: вища | P15: Київський політехнічний Інститут, 2005 Київський економічний Інститут, 2002 електотехнік, економіка | Q15: інженер систем безпеки, 25 років Права: Б | R15: не одружений мати: Лал Різа Заде, 1956, м. Баку, Азербайджан | S15: 663135516 | U15: курсант | V15: 100 | X15: 46076 | Y15: № 57 | Z15: =IF(E15="","",IF(T15="","ні","так")) -> ні | AA15: 46076 | AB15: Придатний до військової служби | AC15: I Rh + | AE15: =IF(AND(INT(YEARFRAC(I15,TODAY()))>=25,INT(YEARFRAC(I15,TODAY()))<=35),INT(YEARFRAC(I15,TODAY())),"") | AF15: =IF(AND(INT(YEARFRAC(I15,TODAY()))>=36,INT(YEARFRAC(I15,TODAY()))<=45),INT(YEARFRAC(I15,TODAY())),"") -> 42 | AG15: =IF(AND(INT(YEARFRAC(I15,TODAY()))>=46,INT(YEARFRAC(I15,TODAY()))<=50),INT(YEARFRAC(I15,TODAY())),"")
A16: 2580 | B16: 27 лютого 2026 року | C16: 1 | D16: солдат | E16: Андрушко Вадим Валентинович | F16: Житомирського районного | H16: {=IF( ISBLANK(F16), "", IF( COUNTIF([4]Settings!G$1:G$609, F16) = 1, INDEX([4]Settings!H$1:H$609, MATCH(F16, [4]Settings!G$1:G$609, 0)), IFERROR( INDEX([4]Settings!H$1:H$609, MATCH(1, ([4]Settings!G$1:G$609=F16) * ([4]Settings!D$1:D$609=G16), 0 ) ), "" ) ) )} -> #VALUE! | I16: 33544 | J16: 3354308835 | K16: АГ 603287 | L16: ВН 424127 Вололдарсько-Волинським РВ УМВС в Житомирській області 20.05.2008 | M16: Житомирська обл., Житомирський р-н., смт. Нова Борова | N16: Житомирська обл., Житомирський р-н., смт. Нова Борова, вул. Незалежності, буд. 57 | O16: професійно- технічна | P16: Житомирське ПТУ №5, 2013, маляр-штукатур | Q16: будівельник, 10 років Права В | R16: одружений, дружина: Андрушко Юлія Анатоліївна, 1994, Житомирська обл., Житомирський р-н., смт. Нова Борова, вул. Незалежності, буд. 57 | S16: 982607646 | U16: курсант | V16: 100 | X16: 46080 | Y16: № 61 | Z16: =IF(E16="","",IF(T16="","ні","так")) -> ні | AA16: 46080 | AB16: Придатний до служби на підводних човнох, на надводних кораблях, у морській піхоті, Десантно-штурмових військах, спеціальних спорудах, підрозділах спеціального призначення | AE16: =IF(AND(INT(YEARFRAC(I16,TODAY()))>=25,INT(YEARFRAC(I16,TODAY()))<=35),INT(YEARFRAC(I16,TODAY())),"") -> 34 | AF16: =IF(AND(INT(YEARFRAC(I16,TODAY()))>=36,INT(YEARFRAC(I16,TODAY()))<=45),INT(YEARFRAC(I16,TODAY())),"") | AG16: =IF(AND(INT(YEARFRAC(I16,TODAY()))>=46,INT(YEARFRAC(I16,TODAY()))<=50),INT(YEARFRAC(I16,TODAY())),"")
A17: 1/2342 | B17: 22 лютого 2026 року | C17: 5 | D17: солдат | E17: Анісімов Сергій Леонідович | F17: Ніжинського районного | G17: Ніжин | H17: {=IF( ISBLANK(F17), "", IF( COUNTIF(Settings!G$1:G$609, F17) = 1, INDEX(Settings!H$1:H$609, MATCH(F17, Settings!G$1:G$609, 0)), IFERROR( INDEX(Settings!H$1:H$609, MATCH(1, (Settings!G$1:G$609=F17) * (Settings!D$1:D$609=G17), 0 ) ), "" ) ) )} -> Чернігівська | I17: 32799 | J17: 3279802570 | K17: АГ 633795 | L17: АМ 247948 | M17: Чернігівська обл., м. Ніжин | N17: Чернігівська обл., Ніжинський р-н., с. Велика Кошелівка, вул. Веринарна, буд. 5 | O17: середня спеціальна | P17: Ніжинське ПТУ №35, водій-механік, 2008 | Q17: Тракторист, 10 років Права AB (трактор), B, C | R17: не одружений, мати: Куліш Наталія Василівна, 1960, Чернігівська обл., м. Ніжин, вул. Богуна, буд. 22, 0967676757 | S17: 0985324330 | T17: 790 259А | U17: курсант | V17: 100 | X17: 46075 | Y17: № 56 | Z17: =IF(E17="","",IF(T17="","ні","так")) -> так | AA17: 46075 | AB17: Придатний до військової служби | AC17: RH 2+ | AE17: =IF(AND(INT(YEARFRAC(I17,TODAY()))>=25,INT(YEARFRAC(I17,TODAY()))<=35),INT(YEARFRAC(I17,TODAY())),"") | AF17: =IF(AND(INT(YEARFRAC(I17,TODAY()))>=36,INT(YEARFRAC(I17,TODAY()))<=45),INT(YEARFRAC(I17,TODAY())),"") -> 36 | AG17: =IF(AND(INT(YEARFRAC(I17,TODAY()))>=46,INT(YEARFRAC(I17,TODAY()))<=50),INT(YEARFRAC(I17,TODAY())),"")
A18: 1452 | B18: 28 лютого 2026 року | C18: 1 | D18: солдат | E18: Антонюк Дмитро Русланович | F18: Хмільницького районного | H18: {=IF( ISBLANK(F18), "", IF( COUNTIF([5]Settings!G$1:G$609, F18) = 1, INDEX([5]Settings!H$1:H$609, MATCH(F18, [5]Settings!G$1:G$609, 0)), IFERROR( INDEX([5]Settings!H$1:H$609, MATCH(1, ([5]Settings!G$1:G$609=F18) * ([5]Settings!D$1:D$609=G18), 0 ) ), "" ) ) )} -> #VALUE! | I18: 36242 | J18: 3624109257 | K18: АГ 574988 | L18: АТ 121678 | M18: Житомирська обл. м. Радомишль | N18: м. Вінниця вул. Генерала Григоренка, буд. 36, кв. 21 | O18: професійно- технічна | P18: Тульчинський коледж ветеринарної медецини м. Тульчин 2018 фельдшер ветеринарної медецини | Q18: комплектувальник продуктів харчування - 4р | R18: не одружений мати: Антонюк Оксана Вікторівна - прибл. 43р - 0673588369 - Вінницька обл, Вінницький р-н, с. Гавришівка, вул. ? Брат: Антонюк Денис Русланович - 1999 - 0686749823 - м. Вінниця, вул. Ватутіна, буд. ? | S18: 976880495 | U18: курсант | V18: 100 | X18: 46081 | Y18: № 62 | Z18: =IF(E18="","",IF(T18="","ні","так")) -> ні | AA18: 46077 | AB18: Придатний до військової служби | AC18: I Rh + | AE18: =IF(AND(INT(YEARFRAC(I18,TODAY()))>=25,INT(YEARFRAC(I18,TODAY()))<=35),INT(YEARFRAC(I18,TODAY())),"") -> 27 | AF18: =IF(AND(INT(YEARFRAC(I18,TODAY()))>=36,INT(YEARFRAC(I18,TODAY()))<=45),INT(YEARFRAC(I18,TODAY())),"") | AG18: =IF(AND(INT(YEARFRAC(I18,TODAY()))>=46,INT(YEARFRAC(I18,TODAY()))<=50),INT(YEARFRAC(I18,TODAY())),"")
A19: 2500 | B19: 25 лютого 2026 року | C19: 1 | D19: солдат | E19: Антонюк Олександр Леонідович | F19: Житомирського районного | H19: {=IF( ISBLANK(F19), "", IF( COUNTIF([6]Settings!G$1:G$609, F19) = 1, INDEX([6]Settings!H$1:H$609, MATCH(F19, [6]Settings!G$1:G$609, 0)), IFERROR( INDEX([6]Settings!H$1:H$609, MATCH(1, ([6]Settings!G$1:G$609=F19) * ([6]Settings!D$1:D$609=G19), 0 ) ), "" ) ) )} -> #VALUE! | I19: 29125 | J19: 2912410393 | K19: АГ 603239 | L19: ТТ 193066 Дарнівським РО ГУ ДМС УКР в м. Києві 16.08.2013 | M19: м. Київ | N19: Житомирська обл. Попільнянський р-н., с. Романівка, вул. Миру, буд. 20 | O19: професійно- технічна | P19: Київське училище №26 | Q19: будівельник, 20 років Права- | R19: не одружениий Мати: Антонюк Світлана Миколаївна, 1959, м. Київ, вул. Бажана, буд. 9, 0972926021 | S19: 975269074 | U19: курсант | V19: 100 | X19: 46078 | Y19: № 59 | Z19: =IF(E19="","",IF(T19="","ні","так")) -> ні | AA19: 46078 | AB19: Придатний до військової служби | AC19: II Rh + | AE19: =IF(AND(INT(YEARFRAC(I19,TODAY()))>=25,INT(YEARFRAC(I19,TODAY()))<=35),INT(YEARFRAC(I19,TODAY())),"") | AF19: =IF(AND(INT(YEARFRAC(I19,TODAY()))>=36,INT(YEARFRAC(I19,TODAY()))<=45),INT(YEARFRAC(I19,TODAY())),"") | AG19: =IF(AND(INT(YEARFRAC(I19,TODAY()))>=46,INT(YEARFRAC(I19,TODAY()))<=50),INT(YEARFRAC(I19,TODAY())),"") -> 46
A20: 2566 | B20: 27 лютого 2026 року | C20: 2 | D20: солдат | E20: Бабич Андрій Васильович | F20: Житомирського районного | H20: {=IF( ISBLANK(F20), "", IF( COUNTIF([4]Settings!G$1:G$609, F20) = 1, INDEX([4]Settings!H$1:H$609, MATCH(F20, [4]Settings!G$1:G$609, 0)), IFERROR( INDEX([4]Settings!H$1:H$609, MATCH(1, ([4]Settings!G$1:G$609=F20) * ([4]Settings!D$1:D$609=G20), 0 ) ), "" ) ) )} -> #VALUE! | I20: 30790 | J20: 3078922215 | K20: АГ 603272 | L20: СТ 531446 Чернігівським РС УДМС УКР в Чернігівській обл 24.02.2017 | M20: Чернігівська обл., Чернігівський р-н., с. Павлівка | N20: Житомирський р-н., с. Покостівка, вул. Квіткова, буд. 5 | O20: професійно- технічна | P20: Чернігівське ПТУ №5, 2002, черговий по станції, провідник | Q20: провідник, 8 років Права - | R20: не одружений, сестра: Винниченко Олена Василівна, 1981, м. Чернігів, 0964958186 | S20: 989386733 | U20: курсант | V20: 100 | X20: 46080 | Y20: № 61 | Z20: =IF(E20="","",IF(T20="","ні","так")) -> ні | AA20: 46080 | AB20: Придатний до служби на підводних човнох, на надводних кораблях, у морській піхоті, Десантно-штурмових військах, спеціальних спорудах, підрозділах спеціального призначення | AE20: =IF(AND(INT(YEARFRAC(I20,TODAY()))>=25,INT(YEARFRAC(I20,TODAY()))<=35),INT(YEARFRAC(I20,TODAY())),"") | AF20: =IF(AND(INT(YEARFRAC(I20,TODAY()))>=36,INT(YEARFRAC(I20,TODAY()))<=45),INT(YEARFRAC(I20,TODAY())),"") -> 42 | AG20: =IF(AND(INT(YEARFRAC(I20,TODAY()))>=46,INT(YEARFRAC(I20,TODAY()))<=50),INT(YEARFRAC(I20,TODAY())),"")
A21: 11/1629 | B21: 27 лютого 2026 року | C21: 3 | D21: солдат | E21: Баскаков Павло Анатолійович | F21: Шевченківського районного | G21: міста Києва | H21: {=IF( ISBLANK(F21), "", IF( COUNTIF([4]Settings!G$1:G$609, F21) = 1, INDEX([4]Settings!H$1:H$609, MATCH(F21, [4]Settings!G$1:G$609, 0)), IFERROR( INDEX([4]Settings!H$1:H$609, MATCH(1, ([4]Settings!G$1:G$609=F21) * ([4]Settings!D$1:D$609=G21), 0 ) ), "" ) ) )} -> #VALUE! | I21: 30743 | J21: 3074200978 | K21: 140220221425037600020/1 | L21: АМ 064073 Заводським РВ Дніпродзержинського МУ УМВС України в Дніпропетровській області 03.10.2000 | M21: Дніпропетровська обл, м. Дніпродзержинськ | N21: м. Київ вул. Академіка Корольова, буд. 7, кв. 46 | O21: професійно- технічна | P21: Дніпродзержинський індустріальнгий коледж 2004 електрик | Q21: власник інтернет магазину - 4р Права A, B, C | R21: не одружений бабуся: Носуля Раїса Іванівна - 0687208035 - 85р - Дніпропетровська обл, м. Кам'янське, вул. Дніпробудівельна, буд. 27, кв. 7 | S21: 965569916 | U21: курсант | V21: 100 | X21: 46080 | Y21: № 61 | Z21: =IF(E21="","",IF(T21="","ні","так")) -> ні | AA21: 46080 | AB21: Придатний до служби на підводних човнох, на надводних кораблях, у морській піхоті, Десантно-штурмових військах, спеціальних спорудах, підрозділах спеціального призначення | AC21: III Rh - | AE21: =IF(AND(INT(YEARFRAC(I21,TODAY()))>=25,INT(YEARFRAC(I21,TODAY()))<=35),INT(YEARFRAC(I21,TODAY())),"") | AF21: =IF(AND(INT(YEARFRAC(I21,TODAY()))>=36,INT(YEARFRAC(I21,TODAY()))<=45),INT(YEARFRAC(I21,TODAY())),"") -> 42 | AG21: =IF(AND(INT(YEARFRAC(I21,TODAY()))>=46,INT(YEARFRAC(I21,TODAY()))<=50),INT(YEARFRAC(I21,TODAY())),"")
A22: 1537/11/2005 | B22: 26 лютого 2026 року | C22: 2 | D22: солдат | E22: Бершадський Олександр Миколайович | F22: Дніпровського районного | G22: міста Києва | H22: {=IF( ISBLANK(F22), "", IF( COUNTIF([1]Settings!G$1:G$609, F22) = 1, INDEX([1]Settings!H$1:H$609, MATCH(F22, [1]Settings!G$1:G$609, 0)), IFERROR( INDEX([1]Settings!H$1:H$609, MATCH(1, ([1]Settings!G$1:G$609=F22) * ([1]Settings!D$1:D$609=G22), 0 ) ), "" ) ) )} -> #VALUE! | I22: 33678 | J22: 3367700733 | K22: довідка | L22: 003047716 8034 04.03.2019 | M22: Дніпропетровська обл. м. Кривий Ріг | N22: м. Київ, вул. Тичини, буд. 3а, кв. 61 | O22: вища | P22: КПІ, 2016, ІТ | Q22: програміст, 8 років Права - | R22: не одружений, мати: Бершадська Ірина Володимирівна, 1968, м. Київ, вул. Тичини, буд. 3а, кв. 61, 0957958159, 0675784797 | S22: 934043734 | U22: курсант | V22: 100 | X22: 46079 | Y22: № 60 | Z22: =IF(E22="","",IF(T22="","ні","так")) -> ні | AA22: 46079 | AB22: Придатний до військової служби | AD22: А3316 по розподілу рекомендаційний лист | AE22: =IF(AND(INT(YEARFRAC(I22,TODAY()))>=25,INT(YEARFRAC(I22,TODAY()))<=35),INT(YEARFRAC(I22,TODAY())),"") -> 34 | AF22: =IF(AND(INT(YEARFRAC(I22,TODAY()))>=36,INT(YEARFRAC(I22,TODAY()))<=45),INT(YEARFRAC(I22,TODAY())),"") | AG22: =IF(AND(INT(YEARFRAC(I22,TODAY()))>=46,INT(YEARFRAC(I22,TODAY()))<=50),INT(YEARFRAC(I22,TODAY())),"")
A23: 2543 | B23: 26 лютого 2026 року | C23: 3 | D23: солдат | E23: Білоусов Сергій Вікторович | F23: Житомирського об'єднаного міського | H23: {=IF( ISBLANK(F23), "", IF( COUNTIF([1]Settings!G$1:G$609, F23) = 1, INDEX([1]Settings!H$1:H$609, MATCH(F23, [1]Settings!G$1:G$609, 0)), IFERROR( INDEX([1]Settings!H$1:H$609, MATCH(1, ([1]Settings!G$1:G$609=F23) * ([1]Settings!D$1:D$609=G23), 0 ) ), "" ) ) )} -> #VALUE! | I23: 30198 | J23: ВМ 632875 | K23: АГ 186080 | L23: 009302826 1836 23.06.2023 | M23: м. Житомир | N23: м. Житомир, вул. Переїзд Радомишльський, буд. 9 | O23: повна загальна середня | P23: Житомирська ЗОШ №2 | Q23: рихтувальник, 6 років Права - | R23: одружений, Дружина: Білоусова Оксана Вікторівна, 1980, м. Житомир, вул. Переїзд Радомишльський, буд. 9, 0960276981 | S23: 990907846 | U23: курсант | V23: 100 | X23: 46079 | Y23: № 60 | Z23: =IF(E23="","",IF(T23="","ні","так")) -> ні | AA23: 46079 | AB23: Придатний до військової служби | AE23: =IF(AND(INT(YEARFRAC(I23,TODAY()))>=25,INT(YEARFRAC(I23,TODAY()))<=35),INT(YEARFRAC(I23,TODAY())),"") | AF23: =IF(AND(INT(YEARFRAC(I23,TODAY()))>=36,INT(YEARFRAC(I23,TODAY()))<=45),INT(YEARFRAC(I23,TODAY())),"") -> 43 | AG23: =IF(AND(INT(YEARFRAC(I23,TODAY()))>=46,INT(YEARFRAC(I23,TODAY()))<=50),INT(YEARFRAC(I23,TODAY())),"")
C24: 18 | D24: солдат | E24: Бойко Геннадій Володимирович | H24: Сумська | I24: 29909 | J24: 2990807554 | K24: №250220261352624000001/2 Від 25.02.2026 | L24: МА 583941 Охтирським МРВУМВС України в Сумській обл., 04.01.1999 | M24: Сумська обл., м. Охтирка, пров. Весняний, буд. 15а | N24: Сумська обл., м. Охтирка, вул. Київська, буд. 107, кв. 57 | O24: професійно- технічна | P24: ПТУ №7, м. Охтирка, 1999, маляр-штукатур | Q24: будівельник, 20 років Права В, С | R24: не одружений, мати: Бойко Алла Миколаївна, 1960, Сумська обл., м. Охтирка, пров. Весняний, буд. 15а | S24: 0665156739 | Z24: ні | AC24: II Rh + | AD24: Резерв КДШВ | AE24: =IF(AND(INT(YEARFRAC(I24,TODAY()))>=25,INT(YEARFRAC(I24,TODAY()))<=35),INT(YEARFRAC(I24,TODAY())),"") | AF24: =IF(AND(INT(YEARFRAC(I24,TODAY()))>=36,INT(YEARFRAC(I24,TODAY()))<=45),INT(YEARFRAC(I24,TODAY())),"") -> 44 | AG24: =IF(AND(INT(YEARFRAC(I24,TODAY()))>=46,INT(YEARFRAC(I24,TODAY()))<=50),INT(YEARFRAC(I24,TODAY())),"")
A25: 1537/11/2005 | B25: 26 лютого 2026 року | C25: 4 | D25: солдат | E25: Большаков Костянтин Євгенович | F25: Дніпровського районного | G25: міста Києва | H25: {=IF( ISBLANK(F25), "", IF( COUNTIF([1]Settings!G$1:G$609, F25) = 1, INDEX([1]Settings!H$1:H$609, MATCH(F25, [1]Settings!G$1:G$609, 0)), IFERROR( INDEX([1]Settings!H$1:H$609, MATCH(1, ([1]Settings!G$1:G$609=F25) * ([1]Settings!D$1:D$609=G25), 0 ) ), "" ) ) )} -> #VALUE! | I25: 33787 | J25: 3378604531 | K25: довідка | L25: ЕН 904717 Краснолуцьким МВ УДМС УКР в Луганській обл 15.11.2012 | M25: Луганська обл, м. Красний Луч | N25: м. Київ, вул. Русанівська Набережна, буд. 6, кв. 56 | O25: професійно- технічна | P25: Краснолуцький приладобудівний технікум м. Красний Луч 2013р економіка підприємства | Q25: Фріланс - 2D дизайн логотипів, оточення для браузерних ігор (Photoshop, AI) - 5р портретист на пам'ятниках - 3р кухар - 1,5р | R25: не одружений сестра: Большакова Яна Євгеновна - 1990 - 0664203975 - м. Київ, вул. Русанівська Набережна, буд. 6, кв. 56 | S25: 995045246 | U25: курсант | V25: 100 | X25: 46079 | Y25: № 60 | Z25: =IF(E25="","",IF(T25="","ні","так")) -> ні | AA25: 46078 | AB25: Придатний до військової служби | AE25: =IF(AND(INT(YEARFRAC(I25,TODAY()))>=25,INT(YEARFRAC(I25,TODAY()))<=35),INT(YEARFRAC(I25,TODAY())),"") -> 33 | AF25: =IF(AND(INT(YEARFRAC(I25,TODAY()))>=36,INT(YEARFRAC(I25,TODAY()))<=45),INT(YEARFRAC(I25,TODAY())),"") | AG25: =IF(AND(INT(YEARFRAC(I25,TODAY()))>=46,INT(YEARFRAC(I25,TODAY()))<=50),INT(YEARFRAC(I25,TODAY())),"")
A26: 1230 | B26: 22 лютого 2026 року | C26: 4 | D26: солдат | E26: Бондар Андрій Васильович | F26: Хмільницького районного | H26: {=IF( ISBLANK(F26), "", IF( COUNTIF([3]Settings!G$1:G$609, F26) = 1, INDEX([3]Settings!H$1:H$609, MATCH(F26, [3]Settings!G$1:G$609, 0)), IFERROR( INDEX([3]Settings!H$1:H$609, MATCH(1, ([3]Settings!G$1:G$609=F26) * ([3]Settings!D$1:D$609=G26), 0 ) ), "" ) ) )} -> #VALUE! | I26: 32353 | J26: 3235207996 | K26: АГ 574967 | L26: 011098716 | M26: м. Вінниця | N26: м. Вінниця, вул. Запорізька, буд. 21, кв. 124 | O26: професійно- технічна | P26: Стрижовська СВК | Q26: Будівельник, 1 рік Права - | R26: не одружений мати: Бондар Лілія Петрівна, 1956, м. Вінниця, вул. Запорізька, буд. 21, кв. 124, 0961876495 | S26: 970255251 | U26: курсант | V26: 100 | X26: 46076 | Y26: № 57 | Z26: =IF(E26="","",IF(T26="","ні","так")) -> ні | AA26: 46074 | AB26: Придатний до військової служби | AE26: =IF(AND(INT(YEARFRAC(I26,TODAY()))>=25,INT(YEARFRAC(I26,TODAY()))<=35),INT(YEARFRAC(I26,TODAY())),"") | AF26: =IF(AND(INT(YEARFRAC(I26,TODAY()))>=36,INT(YEARFRAC(I26,TODAY()))<=45),INT(YEARFRAC(I26,TODAY())),"") -> 37 | AG26: =IF(AND(INT(YEARFRAC(I26,TODAY()))>=46,INT(YEARFRAC(I26,TODAY()))<=50),INT(YEARFRAC(I26,TODAY())),"")
A27: 10/584 | B27: 22 лютого 2026 року | C27: 10 | D27: солдат | E27: Борисов Дмитро Сергійович | F27: Чернігівського міського | G27: Чернігів | H27: {=IF( ISBLANK(F27), "", IF( COUNTIF(Settings!G$1:G$609, F27) = 1, INDEX(Settings!H$1:H$609, MATCH(F27, Settings!G$1:G$609, 0)), IFERROR( INDEX(Settings!H$1:H$609, MATCH(1, (Settings!G$1:G$609=F27) * (Settings!D$1:D$609=G27), 0 ) ), "" ) ) )} -> Чернігівська | I27: 30818 | J27: 3081727094 | K27: СО 871538 | M27: м. Хабаровськ, росія | N27: м. Чернігів, вул. Мстиславська, буд. 171, кв. 9 | O27: середня спеціальна | P27: ПУ 63, станиця Денська, Денський р-н., Краснодарський край, водій-автомеханік, 2005 | Q27: Менеджер з постачання, 4 роки Права В | R27: одружений, дружина: Борисова Євгенія Вʼячеславівна, 1987, м. Чернігів, вул. Мстиславська, буд. 171, кв. 9, 0632156010 | S27: 0969311148 | U27: курсант | V27: 100 | X27: 46075 | Y27: № 56 | Z27: =IF(E27="","",IF(T27="","ні","так")) -> ні | AA27: 46075 | AB27: Придатний до військової служби | AC27: RH 2- | AE27: =IF(AND(INT(YEARFRAC(I27,TODAY()))>=25,INT(YEARFRAC(I27,TODAY()))<=35),INT(YEARFRAC(I27,TODAY())),"") | AF27: =IF(AND(INT(YEARFRAC(I27,TODAY()))>=36,INT(YEARFRAC(I27,TODAY()))<=45),INT(YEARFRAC(I27,TODAY())),"") -> 41 | AG27: =IF(AND(INT(YEARFRAC(I27,TODAY()))>=46,INT(YEARFRAC(I27,TODAY()))<=50),INT(YEARFRAC(I27,TODAY())),"")
A28: 1/2286 | B28: 21 лютого 2026 року | C28: 1 | D28: солдат | E28: Бородавко Віталій Михайлович | F28: Ніжинського районного | G28: Ніжин | H28: {=IF( ISBLANK(F28), "", IF( COUNTIF(Settings!G$1:G$609, F28) = 1, INDEX(Settings!H$1:H$609, MATCH(F28, Settings!G$1:G$609, 0)), IFERROR( INDEX(Settings!H$1:H$609, MATCH(1, (Settings!G$1:G$609=F28) * (Settings!D$1:D$609=G28), 0 ) ), "" ) ) )} -> Чернігівська | I28: 32791 | J28: 3279006554 | K28: АГ 633793 | L28: НМ 247947 Ніжинським МВР УМВС УКР в Чернігівській обл 24.03.2006 | M28: Чернігівська обл., м. Ніжин | N28: Чернігівська обл., м. Ніжин, вул. Станіслава Прощенко, буд. 40/б, кв. 33 | O28: повна середня освіта | P28: Ніжинська ЗОШ №7 | Q28: Торгівельний представник, 6 міс. Права - | R28: не одружений, мати: Бородавко Тетяна Андріївна, 1959, Чернігівська обл., м. Ніжин, вул. Станіслава Прощенко, буд. 40/б, кв. 33, 0682364981 | S28: немає | U28: курсант | V28: 100 | X28: 46074 | Y28: № 55 | Z28: =IF(E28="","",IF(T28="","ні","так")) -> ні | AA28: 46074 | AB28: Придатний до військової служби | AC28: RH 2+ | AE28: =IF(AND(INT(YEARFRAC(I28,TODAY()))>=25,INT(YEARFRAC(I28,TODAY()))<=35),INT(YEARFRAC(I28,TODAY())),"") | AF28: =IF(AND(INT(YEARFRAC(I28,TODAY()))>=36,INT(YEARFRAC(I28,TODAY()))<=45),INT(YEARFRAC(I28,TODAY())),"") -> 36 | AG28: =IF(AND(INT(YEARFRAC(I28,TODAY()))>=46,INT(YEARFRAC(I28,TODAY()))<=50),INT(YEARFRAC(I28,TODAY())),"")
A29: 1/2420 | B29: 24 лютого 2026 року | C29: 3 | D29: солдат | E29: Брискін Денис Сергійович | F29: Ніжинського районного | G29: с. Холми | H29: {=IF( ISBLANK(F29), "", IF( COUNTIF([2]Settings!G$1:G$609, F29) = 1, INDEX([2]Settings!H$1:H$609, MATCH(F29, [2]Settings!G$1:G$609, 0)), IFERROR( INDEX([2]Settings!H$1:H$609, MATCH(1, ([2]Settings!G$1:G$609=F29) * ([2]Settings!D$1:D$609=G29), 0 ) ), "" ) ) )} -> #VALUE! | I29: 30197 | J29: 3019609990 | M29: м. Київ | N29: м. Чернігів, вул. Текстильників, буд. 24, кв. 42 | O29: повна загальна середня | P29: Рамаданівська ЗОШ, 2000 | Q29: Завідуючий складом, 16 років Начальник охорони, 4 роки Права - | R29: одружений, дружина: Брискіна Ірина Леонідівна, 1973, м. Чернігів, вул. Текстильників, буд. 24, кв. 42, 0992497840 | S29: 0960389583 | U29: курсант | V29: 100 | X29: 46077 | Y29: № 58 | Z29: =IF(E29="","",IF(T29="","ні","так")) -> ні | AA29: 46077 | AB29: Придатний до військової служби | AE29: =IF(AND(INT(YEARFRAC(I29,TODAY()))>=25,INT(YEARFRAC(I29,TODAY()))<=35),INT(YEARFRAC(I29,TODAY())),"") | AF29: =IF(AND(INT(YEARFRAC(I29,TODAY()))>=36,INT(YEARFRAC(I29,TODAY()))<=45),INT(YEARFRAC(I29,TODAY())),"") -> 43 | AG29: =IF(AND(INT(YEARFRAC(I29,TODAY()))>=46,INT(YEARFRAC(I29,TODAY()))<=50),INT(YEARFRAC(I29,TODAY())),"")
A30: 2609 | B30: 28 лютого 2026 року | C30: 2 | D30: солдат | E30: Бродовський Вадим Феліксович | F30: Житомирського районного | H30: {=IF( ISBLANK(F30), "", IF( COUNTIF([5]Settings!G$1:G$609, F30) = 1, INDEX([5]Settings!H$1:H$609, MATCH(F30, [5]Settings!G$1:G$609, 0)), IFERROR( INDEX([5]Settings!H$1:H$609, MATCH(1, ([5]Settings!G$1:G$609=F30) * ([5]Settings!D$1:D$609=G30), 0 ) ), "" ) ) )} -> #VALUE! | I30: 28438 | J30: 2843714031 | K30: АГ 603250 | L30: ВМ 028712 | M30: Житомирська обл., смт Полянка | N30: Житомирська обл., Житомирський р-н., с. Костянинівка, вул. Весняна, буд. 10 | O30: професійно- технічна | P30: Баранівське ПТУ №11 | Q30: Пилорамщик, 20 років Права - | R30: не одружений, сестра: Бродовська Ірина Феліксовна, 1984 | S30: не вказано | T30: 100 915А | U30: курсант | V30: 100 | X30: 46081 | Y30: № 62 | Z30: =IF(E30="","",IF(T30="","ні","так")) -> так | AA30: 46081 | AB30: Придатний до військової служби | AE30: =IF(AND(INT(YEARFRAC(I30,TODAY()))>=25,INT(YEARFRAC(I30,TODAY()))<=35),INT(YEARFRAC(I30,TODAY())),"") | AF30: =IF(AND(INT(YEARFRAC(I30,TODAY()))>=36,INT(YEARFRAC(I30,TODAY()))<=45),INT(YEARFRAC(I30,TODAY())),"") | AG30: =IF(AND(INT(YEARFRAC(I30,TODAY()))>=46,INT(YEARFRAC(I30,TODAY()))<=50),INT(YEARFRAC(I30,TODAY())),"") -> 48
C31: 23 | D31: солдат | E31: Бруяка Максим Юрійович | F31: Сумським МТЦК та СП 25.12.2025 | H31: Сумська | I31: 35366 | J31: 3536512192 | K31: АВ 960514 | L31: МВ 516155 Ковпаківським РВ м.Суми УДМС України в Сумській обл. 18.12.2012 | M31: Р | N31: м. Суми, вул. Засумська буд. 16, кв. 45 | O31: базова загальна середня | P31: Школа №12, м. Суми | Q31: різноробочий, 1 рік Права - | R31: не одружений, мати: Бруяка Наталія Володимирівна, 1976, м. Суми, вул. Засумська буд. 16, кв. 45, 0664739829 | S31: 0502773062 | Z31: ні | AC31: II Rh - | AD31: Резерв КДШВ | AE31: =IF(AND(INT(YEARFRAC(I31,TODAY()))>=25,INT(YEARFRAC(I31,TODAY()))<=35),INT(YEARFRAC(I31,TODAY())),"") -> 29 | AF31: =IF(AND(INT(YEARFRAC(I31,TODAY()))>=36,INT(YEARFRAC(I31,TODAY()))<=45),INT(YEARFRAC(I31,TODAY())),"") | AG31: =IF(AND(INT(YEARFRAC(I31,TODAY()))>=46,INT(YEARFRAC(I31,TODAY()))<=50),INT(YEARFRAC(I31,TODAY())),"")
C32: 38 | D32: солдат | E32: Бурковцов Андрій Юрійович | F32: Роменським ТЦК та СП Сумської обл., 27.02.2026 | H32: Сумська | I32: 32395 | J32: 3239413855 | K32: АВ 949437 | L32: закордоний паспорт ЕН991201 виданий 7401 08.06.2011 | M32: м. Ніжин, Чернігівська обл. | N32: Сумська обл., Роменський р-н, с. Русанівка, вул. Русанівська 26 | O32: вища | P32: НДУ ім. Гоголя, м. Ніжин, Чернігівська обл. спеціаліст вчитель Історії і права ДАКККІМ м. Київ, бакалавр, дизайнер середовища КДАІС м. Київ, бакалавр, священослужитель | Q32: священик педагог | R32: одружений дружина Гапон Зоя Сергиіївна - 1988, Сумська обл., Роменський р-н, с. Русанівка, вул. Русанівська 26 | S32: 0973166440 | Z32: ні | AC32: III Rh + | AD32: Резерв КДШВ | AE32: =IF(AND(INT(YEARFRAC(I32,TODAY()))>=25,INT(YEARFRAC(I32,TODAY()))<=35),INT(YEARFRAC(I32,TODAY())),"") | AF32: =IF(AND(INT(YEARFRAC(I32,TODAY()))>=36,INT(YEARFRAC(I32,TODAY()))<=45),INT(YEARFRAC(I32,TODAY())),"") -> 37 | AG32: =IF(AND(INT(YEARFRAC(I32,TODAY()))>=46,INT(YEARFRAC(I32,TODAY()))<=50),INT(YEARFRAC(I32,TODAY())),"")
A33: 614 | B33: 26 лютого 2026 року | C33: 5 | D33: солдат | E33: Бутко Руслан Павлович | F33: Дарницького районного | H33: {=IF( ISBLANK(F33), "", IF( COUNTIF([1]Settings!G$1:G$609, F33) = 1, INDEX([1]Settings!H$1:H$609, MATCH(F33, [1]Settings!G$1:G$609, 0)), IFERROR( INDEX([1]Settings!H$1:H$609, MATCH(1, ([1]Settings!G$1:G$609=F33) * ([1]Settings!D$1:D$609=G33), 0 ) ), "" ) ) )} -> #VALUE! | I33: 36005 | J33: 3600408276 | K33: 250620235816010600001/1 | L33: 009601452 3214 29.08.2023 | M33: Київська обл., Васильківський р-н., с. Вільшанська Новоселице | N33: м. Київ, вул. Закревського, буд. 27а, кв.38 | O33: повна загальна середня | P33: Вільшансько Новоселівська ЗОШ | Q33: Будівельник, 4 роки Права В | R33: не одружений, брат: Павленко Максим Андрійович, 1997, 0967116383 | S33: 962685449 | U33: курсант | V33: 100 | X33: 46079 | Y33: № 60 | Z33: =IF(E33="","",IF(T33="","ні","так")) -> ні | AA33: 46079 | AB33: Придатний до військової служби | AC33: II Rh + | AE33: =IF(AND(INT(YEARFRAC(I33,TODAY()))>=25,INT(YEARFRAC(I33,TODAY()))<=35),INT(YEARFRAC(I33,TODAY())),"") -> 27 | AF33: =IF(AND(INT(YEARFRAC(I33,TODAY()))>=36,INT(YEARFRAC(I33,TODAY()))<=45),INT(YEARFRAC(I33,TODAY())),"") | AG33: =IF(AND(INT(YEARFRAC(I33,TODAY()))>=46,INT(YEARFRAC(I33,TODAY()))<=50),INT(YEARFRAC(I33,TODAY())),"")
C34: 5 | D34: солдат | E34: Васильченко Сергій Анатолійович | F34: Роменським РТЦК та СП Сумської обл., 26.02.2026 | H34: Сумська | I34: 34290 | J34: 3428909730 | K34: АВ 949433 | L34: 002997059 виданий 5924 20.02.2019 | M34: Сумська обл., Роменський р-н., с Пустовойтівка | N34: Сумська обл., Роменський р-н., с Пустовойтівка, вул. 5 пер. Берегова, буд. 9 | O34: базова загальна середня | P34: Пустовійтівська ЗОШ | Q34: вантажник, 3 роки Права - | R34: не одружений, мати: Вовк Світлана Григорівна, 1970, Сумська обл., Роменський р-н., с Пустовойтівка, вул. 5 пер. Берегова, буд. 9, 0685482470 | S34: не надано | Z34: ні | AC34: I Rh + | AD34: Резерв КДШВ | AE34: =IF(AND(INT(YEARFRAC(I34,TODAY()))>=25,INT(YEARFRAC(I34,TODAY()))<=35),INT(YEARFRAC(I34,TODAY())),"") -> 32 | AF34: =IF(AND(INT(YEARFRAC(I34,TODAY()))>=36,INT(YEARFRAC(I34,TODAY()))<=45),INT(YEARFRAC(I34,TODAY())),"") | AG34: =IF(AND(INT(YEARFRAC(I34,TODAY()))>=46,INT(YEARFRAC(I34,TODAY()))<=50),INT(YEARFRAC(I34,TODAY())),"")
C35: 4 | D35: солдат | E35: Верба Володимир Олександрович | F35: Конотопським РТЦК та СП, 27.02.2026 | H35: Сумська | I35: 34939 | J35: 3493804851 | K35: АВ 552749 | M35: Миколаївська обл., м. Баштанка | N35: Сумська обл., м. Конотоп, вул. Успенсько-Троїцька, буд. 13, кв. 28 | O35: професійно- технічна | P35: ПТУ, м. Кременчук, 2013, маляр-штукатур | Q35: будівельник, 6 років Права - | R35: одружений, дружина: Верба Марія Сергіївна, 1997, Сумська обл., м. Конотоп, вул. Успенсько-Троїцька, буд. 13, кв. 28, 0977738011 | S35: 0685689787 | Z35: ні | AC35: II Rh + | AD35: Резерв КДШВ | AE35: =IF(AND(INT(YEARFRAC(I35,TODAY()))>=25,INT(YEARFRAC(I35,TODAY()))<=35),INT(YEARFRAC(I35,TODAY())),"") -> 30 | AF35: =IF(AND(INT(YEARFRAC(I35,TODAY()))>=36,INT(YEARFRAC(I35,TODAY()))<=45),INT(YEARFRAC(I35,TODAY())),"") | AG35: =IF(AND(INT(YEARFRAC(I35,TODAY()))>=46,INT(YEARFRAC(I35,TODAY()))<=50),INT(YEARFRAC(I35,TODAY())),"")
C36: 43 | D36: солдат | E36: Верстюк Євген Дмитрович | F36: Новобоварським РТЦК та СП 30.12.2025 | G36: міста Харкова | H36: Харківська | I36: 28220 | J36: 2821912276 | K36: АВ909239 | L36: МК 414303 Лозівським МРВУМВС України в Харківській обл. 15.01.1997 | M36: м.Лозова, Харківська обл. | N36: м. Харків, вул. Велика Панасівська, б. 106, кв.64 | O36: професійно- технічна | P36: Новомосковський Сільхоз технікум м. Новомосковськ, Дніпропетровська обл., 1998 ветфельшер | Q36: ветеринарний санітар | R36: не одружений тітка Носік Ганна Демидівна, м. Харків, вул. Богомольця буд.7, кв. 104 | S36: 0678946217 | Z36: ні | AD36: Резерв КДШВ | AE36: =IF(AND(INT(YEARFRAC(I36,TODAY()))>=25,INT(YEARFRAC(I36,TODAY()))<=35),INT(YEARFRAC(I36,TODAY())),"") | AF36: =IF(AND(INT(YEARFRAC(I36,TODAY()))>=36,INT(YEARFRAC(I36,TODAY()))<=45),INT(YEARFRAC(I36,TODAY())),"") | AG36: =IF(AND(INT(YEARFRAC(I36,TODAY()))>=46,INT(YEARFRAC(I36,TODAY()))<=50),INT(YEARFRAC(I36,TODAY())),"") -> 49
A37: 1537/11/2038 | B37: 27 лютого 2026 року | C37: 4 | D37: солдат | E37: Вигівський Денис Анатолійович | F37: Дніпровського районного | G37: міста Києва | H37: {=IF( ISBLANK(F37), "", IF( COUNTIF([4]Settings!G$1:G$609, F37) = 1, INDEX([4]Settings!H$1:H$609, MATCH(F37, [4]Settings!G$1:G$609, 0)), IFERROR( INDEX([4]Settings!H$1:H$609, MATCH(1, ([4]Settings!G$1:G$609=F37) * ([4]Settings!D$1:D$609=G37), 0 ) ), "" ) ) )} -> #VALUE! | I37: 31683 | J37: 3168215372 | K37: 070920231320634500225/1 | L37: МЕ 222316 | M37: м. Київ | N37: м. Київ, вул. Курнатовського буд. 6а, кв. 60 | O37: вища | P37: КНУ туризму економіки та права, 2009, менеджмент організації | Q37: менеджер автомийки, 9 років, будівельник, 10 років Права - В | R37: не одружений, мати: Виговська Станіслава Григорівна, 1954, м. Київ, вул. Курнатовського буд. 6а, кв. 60, 0634685200 | S37: 983622020 | U37: курсант | V37: 100 | X37: 46080 | Y37: № 61 | Z37: =IF(E37="","",IF(T37="","ні","так")) -> ні | AA37: 46080 | AB37: Придатний до військової служби | AE37: =IF(AND(INT(YEARFRAC(I37,TODAY()))>=25,INT(YEARFRAC(I37,TODAY()))<=35),INT(YEARFRAC(I37,TODAY())),"") | AF37: =IF(AND(INT(YEARFRAC(I37,TODAY()))>=36,INT(YEARFRAC(I37,TODAY()))<=45),INT(YEARFRAC(I37,TODAY())),"") -> 39 | AG37: =IF(AND(INT(YEARFRAC(I37,TODAY()))>=46,INT(YEARFRAC(I37,TODAY()))<=50),INT(YEARFRAC(I37,TODAY())),"")
C38: 22 | D38: солдат | E38: Войку Олег Георгійович | F38: Новобоварським РТЦК та СП 20.02.2026 | H38: Харківська | I38: 32488 | J38: 3248704812 | K38: АГ 330242 | L38: МН 730517 Московським РВ ХМУ УМВС України в Харківській обл. 03.03.2005 | M38: м. Харків | N38: м. Харків, просп. Ювілейний, буд. 72, кв. 107 | O38: вища | P38: ХНАМГ, 2004, менеджер організації міського господарства | Q38: голова правління ОСББ, 2 роки, менеджер з продажів, 7 років Права, В | R38: одружений, дружина: Бондаренко Наталія Володимирівна, 1980, Харківська обл., м. Чугуїв, вул. Харківська, буд. 105, кв. 112 | S38: 0957796772 | Z38: ні | AD38: Резерв КДШВ | AE38: =IF(AND(INT(YEARFRAC(I38,TODAY()))>=25,INT(YEARFRAC(I38,TODAY()))<=35),INT(YEARFRAC(I38,TODAY())),"") | AF38: =IF(AND(INT(YEARFRAC(I38,TODAY()))>=36,INT(YEARFRAC(I38,TODAY()))<=45),INT(YEARFRAC(I38,TODAY())),"") -> 37 | AG38: =IF(AND(INT(YEARFRAC(I38,TODAY()))>=46,INT(YEARFRAC(I38,TODAY()))<=50),INT(YEARFRAC(I38,TODAY())),"")
A39: 661 | B39: 23 лютого 2026 року | C39: 5 | D39: солдат | E39: Гаврик Євген Анатолійович | F39: Білоцерківського районного | G39: Київська обл., м. Фастів | H39: {=IF( ISBLANK(F39), "", IF( COUNTIF([3]Settings!G$1:G$609, F39) = 1, INDEX([3]Settings!H$1:H$609, MATCH(F39, [3]Settings!G$1:G$609, 0)), IFERROR( INDEX([3]Settings!H$1:H$609, MATCH(1, ([3]Settings!G$1:G$609=F39) * ([3]Settings!D$1:D$609=G39), 0 ) ), "" ) ) )} -> #VALUE! | I39: 31955 | J39: 3195413716 | K39: довідка | L39: СМ 568410 Фастівським МРВ ГУ МВС УКР в Київській обл 02.10.2003 | M39: Київська обл., м. Фастів | N39: Київська обл., м. Фастів, вул. Правди, буд. 105 | O39: професійно- технічна | P39: ПТУ №18, м. Фастів, 2005, столяр | Q39: Складальник-пакувальник, 6 років оператор-вантажної лінії, 2 роки Права - | R39: не одружений, батько: Гаврик Анатолій Анатолійович, 1965, Київська обл., м. Фастів, вул. Правди, буд. 105 | S39: 0632444929 | U39: курсант | V39: 100 | X39: 46076 | Y39: № 57 | Z39: =IF(E39="","",IF(T39="","ні","так")) -> ні | AA39: 46076 | AB39: Придатний до військової служби | AC39: ІІ Rh+ | AE39: =IF(AND(INT(YEARFRAC(I39,TODAY()))>=25,INT(YEARFRAC(I39,TODAY()))<=35),INT(YEARFRAC(I39,TODAY())),"") | AF39: =IF(AND(INT(YEARFRAC(I39,TODAY()))>=36,INT(YEARFRAC(I39,TODAY()))<=45),INT(YEARFRAC(I39,TODAY())),"") -> 38 | AG39: =IF(AND(INT(YEARFRAC(I39,TODAY()))>=46,INT(YEARFRAC(I39,TODAY()))<=50),INT(YEARFRAC(I39,TODAY())),"")
A40: 11/1553 | B40: 25 лютого 2026 року | C40: 2 | D40: солдат | E40: Гончаренко Вячеслав Вікторович | F40: Шевченківського районного | G40: міста Києва | H40: {=IF( ISBLANK(F40), "", IF( COUNTIF([6]Settings!G$1:G$609, F40) = 1, INDEX([6]Settings!H$1:H$609, MATCH(F40, [6]Settings!G$1:G$609, 0)), IFERROR( INDEX([6]Settings!H$1:H$609, MATCH(1, ([6]Settings!G$1:G$609=F40) * ([6]Settings!D$1:D$609=G40), 0 ) ), "" ) ) )} -> #VALUE! | I40: 30004 | J40: 3000315097 | K40: МО 498066 | L40: СО 062411 Ленінградським РУ ГУ МВС України в м. Києві 24.12.1998 | M40: м. Київ | N40: м. Київ пр. Берестейський, буд. 144 кв. 8 | O40: вища | P40: Національний транспортний університет м. Київ 2009р вантажні перевезення та логістика | Q40: спеціаліст канцелярії в банку - 10р виготовлення вікон водій - 13р Права B, C | R40: не одружений батько: Гончаренко Віктор Олександрович - 1959 - 0673571110, м. Київ, пр. Берестейський, буд. 144 кв. 8 мати: Гончаренко Світлана Василівна - 1960 - 0984768413, м. Київ, пр. Берестейський, буд. 144 кв. 8 | S40: 675504137 | T40: 102 533 А | U40: курсант | V40: 100 | X40: 46078 | Y40: № 59 | Z40: =IF(E40="","",IF(T40="","ні","так")) -> так | AA40: 46078 | AB40: Придатний до військової служби | AC40: I Rh + | AE40: =IF(AND(INT(YEARFRAC(I40,TODAY()))>=25,INT(YEARFRAC(I40,TODAY()))<=35),INT(YEARFRAC(I40,TODAY())),"") | AF40: =IF(AND(INT(YEARFRAC(I40,TODAY()))>=36,INT(YEARFRAC(I40,TODAY()))<=45),INT(YEARFRAC(I40,TODAY())),"") -> 44 | AG40: =IF(AND(INT(YEARFRAC(I40,TODAY()))>=46,INT(YEARFRAC(I40,TODAY()))<=50),INT(YEARFRAC(I40,TODAY())),"")
A41: 633 | B41: 21 лютого 2026 року | C41: 4 | D41: солдат | E41: Гончарук Владислав Миколайович | F41: Білоцерківського районного | G41: Біла Церква | H41: {=IF( ISBLANK(F41), "", IF( COUNTIF(Settings!G$1:G$609, F41) = 1, INDEX(Settings!H$1:H$609, MATCH(F41, Settings!G$1:G$609, 0)), IFERROR( INDEX(Settings!H$1:H$609, MATCH(1, (Settings!G$1:G$609=F41) * (Settings!D$1:D$609=G41), 0 ) ), "" ) ) )} -> Київ обл | I41: 36604 | J41: 3660308950 | K41: АВ 970998 | L41: 000060180 3210 23.01.2017 | M41: Київська обл., м. Біла Церква | N41: Київська обл., м. Біла Церква, вул. Томилівська, буд. 50, кв. 40 | O41: повна середня освіта | P41: Білоцерківська ЗОШ №11 | Q41: Зварювальник, 3 роки, Права - | R41: не одружений, батько: Гончарук Микола Михайлович, 1974, Київська обл., м. Біла Церква, вул. Томилівська, буд. 50, кв. 40, 0671744505 | S41: 0977019587 | U41: курсант | V41: 100 | X41: 46075 | Y41: № 56 | Z41: =IF(E41="","",IF(T41="","ні","так")) -> ні | AA41: 46074 | AB41: Придатний до військової служби | AC41: RH 3+ | AE41: =IF(AND(INT(YEARFRAC(I41,TODAY()))>=25,INT(YEARFRAC(I41,TODAY()))<=35),INT(YEARFRAC(I41,TODAY())),"") -> 26 | AF41: =IF(AND(INT(YEARFRAC(I41,TODAY()))>=36,INT(YEARFRAC(I41,TODAY()))<=45),INT(YEARFRAC(I41,TODAY())),"") | AG41: =IF(AND(INT(YEARFRAC(I41,TODAY()))>=46,INT(YEARFRAC(I41,TODAY()))<=50),INT(YEARFRAC(I41,TODAY())),"")
A42: 11/2499 | B42: 25 лютого 2026 року | C42: 3 | D42: солдат | E42: Горбачов Богдан Віталійович | F42: Святошинського районного | H42: {=IF( ISBLANK(F42), "", IF( COUNTIF([6]Settings!G$1:G$609, F42) = 1, INDEX([6]Settings!H$1:H$609, MATCH(F42, [6]Settings!G$1:G$609, 0)), IFERROR( INDEX([6]Settings!H$1:H$609, MATCH(1, ([6]Settings!G$1:G$609=F42) * ([6]Settings!D$1:D$609=G42), 0 ) ), "" ) ) )} -> #VALUE! | I42: 36786 | J42: 3678507715 | K42: АГ 606223 | L42: 000176202 8032 12.10.2016 | M42: м. Київ | N42: м. Київ вул. Жмеринська, буд. 24, кв. 279 | O42: професійно- технічна | P42: КПЛБ і КГ м. Київ 2019 слюсар, електрик на устаткуванні електричного транспорту | Q42: Працівник пошти - 2р Пакувальник - 4р | R42: не одружений мати: Горчабова Тетяна Василівна - 56 - 0962918854, м. Київ вул. Жмеринська, буд. 24, кв. 279 дівчина: Голянська Аліна Віталіївна - 2002 - 0953678166, м. Київ вул. Жмеринська, буд. 22, кв. 136 | S42: 972308159 | U42: курсант | V42: 100 | X42: 46078 | Y42: № 59 | Z42: =IF(E42="","",IF(T42="","ні","так")) -> ні | AA42: 46077 | AB42: Придатний до військової служби | AD42: А4355 по розподілу рекомендаційний лист | AE42: =IF(AND(INT(YEARFRAC(I42,TODAY()))>=25,INT(YEARFRAC(I42,TODAY()))<=35),INT(YEARFRAC(I42,TODAY())),"") -> 25 | AF42: =IF(AND(INT(YEARFRAC(I42,TODAY()))>=36,INT(YEARFRAC(I42,TODAY()))<=45),INT(YEARFRAC(I42,TODAY())),"") | AG42: =IF(AND(INT(YEARFRAC(I42,TODAY()))>=46,INT(YEARFRAC(I42,TODAY()))<=50),INT(YEARFRAC(I42,TODAY())),"")
C43: 41 | D43: солдат | E43: Грабко Андрій Іванович | F43: Сумським МТЦК та СП Сумської обл., 23.02.2026 | H43: Сумська | I43: 31673 | J43: 3167201934 | K43: АВ 949483 | L43: МВ 173258 Л.Долинським РВУМВС України в Сумській обл., 08.02.2003 | M43: Сумська обл., Л. Долинський р-н, с.Колядиниць | N43: м. Суми, вул. Черепіна, б.47, кв. 117 | O43: вища | P43: СНАУ м. Суми 2010 магістр | Q43: зоотехнік кат. В,С1,С | R43: не одружений мати Грабко Ганна Дмитриївна - 1959 - 0968446207, Сумська обл., Л. Долинський р-н, с.Колядиниць, вул. Щастя 30 | S43: 0671979898 | Z43: ні | AD43: Резерв КДШВ | AE43: =IF(AND(INT(YEARFRAC(I43,TODAY()))>=25,INT(YEARFRAC(I43,TODAY()))<=35),INT(YEARFRAC(I43,TODAY())),"") | AF43: =IF(AND(INT(YEARFRAC(I43,TODAY()))>=36,INT(YEARFRAC(I43,TODAY()))<=45),INT(YEARFRAC(I43,TODAY())),"") -> 39 | AG43: =IF(AND(INT(YEARFRAC(I43,TODAY()))>=46,INT(YEARFRAC(I43,TODAY()))<=50),INT(YEARFRAC(I43,TODAY())),"")
A44: 260223-9 | B44: 23 лютого 2026 року | C44: 6 | D44: солдат | E44: Гречанюк Денис Сергійович | F44: Солом'янського районного | H44: {=IF( ISBLANK(F44), "", IF( COUNTIF([3]Settings!G$1:G$609, F44) = 1, INDEX([3]Settings!H$1:H$609, MATCH(F44, [3]Settings!G$1:G$609, 0)), IFERROR( INDEX([3]Settings!H$1:H$609, MATCH(1, ([3]Settings!G$1:G$609=F44) * ([3]Settings!D$1:D$609=G44), 0 ) ), "" ) ) )} -> #VALUE! | I44: 35102 | J44: 3510103050 | K44: АГ 629824 | L44: 005780250 8034 24.02.2021 | M44: м. Київ | N44: м. Київ, вул. Пилипа Козицького, буд. 3, кв. 32 | O44: вища | P44: КНАУ, 2016, економіст-кібернетик | Q44: Продавець, 6 років Права - | R44: не одружений мати: Гречанюк Ірина Олександрівна, 1978, м. Київ, 0674088553 | S44: 0505278293 0636001376 | U44: курсант | V44: 100 | X44: 46076 | Y44: № 57 | Z44: =IF(E44="","",IF(T44="","ні","так")) -> ні | AA44: 46076 | AB44: Придатний до військової служби | AC44: IV Rh - | AE44: =IF(AND(INT(YEARFRAC(I44,TODAY()))>=25,INT(YEARFRAC(I44,TODAY()))<=35),INT(YEARFRAC(I44,TODAY())),"") -> 30 | AF44: =IF(AND(INT(YEARFRAC(I44,TODAY()))>=36,INT(YEARFRAC(I44,TODAY()))<=45),INT(YEARFRAC(I44,TODAY())),"") | AG44: =IF(AND(INT(YEARFRAC(I44,TODAY()))>=46,INT(YEARFRAC(I44,TODAY()))<=50),INT(YEARFRAC(I44,TODAY())),"")
A45: 260228-7 | B45: 28 лютого 2026 року | C45: 3 | D45: солдат | E45: Гріщенко Максим Олегович | F45: Солом'янського районного | H45: {=IF( ISBLANK(F45), "", IF( COUNTIF([5]Settings!G$1:G$609, F45) = 1, INDEX([5]Settings!H$1:H$609, MATCH(F45, [5]Settings!G$1:G$609, 0)), IFERROR( INDEX([5]Settings!H$1:H$609, MATCH(1, ([5]Settings!G$1:G$609=F45) * ([5]Settings!D$1:D$609=G45), 0 ) ), "" ) ) )} -> #VALUE! | I45: 32120 | J45: 3211914316 | K45: АГ 629881 | L45: МЕ 482954 | M45: м. Київ | N45: м. Київ, вул. Митрополита Василя Липківського, буд. 30, кв. 122 | O45: вища | P45: ДУІТ, м. Київ, 2012 | Q45: Продажі, менеджер, 3 роки | R45: одружений, дружина: Макєєва Ганна Миколаївна, 1989, м. Київ, вул. Митрополита Василя Липківського, буд. 30, кв. 122, 0987000360 | S45: 976009086 | U45: курсант | V45: 100 | X45: 46081 | Y45: № 62 | Z45: =IF(E45="","",IF(T45="","ні","так")) -> ні | AA45: 46081 | AB45: Придатний до військової служби | AC45: III Rh + | AE45: =IF(AND(INT(YEARFRAC(I45,TODAY()))>=25,INT(YEARFRAC(I45,TODAY()))<=35),INT(YEARFRAC(I45,TODAY())),"") | AF45: =IF(AND(INT(YEARFRAC(I45,TODAY()))>=36,INT(YEARFRAC(I45,TODAY()))<=45),INT(YEARFRAC(I45,TODAY())),"") -> 38 | AG45: =IF(AND(INT(YEARFRAC(I45,TODAY()))>=46,INT(YEARFRAC(I45,TODAY()))<=50),INT(YEARFRAC(I45,TODAY())),"")
A46: 628 | B46: 21 лютого 2026 року | C46: 2 | D46: солдат | E46: Грох Андрій Вікторович | F46: Білоцерківського районного | G46: Біла Церква | H46: {=IF( ISBLANK(F46), "", IF( COUNTIF(Settings!G$1:G$609, F46) = 1, INDEX(Settings!H$1:H$609, MATCH(F46, Settings!G$1:G$609, 0)), IFERROR( INDEX(Settings!H$1:H$609, MATCH(1, (Settings!G$1:G$609=F46) * (Settings!D$1:D$609=G46), 0 ) ), "" ) ) )} -> Київ обл | I46: 30881 | J46: 3088000115 | K46: АВ 970598 | L46: СМ 236283 Міським відділом №1 Білоцерківського МУГУ МВС УКР в Київській обл 15.09.2000 | M46: Київська обл., м. Припʼять | N46: Київська обл., м. Біла Церква, вул. Луки Долинського, буд. 107, кв. 6 | O46: середня спеціальна | P46: Білоцерківське ПТУ №5, електрогазозварювальник, 2002 | Q46: електрогазозварювальник, рихтувальнк автомобілів, 15 років, Права BC | R46: одружений, дружина: Грох Людмила Іванівна, 1986, Київська обл., м. Біла Церква, вул. Луки Долинського, буд. 107, кв. 6, 0986174303 | S46: 0966363660 | U46: курсант | V46: 100 | X46: 46074 | Y46: № 55 | Z46: =IF(E46="","",IF(T46="","ні","так")) -> ні | AA46: 46074 | AB46: Придатний до військової служби | AC46: RH 4+ | AE46: =IF(AND(INT(YEARFRAC(I46,TODAY()))>=25,INT(YEARFRAC(I46,TODAY()))<=35),INT(YEARFRAC(I46,TODAY())),"") | AF46: =IF(AND(INT(YEARFRAC(I46,TODAY()))>=36,INT(YEARFRAC(I46,TODAY()))<=45),INT(YEARFRAC(I46,TODAY())),"") -> 41 | AG46: =IF(AND(INT(YEARFRAC(I46,TODAY()))>=46,INT(YEARFRAC(I46,TODAY()))<=50),INT(YEARFRAC(I46,TODAY())),"")
A47: 260228-7 | B47: 28 лютого 2026 року | C47: 4 | D47: солдат | E47: Грузинський Юрій Миколайович | F47: Солом'янського районного | H47: {=IF( ISBLANK(F47), "", IF( COUNTIF([5]Settings!G$1:G$609, F47) = 1, INDEX([5]Settings!H$1:H$609, MATCH(F47, [5]Settings!G$1:G$609, 0)), IFERROR( INDEX([5]Settings!H$1:H$609, MATCH(1, ([5]Settings!G$1:G$609=F47) * ([5]Settings!D$1:D$609=G47), 0 ) ), "" ) ) )} -> #VALUE! | I47: 31332 | J47: 3133113253 | K47: АГ 629880 | L47: 003604871 2315 15.07.2019 | M47: м. Запоріжжя | N47: м. Київ вул. Філіпа Козицького, буд. 7, кв. 3 | O47: професійно- технічна | P47: ПТУ №1 м. Запоріжжя 2003 зварювальник контролер АТК | Q47: Працівник СТО/шиномонтаж - 23р Права B (вилучені) | R47: не одружений цив. дуржина: Янченюк Олена Михайлівна - 0960956996, м. Київ вул. Філіпа Козицького, буд. 7, кв. 3 | S47: 688144881 | U47: курсант | V47: 100 | X47: 46081 | Y47: № 62 | Z47: =IF(E47="","",IF(T47="","ні","так")) -> ні | AA47: 46081 | AB47: Придатний до військової служби | AC47: II Rh + | AE47: =IF(AND(INT(YEARFRAC(I47,TODAY()))>=25,INT(YEARFRAC(I47,TODAY()))<=35),INT(YEARFRAC(I47,TODAY())),"") | AF47: =IF(AND(INT(YEARFRAC(I47,TODAY()))>=36,INT(YEARFRAC(I47,TODAY()))<=45),INT(YEARFRAC(I47,TODAY())),"") -> 40 | AG47: =IF(AND(INT(YEARFRAC(I47,TODAY()))>=46,INT(YEARFRAC(I47,TODAY()))<=50),INT(YEARFRAC(I47,TODAY())),"")
C48: 46 | D48: солдат | E48: Гуленко Владислав Олександрович | F48: Сумським РТЦК та СП Сумської обл., 23.02.2026 | H48: Сумська | I48: 35855 | J48: 3585409073 | K48: АВ 949486 | M48: м. Суми | N48: м. Суми, вул. Ковпака, б. 4а | O48: професійно- технічна | P48: ПТУ №43 м. Краснопілля, Сумська обл., Сумський р-н кухар-кондитер 5кат 2018 | Q48: вантажник | R48: не одружений батько Гуленко Олександр Миколайович - 1970 - 0663936035, Сумська обл., Краснопільський р-н, с. Самотоївка, вул. Калініна 170 | Z48: ні | AD48: Резерв КДШВ | AE48: =IF(AND(INT(YEARFRAC(I48,TODAY()))>=25,INT(YEARFRAC(I48,TODAY()))<=35),INT(YEARFRAC(I48,TODAY())),"") -> 28 | AF48: =IF(AND(INT(YEARFRAC(I48,TODAY()))>=36,INT(YEARFRAC(I48,TODAY()))<=45),INT(YEARFRAC(I48,TODAY())),"") | AG48: =IF(AND(INT(YEARFRAC(I48,TODAY()))>=46,INT(YEARFRAC(I48,TODAY()))<=50),INT(YEARFRAC(I48,TODAY())),"")
A49: 621/МВ | B49: 28 лютого 2026 року | C49: 5 | D49: солдат | E49: Гусєв Євгеній Олександрович | F49: Оболонського районного | H49: {=IF( ISBLANK(F49), "", IF( COUNTIF([5]Settings!G$1:G$609, F49) = 1, INDEX([5]Settings!H$1:H$609, MATCH(F49, [5]Settings!G$1:G$609, 0)), IFERROR( INDEX([5]Settings!H$1:H$609, MATCH(1, ([5]Settings!G$1:G$609=F49) * ([5]Settings!D$1:D$609=G49), 0 ) ), "" ) ) )} -> #VALUE! | I49: 36117 | J49: 3611608372 | K49: довідка | L49: ТТ 264727 Деснянським РВ ГУДМС УКР в м. Києві 20.11.2014 | M49: м. Київ | N49: м. Київ, вул. Мільчакова, буд. 3а | O49: професійно- технічна | P49: Київське ВПУ, деревообробка | Q49: Встановлення кондиціонерів, 4 роки, Права В | R49: не одружений, мати: Зубарєва Катерина Сергвіївна, 1980, м. Київ, вул. Мільчакова, буд. 3а, 0502642717 батько: Зубарєв Сергій Володимирович, 1975, м. Київ, вул. Мільчакова, буд. 3а, 0937226540 | S49: 955390619 | U49: курсант | V49: 100 | X49: 46081 | Y49: № 62 | Z49: =IF(E49="","",IF(T49="","ні","так")) -> ні | AA49: 46081 | AB49: Придатний до військової служби | AE49: =IF(AND(INT(YEARFRAC(I49,TODAY()))>=25,INT(YEARFRAC(I49,TODAY()))<=35),INT(YEARFRAC(I49,TODAY())),"") -> 27 | AF49: =IF(AND(INT(YEARFRAC(I49,TODAY()))>=36,INT(YEARFRAC(I49,TODAY()))<=45),INT(YEARFRAC(I49,TODAY())),"") | AG49: =IF(AND(INT(YEARFRAC(I49,TODAY()))>=46,INT(YEARFRAC(I49,TODAY()))<=50),INT(YEARFRAC(I49,TODAY())),"")
C50: 1 | D50: солдат | E50: Давиденко Богдан Миколайович | F50: Роменським РТЦК та СП Сумської обл. 22.02.2026 | H50: Сумська | I50: 35179 | J50: 3517807937 | K50: АВ 949426 | L50: 006233429 Виданий 5930 16.06.2021 | M50: м. Суми | N50: м. Суми, вул. ЗСУ, буд. 65а, кв. 92 | O50: вища | P50: НТУ ХПІ, 2018, механік-технолог | Q50: QA-middle тімлід, 4 роки монтажник, 10 років Права - | R50: не одружений, мати: Давиденко Олена Василівна, 1974, м. Суми, вул. ЗСУ, буд. 65а, кв. 92, 0956851446 | S50: 0999604676 | Z50: ні | AD50: Резерв КДШВ | AE50: =IF(AND(INT(YEARFRAC(I50,TODAY()))>=25,INT(YEARFRAC(I50,TODAY()))<=35),INT(YEARFRAC(I50,TODAY())),"") -> 29 | AF50: =IF(AND(INT(YEARFRAC(I50,TODAY()))>=36,INT(YEARFRAC(I50,TODAY()))<=45),INT(YEARFRAC(I50,TODAY())),"") | AG50: =IF(AND(INT(YEARFRAC(I50,TODAY()))>=46,INT(YEARFRAC(I50,TODAY()))<=50),INT(YEARFRAC(I50,TODAY())),"")
A51: 2581 | B51: 27 лютого 2026 року | C51: 5 | D51: старший солдат | E51: Дацюк Вячеслав Іванович | F51: Житомирського об'єднаного міського | H51: {=IF( ISBLANK(F51), "", IF( COUNTIF([4]Settings!G$1:G$609, F51) = 1, INDEX([4]Settings!H$1:H$609, MATCH(F51, [4]Settings!G$1:G$609, 0)), IFERROR( INDEX([4]Settings!H$1:H$609, MATCH(1, ([4]Settings!G$1:G$609=F51) * ([4]Settings!D$1:D$609=G51), 0 ) ), "" ) ) )} -> #VALUE! | I51: 29737 | J51: 2973607431 | K51: МО 300213 | L51: ВМ 546751 Богунським РВ УМВС України в Житомирській області 30.05.1998 | M51: м. Житомир | N51: м. Житомир вул. Бориса Тена, буд. 96, кв. 72 | O51: професійно- технічна | P51: СПТУ №1 м. Житомир 1998 муляр, штукатур | Q51: будівельник (бетонні роботи, дах, цегляна кладка) - 23р Права B | R51: одружений дружина: Дацюк Наталія Анатоліївна - 1980 - 0686362312 - м. Житомир вул. Бориса Тена, буд. 96, кв. 72 брат: Дацюк Сергій Іванович - 1978 - 0676960582 - м. Житомир, вул. Фруктова, буд. ? | S51: 961552828 | T51: 659 079 А | U51: курсант | V51: 100 | X51: 46080 | Y51: № 61 | Z51: =IF(E51="","",IF(T51="","ні","так")) -> так | AA51: 46080 | AB51: Придатний до військової служби | AC51: II Rh - | AE51: =IF(AND(INT(YEARFRAC(I51,TODAY()))>=25,INT(YEARFRAC(I51,TODAY()))<=35),INT(YEARFRAC(I51,TODAY())),"") | AF51: =IF(AND(INT(YEARFRAC(I51,TODAY()))>=36,INT(YEARFRAC(I51,TODAY()))<=45),INT(YEARFRAC(I51,TODAY())),"") -> 44 | AG51: =IF(AND(INT(YEARFRAC(I51,TODAY()))>=46,INT(YEARFRAC(I51,TODAY()))<=50),INT(YEARFRAC(I51,TODAY())),"")
C52: 8 | D52: солдат | E52: Денисенко Артем Олегович | F52: Сумським МТЦК та СП 23.02.2026 | H52: Сумська | I52: 33271 | J52: 3327015430 | K52: АВ 949485 | L52: МВ 340950 Зарічним ВМ СМВ УМВС України в Сумській обл. 27.03.2007 | M52: м. Суми | N52: м. Суми, вул. Друга Замостянська, буд. 82 | O52: повна загальна середня | P52: ПТУ №11, м. Суми, столяр | Q52: оператор відеонагляду, 7 років Права - | R52: одружений, дружина: Денисенко Людмила Сергіївна, 1992, м. Суми, вул. Друга Замостянська, буд. 82, 0953130945 | S52: 0508008954 | Z52: ні | AC52: II Rh + | AD52: Резерв КДШВ | AE52: =IF(AND(INT(YEARFRAC(I52,TODAY()))>=25,INT(YEARFRAC(I52,TODAY()))<=35),INT(YEARFRAC(I52,TODAY())),"") -> 35 | AF52: =IF(AND(INT(YEARFRAC(I52,TODAY()))>=36,INT(YEARFRAC(I52,TODAY()))<=45),INT(YEARFRAC(I52,TODAY())),"") | AG52: =IF(AND(INT(YEARFRAC(I52,TODAY()))>=46,INT(YEARFRAC(I52,TODAY()))<=50),INT(YEARFRAC(I52,TODAY())),"")
A53: 466 | B53: 26 лютого 2026 року | C53: 6 | D53: солдат | E53: Деревлюк Сергій Степанович | F53: Деснянського районного | H53: {=IF( ISBLANK(F53), "", IF( COUNTIF([1]Settings!G$1:G$609, F53) = 1, INDEX([1]Settings!H$1:H$609, MATCH(F53, [1]Settings!G$1:G$609, 0)), IFERROR( INDEX([1]Settings!H$1:H$609, MATCH(1, ([1]Settings!G$1:G$609=F53) * ([1]Settings!D$1:D$609=G53), 0 ) ), "" ) ) )} -> #VALUE! | I53: 27676 | J53: 2767516699 | K53: АГ 606569 | L53: 009085361 8029 01.05.2023 | M53: Київська обл., Васильківський р-н., с. Барахти | N53: м. Київ, Бережанська, буд. 12, кв. 46 | O53: базова загальна середня | P53: Київська ЗОШ №74 | Q53: склопакети, 3 роки Права - | R53: не одружений, брат: Деревлюк Віктор Степанович, 1982, м. Київ, Бережанська, буд. 12, кв. 46, 0734737591 | S53: 731557234 | T53: 100 915А | U53: курсант | V53: 100 | X53: 46079 | Y53: № 60 | Z53: =IF(E53="","",IF(T53="","ні","так")) -> так | AA53: 46077 | AB53: Придатний до військової служби | AE53: =IF(AND(INT(YEARFRAC(I53,TODAY()))>=25,INT(YEARFRAC(I53,TODAY()))<=35),INT(YEARFRAC(I53,TODAY())),"") | AF53: =IF(AND(INT(YEARFRAC(I53,TODAY()))>=36,INT(YEARFRAC(I53,TODAY()))<=45),INT(YEARFRAC(I53,TODAY())),"") | AG53: =IF(AND(INT(YEARFRAC(I53,TODAY()))>=46,INT(YEARFRAC(I53,TODAY()))<=50),INT(YEARFRAC(I53,TODAY())),"") -> 50
A54: 239 | B54: 24 лютого 2026 року | C54: 5 | D54: солдат | E54: Деркач Антон Олександрович | F54: Прилуцького районного | G54: Чернігівська обл., Прилуки | H54: {=IF( ISBLANK(F54), "", IF( COUNTIF([2]Settings!G$1:G$609, F54) = 1, INDEX([2]Settings!H$1:H$609, MATCH(F54, [2]Settings!G$1:G$609, 0)), IFERROR( INDEX([2]Settings!H$1:H$609, MATCH(1, ([2]Settings!G$1:G$609=F54) * ([2]Settings!D$1:D$609=G54), 0 ) ), "" ) ) )} -> #VALUE! | I54: 32253 | J54: 3225211077 | M54: Чернігівська обл., Прилуки | N54: Чернігівська обл., Прилуки, вул. Переяслівська, буд. 10, кв. 9 | O54: середня спеціальна | P54: ПТУ, Прилуки, 2007, електрогазозварювальник | Q54: водій електронавантажувач, 14 років, комірник, 14 років Права - | R54: не одружений, мати: Деркач Любов Борисівна, 1962, м. Київ | S54: 0668325680 | U54: курсант | V54: 100 | X54: 46077 | Y54: № 58 | Z54: =IF(E54="","",IF(T54="","ні","так")) -> ні | AA54: 46077 | AB54: Придатний до військової служби | AE54: =IF(AND(INT(YEARFRAC(I54,TODAY()))>=25,INT(YEARFRAC(I54,TODAY()))<=35),INT(YEARFRAC(I54,TODAY())),"") | AF54: =IF(AND(INT(YEARFRAC(I54,TODAY()))>=36,INT(YEARFRAC(I54,TODAY()))<=45),INT(YEARFRAC(I54,TODAY())),"") -> 38 | AG54: =IF(AND(INT(YEARFRAC(I54,TODAY()))>=46,INT(YEARFRAC(I54,TODAY()))<=50),INT(YEARFRAC(I54,TODAY())),"")
A55: 1/2421 | B55: 24 лютого 2026 року | C55: 1 | D55: солдат | E55: Дрига Сергій Олександрович | F55: Ніжинського районного | G55: Чернігівська обл., м. Бахмач | H55: {=IF( ISBLANK(F55), "", IF( COUNTIF([2]Settings!G$1:G$609, F55) = 1, INDEX([2]Settings!H$1:H$609, MATCH(F55, [2]Settings!G$1:G$609, 0)), IFERROR( INDEX([2]Settings!H$1:H$609, MATCH(1, ([2]Settings!G$1:G$609=F55) * ([2]Settings!D$1:D$609=G55), 0 ) ), "" ) ) )} -> #VALUE! | I55: 31754 | J55: 3175313158 | M55: Полтавська обл. Кобилянський р-н., с. Бутенки | N55: Полтавська обл. Кобилянський р-н., с. Вишневе, вул. Гоголя, буд. 10 | O55: повна загальна середня | P55: Бутенська ЗОШ | Q55: Дорожний робітник, 4 роки Права - | R55: не одружений, мати: Дрига Марія Олексіївна, 1961, Полтавська обл. Кобилянський р-н., с. Бутенки, вул. Набережна, буд. 45, 0994590369 | S55: 0997810722 | U55: курсант | V55: 100 | X55: 46077 | Y55: № 58 | Z55: =IF(E55="","",IF(T55="","ні","так")) -> ні | AA55: 46077 | AB55: Придатний до військової служби | AC55: I Rh + | AE55: =IF(AND(INT(YEARFRAC(I55,TODAY()))>=25,INT(YEARFRAC(I55,TODAY()))<=35),INT(YEARFRAC(I55,TODAY())),"") | AF55: =IF(AND(INT(YEARFRAC(I55,TODAY()))>=36,INT(YEARFRAC(I55,TODAY()))<=45),INT(YEARFRAC(I55,TODAY())),"") -> 39 | AG55: =IF(AND(INT(YEARFRAC(I55,TODAY()))>=46,INT(YEARFRAC(I55,TODAY()))<=50),INT(YEARFRAC(I55,TODAY())),"")
D56: солдат | E56: Єрмаков Дмитро Олександрович | F56: Дніпровське РТЦК та СП | H56: Дніпропетровська | I56: 28120 | M56: м. Дніпро | N56: Дніпропетровська обл. смт. Підгороднє, вул. Залізнична, буд. 8 | O56: повна загальна середня | P56: ПСШ №2, Підгороднє | Q56: Міліція, 3 роки Водій, 15 років Права A, B,C, D, E | R56: одружений, дружина: Волошко Надія Миколаївна, 1978, Дніпропетровська обл. смт. Підгороднє, вул. Залізнична, буд. 8 | S56: 0989854651 | Z56: =IF(E56="","",IF(T56="","ні","так")) -> ні | AC56: I Rh +
A57: 2584 | B57: 27 лютого 2026 року | C57: 6 | D57: старший солдат | E57: Жеребцов Данило Вадимович | F57: Житомирського об'єднаного міського | H57: {=IF( ISBLANK(F57), "", IF( COUNTIF([4]Settings!G$1:G$609, F57) = 1, INDEX([4]Settings!H$1:H$609, MATCH(F57, [4]Settings!G$1:G$609, 0)), IFERROR( INDEX([4]Settings!H$1:H$609, MATCH(1, ([4]Settings!G$1:G$609=F57) * ([4]Settings!D$1:D$609=G57), 0 ) ), "" ) ) )} -> #VALUE! | I57: 35760 | J57: 3575904092 | K57: АВ 381840 | L57: 009028574 1237 17.04.2023 | M57: Дніпропетровська обл., м. Тернівка | N57: м. Житомир, вул. Ю. Вороного, буд. 5, кв. 58 | O57: професійно- технічна | P57: Тернівський проф. гірничий ліцей, 2017, електрослсар-підземний | Q57: Електрослсар-підземний, 9 років, Права: А, В | R57: одружений, дружина: Жеребцова Евеліна Олександрівна, м. Житомир, вул. Ю. Вороного, буд. 5, кв. 58, 0505033165 | S57: 999402691 | T57: 100868 | U57: курсант | V57: 100 | X57: 46080 | Y57: № 61 | Z57: =IF(E57="","",IF(T57="","ні","так")) -> так | AA57: 46080 | AB57: Придатний до служби у військових частинах забезпечення, ТЦК та СП, ВВНЗ, навчальних центрах, закладах (установах), медичних підрозділах, підрозділах логістики, зв'язку, оперативного забезпечення, охорони | AC57: II Rh - | AD57: А2900 по розподілу 1НБ діловод | AE57: =IF(AND(INT(YEARFRAC(I57,TODAY()))>=25,INT(YEARFRAC(I57,TODAY()))<=35),INT(YEARFRAC(I57,TODAY())),"") -> 28 | AF57: =IF(AND(INT(YEARFRAC(I57,TODAY()))>=36,INT(YEARFRAC(I57,TODAY()))<=45),INT(YEARFRAC(I57,TODAY())),"") | AG57: =IF(AND(INT(YEARFRAC(I57,TODAY()))>=46,INT(YEARFRAC(I57,TODAY()))<=50),INT(YEARFRAC(I57,TODAY())),"")
C58: 31 | D58: солдат | E58: Забайрачний Антон Валерійович | F58: Сумським МТЦК та СП 22.02.2026 | H58: Сумська | I58: 32647 | J58: 3264613873 | K58: АВ 949421 | L58: ЕН 435216 Северодонецьким МВУМВС України в Луганській обл. 23.07.2005 | M58: м. Суми | N58: м. Суми, площа Пришибська б.16, кв.8а | O58: повна загальна середня | P58: МВК №7 м. Суми 2004 | Q58: бізнесмен | R58: не одружений мати Забайрачна Ольга Анатоліївна - 1965 - Чехія | S58: 0994827403 | Z58: ні | AC58: II Rh + | AD58: Резерв КДШВ | AE58: =IF(AND(INT(YEARFRAC(I58,TODAY()))>=25,INT(YEARFRAC(I58,TODAY()))<=35),INT(YEARFRAC(I58,TODAY())),"") | AF58: =IF(AND(INT(YEARFRAC(I58,TODAY()))>=36,INT(YEARFRAC(I58,TODAY()))<=45),INT(YEARFRAC(I58,TODAY())),"") -> 36 | AG58: =IF(AND(INT(YEARFRAC(I58,TODAY()))>=46,INT(YEARFRAC(I58,TODAY()))<=50),INT(YEARFRAC(I58,TODAY())),"")
A59: 1/2364 | B59: 23 лютого 2026 року | C59: 1 | D59: солдат | E59: Заїка Віталій Олександрович | F59: Ніжинського районного | G59: м. Бобровиця | H59: {=IF( ISBLANK(F59), "", IF( COUNTIF([3]Settings!G$1:G$609, F59) = 1, INDEX([3]Settings!H$1:H$609, MATCH(F59, [3]Settings!G$1:G$609, 0)), IFERROR( INDEX([3]Settings!H$1:H$609, MATCH(1, ([3]Settings!G$1:G$609=F59) * ([3]Settings!D$1:D$609=G59), 0 ) ), "" ) ) )} -> #VALUE! | I59: 29407 | J59: 2940603255 | M59: Чернігівська обл., Бахмацький р-н., с. Щуча-Гребля | N59: Чернігівська обл., Ніжинський р-н., м. Бобровиця, вул. Святкова, буд. 6 | O59: професійно- технічна | P59: Бобровицький ДСГТ, 2000, агроном | Q59: слюсар, 2 роки оператор крупʼяного виробництва, 10 років Технік склада, 6 років Права - | R59: не одружений, мати: Заїка Валентина Миколаївна, 1960, Чернігівська обл., Ніжинський р-н., м. Бобровиця, вул. Чергігівська, буд. 9а, кв. 10 | S59: 0681939861 | U59: курсант | V59: 100 | X59: 46076 | Y59: № 57 | Z59: =IF(E59="","",IF(T59="","ні","так")) -> ні | AA59: 46076 | AB59: Придатний до військової служби | AC59: I Rh + | AE59: =IF(AND(INT(YEARFRAC(I59,TODAY()))>=25,INT(YEARFRAC(I59,TODAY()))<=35),INT(YEARFRAC(I59,TODAY())),"") | AF59: =IF(AND(INT(YEARFRAC(I59,TODAY()))>=36,INT(YEARFRAC(I59,TODAY()))<=45),INT(YEARFRAC(I59,TODAY())),"") -> 45 | AG59: =IF(AND(INT(YEARFRAC(I59,TODAY()))>=46,INT(YEARFRAC(I59,TODAY()))<=50),INT(YEARFRAC(I59,TODAY())),"")
C60: 40 | D60: солдат | E60: Звада Микита Іванович | F60: Сумським МТЦК та СП Сумської обл., 21.02.2026 | H60: Сумська | I60: 36906 | J60: 3690507477 | K60: АВ 949418 | L60: 006012577 виданий 5922 23.04.2021 | M60: м. Санкт- Петербург | N60: Сумська обл., Роменський р-н, с Вільшана, вул. Озерна 55 | O60: повна загальна середня | P60: Вільшанська ЗОШ Сумська обл., с.Вільшана 2017 | Q60: водій кат В,С | R60: не одружений батько Звада Іван Михайлович - 1968 - 0500662946, Сумська обл., Роменський р-н, с Вільшана, вул. Озерна 55 | S60: 0683586538 | Z60: ні | AC60: I Rh + | AD60: Резерв КДШВ | AE60: =IF(AND(INT(YEARFRAC(I60,TODAY()))>=25,INT(YEARFRAC(I60,TODAY()))<=35),INT(YEARFRAC(I60,TODAY())),"") -> 25 | AF60: =IF(AND(INT(YEARFRAC(I60,TODAY()))>=36,INT(YEARFRAC(I60,TODAY()))<=45),INT(YEARFRAC(I60,TODAY())),"") | AG60: =IF(AND(INT(YEARFRAC(I60,TODAY()))>=46,INT(YEARFRAC(I60,TODAY()))<=50),INT(YEARFRAC(I60,TODAY())),"")
A61: 11/3193 | B61: 25 лютого 2026 року | C61: 4 | D61: солдат | E61: Звягінцев Вадим Сергійович | F61: Подільського районного | G61: міста Києва | H61: {=IF( ISBLANK(F61), "", IF( COUNTIF([6]Settings!G$1:G$609, F61) = 1, INDEX([6]Settings!H$1:H$609, MATCH(F61, [6]Settings!G$1:G$609, 0)), IFERROR( INDEX([6]Settings!H$1:H$609, MATCH(1, ([6]Settings!G$1:G$609=F61) * ([6]Settings!D$1:D$609=G61), 0 ) ), "" ) ) )} -> #VALUE! | I61: 33012 | J61: 3301112235 | K61: АГ 605685 | L61: СМ 828673 | M61: Київська обл. Бучанський р-н., смт. Коцюбинське | N61: Київська обл. Бучанський р-н., смт. Коцюбинське, вул. Пономарьова, буд.18, кв. 78 | O61: професійно- технічна | P61: Київський проф. коледж ім. А. Макаренка, 2010, правознавство | Q61: водій, 10 років, кладовщик, 6 років Права В | R61: одружений, дружина: Звягінцева Катерина Сергіївна, 1992, Київська обл. Бучанський р-н., смт. Коцюбинське, вул. Пономарьова, кв. 78, 0684331879 | S61: 636364510 | U61: курсант | V61: 100 | X61: 46078 | Y61: № 59 | Z61: =IF(E61="","",IF(T61="","ні","так")) -> ні | AA61: 46078 | AB61: Придатний до військової служби | AE61: =IF(AND(INT(YEARFRAC(I61,TODAY()))>=25,INT(YEARFRAC(I61,TODAY()))<=35),INT(YEARFRAC(I61,TODAY())),"") -> 35 | AF61: =IF(AND(INT(YEARFRAC(I61,TODAY()))>=36,INT(YEARFRAC(I61,TODAY()))<=45),INT(YEARFRAC(I61,TODAY())),"") | AG61: =IF(AND(INT(YEARFRAC(I61,TODAY()))>=46,INT(YEARFRAC(I61,TODAY()))<=50),INT(YEARFRAC(I61,TODAY())),"")
A62: 260228-7 | B62: 28 лютого 2026 року | C62: 6 | D62: солдат | E62: Зубко Андрій Валерійович | F62: Солом'янського районного | H62: {=IF( ISBLANK(F62), "", IF( COUNTIF([5]Settings!G$1:G$609, F62) = 1, INDEX([5]Settings!H$1:H$609, MATCH(F62, [5]Settings!G$1:G$609, 0)), IFERROR( INDEX([5]Settings!H$1:H$609, MATCH(1, ([5]Settings!G$1:G$609=F62) * ([5]Settings!D$1:D$609=G62), 0 ) ), "" ) ) )} -> #VALUE! | I62: 36847 | J62: 3684602658 | K62: АГ 629882 | L62: СЮ 439586 | M62: Запорізька обл. Кам'янсько-Дніпровський р-н, с. Водяне | N62: м. Київ, вул. Залізнична, буд. 34, кв. 112 | O62: вища | P62: ХАІ, 2022, авіаційна та ракетна проекційна техніка | Q62: інженер з міцності, 4 роки Права В | R62: не одружений, Тітка: Уварова Людмила Григорівна, 0675255951 | S62: 687091749 | U62: курсант | V62: 100 | X62: 46081 | Y62: № 62 | Z62: =IF(E62="","",IF(T62="","ні","так")) -> ні | AA62: 46081 | AB62: Придатний до військової служби | AC62: II Rh + | AD62: А3316 по розподілу рекомендаційний лист | AE62: =IF(AND(INT(YEARFRAC(I62,TODAY()))>=25,INT(YEARFRAC(I62,TODAY()))<=35),INT(YEARFRAC(I62,TODAY())),"") -> 25 | AF62: =IF(AND(INT(YEARFRAC(I62,TODAY()))>=36,INT(YEARFRAC(I62,TODAY()))<=45),INT(YEARFRAC(I62,TODAY())),"") | AG62: =IF(AND(INT(YEARFRAC(I62,TODAY()))>=46,INT(YEARFRAC(I62,TODAY()))<=50),INT(YEARFRAC(I62,TODAY())),"")
C63: 16 | D63: солдат | E63: Кальченко Олександр Іванович | F63: Сумським МТЦК та СП 23.02.26 | H63: Сумська | I63: 29245 | J63: 2924420790 | K63: АВ 967887 | M63: Сумська обл., м. Білопілля | N63: м. Суми, вул. Харківська, буд. 28/1, кв. 46 | O63: вища | P63: АМСУ, м. Дніпро, 2009, облік, аудит, правознавство | Q63: інспектор митниці, 14 років ФОП, 8 років Права В | R63: одружений, дружина: Кальченко Вікторія Володимирівна, м. Суми, пр. Перемоги, буд. 51, кв. 132, 0958425595 | S63: 0675997775 | Z63: ні | AC63: II Rh + | AD63: Резерв КДШВ | AE63: =IF(AND(INT(YEARFRAC(I63,TODAY()))>=25,INT(YEARFRAC(I63,TODAY()))<=35),INT(YEARFRAC(I63,TODAY())),"") | AF63: =IF(AND(INT(YEARFRAC(I63,TODAY()))>=36,INT(YEARFRAC(I63,TODAY()))<=45),INT(YEARFRAC(I63,TODAY())),"") | AG63: =IF(AND(INT(YEARFRAC(I63,TODAY()))>=46,INT(YEARFRAC(I63,TODAY()))<=50),INT(YEARFRAC(I63,TODAY())),"") -> 46
A64: 1376 | B64: 26 лютого 2026 року | C64: 7 | D64: солдат | E64: Камінський Андрій Михайлович | F64: Хмільницького районного | H64: {=IF( ISBLANK(F64), "", IF( COUNTIF([1]Settings!G$1:G$609, F64) = 1, INDEX([1]Settings!H$1:H$609, MATCH(F64, [1]Settings!G$1:G$609, 0)), IFERROR( INDEX([1]Settings!H$1:H$609, MATCH(1, ([1]Settings!G$1:G$609=F64) * ([1]Settings!D$1:D$609=G64), 0 ) ), "" ) ) )} -> #VALUE! | I64: 35416 | J64: 3541511375 | K64: АГ 574999 | L64: АТ 021347 Ленінським РВ УПМС України у Вінницькій області 17.01.2013 | M64: Вінницька обл., Вінницький р-н., с. Пултівці | N64: м. Вінниця, вул. Пирогова, буд. 103а, кв. 157 | O64: повна загальна середня | P64: Гімназія №1, Медичний коледж ім. Д.К. Заболотного, м. Вінниця, 2016 | Q64: комплектувальник, 3 роки, Права - | R64: одружений Дружина: Камінська Валентина Петрівна, 1998, м. Вінниця, вул. Пирогова, буд. 103а, кв. 157, 0501442286 | S64: 933511962 | U64: курсант | V64: 100 | X64: 46079 | Y64: № 60 | Z64: =IF(E64="","",IF(T64="","ні","так")) -> ні | AA64: 46079 | AB64: Придатний до військової служби | AC64: III Rh + | AE64: =IF(AND(INT(YEARFRAC(I64,TODAY()))>=25,INT(YEARFRAC(I64,TODAY()))<=35),INT(YEARFRAC(I64,TODAY())),"") -> 29 | AF64: =IF(AND(INT(YEARFRAC(I64,TODAY()))>=36,INT(YEARFRAC(I64,TODAY()))<=45),INT(YEARFRAC(I64,TODAY())),"") | AG64: =IF(AND(INT(YEARFRAC(I64,TODAY()))>=46,INT(YEARFRAC(I64,TODAY()))<=50),INT(YEARFRAC(I64,TODAY())),"")
A65: 11/1553 | B65: 25 лютого 2026 року | C65: 5 | D65: солдат | E65: Катеруша Ярослав Ігорович | F65: Шевченківського районного | G65: міста Києва | H65: {=IF( ISBLANK(F65), "", IF( COUNTIF([6]Settings!G$1:G$609, F65) = 1, INDEX([6]Settings!H$1:H$609, MATCH(F65, [6]Settings!G$1:G$609, 0)), IFERROR( INDEX([6]Settings!H$1:H$609, MATCH(1, ([6]Settings!G$1:G$609=F65) * ([6]Settings!D$1:D$609=G65), 0 ) ), "" ) ) )} -> #VALUE! | I65: 35252 | J65: 3525107076 | K65: довідка | L65: НЕ 670190 Городищенським РС УДМС УКР в Черкаській обл 12.09.2012 | M65: Черкаська обл., Черкаський р-н, м. Городище | N65: Черкаська обл., Черкаський р-н, м. Городище, вул. Миру, буд. 56, кв. 10 | O65: вища | P65: Київський національний лінгвістичний університет, 2018, філологія (мова та література англійська) | Q65: менеджер з продажів, 3 роки перекладач, 8 років Права В | R65: не одружений мати: Яременко Ольга Вікторівна, 1973, Черкаська обл., Черкаський р-н, м. Городище, вул. Миру, буд. 56, кв. 10, 0983966889 | S65: 733474748 | U65: курсант | V65: 100 | X65: 46078 | Y65: № 59 | Z65: =IF(E65="","",IF(T65="","ні","так")) -> ні | AA65: 46078 | AB65: Придатний до військової служби | AD65: А3316 по розподілу рекомендаційний лист!!! | AE65: =IF(AND(INT(YEARFRAC(I65,TODAY()))>=25,INT(YEARFRAC(I65,TODAY()))<=35),INT(YEARFRAC(I65,TODAY())),"") -> 29 | AF65: =IF(AND(INT(YEARFRAC(I65,TODAY()))>=36,INT(YEARFRAC(I65,TODAY()))<=45),INT(YEARFRAC(I65,TODAY())),"") | AG65: =IF(AND(INT(YEARFRAC(I65,TODAY()))>=46,INT(YEARFRAC(I65,TODAY()))<=50),INT(YEARFRAC(I65,TODAY())),"")
A66: 10/590 | B66: 23 лютого 2026 року | C66: 7 | D66: солдат | E66: Качура Олексій Олександрович | F66: Чернігівського міського | G66: м. Чернігів | H66: {=IF( ISBLANK(F66), "", IF( COUNTIF([3]Settings!G$1:G$609, F66) = 1, INDEX([3]Settings!H$1:H$609, MATCH(F66, [3]Settings!G$1:G$609, 0)), IFERROR( INDEX([3]Settings!H$1:H$609, MATCH(1, ([3]Settings!G$1:G$609=F66) * ([3]Settings!D$1:D$609=G66), 0 ) ), "" ) ) )} -> #VALUE! | I66: 35855 | J66: 3585404453 | M66: м. Чернігів | N66: м. Чернігів, просп. Миру, буд. 201б, кв. 20 | O66: вища | P66: Чернігівський педагогічний університет, 2021, фізичне виховання, хореографія | Q66: Тренер із спортивних бальних танців, 22 роки Права - | R66: не одружений, мати: Качура Оксана Валеріївна, 1974, м. Чернігів, просп. Миру, буд. 201б, кв. 20, 0509957275 | S66: 0664746771 | U66: курсант | V66: 100 | X66: 46076 | Y66: № 57 | Z66: =IF(E66="","",IF(T66="","ні","так")) -> ні | AA66: 46076 | AB66: Придатний до військової служби | AE66: =IF(AND(INT(YEARFRAC(I66,TODAY()))>=25,INT(YEARFRAC(I66,TODAY()))<=35),INT(YEARFRAC(I66,TODAY())),"") -> 28 | AF66: =IF(AND(INT(YEARFRAC(I66,TODAY()))>=36,INT(YEARFRAC(I66,TODAY()))<=45),INT(YEARFRAC(I66,TODAY())),"") | AG66: =IF(AND(INT(YEARFRAC(I66,TODAY()))>=46,INT(YEARFRAC(I66,TODAY()))<=50),INT(YEARFRAC(I66,TODAY())),"")
C67: 20 | D67: солдат | E67: Кваша Сергій Анатолійович | F67: Роменським РТЦК та СП Сумської обл. 27.02.2026 | H67: Сумська | I67: 32935 | J67: 3293410951 | K67: СО 728605 | L67: МВ 341636 Роменським МРВУМВС України в Сумській обл., 10.01.2007 | M67: Сумська обл., Роменський р-н., с. Анастасівка | N67: Сумська обл., Роменський р-н., с. Анастасівка, вул. Паркова, буд. 6 | O67: професійно- технічна | P67: Глинське ПТУ, 2009, слюсар, зварювальник | Q67: доглядач за тваринами, 6 років Права - | R67: не одружений, мати: Кваша Надія Іванівна, 1964, Сумська обл., Роменський р-н., с. Анастасівка, вул. Паркова, буд. 6, 0987449092 | S67: 0686718122 | Z67: ні | AC67: II Rh + | AD67: Резерв КДШВ | AE67: =IF(AND(INT(YEARFRAC(I67,TODAY()))>=25,INT(YEARFRAC(I67,TODAY()))<=35),INT(YEARFRAC(I67,TODAY())),"") | AF67: =IF(AND(INT(YEARFRAC(I67,TODAY()))>=36,INT(YEARFRAC(I67,TODAY()))<=45),INT(YEARFRAC(I67,TODAY())),"") -> 36 | AG67: =IF(AND(INT(YEARFRAC(I67,TODAY()))>=46,INT(YEARFRAC(I67,TODAY()))<=50),INT(YEARFRAC(I67,TODAY())),"")
C68: 26 | D68: солдат | E68: Клименченко Максим Анатолійович | F68: Шосткинським РТЦК та СП 24.02.2026 | H68: Сумська | I68: 32877 | J68: 3287611732 | K68: АВ 967980 | L68: МВ 302722 Глухівським МРВ УМВС України в Сумській обл. 07.07.2006 | M68: Сумська обл., м. Глухів | N68: Сумська обл., м. Глухів.ю вул. Франка, буд. 39 | O68: професійно- технічна | P68: ПТУ, м. Глухів, муляр, печник, штукатур | Q68: слюсар, 9 років Права - | R68: не одружений, мати: Клименченко Інна Петрівна, 1972, Сумська обл., м. Глухів.ю вул. Франка, буд. 39, 0956028336 | S68: 0667570803 | Z68: ні | AC68: I Rh + | AD68: Резерв КДШВ | AE68: =IF(AND(INT(YEARFRAC(I68,TODAY()))>=25,INT(YEARFRAC(I68,TODAY()))<=35),INT(YEARFRAC(I68,TODAY())),"") | AF68: =IF(AND(INT(YEARFRAC(I68,TODAY()))>=36,INT(YEARFRAC(I68,TODAY()))<=45),INT(YEARFRAC(I68,TODAY())),"") -> 36 | AG68: =IF(AND(INT(YEARFRAC(I68,TODAY()))>=46,INT(YEARFRAC(I68,TODAY()))<=50),INT(YEARFRAC(I68,TODAY())),"")
C69: 28 | D69: солдат | E69: Князєв Олексадр Олексійович | F69: Сумським РтЦК та СП Сумської обл., 24.02.2026 | H69: Сумська | I69: 30691 | J69: 3069007313 | K69: МО 533842 | L69: МВ 580136 Лебединським МСУДМС України в Сумській обл., 18.03.2015 | M69: Сумська обл., Сумський р-й, с.Першотравневе | N69: м. Лебедин, вул. Капранів б.24, Сумська обл. | O69: професійно- технічна | P69: ПТУ34, 2002, будівельник | Q69: будівельник, кат.В | R69: одружений Дружина Князєва Анна Миколаївна - 1990 - 0988266864 | S69: 0984312805 | Z69: ні | AC69: I Rh + | AD69: Резерв КДШВ | AE69: =IF(AND(INT(YEARFRAC(I69,TODAY()))>=25,INT(YEARFRAC(I69,TODAY()))<=35),INT(YEARFRAC(I69,TODAY())),"") | AF69: =IF(AND(INT(YEARFRAC(I69,TODAY()))>=36,INT(YEARFRAC(I69,TODAY()))<=45),INT(YEARFRAC(I69,TODAY())),"") -> 42 | AG69: =IF(AND(INT(YEARFRAC(I69,TODAY()))>=46,INT(YEARFRAC(I69,TODAY()))<=50),INT(YEARFRAC(I69,TODAY())),"")
A70: 2611 | B70: 28 лютого 2026 року | C70: 7 | D70: солдат | E70: Коваленко Анатолій Григорович | F70: Житомирського об'єднаного міського | H70: {=IF( ISBLANK(F70), "", IF( COUNTIF([5]Settings!G$1:G$609, F70) = 1, INDEX([5]Settings!H$1:H$609, MATCH(F70, [5]Settings!G$1:G$609, 0)), IFERROR( INDEX([5]Settings!H$1:H$609, MATCH(1, ([5]Settings!G$1:G$609=F70) * ([5]Settings!D$1:D$609=G70), 0 ) ), "" ) ) )} -> #VALUE! | I70: 29576 | J70: 2957514658 | K70: АВ 960033 | L70: ВМ 531816 Корольовським РВ УМВС України в Житомирській області 04.04.1998 | M70: м. Житомир | N70: м. Житомир вул. Володимира Гнатюка, буд. 30, кв. 309 | O70: професійно- технічна | P70: ПТУ №17 м. Житомир 1999 автослюсар-водій | Q70: слюсар - 20р Права B, C | R70: одружений дружина: Коваленко Оксана Вікторівна - 1982 - 0963146316 - м. Житомир, пров. Соломії Крушельницької, буд. 6 мати: Коваленко Тетяна Іванівна - 1956 - 0973455819 - м. Житомир, пров. Соломії Крушельницької, буд. 6 син: Коваленко Богдан Анатолійович - 2003 - 0980317646, Німеччина | S70: 963148587 | U70: курсант | V70: 100 | X70: 46081 | Y70: № 62 | Z70: =IF(E70="","",IF(T70="","ні","так")) -> ні | AA70: 46081 | AB70: Придатний до військової служби | AC70: II Rh + | AE70: =IF(AND(INT(YEARFRAC(I70,TODAY()))>=25,INT(YEARFRAC(I70,TODAY()))<=35),INT(YEARFRAC(I70,TODAY())),"") | AF70: =IF(AND(INT(YEARFRAC(I70,TODAY()))>=36,INT(YEARFRAC(I70,TODAY()))<=45),INT(YEARFRAC(I70,TODAY())),"") -> 45 | AG70: =IF(AND(INT(YEARFRAC(I70,TODAY()))>=46,INT(YEARFRAC(I70,TODAY()))<=50),INT(YEARFRAC(I70,TODAY())),"")
A71: 260228-7 | B71: 28 лютого 2026 року | C71: 8 | D71: солдат | E71: Коваленко Дмитро Валентинович | F71: Солом'янського районного | H71: {=IF( ISBLANK(F71), "", IF( COUNTIF([5]Settings!G$1:G$609, F71) = 1, INDEX([5]Settings!H$1:H$609, MATCH(F71, [5]Settings!G$1:G$609, 0)), IFERROR( INDEX([5]Settings!H$1:H$609, MATCH(1, ([5]Settings!G$1:G$609=F71) * ([5]Settings!D$1:D$609=G71), 0 ) ), "" ) ) )} -> #VALUE! | I71: 30984 | J71: 3098314219 | K71: АГ 629884 | L71: 004120993 8026 28.10.2019 | M71: м. Київ | N71: м. Київ просп. Червоної Калини, буд. 22а, кв. 114 | O71: повна загальна середня | P71: ЗОШ №238 м. Київ 2001 | Q71: бухгалтер - 6р промоутер реклами - 10р | R71: не одружений мати: Коваленко Лариса Євгеновна - 1960 - 0630463778, м. Київ просп. Червоної Калини, буд. 22а, кв. 114 тітка (хрещена): Скворцова Вікторія Всеволодівна - 1962 - 0637451132, м. Київ, вул. Шолом Алейхема, буд. 22, кв. 36 | S71: 930344674 | U71: курсант | V71: 100 | X71: 46081 | Y71: № 62 | Z71: =IF(E71="","",IF(T71="","ні","так")) -> ні | AA71: 46081 | AB71: Придатний до військової служби | AC71: IV Rh + | AE71: =IF(AND(INT(YEARFRAC(I71,TODAY()))>=25,INT(YEARFRAC(I71,TODAY()))<=35),INT(YEARFRAC(I71,TODAY())),"") | AF71: =IF(AND(INT(YEARFRAC(I71,TODAY()))>=36,INT(YEARFRAC(I71,TODAY()))<=45),INT(YEARFRAC(I71,TODAY())),"") -> 41 | AG71: =IF(AND(INT(YEARFRAC(I71,TODAY()))>=46,INT(YEARFRAC(I71,TODAY()))<=50),INT(YEARFRAC(I71,TODAY())),"")
A72: 620/МВ | B72: 28 лютого 2026 року | C72: 9 | D72: солдат | E72: Коваленко Олег Андрійович | F72: Оболонського районного | H72: {=IF( ISBLANK(F72), "", IF( COUNTIF([5]Settings!G$1:G$609, F72) = 1, INDEX([5]Settings!H$1:H$609, MATCH(F72, [5]Settings!G$1:G$609, 0)), IFERROR( INDEX([5]Settings!H$1:H$609, MATCH(1, ([5]Settings!G$1:G$609=F72) * ([5]Settings!D$1:D$609=G72), 0 ) ), "" ) ) )} -> #VALUE! | I72: 34106 | J72: 3410506256 | K72: 040520250688132901083/1 | L72: МР 295449 | M72: м. Херсон | N72: м. Київ, просп. Оболонський, буд. 28б | O72: вища | P72: ХДПУ, 2019, тренер | Q72: менеджер басейну, тренер з плавання, 15 років Права - | R72: одружений, дружина: Коваленко Катерина Андріївна, 1994, м. Київ, просп. Оболонський, буд. 28б, 0508486881 | S72: 990928972 | U72: курсант | V72: 100 | X72: 46081 | Y72: № 62 | Z72: =IF(E72="","",IF(T72="","ні","так")) -> ні | AA72: 46081 | AB72: Придатний до військової служби | AC72: II Rh - | AE72: =IF(AND(INT(YEARFRAC(I72,TODAY()))>=25,INT(YEARFRAC(I72,TODAY()))<=35),INT(YEARFRAC(I72,TODAY())),"") -> 32 | AF72: =IF(AND(INT(YEARFRAC(I72,TODAY()))>=36,INT(YEARFRAC(I72,TODAY()))<=45),INT(YEARFRAC(I72,TODAY())),"") | AG72: =IF(AND(INT(YEARFRAC(I72,TODAY()))>=46,INT(YEARFRAC(I72,TODAY()))<=50),INT(YEARFRAC(I72,TODAY())),"")
A73: 1379 | B73: 26 лютого 2026 року | C73: 8 | D73: солдат | E73: Коваль Сергій Степанович | F73: Хмільницького районного | H73: {=IF( ISBLANK(F73), "", IF( COUNTIF([1]Settings!G$1:G$609, F73) = 1, INDEX([1]Settings!H$1:H$609, MATCH(F73, [1]Settings!G$1:G$609, 0)), IFERROR( INDEX([1]Settings!H$1:H$609, MATCH(1, ([1]Settings!G$1:G$609=F73) * ([1]Settings!D$1:D$609=G73), 0 ) ), "" ) ) )} -> #VALUE! | I73: 30203 | J73: 3020225699 | K73: АГ 574997 | L73: АТ 170876 Хмільницьким РС УДМС УКР в Вінницькій обл 27.10.2016 | M73: Вінницька обл., Хмільницький р-н., с. Вербівка | N73: Вінницька обл., Хмільницький р-н., с. Вербівка, вул. Космонавтів, буд. 48 | O73: базова загальна середня | P73: Хмільницька ЗОШ №4 | Q73: автослюсар, 12 років | R73: не одружений, сестра: Коваль Леся Степанівна, 1978, Вінницька обл., Хмільницький р-н., с. Вербівка, вул. Космонавтів, буд. 48, 0682159607 | S73: 681797617 | U73: курсант | V73: 100 | X73: 46079 | Y73: № 60 | Z73: =IF(E73="","",IF(T73="","ні","так")) -> ні | AA73: 46078 | AB73: Придатний до військової служби | AE73: =IF(AND(INT(YEARFRAC(I73,TODAY()))>=25,INT(YEARFRAC(I73,TODAY()))<=35),INT(YEARFRAC(I73,TODAY())),"") | AF73: =IF(AND(INT(YEARFRAC(I73,TODAY()))>=36,INT(YEARFRAC(I73,TODAY()))<=45),INT(YEARFRAC(I73,TODAY())),"") -> 43 | AG73: =IF(AND(INT(YEARFRAC(I73,TODAY()))>=46,INT(YEARFRAC(I73,TODAY()))<=50),INT(YEARFRAC(I73,TODAY())),"")
B74: 03 березня 2026 року | C74: 16 | D74: солдат | E74: Ковальов Владислав Віталійович | F74: Кам'янський, Дніпропетровського району, м. Дніпро | H74: Дніпропетровська | I74: 36997 | M74: Дніпровська обл. Дніпропетровський р-н,с. Партизанське | N74: Дніпропетровська обл., Дніпропетровський р-н, с. Балівка, вул. Калинова, буд. 55 | O74: повна загальна середня учіліще | P74: Професійне технічне учіліще №79 м. Дніпро, 2019, водій сільско-господарських, лісо-господарських машин, слюсар ремонтник 3 разряду | Q74: водій, 3,5 року, Права В | R74: мати: Головата Юлія Василівна, 13.01.1983, Дніпропетровська обл., Дніпроперовський р-н, с. Балівка, вул. Калинова, буд. 55. | S74: 0664717290 | U74: курсант | V74: 100 | Z74: ні | AA74: 46080 | AB74: Придатний до військової служби | AC74: I Rh + | AD74: А5242 відношення РОТА ОХОРОНИ стрілець зенітник 4 ст., контракт | AE74: =IF(AND(INT(YEARFRAC(I74,TODAY()))>=25,INT(YEARFRAC(I74,TODAY()))<=35),INT(YEARFRAC(I74,TODAY())),"") -> 25 | AF74: =IF(AND(INT(YEARFRAC(I74,TODAY()))>=36,INT(YEARFRAC(I74,TODAY()))<=45),INT(YEARFRAC(I74,TODAY())),"") | AG74: =IF(AND(INT(YEARFRAC(I74,TODAY()))>=46,INT(YEARFRAC(I74,TODAY()))<=50),INT(YEARFRAC(I74,TODAY())),"")
C75: 30 | D75: старший сержант | E75: Колодченко Олег Григорович | F75: Індустріальним РТЦК та СП 20.02.2026 | G75: міста Харкова | H75: Харківська | I75: 32942 | J75: 3294101893 | K75: СО 621238 | L75: МВ 321644 Великописарівським РВУМВС України в Сумській обл. 25.07.2006 | M75: Сумська обл., Ахтирський р-н, с. Попівка | N75: м. Чугуїв, вул. Піщана 48 | O75: професійно- технічна | P75: Велекописерівська філія Ахтирскього профліцею, Сумська обл., смт.Велика Писарівка 2008 | Q75: війсковий трахторист В,С,С1 | R75: одружений Комодченко Єлена Ігорівна - 1989 - 0980437691 - м. Одеса | S75: 0950483028 | Z75: ні | AC75: III Rh + | AD75: Резерв КДШВ | AE75: =IF(AND(INT(YEARFRAC(I75,TODAY()))>=25,INT(YEARFRAC(I75,TODAY()))<=35),INT(YEARFRAC(I75,TODAY())),"") | AF75: =IF(AND(INT(YEARFRAC(I75,TODAY()))>=36,INT(YEARFRAC(I75,TODAY()))<=45),INT(YEARFRAC(I75,TODAY())),"") -> 36 | AG75: =IF(AND(INT(YEARFRAC(I75,TODAY()))>=46,INT(YEARFRAC(I75,TODAY()))<=50),INT(YEARFRAC(I75,TODAY())),"")
A76: 4/1847/1 | B76: 23 лютого 2026 року | C76: 8 | D76: солдат | E76: Коновал Євгеній Миколайович | F76: Чернігівського районного | G76: Чернігівська обл., Чернігівський р-н., с. Десна | H76: {=IF( ISBLANK(F76), "", IF( COUNTIF([3]Settings!G$1:G$609, F76) = 1, INDEX([3]Settings!H$1:H$609, MATCH(F76, [3]Settings!G$1:G$609, 0)), IFERROR( INDEX([3]Settings!H$1:H$609, MATCH(1, ([3]Settings!G$1:G$609=F76) * ([3]Settings!D$1:D$609=G76), 0 ) ), "" ) ) )} -> #VALUE! | I76: 30834 | J76: 3083303814 | M76: Дніппопетровська обл., м. Новомосковськ | N76: Чернігівська обл., Чернігівський р-н., с. Десна, вул. Захисників України, буд. 3, кв. 38 | O76: вища | P76: Чернігівський інститут економіки та управління, 2007, маркетолог | Q76: системний адміністратор, 18 років Права: С | R76: не одружений, батько: Коновал Микола Сергійович, 1953, Чернігівська обл., Чернігівський р-н., с. Десна, вул. Захисників України, буд. 3, кв. 38, 0931987601 | S76: 0937859535 | U76: курсант | V76: 100 | X76: 46076 | Y76: № 57 | Z76: =IF(E76="","",IF(T76="","ні","так")) -> ні | AA76: 46076 | AB76: Придатний до військової служби | AC76: І RH + | AE76: =IF(AND(INT(YEARFRAC(I76,TODAY()))>=25,INT(YEARFRAC(I76,TODAY()))<=35),INT(YEARFRAC(I76,TODAY())),"") | AF76: =IF(AND(INT(YEARFRAC(I76,TODAY()))>=36,INT(YEARFRAC(I76,TODAY()))<=45),INT(YEARFRAC(I76,TODAY())),"") -> 41 | AG76: =IF(AND(INT(YEARFRAC(I76,TODAY()))>=46,INT(YEARFRAC(I76,TODAY()))<=50),INT(YEARFRAC(I76,TODAY())),"")
C77: 24 | D77: солдат | E77: Коренєв Віталій Віталійович | F77: Конотопським РТЦК та СП, 24.02.2026 | H77: Сумська | I77: 32563 | J77: 3256220573 | K77: АВ 949492 | L77: закордоний паспорт FM731032 виданий 5901 05.04.2018 | M77: м. Суми | N77: м. Суми, вул. Роменська, буд. 98, кв. 48 | O77: базова загальна середня | P77: Школа №1, м. Суми | Q77: муляр, 19 років Права В | R77: не одружений, батько: Коренєв Віталій Олексійович, 1962, м. Суми, вул. Роменська, буд. 98, кв. 48, 0507243078 | S77: 0661495776 | Z77: ні | AC77: IV Rh - | AD77: Резерв КДШВ | AE77: =IF(AND(INT(YEARFRAC(I77,TODAY()))>=25,INT(YEARFRAC(I77,TODAY()))<=35),INT(YEARFRAC(I77,TODAY())),"") | AF77: =IF(AND(INT(YEARFRAC(I77,TODAY()))>=36,INT(YEARFRAC(I77,TODAY()))<=45),INT(YEARFRAC(I77,TODAY())),"") -> 37 | AG77: =IF(AND(INT(YEARFRAC(I77,TODAY()))>=46,INT(YEARFRAC(I77,TODAY()))<=50),INT(YEARFRAC(I77,TODAY())),"")
C78: 35 | D78: солдат | E78: Косенко Віталій Якович | F78: Сумським МТЦК та СП 27.02.2026 | H78: Сумська | I78: 34632 | J78: 3463112994 | K78: АВ 949438 | L78: 008368296 виданий 5922 21.10.2022 | M78: с. Немудруї, Сумська обл., Роменський р-н | N78: Сумська обл, с. Недригалів, вул. Заболотівка 80 | O78: повна загальна середня | P78: ПТУ №41 с. Недригалів, Сумська обл. 2013 | Q78: водій кат В,С трахторист кат. А1, А2 | R78: не одружений Батько Косенко Яків Петрович - 1964 - 0500535095, Сумська обл, с. Недригалів, вул. Заболотівка 80 | S78: 0991610466 | Z78: ні | AC78: IV Rh - | AD78: Резерв КДШВ | AE78: =IF(AND(INT(YEARFRAC(I78,TODAY()))>=25,INT(YEARFRAC(I78,TODAY()))<=35),INT(YEARFRAC(I78,TODAY())),"") -> 31 | AF78: =IF(AND(INT(YEARFRAC(I78,TODAY()))>=36,INT(YEARFRAC(I78,TODAY()))<=45),INT(YEARFRAC(I78,TODAY())),"") | AG78: =IF(AND(INT(YEARFRAC(I78,TODAY()))>=46,INT(YEARFRAC(I78,TODAY()))<=50),INT(YEARFRAC(I78,TODAY())),"")
A79: 466 | B79: 26 лютого 2026 року | C79: 9 | D79: солдат | E79: Косенюк Валерій Анатолійович | F79: Деснянського районного | H79: {=IF( ISBLANK(F79), "", IF( COUNTIF([1]Settings!G$1:G$609, F79) = 1, INDEX([1]Settings!H$1:H$609, MATCH(F79, [1]Settings!G$1:G$609, 0)), IFERROR( INDEX([1]Settings!H$1:H$609, MATCH(1, ([1]Settings!G$1:G$609=F79) * ([1]Settings!D$1:D$609=G79), 0 ) ), "" ) ) )} -> #VALUE! | I79: 27598 | J79: 2759713830 | K79: АГ 606584 | L79: СН 289053 | M79: м. Київ | N79: м. Київ, вул. Кіото, буд. 5, кв. 117 | O79: вища | P79: КДАККМ, 2005, звукорежисура, театральне мистецтво | Q79: музикант, 35 років Права: - | R79: одружений, дружина: Щипан-Косенюк Олександра Олегівна, 1981, м. Київ, вул. Кіото, буд. 5, кв. 117, 0503803966 | S79: 503803960 | U79: курсант | V79: 100 | X79: 46079 | Y79: № 60 | Z79: =IF(E79="","",IF(T79="","ні","так")) -> ні | AA79: 46079 | AB79: Придатний до служби у військових частинах забезпечення, ТЦК та СП, ВВНЗ, навчальних центрах, закладах (установах), медичних підрозділах, підрозділах логістики, зв'язку, оперативного забезпечення, охорони | AD79: А2900 по розподілу Біліченко Руслан Петрович оркестр | AE79: =IF(AND(INT(YEARFRAC(I79,TODAY()))>=25,INT(YEARFRAC(I79,TODAY()))<=35),INT(YEARFRAC(I79,TODAY())),"") | AF79: =IF(AND(INT(YEARFRAC(I79,TODAY()))>=36,INT(YEARFRAC(I79,TODAY()))<=45),INT(YEARFRAC(I79,TODAY())),"") | AG79: =IF(AND(INT(YEARFRAC(I79,TODAY()))>=46,INT(YEARFRAC(I79,TODAY()))<=50),INT(YEARFRAC(I79,TODAY())),"") -> 50
C80: 7 | D80: солдат | E80: Косьмін Юрій Віталійович | F80: Конотопським РТЦК та СП 24.02.2026 | H80: Сумська | I80: 29414 | J80: 2941315057 | K80: АВ 967804 | M80: Сумська обл., м. Путивль | N80: Сумська обл., м. Путивль, вул. І. Путивльського, буд. 7 | O80: базова загальна середня | P80: Бурса №9, м. Путивль | Q80: будівельник, 20 років Права - | R80: не одружений, батько: Косьмін Віталій | S80: 0662402865 | Z80: ні | AC80: II Rh + | AD80: Резерв КДШВ | AE80: =IF(AND(INT(YEARFRAC(I80,TODAY()))>=25,INT(YEARFRAC(I80,TODAY()))<=35),INT(YEARFRAC(I80,TODAY())),"") | AF80: =IF(AND(INT(YEARFRAC(I80,TODAY()))>=36,INT(YEARFRAC(I80,TODAY()))<=45),INT(YEARFRAC(I80,TODAY())),"") -> 45 | AG80: =IF(AND(INT(YEARFRAC(I80,TODAY()))>=46,INT(YEARFRAC(I80,TODAY()))<=50),INT(YEARFRAC(I80,TODAY())),"")
A81: 2504 | B81: 25 лютого 2026 року | C81: 6 | D81: солдат | E81: Крейдич Жан Віталійович | F81: Житомирського об'єднаного міського | H81: {=IF( ISBLANK(F81), "", IF( COUNTIF([6]Settings!G$1:G$609, F81) = 1, INDEX([6]Settings!H$1:H$609, MATCH(F81, [6]Settings!G$1:G$609, 0)), IFERROR( INDEX([6]Settings!H$1:H$609, MATCH(1, ([6]Settings!G$1:G$609=F81) * ([6]Settings!D$1:D$609=G81), 0 ) ), "" ) ) )} -> #VALUE! | I81: 31117 | J81: 3111620917 | K81: АГ 186074 | L81: ВН 498883 Корольовським РВ УМВС України в Житомирській області 17.08.2010 | M81: м. Житомир | N81: м. Житомир, вул. Вітрука, буд. 27, кв. 53 | R81: одружений, дружина: Шмідт Ірина Володимирівна, 1988 | U81: курсант | V81: 100 | X81: 46078 | Y81: № 59 | Z81: =IF(E81="","",IF(T81="","ні","так")) -> ні | AA81: 46078 | AB81: Придатний до військової служби | AE81: =IF(AND(INT(YEARFRAC(I81,TODAY()))>=25,INT(YEARFRAC(I81,TODAY()))<=35),INT(YEARFRAC(I81,TODAY())),"") | AF81: =IF(AND(INT(YEARFRAC(I81,TODAY()))>=36,INT(YEARFRAC(I81,TODAY()))<=45),INT(YEARFRAC(I81,TODAY())),"") -> 41 | AG81: =IF(AND(INT(YEARFRAC(I81,TODAY()))>=46,INT(YEARFRAC(I81,TODAY()))<=50),INT(YEARFRAC(I81,TODAY())),"")
C82: 44 | D82: солдат | E82: Кривогуз Віталій Олександович | F82: Сумським МТЦК та СП 21.02.2026 | H82: Сумська | I82: 29281 | J82: 2928021037 | K82: СО431160 | L82: МА 314704, Буринським РВУМВС України в Сумський обл., 04.08.1997 | M82: м. Ромни, Сумска обл. | N82: Сумська обл., м. Буринь, вул. Пірогова, б.1б/2 | O82: вища | P82: ПУСК м. Полтава бакалавр товарознавство і комерційна діяльність 2003 | Q82: ФОП кат. В | R82: не одружений мати Дзюба Євгенія Миколайвна - 1957, Сумська обл., м. Буринь, вул. 121 Стрілецької Дивізії, буд. 13, кв.2 | S82: 0994461246 | Z82: ні | AD82: Резерв КДШВ | AE82: =IF(AND(INT(YEARFRAC(I82,TODAY()))>=25,INT(YEARFRAC(I82,TODAY()))<=35),INT(YEARFRAC(I82,TODAY())),"") | AF82: =IF(AND(INT(YEARFRAC(I82,TODAY()))>=36,INT(YEARFRAC(I82,TODAY()))<=45),INT(YEARFRAC(I82,TODAY())),"") | AG82: =IF(AND(INT(YEARFRAC(I82,TODAY()))>=46,INT(YEARFRAC(I82,TODAY()))<=50),INT(YEARFRAC(I82,TODAY())),"") -> 46
A83: 2612 | B83: 28 лютого 2026 року | C83: 10 | D83: солдат | E83: Кузьмишин Юрій Миколайович | F83: Житомирського районного | H83: {=IF( ISBLANK(F83), "", IF( COUNTIF([5]Settings!G$1:G$609, F83) = 1, INDEX([5]Settings!H$1:H$609, MATCH(F83, [5]Settings!G$1:G$609, 0)), IFERROR( INDEX([5]Settings!H$1:H$609, MATCH(1, ([5]Settings!G$1:G$609=F83) * ([5]Settings!D$1:D$609=G83), 0 ) ), "" ) ) )} -> #VALUE! | I83: 32635 | J83: 3263419370 | K83: АГ 603381 | L83: 012496201 1819 27.10.2025 | M83: Житомирська обл. Житомирський р-н. с. Висока Піч | N83: Житомирська обл. Житомирський р-н. с. Висока Піч вул. Воронкіна, буд. 1, кв. 38 | O83: професійно- технічна | P83: Турчинівка (училище) Житомирська обл, м. Чуднів 2007 електрогазозварювальник, водій | Q83: водій (грузова) - 10р Права B, C, CE | R83: не одружений тітка: Бондарчук Антоніна Анатоліївна - 42р - 0688241992, Житомирська обл, Житомирський р-н, с. Нова Рудня, вул. Шевченка, буд. ? брат: Кузьмишин Сергй Миколайович - 1990 - 0681585142 (служить) | S83: 673197537 | U83: курсант | V83: 100 | X83: 46081 | Y83: № 62 | Z83: =IF(E83="","",IF(T83="","ні","так")) -> ні | AA83: 46081 | AB83: Придатний до військової служби | AC83: III Rh + | AE83: =IF(AND(INT(YEARFRAC(I83,TODAY()))>=25,INT(YEARFRAC(I83,TODAY()))<=35),INT(YEARFRAC(I83,TODAY())),"") | AF83: =IF(AND(INT(YEARFRAC(I83,TODAY()))>=36,INT(YEARFRAC(I83,TODAY()))<=45),INT(YEARFRAC(I83,TODAY())),"") -> 36 | AG83: =IF(AND(INT(YEARFRAC(I83,TODAY()))>=46,INT(YEARFRAC(I83,TODAY()))<=50),INT(YEARFRAC(I83,TODAY())),"")
A84: 11/2499 | B84: 25 лютого 2026 року | C84: 7 | D84: солдат | E84: Кучеренко Анатолій Михайлович | F84: Святошинського районного | H84: {=IF( ISBLANK(F84), "", IF( COUNTIF([6]Settings!G$1:G$609, F84) = 1, INDEX([6]Settings!H$1:H$609, MATCH(F84, [6]Settings!G$1:G$609, 0)), IFERROR( INDEX([6]Settings!H$1:H$609, MATCH(1, ([6]Settings!G$1:G$609=F84) * ([6]Settings!D$1:D$609=G84), 0 ) ), "" ) ) )} -> #VALUE! | I84: 33960 | J84: 3395907198 | K84: АГ 606238 | L84: 005837755 5926 11.03.2021 | M84: Сумська обл, Сумський р-н, с. Нижня Сироватка | N84: м. Київ, просп. Академіка Корольова, буд. 6, кв 245 | O84: професійно- технічна | P84: ПТУ №16 м. Суми 2012 охоронник | Q84: робітник на складі | R84: не одружений мати: Кучеренко Любов Іванівна - 1961 - 0992350554 - Сумська обл, Сумський р-н, с. Нижня Сироватка, пров. Перемоги, буд. 6 брат: Кучеренко Сергій Михайлович - 1980 - 0990458693, м. Суми, вул. ? | S84: 668498110 | U84: курсант | V84: 100 | X84: 46078 | Y84: № 59 | Z84: =IF(E84="","",IF(T84="","ні","так")) -> ні | AA84: 46078 | AB84: Придатний до військової служби | AE84: =IF(AND(INT(YEARFRAC(I84,TODAY()))>=25,INT(YEARFRAC(I84,TODAY()))<=35),INT(YEARFRAC(I84,TODAY())),"") -> 33 | AF84: =IF(AND(INT(YEARFRAC(I84,TODAY()))>=36,INT(YEARFRAC(I84,TODAY()))<=45),INT(YEARFRAC(I84,TODAY())),"") | AG84: =IF(AND(INT(YEARFRAC(I84,TODAY()))>=46,INT(YEARFRAC(I84,TODAY()))<=50),INT(YEARFRAC(I84,TODAY())),"")
A85: 470 | B85: 27 лютого 2026 року | C85: 7 | D85: солдат | E85: Кучура Андрій Віталійович | F85: Деснянського районного | H85: {=IF( ISBLANK(F85), "", IF( COUNTIF([4]Settings!G$1:G$609, F85) = 1, INDEX([4]Settings!H$1:H$609, MATCH(F85, [4]Settings!G$1:G$609, 0)), IFERROR( INDEX([4]Settings!H$1:H$609, MATCH(1, ([4]Settings!G$1:G$609=F85) * ([4]Settings!D$1:D$609=G85), 0 ) ), "" ) ) )} -> #VALUE! | I85: 32181 | J85: 3218006254 | K85: АГ 606587 | L85: НМ 474141 | M85: Чернігівська обл., м. Борзна | N85: Чернігівська обл., м. Борзна, вул. Олійника, буд. 41 | O85: повна загальна середня | P85: Борзнівська ЗОШ | Q85: будівельник, 10 років Права - | R85: не одружений, мати: Кучура Тетяна Іванівна, Чернігівська обл., м. Борзна, вул. Олійника, буд. 41, 0639370324 | S85: 937290800 | U85: курсант | V85: 100 | X85: 46080 | Y85: № 61 | Z85: =IF(E85="","",IF(T85="","ні","так")) -> ні | AA85: 46079 | AB85: Придатний до військової служби | AC85: I Rh + | AE85: =IF(AND(INT(YEARFRAC(I85,TODAY()))>=25,INT(YEARFRAC(I85,TODAY()))<=35),INT(YEARFRAC(I85,TODAY())),"") | AF85: =IF(AND(INT(YEARFRAC(I85,TODAY()))>=36,INT(YEARFRAC(I85,TODAY()))<=45),INT(YEARFRAC(I85,TODAY())),"") -> 38 | AG85: =IF(AND(INT(YEARFRAC(I85,TODAY()))>=46,INT(YEARFRAC(I85,TODAY()))<=50),INT(YEARFRAC(I85,TODAY())),"")
C86: 29 | D86: сержант | E86: Кущ Андрій Петрович | F86: Сумським МТЦК та СП 24.02.2026 | H86: Сумська | I86: 28934 | J86: 2893300213 | K86: УН 0497799 | L86: МВ 429139 Буринським РВГУМВС України в Сумській обл., 28.01.2010 | M86: Сумська обл., Буринськийр-н, с. Михайлівка, вул. Лесі Українки 33 | N86: м. Суми, вул. Ковпака, б. 85, кв.52 | O86: повна загальна середня | P86: Михайлівська ЗОШ Сумська обл. | Q86: електрогазозварник | R86: одружений Кущ Світлана Олександрівна - 1987 - 0990357418 | S86: 0669213337 | Z86: ні | AC86: II Rh + | AD86: Резерв КДШВ | AE86: =IF(AND(INT(YEARFRAC(I86,TODAY()))>=25,INT(YEARFRAC(I86,TODAY()))<=35),INT(YEARFRAC(I86,TODAY())),"") | AF86: =IF(AND(INT(YEARFRAC(I86,TODAY()))>=36,INT(YEARFRAC(I86,TODAY()))<=45),INT(YEARFRAC(I86,TODAY())),"") | AG86: =IF(AND(INT(YEARFRAC(I86,TODAY()))>=46,INT(YEARFRAC(I86,TODAY()))<=50),INT(YEARFRAC(I86,TODAY())),"") -> 47
A87: 260223-9 | B87: 23 лютого 2026 року | C87: 9 | D87: солдат | E87: Левенець Максим Дмитрович | F87: Солом'янського районного | H87: {=IF( ISBLANK(F87), "", IF( COUNTIF([3]Settings!G$1:G$609, F87) = 1, INDEX([3]Settings!H$1:H$609, MATCH(F87, [3]Settings!G$1:G$609, 0)), IFERROR( INDEX([3]Settings!H$1:H$609, MATCH(1, ([3]Settings!G$1:G$609=F87) * ([3]Settings!D$1:D$609=G87), 0 ) ), "" ) ) )} -> #VALUE! | I87: 32356 | J87: 3235521550 | K87: АГ 629816 | L87: МЕ 490408 Шевченківського РУ ГУ МВС УКР в м. Києві 28.04.2005 | M87: м. Київ | N87: м. Київ, вул. Дмитрицька, буд. 82, кв. 16 | O87: вища | P87: Київський бізнес коледж | Q87: ІТ-фахівець, 20 років Права - | R87: не одружений, близькі родичі - не вказано | S87: 930007874 | U87: курсант | V87: 100 | X87: 46076 | Y87: № 57 | Z87: =IF(E87="","",IF(T87="","ні","так")) -> ні | AA87: 46076 | AB87: Придатний до військової служби | AD87: А3316 по розподілу рекомендаційний лист | AE87: =IF(AND(INT(YEARFRAC(I87,TODAY()))>=25,INT(YEARFRAC(I87,TODAY()))<=35),INT(YEARFRAC(I87,TODAY())),"") | AF87: =IF(AND(INT(YEARFRAC(I87,TODAY()))>=36,INT(YEARFRAC(I87,TODAY()))<=45),INT(YEARFRAC(I87,TODAY())),"") -> 37 | AG87: =IF(AND(INT(YEARFRAC(I87,TODAY()))>=46,INT(YEARFRAC(I87,TODAY()))<=50),INT(YEARFRAC(I87,TODAY())),"")
C88: 33 | D88: солдат | E88: Левчич Олександр Миколайович | F88: Сумським МТЦК та СП 24.02.2026 | H88: Сумська | I88: 28658 | J88: 2865716296 | K88: АВ 949490 | L88: 010064683 Виданий 5930 21.12.2023 | M88: м. Суми | N88: м. Суми, вул. ЗСУ , буд.6, кв 119 | O88: повна загальна середня | P88: СВШ №2 м. Суми 1996 | Q88: В | R88: неодружений Брат Левчич Володимир Миколайович - 1971 - 0503074035, м. Суми | S88: 0501372378 | Z88: ні | AC88: I Rh + | AD88: Резерв КДШВ | AE88: =IF(AND(INT(YEARFRAC(I88,TODAY()))>=25,INT(YEARFRAC(I88,TODAY()))<=35),INT(YEARFRAC(I88,TODAY())),"") | AF88: =IF(AND(INT(YEARFRAC(I88,TODAY()))>=36,INT(YEARFRAC(I88,TODAY()))<=45),INT(YEARFRAC(I88,TODAY())),"") | AG88: =IF(AND(INT(YEARFRAC(I88,TODAY()))>=46,INT(YEARFRAC(I88,TODAY()))<=50),INT(YEARFRAC(I88,TODAY())),"") -> 47
C89: 3 | D89: солдат | E89: Литвинко Олександр Сергійович | F89: Роменським РТЦК та СП Сумської обл. 21.02.26 | H89: Сумська | I89: 36728 | J89: 3672709816 | K89: АВ 949425 | L89: 006384474 Виданий 5924 19.07.2021 | M89: Сумська обл., Роменський р-н., с Перекопівка | N89: Сумська обл., Роменський р-н., с Перекопівка, вул. Космонавтів, буд. 107 | O89: професійно- технічна | P89: Глинський ПТАЛ, 2019, водій-тракторист, слюсар з ремонту с\г машин, Путивльський ветеринарний коледж, 2023, ветеринарна медицина | Q89: тракторист, 7 років Права А, В, С, тракторні | R89: одружений, дружина: Литвинко Катерина Олександрівна, 2004, Сумська обл., Роменський р-н., с Перекопівка, вул. Космонавтів, буд. 107, 0993483660 | S89: не надано | Z89: ні | AD89: Резерв КДШВ | AE89: =IF(AND(INT(YEARFRAC(I89,TODAY()))>=25,INT(YEARFRAC(I89,TODAY()))<=35),INT(YEARFRAC(I89,TODAY())),"") -> 25 | AF89: =IF(AND(INT(YEARFRAC(I89,TODAY()))>=36,INT(YEARFRAC(I89,TODAY()))<=45),INT(YEARFRAC(I89,TODAY())),"") | AG89: =IF(AND(INT(YEARFRAC(I89,TODAY()))>=46,INT(YEARFRAC(I89,TODAY()))<=50),INT(YEARFRAC(I89,TODAY())),"")
A90: 2581 | B90: 27 лютого 2026 року | C90: 8 | D90: солдат | E90: Люлевич Віталій Михайлович | F90: Житомирського об'єднаного міського | H90: {=IF( ISBLANK(F90), "", IF( COUNTIF([4]Settings!G$1:G$609, F90) = 1, INDEX([4]Settings!H$1:H$609, MATCH(F90, [4]Settings!G$1:G$609, 0)), IFERROR( INDEX([4]Settings!H$1:H$609, MATCH(1, ([4]Settings!G$1:G$609=F90) * ([4]Settings!D$1:D$609=G90), 0 ) ), "" ) ) )} -> #VALUE! | I90: 32741 | J90: 3274005414 | K90: АВ 960028 | L90: ВН 610181 Корольовським РВ у м. Житомирі УДМС УКР в Житомирській обл 07.09.2013 | M90: м. Житомир | N90: м. Житомир, Огієнко, буд. 1/34, кв. 71 | O90: повна загальна середня | P90: Житомирська ЗОШ №14 | Q90: водій, 20 років Права: всі окрім D, небезпечні вантажі | R90: не одружений, батько Люлевич Михайло Йосипович 0679593591 | S90: 80973712130 | T90: 790 037А | U90: курсант | V90: 100 | X90: 46080 | Y90: № 61 | Z90: =IF(E90="","",IF(T90="","ні","так")) -> так | AA90: 46080 | AB90: Придатний до служби на підводних човнох, на надводних кораблях, у морській піхоті, Десантно-штурмових військах, спеціальних спорудах, підрозділах спеціального призначення | AE90: =IF(AND(INT(YEARFRAC(I90,TODAY()))>=25,INT(YEARFRAC(I90,TODAY()))<=35),INT(YEARFRAC(I90,TODAY())),"") | AF90: =IF(AND(INT(YEARFRAC(I90,TODAY()))>=36,INT(YEARFRAC(I90,TODAY()))<=45),INT(YEARFRAC(I90,TODAY())),"") -> 36 | AG90: =IF(AND(INT(YEARFRAC(I90,TODAY()))>=46,INT(YEARFRAC(I90,TODAY()))<=50),INT(YEARFRAC(I90,TODAY())),"")
D91: солдат | E91: Мазуркевич Віталій Петрович | F91: Подільський РТЦК та СП 19.02.2026 | H91: Київ місто | I91: 34057 | J91: 3405600870 | K91: АГ 605625 | M91: Вінницька обл., Літинський р-н., с. Громадське | N91: м. Київ, вул. В. Липківського, буд. 13, кв. 27 | O91: повна загальна середня | P91: Громадська ЗОШ, 2008 | Q91: автомеханік, 12 років Права: В, С | R91: одружений, дружина: Мазуркевич Марина Анатоліївна, 1991, м. Київ, вул. В. Липківського, буд. 13, кв. 27, 0631378707 | S91: 0638014463 | AD91: Резерв КДШВ | AE91: =IF(AND(INT(YEARFRAC(I91,TODAY()))>=25,INT(YEARFRAC(I91,TODAY()))<=35),INT(YEARFRAC(I91,TODAY())),"") -> 33 | AF91: =IF(AND(INT(YEARFRAC(I91,TODAY()))>=36,INT(YEARFRAC(I91,TODAY()))<=45),INT(YEARFRAC(I91,TODAY())),"") | AG91: =IF(AND(INT(YEARFRAC(I91,TODAY()))>=46,INT(YEARFRAC(I91,TODAY()))<=50),INT(YEARFRAC(I91,TODAY())),"")
A92: 2501 | B92: 25 лютого 2026 року | C92: 8 | D92: солдат | E92: Матюнін Іван Леонідович | F92: Житомирського об'єднаного міського | H92: {=IF( ISBLANK(F92), "", IF( COUNTIF([6]Settings!G$1:G$609, F92) = 1, INDEX([6]Settings!H$1:H$609, MATCH(F92, [6]Settings!G$1:G$609, 0)), IFERROR( INDEX([6]Settings!H$1:H$609, MATCH(1, ([6]Settings!G$1:G$609=F92) * ([6]Settings!D$1:D$609=G92), 0 ) ), "" ) ) )} -> #VALUE! | I92: 30964 | J92: 3096315737 | K92: АГ 186071 | L92: ВН 566980 Корольовським РВ УМВС України в Житомирській області 01.01.2000 | M92: м. Житомир | N92: м. Житомир, вул. Короленка, буд. 52, кв. 2 | O92: повна загальна середня | P92: Вечірня школа №1 м. Житомир 2005 | Q92: Стропольщик башеного крану - 6р | R92: не одружений мати: Матюніна Наталія Сергіївна - 1960 - 0977692131, м. Житомир, вул. Короленка, буд. 52, кв. 2 | S92: 975383164 | U92: курсант | V92: 100 | X92: 46078 | Y92: № 59 | Z92: =IF(E92="","",IF(T92="","ні","так")) -> ні | AA92: 46078 | AB92: Придатний до військової служби | AE92: =IF(AND(INT(YEARFRAC(I92,TODAY()))>=25,INT(YEARFRAC(I92,TODAY()))<=35),INT(YEARFRAC(I92,TODAY())),"") | AF92: =IF(AND(INT(YEARFRAC(I92,TODAY()))>=36,INT(YEARFRAC(I92,TODAY()))<=45),INT(YEARFRAC(I92,TODAY())),"") -> 41 | AG92: =IF(AND(INT(YEARFRAC(I92,TODAY()))>=46,INT(YEARFRAC(I92,TODAY()))<=50),INT(YEARFRAC(I92,TODAY())),"")
C93: 42 | D93: солдат | E93: Меньшиков Олексій Єгорович | F93: Харківським ТЦК та СП м. Харків, 25.12.2025 | G93: міста Харкова | H93: Харківська | I93: 29310 | J93: 2930900615 | K93: АВ909203 | L93: МК 119294, Пісочинським ВМ Харківського РВУМВС України 09.04.1996 | M93: м. Харків | N93: Харківська обл., Харківський р-н, смт. Пісочин, пров. Лісовий 20 | O93: базова загальна середня | P93: Пісочинська ЗОШ Харківська обл., смт. Пісочин 1995 | Q93: сантехнік | R93: одружений дружина Меньшикова Маргарита Сергиївна - 1989, Харківська обл., Харківський р-н, с. Санжари, вул. Майська 1 | S93: 0669377797 | Z93: ні | AC93: III Rh + | AD93: Резерв КДШВ | AE93: =IF(AND(INT(YEARFRAC(I93,TODAY()))>=25,INT(YEARFRAC(I93,TODAY()))<=35),INT(YEARFRAC(I93,TODAY())),"") | AF93: =IF(AND(INT(YEARFRAC(I93,TODAY()))>=36,INT(YEARFRAC(I93,TODAY()))<=45),INT(YEARFRAC(I93,TODAY())),"") | AG93: =IF(AND(INT(YEARFRAC(I93,TODAY()))>=46,INT(YEARFRAC(I93,TODAY()))<=50),INT(YEARFRAC(I93,TODAY())),"") -> 46
C94: 9 | D94: солдат | E94: Нєжнов Сергій Миколайович | F94: Харківським РТЦК та СП 20.02.2026 | H94: Харківська | I94: 28136 | J94: 2813500653 | K94: АГ 594862 | L94: МН 840776 Червонозаводським РВХМУУМВС України в Харківській обл., 25.04.2006 | M94: м. Харків | N94: м. Харків, вул. Заводська, буд. 114 | O94: професійно- технічна | P94: СПТУ №9 м. Харків, 1995, електрогазозварювальник | Q94: водій, 30 років Права: В, С, Д | R94: одружений, дружина: Нєжнова Надія Іванівна, 1979, м. Харків, вул. Заводська, буд. 114, 0671567613 | S94: 0962762720 | Z94: ні | AC94: I Rh - | AD94: Резерв КДШВ | AE94: =IF(AND(INT(YEARFRAC(I94,TODAY()))>=25,INT(YEARFRAC(I94,TODAY()))<=35),INT(YEARFRAC(I94,TODAY())),"") | AF94: =IF(AND(INT(YEARFRAC(I94,TODAY()))>=36,INT(YEARFRAC(I94,TODAY()))<=45),INT(YEARFRAC(I94,TODAY())),"") | AG94: =IF(AND(INT(YEARFRAC(I94,TODAY()))>=46,INT(YEARFRAC(I94,TODAY()))<=50),INT(YEARFRAC(I94,TODAY())),"") -> 49
A95: 2505 | B95: 26 лютого 2026 року | C95: 10 | D95: солдат | E95: Осадчук Олександр Олександрович | F95: Житомирського районного | H95: {=IF( ISBLANK(F95), "", IF( COUNTIF([1]Settings!G$1:G$609, F95) = 1, INDEX([1]Settings!H$1:H$609, MATCH(F95, [1]Settings!G$1:G$609, 0)), IFERROR( INDEX([1]Settings!H$1:H$609, MATCH(1, ([1]Settings!G$1:G$609=F95) * ([1]Settings!D$1:D$609=G95), 0 ) ), "" ) ) )} -> #VALUE! | I95: 32239 | J95: 3223818474 | K95: АГ 603361 | L95: ВН 554655 Корольовським РВ УМВС УКР в Житомирській обл 17.04.2012 | M95: м. Житомир | N95: Житомирська обл., Пулинський р-н., с.Бабичівка, вул. Польова, 1 | O95: базова загальна середня | P95: Мартинівська ЗОШ | Q95: Різноробочий, 4 роки, Права - | R95: не одружений, мати: Осадчук Альвіна Зиновіївна, 1963, Житомирська обл., Пулинський р-н., с.Бабичівка, вул. Польова, 1 | S95: не вказано | U95: курсант | V95: 100 | X95: 46079 | Y95: № 60 | Z95: =IF(E95="","",IF(T95="","ні","так")) -> ні | AA95: 46078 | AB95: Придатний до військової служби | AC95: II Rh + | AE95: =IF(AND(INT(YEARFRAC(I95,TODAY()))>=25,INT(YEARFRAC(I95,TODAY()))<=35),INT(YEARFRAC(I95,TODAY())),"") | AF95: =IF(AND(INT(YEARFRAC(I95,TODAY()))>=36,INT(YEARFRAC(I95,TODAY()))<=45),INT(YEARFRAC(I95,TODAY())),"") -> 38 | AG95: =IF(AND(INT(YEARFRAC(I95,TODAY()))>=46,INT(YEARFRAC(I95,TODAY()))<=50),INT(YEARFRAC(I95,TODAY())),"")
C96: 45 | D96: солдат | E96: Панченко Олексадр Валерійович | F96: Конотопським РТЦК та СП 23.02.2026 | H96: Сумська | I96: 30298 | J96: 3029719656 | K96: АВ 967839 | L96: 005500019 | M96: Конотопський р-н, с. Підлипне | N96: Сумська обл., Конотопський р-н, м. Кролевец, вул. Зелинського, буд. 1, кв. 4 | O96: базова загальна середня | P96: Грузківська ЗОШ Сумська обл., Кроливецький р-н, с. Грузків | Q96: будівельник | R96: одружений дружина Панченко Оксана Володимирівна - 1987 - 0960923346, Сумська обл., Конотопський р-н, м. Кролевец, вул. Зелинського, буд. 1, кв. 4 | Z96: ні | AC96: III Rh + | AD96: Резерв КДШВ | AE96: =IF(AND(INT(YEARFRAC(I96,TODAY()))>=25,INT(YEARFRAC(I96,TODAY()))<=35),INT(YEARFRAC(I96,TODAY())),"") | AF96: =IF(AND(INT(YEARFRAC(I96,TODAY()))>=36,INT(YEARFRAC(I96,TODAY()))<=45),INT(YEARFRAC(I96,TODAY())),"") -> 43 | AG96: =IF(AND(INT(YEARFRAC(I96,TODAY()))>=46,INT(YEARFRAC(I96,TODAY()))<=50),INT(YEARFRAC(I96,TODAY())),"")
C97: 21 | D97: солдат | E97: Пархоменко Володимир Анатолійович | F97: Конотопським РТЦК та СП 21.02.2026 | H97: Сумська | I97: 31410 | J97: 3140913593 | K97: АВ 967840 | L97: МВ 078689 Крокевецьким РВ УМВС України в Сумській обл 22.10.2002 | M97: Сумська обл., Конотопський р-н., м. Кролевець | N97: Сумська обл., Конотопський р-н., с. Зазірки, вул. Маричанівка, буд. 12 | O97: професійно- технічна | P97: ПТУ №23 м. Київ, муляр-штукатур | Q97: будівельник, 20 років, Права - | R97: не одружений, брат: Пархоменко Юрій Анатолійович, 1988, м. Кролевець | S97: 0685057883 | Z97: ні | AD97: Резерв КДШВ | AE97: =IF(AND(INT(YEARFRAC(I97,TODAY()))>=25,INT(YEARFRAC(I97,TODAY()))<=35),INT(YEARFRAC(I97,TODAY())),"") | AF97: =IF(AND(INT(YEARFRAC(I97,TODAY()))>=36,INT(YEARFRAC(I97,TODAY()))<=45),INT(YEARFRAC(I97,TODAY())),"") -> 40 | AG97: =IF(AND(INT(YEARFRAC(I97,TODAY()))>=46,INT(YEARFRAC(I97,TODAY()))<=50),INT(YEARFRAC(I97,TODAY())),"")
A98: 1/2870 | B98: 26 лютого 2026 року | C98: 11 | D98: солдат | E98: Паршиков Артем Вадимович | F98: Кропивницького міського | H98: {=IF( ISBLANK(F98), "", IF( COUNTIF([1]Settings!G$1:G$609, F98) = 1, INDEX([1]Settings!H$1:H$609, MATCH(F98, [1]Settings!G$1:G$609, 0)), IFERROR( INDEX([1]Settings!H$1:H$609, MATCH(1, ([1]Settings!G$1:G$609=F98) * ([1]Settings!D$1:D$609=G98), 0 ) ), "" ) ) )} -> #VALUE! | I98: 36053 | J98: 3605210974 | K98: АГ 471494 | L98: ЕВ 370186 Кіровським РВ у м. Кіровограді УДМС УКР в Кіровоградській обл 12.09.2014 | M98: Кіровоградсбка обл. Бобрунецький р-н., с. Кохана | N98: м. Кропивницький, вул. Павла Сніцера, буд. 1 | O98: вища | P98: Кропвницький інстинут державного та муніципального управління, 2022, право | Q98: Кухар, 3 роки Права: - | R98: не одружений, батько: Паршиков Вадим Миколайович, 1976, Кіровоградсбка обл. Бобрунецький р-н., с. Кохана,вул. Степова, буд. 5, 0970189569 | S98: 961367161 | U98: курсант | V98: 100 | X98: 46079 | Y98: № 60 | Z98: =IF(E98="","",IF(T98="","ні","так")) -> ні | AA98: 46079 | AB98: Придатний до військової служби | AE98: =IF(AND(INT(YEARFRAC(I98,TODAY()))>=25,INT(YEARFRAC(I98,TODAY()))<=35),INT(YEARFRAC(I98,TODAY())),"") -> 27 | AF98: =IF(AND(INT(YEARFRAC(I98,TODAY()))>=36,INT(YEARFRAC(I98,TODAY()))<=45),INT(YEARFRAC(I98,TODAY())),"") | AG98: =IF(AND(INT(YEARFRAC(I98,TODAY()))>=46,INT(YEARFRAC(I98,TODAY()))<=50),INT(YEARFRAC(I98,TODAY())),"")
C99: 17 | D99: солдат | E99: Пашков Денис Геннадійович | F99: Слобідським РТЦК та СП м. Харків 27.02.2026 | H99: Харківська | I99: 32540 | J99: 3253904779 | K99: СО 316222 | L99: МН773485 Орджонікідзевським РВХМУУМВС України в Харківській обл. 16.06.2005 | M99: м. Харків | N99: м. Харків, просп. Індустріальний, буд. 31, кв. 28 | O99: вища | P99: Академія НГУ, 2008, командник, менеджер організації | Q99: реабілітолог, 15 років, Права - | R99: не одружений, мати: Пашкова Ніна Опанасівна, 1954, м. Харків, просп. Індустріальний, буд. 31, кв. 28, 0661600161 | S99: 0669166227 | Z99: ні | AC99: I Rh + | AD99: Резерв КДШВ | AE99: =IF(AND(INT(YEARFRAC(I99,TODAY()))>=25,INT(YEARFRAC(I99,TODAY()))<=35),INT(YEARFRAC(I99,TODAY())),"") | AF99: =IF(AND(INT(YEARFRAC(I99,TODAY()))>=36,INT(YEARFRAC(I99,TODAY()))<=45),INT(YEARFRAC(I99,TODAY())),"") -> 37 | AG99: =IF(AND(INT(YEARFRAC(I99,TODAY()))>=46,INT(YEARFRAC(I99,TODAY()))<=50),INT(YEARFRAC(I99,TODAY())),"")
C100: 2 | D100: старший солдат | E100: Петраш Віктор Володимирович | F100: Сумським МТЦК та СП 23.02.2026 | H100: Сумська | I100: 30929 | J100: 3092805058 | K100: АВ 704155 | L100: МА 942892 Лебединським МРВУМВС України в Сумській обл., 27.02.2002 | M100: Магаданський край, с. Ягідне | N100: Сумська обл, Сумський р-н., с. Коршачина, вул. Шкільна, буд. 52 | O100: професійно- технічна | P100: Маловисторопський державний аграрний коледж СНАУ, 2004, фельдшер ветеринарної медицини | Q100: ветеринар, 4 роки Вальцювальник гумових сумішей, 10 років, Бруківник, 7 років Права В | R100: не одружений, мати: Петраш Віра Юріївна, 1961, Сумська обл, Сумський р-н., с. Коршачина, вул. Шкільна, буд. 56, 0997604401 | S100: 0953467547 | Z100: ні | AC100: IV Rh + | AD100: Резерв КДШВ | AE100: =IF(AND(INT(YEARFRAC(I100,TODAY()))>=25,INT(YEARFRAC(I100,TODAY()))<=35),INT(YEARFRAC(I100,TODAY())),"") | AF100: =IF(AND(INT(YEARFRAC(I100,TODAY()))>=36,INT(YEARFRAC(I100,TODAY()))<=45),INT(YEARFRAC(I100,TODAY())),"") -> 41 | AG100: =IF(AND(INT(YEARFRAC(I100,TODAY()))>=46,INT(YEARFRAC(I100,TODAY()))<=50),INT(YEARFRAC(I100,TODAY())),"")
A101: 1/2345 | B101: 22 лютого 2026 року | C101: 8 | D101: солдат | E101: Пироганич Ігор Ігорович | F101: Ніжинського районного | G101: Ніжин | H101: {=IF( ISBLANK(F101), "", IF( COUNTIF(Settings!G$1:G$609, F101) = 1, INDEX(Settings!H$1:H$609, MATCH(F101, Settings!G$1:G$609, 0)), IFERROR( INDEX(Settings!H$1:H$609, MATCH(1, (Settings!G$1:G$609=F101) * (Settings!D$1:D$609=G101), 0 ) ), "" ) ) )} -> Чернігівська | I101: 33302 | J101: 3330114316 | K101: АГ 633796 | L101: 006435172 5124 27.07.2021 | M101: Одеська обл. м. Арциз | N101: Чернігівська обл., Ніжинський р-н., с. Крути, вул. Ніжинського полку, буд. 5 | O101: базова середня | P101: ЗОШ с. Черниш, 2006 | Q101: Вантажник кар, 3 роки Права - | R101: не одружений, мати: Пироганич Любов Миколаївна, 1973, Чернігівська обл., Ніжинський р-н., с. Крути, вул. Ніжинського полку, буд. 5, 0972447274 | S101: 0663157097 | U101: курсант | V101: 100 | X101: 46075 | Y101: № 56 | Z101: =IF(E101="","",IF(T101="","ні","так")) -> ні | AA101: 46075 | AB101: Придатний до військової служби | AE101: =IF(AND(INT(YEARFRAC(I101,TODAY()))>=25,INT(YEARFRAC(I101,TODAY()))<=35),INT(YEARFRAC(I101,TODAY())),"") -> 35 | AF101: =IF(AND(INT(YEARFRAC(I101,TODAY()))>=36,INT(YEARFRAC(I101,TODAY()))<=45),INT(YEARFRAC(I101,TODAY())),"") | AG101: =IF(AND(INT(YEARFRAC(I101,TODAY()))>=46,INT(YEARFRAC(I101,TODAY()))<=50),INT(YEARFRAC(I101,TODAY())),"")
A102: 1454 | B102: 28 лютого 2026 року | C102: 11 | D102: солдат | E102: Платківський Олександр Анатолійович | F102: Хмільницького районного | H102: {=IF( ISBLANK(F102), "", IF( COUNTIF([5]Settings!G$1:G$609, F102) = 1, INDEX([5]Settings!H$1:H$609, MATCH(F102, [5]Settings!G$1:G$609, 0)), IFERROR( INDEX([5]Settings!H$1:H$609, MATCH(1, ([5]Settings!G$1:G$609=F102) * ([5]Settings!D$1:D$609=G102), 0 ) ), "" ) ) )} -> #VALUE! | I102: 31158 | J102: 3115715211 | K102: АГ 641907 | L102: ВН 355573 | M102: м. Житомир | N102: м. Житомир вул. Захисників України буд. 12, кв. 28 | O102: професійно- технічна | P102: Сільхозтехнікум м. Житомир 2005р механізація | Q102: водій таксі - 15р Права B | R102: не одружений цив. Дружина: Куницька Вікторія Русланівна - 2001 - 0632966285 - м. Житомир вул. Захисників України буд. 12, кв. 28 мати: Платківська Ліна Маратівна - 1964 - 0671406444 - м. Житомир вул. Захисників України буд. 12, кв. 28 | S102: 969999707 | U102: курсант | V102: 100 | X102: 46081 | Y102: № 62 | Z102: =IF(E102="","",IF(T102="","ні","так")) -> ні | AA102: 46081 | AB102: Придатний до військової служби | AE102: =IF(AND(INT(YEARFRAC(I102,TODAY()))>=25,INT(YEARFRAC(I102,TODAY()))<=35),INT(YEARFRAC(I102,TODAY())),"") | AF102: =IF(AND(INT(YEARFRAC(I102,TODAY()))>=36,INT(YEARFRAC(I102,TODAY()))<=45),INT(YEARFRAC(I102,TODAY())),"") -> 41 | AG102: =IF(AND(INT(YEARFRAC(I102,TODAY()))>=46,INT(YEARFRAC(I102,TODAY()))<=50),INT(YEARFRAC(I102,TODAY())),"")
...

Sheet Settings
A1: базова загальна середня | C1: Придатний до військової служби | J1: Вінницька | K1: солдат | L1: I Rh -
A2: повна загальна середня | C2: Придатний до служби на підводних човнох, на надводних кораблях, у морській піхоті, Десантно-штурмових військах, спеціальних спорудах, підрозділах спеціального призначення | E2: Вінниця | F2: 1 відділ Хмільницький РТЦК | G2: першого відділу Хмільницького районного | H2: Вінницька | I2: Вінницького ОТЦК та СП | J2: Волинь | K2: старший солдат | L2: I Rh +
A3: професійно- технічна | C3: Придатний до служби у військових частинах забезпечення, ТЦК та СП, ВВНЗ, навчальних центрах, закладах (установах), медичних підрозділах, підрозділах логістики, зв'язку, оперативного забезпечення, охорони | E3: Вінниця | F3: 2 відділ Хмільницький РТЦК | G3: другого відділу Хмільницького районного | H3: Вінницька | I3: Вінницького ОТЦК та СП | J3: Дніпро | K3: молодший сержант | L3: II Rh -
A4: вища | E4: Вінниця | F4: 7 відділ Вінницький РТЦК | G4: сьомого відділу Вінницького районного | H4: Вінницька | I4: Вінницького ОТЦК та СП | J4: Донецьк | K4: сержант | L4: II Rh +
E5: Вінниця | F5: Вінницький ОМТЦК | G5: Вінницького об'єднаного міського | H5: Вінницька | I5: Вінницького ОТЦК та СП | J5: Житомир | K5: старший сержант | L5: III Rh -
E6: Вінниця | F6: 1 відділ Вінницький РТЦК | G6: першого відділу Вінницького районного | H6: Вінницька | I6: Вінницького ОТЦК та СП | J6: Закарпаття | K6: штаб-сержант | L6: III Rh +
E7: Вінниця | F7: 1 відділ Жмеринський РТЦК | G7: першого відділу Жмеринського районного | H7: Вінницька | I7: Вінницького ОТЦК та СП | J7: Запоріжжя | K7: матрос | L7: IV Rh -
E8: Вінниця | F8: Тульчинський РТЦК | G8: Тульчинського районного | H8: Вінницька | I8: Вінницького ОТЦК та СП | J8: Івано-Франківськ | K8: старший матрос | L8: IV Rh +
E9: Вінниця | F9: Хмільницький РТЦК | G9: Хмільницького районного | H9: Вінницька | I9: Вінницького ОТЦК та СП | J9: Київ місто | K9: старшина
E10: Вінниця | F10: 1 відділ Могилів-Подільський РТЦК | G10: першого відділу Могилів-Подільського районного | H10: Вінницька | I10: Вінницького ОТЦК та СП | J10: Київ обл | K10: старшина I статті
E11: Вінниця | F11: 1 відділ Тульчинський РТЦК | G11: першого відділу Тульчинського районного | H11: Вінницька | I11: Вінницького ОТЦК та СП | J11: Кропивницький | K11: головний старшина
E12: Вінниця | F12: 2 відділ Вінницький РТЦК | G12: другого відділу Вінницького районного | H12: Вінницька | I12: Вінницького ОТЦК та СП | J12: Луганськ | K12: прапорщик
E13: Вінниця | F13: 2 відділ Жмеринський РТЦК | G13: другого відділу Жмеринського районного | H13: Вінницька | I13: Вінницького ОТЦК та СП | J13: Львів
E14: Вінниця | F14: 2 відділ Могилів-Подільський РТЦК | G14: другого відділу Могилів-Подільського районного | H14: Вінницька | I14: Вінницького ОТЦК та СП | J14: Миколаїв
E15: Вінниця | F15: 2 відділ Тульчинський РТЦК | G15: другого відділу Тульчинського районного | H15: Вінницька | I15: Вінницького ОТЦК та СП | J15: Одеса
E16: Вінниця | F16: 3 відділ Вінницький РТЦК | G16: третього відділу Вінницького районного | H16: Вінницька | I16: Вінницького ОТЦК та СП | J16: Полтава
E17: Вінниця | F17: 3 відділ Могилів-Подільський РТЦК | G17: третього відділу Могилів-Подільського районного | H17: Вінницька | I17: Вінницького ОТЦК та СП | J17: Рівне
E18: Вінниця | F18: 3 відділ Тульчинський РТЦК | G18: третього відділу Тульчинського районного | H18: Вінницька | I18: Вінницького ОТЦК та СП | J18: Суми
E19: Вінниця | F19: 4 відділ Вінницький РТЦК | G19: четвертого відділу Вінницького районного | H19: Вінницька | I19: Вінницького ОТЦК та СП | J19: Тернопіль
E20: Вінниця | F20: 5 відділ Вінницький РТЦК | G20: п'ятого відділу Вінницького районного | H20: Вінницька | I20: Вінницького ОТЦК та СП | J20: Харків
E21: Вінниця | F21: 6 відділ Вінницький РТЦК | G21: шостого відділу Вінницького районного | H21: Вінницька | I21: Вінницького ОТЦК та СП | J21: Херсон
E22: Вінниця | F22: Вінницький РТЦК | G22: Вінницького районного | H22: Вінницька | I22: Вінницького ОТЦК та СП | J22: Хмельницький
E23: Вінниця | F23: Гайсинський РТЦК | G23: Гайсинського районного | H23: Вінницька | I23: Вінницького ОТЦК та СП | J23: Черкаси
E24: Вінниця | F24: 1 відділ Гайсинський РТЦК | G24: першого відділу Гайсинського районного | H24: Вінницька | I24: Вінницького ОТЦК та СП | J24: Чернівці
E25: Вінниця | F25: 2 відділ Гайсинський РТЦК | G25: другого відділу Гайсинського районного | H25: Вінницька | I25: Вінницького ОТЦК та СП | J25: Чернігів
E26: Вінниця | F26: Жмеринський РТЦК | G26: Жмеринського районного | H26: Вінницька | I26: Вінницького ОТЦК та СП
E27: Вінниця | F27: Могилів-Подільський РТЦК | G27: Могилів-Подільського районного | H27: Вінницька | I27: Вінницького ОТЦК та СП
E28: Волинь | F28: 1 відділ Камінь-Каширський РТЦК | G28: першого відділу Камінь-Каширського районного | H28: Волинська | I28: Волинського ОТЦК та СП
E29: Волинь | F29: 1 відділ Ковельський РТЦК | G29: першого відділу Ковельського районного | H29: Волинська | I29: Волинського ОТЦК та СП
E30: Волинь | F30: 2 відділ Ковельський РТЦК | G30: другого відділу Ковельського районного | H30: Волинська | I30: Волинського ОТЦК та СП
E31: Волинь | F31: 4 відділ Ковельський РТЦК | G31: четвертого відділу Ковельського районного | H31: Волинська | I31: Волинського ОТЦК та СП
E32: Волинь | F32: 3 відділ Ковельський РТЦК | G32: третього відділу Ковельського районного | H32: Волинська | I32: Волинського ОТЦК та СП
E33: Волинь | F33: 5 відділ Ковельський РТЦК | G33: п'ятого відділу Ковельського районного | H33: Волинська | I33: Волинського ОТЦК та СП
E34: Волинь | F34: Луцький ОМТЦК | G34: Луцького об'єднаного міського | H34: Волинська | I34: Волинського ОТЦК та СП
E35: Волинь | F35: 2 відділ Камінь-Каширський РТЦК | G35: другого відділу Камінь-Каширського районного | H35: Волинська | I35: Волинського ОТЦК та СП
E36: Волинь | F36: 1 відділ Луцький РТЦК | G36: першого відділу Луцького районного | H36: Волинська | I36: Волинського ОТЦК та СП
E37: Волинь | F37: 2 відділ Луцький РТЦК | G37: другого відділу Луцького районного | H37: Волинська | I37: Волинського ОТЦК та СП
... E56: Дніпро | F56: 2 відділ Дніпровського РТЦК та СП | G56: другого відділу Дніпровського районного | H56: Дніпропетровська | I56: Дніпропетровського ОТЦК та СП
D57: міста Дніпра | E57: Дніпро | F57: Дніпровський РТЦК та СП | G57: Дніпровського районного | H57: Дніпропетровська | I57: Дніпропетровського ОТЦК та СП
D58: міста Дніпра | E58: Дніпро | F58: Індустріальний РТЦК та СП | G58: Індустріального районного | H58: Дніпропетровська | I58: Дніпропетровського ОТЦК та СП
E59: Дніпро | F59: Кам'янського РТЦК та СП | G59: Кам'янського районного | H59: Дніпропетровська | I59: Дніпропетровського ОТЦК та СП
E60: Дніпро | F60: 2 відділ Криворізького РТЦК та СП | G60: другого відділу Криворізького районного | H60: Дніпропетровська | I60: Дніпропетровського ОТЦК та СП
E61: Дніпро | F61: Криворізький РТЦК та СП | G61: Криворізького районного | H61: Дніпропетровська | I61: Дніпропетровського ОТЦК та СП
E62: Дніпро | F62: 2 відділ Синельниківського РТЦК та СП | G62: другого відділу Синельниківського районного | H62: Дніпропетровська | I62: Дніпропетровського ОТЦК та СП
E63: Дніпро | F63: Новокодацький РТЦК та СП | G63: Новокодацького районного | H63: Дніпропетровська | I63: Дніпропетровського ОТЦК та СП
E64: Дніпро | F64: Покровсько-Тернівський РТЦК та СП | G64: Покровсько-Тернівського районного | H64: Дніпропетровська | I64: Дніпропетровського ОТЦК та СП
E65: Дніпро | F65: Самарський РТЦК та СП | G65: Самарського районного | H65: Дніпропетровська | I65: Дніпропетровського ОТЦК та СП
E66: Дніпро | F66: Соборний РТЦК та СП | G66: Соборного районного | H66: Дніпропетровська | I66: Дніпропетровського ОТЦК та СП
E67: Дніпро | F67: 3 відділ Дніпровського РТЦК та СП | G67: третього відділу Дніпровського районного | H67: Дніпропетровська | I67: Дніпропетровського ОТЦК та СП
D68: міста Дніпра | E68: Дніпро | F68: Шевченківський РТЦК та СП | G68: Шевченківського районного | H68: Дніпропетровська | I68: Дніпропетровського ОТЦК та СП
E69: Дніпро | F69: 3 відділ Криворізького РТЦК та СП | G69: третього відділу Криворізького районного | H69: Дніпропетровська | I69: Дніпропетровського ОТЦК та СП
E70: Дніпро | F70: 3 відділ Нікопольський РТЦК та СП | G70: третього відділу Нікопольського районного | H70: Дніпропетровська | I70: Дніпропетровського ОТЦК та СП
E71: Дніпро | F71: 3 відділ Нікопольського РТЦК та СП | G71: третього відділу Нікопольського районного | H71: Дніпропетровська | I71: Дніпропетровського ОТЦК та СП
E72: Дніпро | F72: 3 відділ Синельниківського РТЦК та СП | G72: третього відділу Синельниківського районного | H72: Дніпропетровська | I72: Дніпропетровського ОТЦК та СП
E73: Дніпро | F73: 4 відділ Синельниківського РТЦК та СП | G73: четвертого відділу Синельниківського районного | H73: Дніпропетровська | I73: Дніпропетровського ОТЦК та СП
E74: Дніпро | F74: 5 відділ Синельниківського РТЦК та СП | G74: п'ятого відділу Синельниківського районного | H74: Дніпропетровська | I74: Дніпропетровського ОТЦК та СП
E75: Дніпро | F75: Дніпровський ОТЦК та СП | G75: Дніпровського обласного | H75: Дніпропетровська | I75: Дніпропетровського ОТЦК та СП
E76: Дніпро | F76: Інгулецький РТЦК та СП | G76: Інгулецького районного | H76: Дніпропетровська | I76: Дніпропетровського ОТЦК та СП
E77: Дніпро | F77: Криворізький РТЦК та СП | G77: Криворізького районного | H77: Дніпропетровська | I77: Дніпропетровського ОТЦК та СП
E78: Дніпро | F78: Металургійно-Довгинцівський ОРТЦК та СП | G78: Металургійно-Довгинцівського об'єднаного районного | H78: Дніпропетровська | I78: Дніпропетровського ОТЦК та СП
E79: Дніпро | F79: Нікопольський РТЦК та СП | G79: Нікопольського районного | H79: Дніпропетровська | I79: Дніпропетровського ОТЦК та СП
E80: Дніпро | F80: Новомосковський РТЦК та СП | G80: Новомосковського районного | H80: Дніпропетровська | I80: Дніпропетровського ОТЦК та СП
... E133: Запоріжжя | F133: Василівський РТЦК та СП | G133: Василівського районного | H133: Запорізька | I133: Запорізького ОТЦК та СП
D134: міста Запоріжжя | E134: Запоріжжя | F134: Заводський РТЦК та СП | G134: Заводського районного | H134: Запорізька | I134: Запорізького ОТЦК та СП
E135: Запоріжжя | F135: Запорізький РТЦК та СП | G135: Запорізького районного | H135: Запорізька | I135: Запорізького ОТЦК та СП
E136: Запоріжжя | F136: Комунарський РТЦК та СП | G136: Комунарського районного | H136: Запорізька | I136: Запорізького ОТЦК та СП
E137: Запоріжжя | F137: 1 відділ Мелітопольський РТЦК та СП | G137: першого відділу Мелітопольського районного | H137: Запорізька | I137: Запорізького ОТЦК та СП
E138: Запоріжжя | F138: Мелітопольський РТЦК та СП | G138: Мелітопольського районного | H138: Запорізька | I138: Запорізького ОТЦК та СП
E139: Запоріжжя | F139: Пологівський РТЦК та СП | G139: Пологівського районного | H139: Запорізька | I139: Запорізького ОТЦК та СП
E140: Запоріжжя | F140: 3 відділ Пологівського РТЦК та СП | G140: третього відділу Пологівського районного | H140: Запорізька | I140: Запорізького ОТЦК та СП
E141: Запоріжжя | F141: Хортицький РТЦК та СП | G141: Хортицького районного | H141: Запорізька | I141: Запорізького ОТЦК та СП
D142: міста Запоріжжя | E142: Запоріжжя | F142: Центральний ОРТЦК та СП | G142: Центрального об'єднаного районного | H142: Запорізька | I142: Запорізького ОТЦК та СП
D143: міста Запоріжжя | E143: Запоріжжя | F143: Шевченківський РТЦК та СП | G143: Шевченківського районного | H143: Запорізька | I143: Запорізького ОТЦК та СП
E144: Івано-Франківськ | F144: 1 відділ Івано-Франківський РТЦК | G144: першого відділу Івано-Франківського районного | H144: Івано-Франківська | I144: Івано-Франківського ОТЦК та СП
E145: Івано-Франківськ | F145: 1 відділ Калуський РТЦК | G145: першого відділу Калуського районного | H145: Івано-Франківська | I145: Івано-Франківського ОТЦК та СП
E146: Івано-Франківськ | F146: 1 відділ Коломийський РТЦК | G146: першого відділу Коломийського районного | H146: Івано-Франківська | I146: Івано-Франківського ОТЦК та СП
E147: Івано-Франківськ | F147: 2 відділ Івано-Франківський РТЦК | G147: другого відділу Івано-Франківського районного | H147: Івано-Франківська | I147: Івано-Франківського ОТЦК та СП
E148: Івано-Франківськ | F148: 2 відділ Калуський РТЦК | G148: другого відділу Калуського районного | H148: Івано-Франківська | I148: Івано-Франківського ОТЦК та СП
E149: Івано-Франківськ | F149: 2 відділ Коломийський РТЦК | G149: другого відділу Коломийського районного | H149: Івано-Франківська | I149: Івано-Франківського ОТЦК та СП
E150: Івано-Франківськ | F150: 3 відділ Івано-Франківський РТЦК | G150: третього відділу Івано-Франківського районного | H150: Івано-Франківська | I150: Івано-Франківського ОТЦК та СП
E151: Івано-Франківськ | F151: 4 відділ Івано-Франківський РТЦК | G151: четвертого відділу Івано-Франківського районного | H151: Івано-Франківська | I151: Івано-Франківського ОТЦК та СП
E152: Івано-Франківськ | F152: Верховинський РТЦК | G152: Верховинського районного | H152: Івано-Франківська | I152: Івано-Франківського ОТЦК та СП
E153: Івано-Франківськ | F153: Івано-Франківський МТЦК | G153: Івано-Франківського міського | H153: Івано-Франківська | I153: Івано-Франківського ОТЦК та СП
E154: Івано-Франківськ | F154: Івано-Франківський ОТЦК | G154: Івано-Франківського обласного | H154: Івано-Франківська | I154: Івано-Франківського ОТЦК та СП
E155: Івано-Франківськ | F155: Івано-Франківський РТЦК | G155: Івано-Франківського районного | H155: Івано-Франківська | I155: Івано-Франківського ОТЦК та СП
... E162: Київ місто | F162: Деснянський РТЦК | G162: Деснянського районного | H162: Київ місто | I162: Київського МТЦК та СП
D163: міста Києва | E163: Київ місто | F163: Дніпровський РТЦК | G163: Дніпровського районного | H163: Київ місто | I163: Київського МТЦК та СП
E164: Київ місто | F164: Оболонський РТЦК | G164: Оболонського районного | H164: Київ місто | I164: Київського МТЦК та СП
E165: Київ місто | F165: Печерський РТЦК | G165: Печерського районного | H165: Київ місто | I165: Київського МТЦК та СП
D166: міста Києва | E166: Київ місто | F166: Подільський РТЦК | G166: Подільського районного | H166: Київ місто | I166: Київського МТЦК та СП
E167: Київ місто | F167: Святошинський РТЦК | G167: Святошинського районного | H167: Київ місто | I167: Київського МТЦК та СП
E168: Київ місто | F168: Солом'янський РТЦК | G168: Солом'янського районного | H168: Київ місто | I168: Київського МТЦК та СП
D169: міста Києва | E169: Київ місто | F169: Шевченківський РТЦК | G169: Шевченківського районного | H169: Київ місто | I169: Київського МТЦК та СП
E170: Київ обл | F170: 1 відділ Бориспільський РТЦК | G170: першого відділу Бориспільського районного | H170: Київ обл | I170: Київського ОТЦК та СП
E171: Київ обл | F171: 1 відділ Бучанський РТЦК | G171: першого відділу Бучанського районного | H171: Київ обл | I171: Київського ОТЦК та СП
E172: Київ обл | F172: 1 відділ Вишгородський РТЦК | G172: першого відділу Вишгородського районного | H172: Київ обл | I172: Київського ОТЦК та СП
E173: Київ обл | F173: 1 відділ Обухівський РТЦК | G173: першого відділу Обухівського районного | H173: Київ обл | I173: Київського ОТЦК та СП
E174: Київ обл | F174: 1 відділ Білоцерківський РТЦК | G174: першого відділу Білоцерківського районного | H174: Київ обл | I174: Київського ОТЦК та СП
E175: Київ обл | F175: 2 відділ Білоцерківський РТЦК | G175: другого відділу Білоцерківського районного | H175: Київ обл | I175: Київського ОТЦК та СП
E176: Київ обл | F176: 2 відділ Бориспільський РТЦК | G176: другого відділу Бориспільського районного | H176: Київ обл | I176: Київського ОТЦК та СП
...

Sheet перевірки
C1: =Основний!E11 -> 0
A2: Бобрушко В'ячеслав Сергійович | C2: =Основний!#REF! -> #REF! | E2: =C2=G2 -> #REF! | G2: Бичков Сергій Володимирович | H2: м.Козятин | I2: м.Козятин вул.Склярова буд.37 кв.2 | J2: базова загальна середня | K2: Школа №1 м.Козятин | L2: Будівелник 14 років | M2: не одружений . Сестра: Слободяник Наталія Володимирівна с.Козятин - 0938923398 | N2: 935193455
A3: Тишковець Богдан Петрович | C3: =Основний!#REF! -> #REF! | E3: =C3=G3 -> #REF! | G3: Бобрушко В'ячеслав Сергійович
A4: Виговський Максим Деонізович | C4: =Основний!#REF! -> #REF! | E4: =C4=G4 -> #REF! | G4: Виговський Максим Деонізович | H4: Житомирська обл. м.Житомир | I4: Житомирська обл. м.Житомир вул.Вітрука буд.42 кв.91 | J4: професійно- технічна | K4: Перше училеще м.Житомир 2004 будівельник | L4: Торговий представник буд.мат. Права А.Б. | M4: дружина: Гончарук Діана Анатолієвна -1994- 0990817448- Житомирська обл. м.Житомир мати: Виговська Марія Дмитрівна -1950- 0971990489- Житомирська обл. м.Житомир вул.Вітрука буд.42 кв.91 | N4: 986767190
A5: Бичков Сергій Володимирович | C5: =Основний!#REF! -> #REF! | E5: =C5=G5 -> #REF! | G5: Тишковець Богдан Петрович
C6: =Основний!#REF! -> #REF! | E6: =C6=G6 -> #REF!
C7: =Основний!#REF! -> #REF! | E7: =C7=G7 -> #REF!
C8: =Основний!#REF! -> #REF! | E8: =C8=G8 -> #REF!
C9: =Основний!#REF! -> #REF! | E9: =C9=G9 -> #REF!
C10: =Основний!#REF! -> #REF! | E10: =C10=G10 -> #REF!
C11: =Основний!#REF! -> #REF! | E11: =C11=G11 -> #REF!
C12: =Основний!#REF! -> #REF! | E12: =C12=G12 -> #REF!
C13: =Основний!#REF! -> #REF! | E13: =C13=G13 -> #REF!
C14: =Основний!#REF! -> #REF! | E14: =C14=G14 -> #REF!
C15: =Основний!#REF! -> #REF! | E15: =C15=G15 -> #REF!
C16: =Основний!#REF! -> #REF! | E16: =C16=G16 -> #REF!
C17: =Основний!#REF! -> #REF! | E17: =C17=G17 -> #REF!
... C93: =Основний!#REF! -> #REF! | E93: =C93=G93 -> #REF!
C94: =Основний!#REF! -> #REF!
C95: =Основний!#REF! -> #REF!
C96: =Основний!#REF! -> #REF!
C97: =Основний!#REF! -> #REF!
C98: =Основний!E12 -> Абрамян Артур Маратович
C99: =Основний!#REF! -> #REF!
C100: =Основний!E13 -> Авраменко Андрій Миколайович
C101: =Основний!#REF! -> #REF!
C102: =Основний!#REF! -> #REF!
C103: =Основний!#REF! -> #REF!
C104: =Основний!#REF! -> #REF!
C105: =Основний!#REF! -> #REF!
C106: =Основний!#REF! -> #REF!

Sheet Перевірка
A1: {=Основний!C10:C36} -> № з/п | B1: {=CONCATENATE("", Основний!E10:E36)} -> 141 | C1: {=CONCATENATE("", TEXT(Основний!I10:I36,"dd.mm.yyyy"))} -> Дата народження | D1: {=CONCATENATE("", Основний!J10:J36)} -> ідентифікаційний код | E1: Перевірка | F1: {=CONCATENATE("", Основний!K10:K36)} -> військовий квиток | G1: Перевірка | H1: {=CONCATENATE("", Основний!L10:L36)} -> Паспорт, ким і коли виданий | I1: Перевірка | J1: Алфавітка | K1: Д = А | L1: Поіменний Список | M1: Д = ПС | N1: А = ПС
A2: 0 | C2: 00.01.1900 | J2: - | K2: - | L2: - | M2: - | N2: - | O2: =DATEVALUE(C2) <> INT(LEFT(D2,5)) +1 -> #VALUE!
A3: 1 | B3: Абрамян Артур Маратович | C3: 21.10.1998 | D3: 3608804152 | E3: =IF(D3="", "", LEN(D3)) -> 10 | F3: 040520251458450705269/1 | G3: =IF(F3="", "", LEN(F3)) -> 23 | H3: ВТ 101396 Приморським РС у м. Маріуполі ГУ ДМС України в Донецькій області 12.06.2015 | I3: =IF(H3="", "", LEN(H3)) -> 85 | J3: Антоненко Руслан Олександрович | K3: =IF(J3="", "", B3=J3) -> FALSE | M3: =IF(L3="", "", B3=L3) | N3: =IF(L3="", "", J3=L3) | O3: =DATEVALUE(C3) <> INT(LEFT(D3,5)) +1 -> FALSE | P3: =DATEVALUE(C3) -> 36089
A4: 2 | B4: Авраменко Андрій Миколайович | C4: 18.06.1984 | D4: 3085003094 | E4: =IF(D4="", "", LEN(D4)) -> 10 | G4: =IF(F4="", "", LEN(F4)) | I4: =IF(H4="", "", LEN(H4)) | J4: Баранов Дмитро Геннадійович | K4: =IF(J4="", "", B4=J4) -> FALSE | M4: =IF(L4="", "", B4=L4) | N4: =IF(L4="", "", J4=L4) | O4: =DATEVALUE(C4) <> INT(LEFT(D4,5)) +1 -> FALSE
A5: 2 | B5: Алексенко Іван Миколайович | C5: 23.06.1997 | D5: 3560301717 | E5: =IF(D5="", "", LEN(D5)) -> 10 | G5: =IF(F5="", "", LEN(F5)) | I5: =IF(H5="", "", LEN(H5)) | J5: Боровик Юрій Володимирович | K5: =IF(J5="", "", B5=J5) -> FALSE | M5: =IF(L5="", "", B5=L5) | N5: =IF(L5="", "", J5=L5) | O5: =DATEVALUE(C5) <> INT(LEFT(D5,5)) +1 -> FALSE
A6: 3 | B6: Алієв Парвіз Натікбєкович | C6: 07.05.1983 | D6: 3044204097 | E6: =IF(D6="", "", LEN(D6)) -> 10 | F6: АГ 629818 | G6: =IF(F6="", "", LEN(F6)) -> 9 | H6: КС 160333 Київським РВ ДМУ УДМС УКР в Донецькій обл 09.08.2002 | I6: =IF(H6="", "", LEN(H6)) -> 62 | J6: Горбатенко Олександр Олегович | K6: =IF(J6="", "", B6=J6) -> FALSE | M6: =IF(L6="", "", B6=L6) | N6: =IF(L6="", "", J6=L6)
A7: 1 | B7: Андрушко Вадим Валентинович | C7: 02.11.1991 | D7: 3354308835 | E7: =IF(D7="", "", LEN(D7)) -> 10 | F7: АГ 603287 | G7: =IF(F7="", "", LEN(F7)) -> 9 | H7: ВН 424127 Вололдарсько-Волинським РВ УМВС в Житомирській області 20.05.2008 | I7: =IF(H7="", "", LEN(H7)) -> 75 | J7: Жестовський Сергій Сергійович | K7: =IF(J7="", "", B7=J7) -> FALSE | M7: =IF(L7="", "", B7=L7) | N7: =IF(L7="", "", J7=L7)
A8: 5 | B8: Анісімов Сергій Леонідович | C8: 18.10.1989 | D8: 3279802570 | E8: =IF(D8="", "", LEN(D8)) -> 10 | F8: АГ 633795 | G8: =IF(F8="", "", LEN(F8)) -> 9 | H8: АМ 247948 | I8: =IF(H8="", "", LEN(H8)) -> 9 | J8: Ісаков Олександр Сергійович | K8: =IF(J8="", "", B8=J8) -> FALSE | M8: =IF(L8="", "", B8=L8) | N8: =IF(L8="", "", J8=L8)
A9: 1 | B9: Антонюк Дмитро Русланович | C9: 23.03.1999 | D9: 3624109257 | E9: =IF(D9="", "", LEN(D9)) -> 10 | F9: АГ 574988 | G9: =IF(F9="", "", LEN(F9)) -> 9 | H9: АТ 121678 | I9: =IF(H9="", "", LEN(H9)) -> 9 | J9: Клімчук Олександр Олександрович | K9: =IF(J9="", "", B9=J9) -> FALSE | M9: =IF(L9="", "", B9=L9) | N9: =IF(L9="", "", J9=L9)
A10: 1 | B10: Антонюк Олександр Леонідович | C10: 27.09.1979 | D10: 2912410393 | E10: =IF(D10="", "", LEN(D10)) -> 10 | F10: АГ 603239 | G10: =IF(F10="", "", LEN(F10)) -> 9 | H10: ТТ 193066 Дарнівським РО ГУ ДМС УКР в м. Києві 16.08.2013 | I10: =IF(H10="", "", LEN(H10)) -> 57 | J10: Колесніков Сергій Сергійович | K10: =IF(J10="", "", B10=J10) -> FALSE | M10: =IF(L10="", "", B10=L10) | N10: =IF(L10="", "", J10=L10)
A11: 2 | B11: Бабич Андрій Васильович | C11: 18.04.1984 | D11: 3078922215 | E11: =IF(D11="", "", LEN(D11)) -> 10 | F11: АГ 603272 | G11: =IF(F11="", "", LEN(F11)) -> 9 | H11: СТ 531446 Чернігівським РС УДМС УКР в Чернігівській обл 24.02.2017 | I11: =IF(H11="", "", LEN(H11)) -> 67 | J11: Опанасюк Ігор Петрович | K11: =IF(J11="", "", B11=J11) -> FALSE | M11: =IF(L11="", "", B11=L11) | N11: =IF(L11="", "", J11=L11)
A12: 3 | B12: Баскаков Павло Анатолійович | C12: 02.03.1984 | D12: 3074200978 | E12: =IF(D12="", "", LEN(D12)) -> 10 | F12: 140220221425037600020/1 | G12: =IF(F12="", "", LEN(F12)) -> 23 | H12: АМ 064073 Заводським РВ Дніпродзержинського МУ УМВС України в Дніпропетровській області 03.10.2000 | I12: =IF(H12="", "", LEN(H12)) -> 98 | J12: Ручин Дмитро Вікторович | K12: =IF(J12="", "", B12=J12) -> FALSE | M12: =IF(L12="", "", B12=L12) | N12: =IF(L12="", "", J12=L12)
A13: 2 | B13: Бершадський Олександр Миколайович | C13: 15.03.1992 | D13: 3367700733 | E13: =IF(D13="", "", LEN(D13)) -> 10 | F13: довідка | G13: =IF(F13="", "", LEN(F13)) -> 7 | H13: 003047716 8034 04.03.2019 | I13: =IF(H13="", "", LEN(H13)) -> 25 | J13: Солоденко Анатолій Сергійович | K13: =IF(J13="", "", B13=J13) -> FALSE | M13: =IF(L13="", "", B13=L13) | N13: =IF(L13="", "", J13=L13)
A14: 3 | B14: Білоусов Сергій Вікторович | C14: 04.09.1982 | D14: ВМ 632875 | E14: =IF(D14="", "", LEN(D14)) -> 9 | F14: АГ 186080 | G14: =IF(F14="", "", LEN(F14)) -> 9 | H14: 009302826 1836 23.06.2023 | I14: =IF(H14="", "", LEN(H14)) -> 25 | J14: Фістікан Василь Петрович | K14: =IF(J14="", "", B14=J14) -> FALSE | M14: =IF(L14="", "", B14=L14) | N14: =IF(L14="", "", J14=L14)
A15: 18 | B15: Бойко Геннадій Володимирович | C15: 19.11.1981 | D15: 2990807554 | E15: =IF(D15="", "", LEN(D15)) -> 10 | F15: №250220261352624000001/2 Від 25.02.2026 | G15: =IF(F15="", "", LEN(F15)) -> 39 | H15: МА 583941 Охтирським МРВУМВС України в Сумській обл., 04.01.1999 | I15: =IF(H15="", "", LEN(H15)) -> 64 | J15: Чабан Михайло Григорович | K15: =IF(J15="", "", B15=J15) -> FALSE | M15: =IF(L15="", "", B15=L15) | N15: =IF(L15="", "", J15=L15)
A16: 4 | B16: Большаков Костянтин Євгенович | C16: 02.07.1992 | D16: 3378604531 | E16: =IF(D16="", "", LEN(D16)) -> 10 | F16: довідка | G16: =IF(F16="", "", LEN(F16)) -> 7 | H16: ЕН 904717 Краснолуцьким МВ УДМС УКР в Луганській обл 15.11.2012 | I16: =IF(H16="", "", LEN(H16)) -> 63 | K16: =IF(J16="", "", B16=J16) | M16: =IF(L16="", "", B16=L16) | N16: =IF(L16="", "", J16=L16)
A17: 4 | B17: Бондар Андрій Васильович | C17: 29.07.1988 | D17: 3235207996 | E17: =IF(D17="", "", LEN(D17)) -> 10 | F17: АГ 574967 | G17: =IF(F17="", "", LEN(F17)) -> 9 | H17: 011098716 | I17: =IF(H17="", "", LEN(H17)) -> 9 | K17: =IF(J17="", "", B17=J17) | M17: =IF(L17="", "", B17=L17) | N17: =IF(L17="", "", J17=L17)
A18: 10 | B18: Борисов Дмитро Сергійович | C18: 16.05.1984 | D18: 3081727094 | E18: =IF(D18="", "", LEN(D18)) -> 10 | F18: СО 871538 | G18: =IF(F18="", "", LEN(F18)) -> 9 | I18: =IF(H18="", "", LEN(H18)) | K18: =IF(J18="", "", B18=J18) | M18: =IF(L18="", "", B18=L18) | N18: =IF(L18="", "", J18=L18)
A19: 1 | B19: Бородавко Віталій Михайлович | C19: 10.10.1989 | D19: 3279006554 | E19: =IF(D19="", "", LEN(D19)) -> 10 | F19: АГ 633793 | G19: =IF(F19="", "", LEN(F19)) -> 9 | H19: НМ 247947 Ніжинським МВР УМВС УКР в Чернігівській обл 24.03.2006 | I19: =IF(H19="", "", LEN(H19)) -> 64 | K19: =IF(J19="", "", B19=J19) | M19: =IF(L19="", "", B19=L19) | N19: =IF(L19="", "", J19=L19)
A20: 3 | B20: Брискін Денис Сергійович | C20: 03.09.1982 | D20: 3019609990 | E20: =IF(D20="", "", LEN(D20)) -> 10 | G20: =IF(F20="", "", LEN(F20)) | I20: =IF(H20="", "", LEN(H20)) | K20: =IF(J20="", "", B20=J20) | M20: =IF(L20="", "", B20=L20) | N20: =IF(L20="", "", J20=L20)
A21: 2 | B21: Бродовський Вадим Феліксович | C21: 09.11.1977 | D21: 2843714031 | E21: =IF(D21="", "", LEN(D21)) -> 10 | F21: АГ 603250 | G21: =IF(F21="", "", LEN(F21)) -> 9 | H21: ВМ 028712 | I21: =IF(H21="", "", LEN(H21)) -> 9 | K21: =IF(J21="", "", B21=J21) | M21: =IF(L21="", "", B21=L21) | N21: =IF(L21="", "", J21=L21)
A22: 23 | B22: Бруяка Максим Юрійович | C22: 28.10.1996 | D22: 3536512192 | E22: =IF(D22="", "", LEN(D22)) -> 10 | F22: АВ 960514 | G22: =IF(F22="", "", LEN(F22)) -> 9 | H22: МВ 516155 Ковпаківським РВ м.Суми УДМС України в Сумській обл. 18.12.2012 | I22: =IF(H22="", "", LEN(H22)) -> 73 | K22: =IF(J22="", "", B22=J22) | M22: =IF(L22="", "", B22=L22) | N22: =IF(L22="", "", J22=L22)
A23: 38 | B23: Бурковцов Андрій Юрійович | C23: 09.09.1988 | D23: 3239413855 | E23: =IF(D23="", "", LEN(D23)) -> 10 | F23: АВ 949437 | G23: =IF(F23="", "", LEN(F23)) -> 9 | H23: закордоний паспорт ЕН991201 виданий 7401 08.06.2011 | I23: =IF(H23="", "", LEN(H23)) -> 51 | K23: =IF(J23="", "", B23=J23) | M23: =IF(L23="", "", B23=L23) | N23: =IF(L23="", "", J23=L23)
A24: 5 | B24: Бутко Руслан Павлович | C24: 29.07.1998 | D24: 3600408276 | E24: =IF(D24="", "", LEN(D24)) -> 10 | F24: 250620235816010600001/1 | G24: =IF(F24="", "", LEN(F24)) -> 23 | H24: 009601452 3214 29.08.2023 | I24: =IF(H24="", "", LEN(H24)) -> 25 | K24: =IF(J24="", "", B24=J24) | M24: =IF(L24="", "", B24=L24) | N24: =IF(L24="", "", J24=L24)
A25: 5 | B25: Васильченко Сергій Анатолійович | C25: 17.11.1993 | D25: 3428909730 | E25: =IF(D25="", "", LEN(D25)) -> 10 | F25: АВ 949433 | G25: =IF(F25="", "", LEN(F25)) -> 9 | H25: 002997059 виданий 5924 20.02.2019 | I25: =IF(H25="", "", LEN(H25)) -> 33 | K25: =IF(J25="", "", B25=J25) | M25: =IF(L25="", "", B25=L25) | N25: =IF(L25="", "", J25=L25)
A26: 4 | B26: Верба Володимир Олександрович | C26: 28.08.1995 | D26: 3493804851 | E26: =IF(D26="", "", LEN(D26)) -> 10 | F26: АВ 552749 | G26: =IF(F26="", "", LEN(F26)) -> 9 | I26: =IF(H26="", "", LEN(H26)) | K26: =IF(J26="", "", B26=J26) | M26: =IF(L26="", "", B26=L26) | N26: =IF(L26="", "", J26=L26)
A27: 43 | B27: Верстюк Євген Дмитрович | C27: 05.04.1977 | D27: 2821912276 | E27: =IF(D27="", "", LEN(D27)) -> 10 | F27: АВ909239 | G27: =IF(F27="", "", LEN(F27)) -> 8 | H27: МК 414303 Лозівським МРВУМВС України в Харківській обл. 15.01.1997 | I27: =IF(H27="", "", LEN(H27)) -> 68 | K27: =IF(J27="", "", B27=J27) | M27: =IF(L27="", "", B27=L27) | N27: =IF(L27="", "", J27=L27)
A28: #N/A | B28: #N/A | C28: #N/A | D28: #N/A | E28: =IF(D28="", "", LEN(D28)) -> #N/A | F28: #N/A | G28: =IF(F28="", "", LEN(F28)) -> #N/A | H28: #N/A | I28: =IF(H28="", "", LEN(H28)) -> #N/A | K28: =IF(J28="", "", B28=J28) | M28: =IF(L28="", "", B28=L28) | N28: =IF(L28="", "", J28=L28)
A29: #N/A | B29: #N/A | C29: #N/A | D29: #N/A | E29: =IF(D29="", "", LEN(D29)) -> #N/A | F29: #N/A | G29: =IF(F29="", "", LEN(F29)) -> #N/A | H29: #N/A | I29: =IF(H29="", "", LEN(H29)) -> #N/A | K29: =IF(J29="", "", B29=J29) | M29: =IF(L29="", "", B29=L29) | N29: =IF(L29="", "", J29=L29)
A30: #N/A | B30: #N/A | C30: #N/A | D30: #N/A | E30: =IF(D30="", "", LEN(D30)) -> #N/A | F30: #N/A | G30: =IF(F30="", "", LEN(F30)) -> #N/A | H30: #N/A | I30: =IF(H30="", "", LEN(H30)) -> #N/A | K30: =IF(J30="", "", B30=J30) | M30: =IF(L30="", "", B30=L30) | N30: =IF(L30="", "", J30=L30)
A31: #N/A | B31: #N/A | C31: #N/A | D31: #N/A | E31: =IF(D31="", "", LEN(D31)) -> #N/A | F31: #N/A | G31: =IF(F31="", "", LEN(F31)) -> #N/A | H31: #N/A | I31: =IF(H31="", "", LEN(H31)) -> #N/A | K31: =IF(J31="", "", B31=J31) | M31: =IF(L31="", "", B31=L31) | N31: =IF(L31="", "", J31=L31)
A32: #N/A | B32: #N/A | C32: #N/A | D32: #N/A | E32: =IF(D32="", "", LEN(D32)) -> #N/A | F32: #N/A | G32: =IF(F32="", "", LEN(F32)) -> #N/A | H32: #N/A | I32: =IF(H32="", "", LEN(H32)) -> #N/A | K32: =IF(J32="", "", B32=J32) | M32: =IF(L32="", "", B32=L32) | N32: =IF(L32="", "", J32=L32)
A33: #N/A | B33: #N/A | C33: #N/A | D33: #N/A | E33: =IF(D33="", "", LEN(D33)) -> #N/A | F33: #N/A | G33: =IF(F33="", "", LEN(F33)) -> #N/A | H33: #N/A | I33: =IF(H33="", "", LEN(H33)) -> #N/A | K33: =IF(J33="", "", B33=J33) | M33: =IF(L33="", "", B33=L33) | N33: =IF(L33="", "", J33=L33)
A34: #N/A | B34: #N/A | C34: #N/A | D34: #N/A | E34: =IF(D34="", "", LEN(D34)) -> #N/A | F34: #N/A | G34: =IF(F34="", "", LEN(F34)) -> #N/A | H34: #N/A | I34: =IF(H34="", "", LEN(H34)) -> #N/A | K34: =IF(J34="", "", B34=J34) | M34: =IF(L34="", "", B34=L34) | N34: =IF(L34="", "", J34=L34)
A35: #N/A | B35: #N/A | C35: #N/A | D35: #N/A | E35: =IF(D35="", "", LEN(D35)) -> #N/A | F35: #N/A | G35: =IF(F35="", "", LEN(F35)) -> #N/A | H35: #N/A | I35: =IF(H35="", "", LEN(H35)) -> #N/A | K35: =IF(J35="", "", B35=J35) | M35: =IF(L35="", "", B35=L35) | N35: =IF(L35="", "", J35=L35)
A36: #N/A | B36: #N/A | C36: #N/A | D36: #N/A | E36: =IF(D36="", "", LEN(D36)) -> #N/A | F36: #N/A | G36: =IF(F36="", "", LEN(F36)) -> #N/A | H36: #N/A | I36: =IF(H36="", "", LEN(H36)) -> #N/A | K36: =IF(J36="", "", B36=J36) | M36: =IF(L36="", "", B36=L36) | N36: =IF(L36="", "", J36=L36)
A37: #N/A | B37: #N/A | C37: #N/A | D37: #N/A | E37: =IF(D37="", "", LEN(D37)) -> #N/A | F37: #N/A | G37: =IF(F37="", "", LEN(F37)) -> #N/A | H37: #N/A | I37: =IF(H37="", "", LEN(H37)) -> #N/A | K37: =IF(J37="", "", B37=J37) | M37: =IF(L37="", "", B37=L37) | N37: =IF(L37="", "", J37=L37)
A38: #N/A | B38: #N/A | C38: #N/A | D38: #N/A | E38: =IF(D38="", "", LEN(D38)) -> #N/A | F38: #N/A | G38: =IF(F38="", "", LEN(F38)) -> #N/A | H38: #N/A | I38: =IF(H38="", "", LEN(H38)) -> #N/A | K38: =IF(J38="", "", B38=J38) | M38: =IF(L38="", "", B38=L38) | N38: =IF(L38="", "", J38=L38)
A39: #N/A | B39: #N/A | C39: #N/A | D39: #N/A | E39: =IF(D39="", "", LEN(D39)) -> #N/A | F39: #N/A | G39: =IF(F39="", "", LEN(F39)) -> #N/A | H39: #N/A | I39: =IF(H39="", "", LEN(H39)) -> #N/A | K39: =IF(J39="", "", B39=J39) | M39: =IF(L39="", "", B39=L39) | N39: =IF(L39="", "", J39=L39)
... A172: #N/A | B172: #N/A | C172: #N/A | D172: #N/A | E172: =IF(D172="", "", LEN(D172)) -> #N/A | F172: #N/A | G172: =IF(F172="", "", LEN(F172)) -> #N/A | H172: #N/A | I172: =IF(H172="", "", LEN(H172)) -> #N/A | K172: =IF(J172="", "", B172=J172) | M172: =IF(L172="", "", B172=L172) | N172: =IF(L172="", "", J172=L172)
E173: =IF(D173="", "", LEN(D173)) | G173: =IF(F173="", "", LEN(F173)) | I173: =IF(H173="", "", LEN(H173)) | K173: =IF(J173="", "", B173=J173) | M173: =IF(L173="", "", B173=L173) | N173: =IF(L173="", "", J173=L173)
E174: =IF(D174="", "", LEN(D174)) | G174: =IF(F174="", "", LEN(F174)) | I174: =IF(H174="", "", LEN(H174)) | K174: =IF(J174="", "", B174=J174) | M174: =IF(L174="", "", B174=L174) | N174: =IF(L174="", "", J174=L174)
E175: =IF(D175="", "", LEN(D175)) | G175: =IF(F175="", "", LEN(F175)) | I175: =IF(H175="", "", LEN(H175)) | K175: =IF(J175="", "", B175=J175) | M175: =IF(L175="", "", B175=L175) | N175: =IF(L175="", "", J175=L175)
E176: =IF(D176="", "", LEN(D176)) | G176: =IF(F176="", "", LEN(F176)) | I176: =IF(H176="", "", LEN(H176)) | K176: =IF(J176="", "", B176=J176) | M176: =IF(L176="", "", B176=L176) | N176: =IF(L176="", "", J176=L176)
E177: =IF(D177="", "", LEN(D177)) | G177: =IF(F177="", "", LEN(F177)) | I177: =IF(H177="", "", LEN(H177)) | K177: =IF(J177="", "", B177=J177) | M177: =IF(L177="", "", B177=L177) | N177: =IF(L177="", "", J177=L177)
E178: =IF(D178="", "", LEN(D178)) | G178: =IF(F178="", "", LEN(F178)) | I178: =IF(H178="", "", LEN(H178)) | K178: =IF(J178="", "", B178=J178) | M178: =IF(L178="", "", B178=L178) | N178: =IF(L178="", "", J178=L178)
E179: =IF(D179="", "", LEN(D179)) | G179: =IF(F179="", "", LEN(F179)) | I179: =IF(H179="", "", LEN(H179)) | K179: =IF(J179="", "", B179=J179) | M179: =IF(L179="", "", B179=L179) | N179: =IF(L179="", "", J179=L179)
E180: =IF(D180="", "", LEN(D180)) | G180: =IF(F180="", "", LEN(F180)) | I180: =IF(H180="", "", LEN(H180)) | K180: =IF(J180="", "", B180=J180) | M180: =IF(L180="", "", B180=L180) | N180: =IF(L180="", "", J180=L180)
E181: =IF(D181="", "", LEN(D181)) | G181: =IF(F181="", "", LEN(F181)) | I181: =IF(H181="", "", LEN(H181)) | K181: =IF(J181="", "", B181=J181) | M181: =IF(L181="", "", B181=L181) | N181: =IF(L181="", "", J181=L181)
E182: =IF(D182="", "", LEN(D182)) | G182: =IF(F182="", "", LEN(F182)) | I182: =IF(H182="", "", LEN(H182)) | K182: =IF(J182="", "", B182=J182) | M182: =IF(L182="", "", B182=L182) | N182: =IF(L182="", "", J182=L182)
E183: =IF(D183="", "", LEN(D183)) | G183: =IF(F183="", "", LEN(F183)) | I183: =IF(H183="", "", LEN(H183)) | K183: =IF(J183="", "", B183=J183) | M183: =IF(L183="", "", B183=L183) | N183: =IF(L183="", "", J183=L183)
E184: =IF(D184="", "", LEN(D184)) | G184: =IF(F184="", "", LEN(F184)) | I184: =IF(H184="", "", LEN(H184)) | K184: =IF(J184="", "", B184=J184) | M184: =IF(L184="", "", B184=L184) | N184: =IF(L184="", "", J184=L184)
... E202: =IF(D202="", "", LEN(D202)) | G202: =IF(F202="", "", LEN(F202)) | I202: =IF(H202="", "", LEN(H202)) | K202: =IF(J202="", "", B202=J202) | M202: =IF(L202="", "", B202=L202) | N202: =IF(L202="", "", J202=L202)
K203: =IF(J203="", "", B203=J203)
K204: =IF(J204="", "", B204=J204)
K205: =IF(J205="", "", B205=J205)
K206: =IF(J206="", "", B206=J206)
K207: =IF(J207="", "", B207=J207)
K208: =IF(J208="", "", B208=J208)
K209: =IF(J209="", "", B209=J209)
K210: =IF(J210="", "", B210=J210)
K211: =IF(J211="", "", B211=J211)
K212: =IF(J212="", "", B212=J212)
K213: =IF(J213="", "", B213=J213)
K214: =IF(J214="", "", B214=J214)
... K627: =IF(J627="", "", B627=J627)

Sheet Аркуш1
C2: `=MOD(MOD(-MID(D2;1;1) + MID(D2;2;1)*5 + MID(D2;3;1)*7 + MID(D2;4;1)*9 + MID(D2;5;1)*4 + MID(D2;6;1)*6 + MID(D2;7;1)*10 + MID(D2;8;1)*5 + MID(D2;9;1)*7; 11);10) <> VALUE( MID(D2;10;1))
C6: `=DATEVALUE( C2) <> INT(LEFT(D2;5)) +1

Sheet Алфавітки
A1: № з/п | B1: В/звання | D1: Місце народження | E1: адреса (фактична) | F1: Освіта | G1: склад сім’ї | H1: № телефону
A2: 1 | B2: солдат | C2: Антоненко Руслан Олександрович | D2: Миколаївська обл. Миколаївський р-н, с. Весняне | E2: м. Миколаїв вул. Айвазовського буд. 6 кв. 809-809 | F2: середня-спеціальна, ПТУ №1 м. Миколаїв 2005 судобудівельник, зварювальник (права категорії Б, ФОП Парус, будівельник 18р.) | G2: Розлучений Мати: Калага Лідія Миронівна, м. Миколаїв вул. Айвазовського буд. 6 кв. 809-809, 0663420925 | H2: 660263238
A3: 8 | B3: солдат | C3: Баранов Дмитро Генащдійович | D3: с. Кірове Базарський р-н Херсонської обл. | E3: Херсонської обл. Базарський р-н, с. Олександрівка вул. Мельнична 5 | F3: середньо-спеціальна Судобудівельний ліцей 2018р. Зварювальник Содозбірник (Категорія прав Б, С1, С, СЕ, далекобійник 4р.) | G3: неодружений Батько: Баранов Генадій Анатолійович Херсонської обл. Базарський р-н, с. Олександрівка вул. Мельнична 5, тел. 0668290286 | H3: 505059149
A4: 12 | B4: солдат | C4: Боровик Юрій Володимирович | D4: м. Миколаїв | E4: м. Миколаїв вул. Восьма Лінія буд. 68 | F4: середньо-спеціальна Теплодарський професійний ліцей 2011р. Кухар (категорія прав Б, автоелектрик 1р) | G4: цивільний шлюб Цивільна дружина: Голубченко Юлія Вадимівна, м. Миколаїв вул. Восьма Лінія буд. 68, тел. 0950975840 | H4: 993803701
A5: 7 | B5: солдат | C5: Горбатенко Олександр Олегович | D5: м. Миколаїв | E5: м. Миколаїв вул. Архітектора Староба 3 кв.1 | F5: повна середня ЗОШ № 64 2009р.(кухар 7р) | G5: неодружений Бабуся: Горбатенко Людмила Іванівна м. Миколаїв вул. Архітектора Староба 6б кв. 24, тел. 0966366295 | H5: 677153559
A6: 4 | B6: солдат | C6: Жестовський Сергій Сергійович | D6: Миколаївська обл. Первомайський р-н, с. Новопавлівка | E6: Миколаївська обл. Первомайський р-н, с. Новопавлівка вул. Роднікова 18 | F6: середньо-спеціальна Одеський професійний ліцей морського транспорту 2008р. електрозварювальник (категорія прав Б, Будівельник 2р.) | G6: Одружений Дружина: Жестовська Ірина Анатоліївна Миколаївська обл. Первомайський р-н, с. Новопавлівка вул. Роднікова 18, 0974890880 | H6: 683977036
A7: 6 | B7: солдат | C7: Ісаков Олександ Сергійович | D7: Кропивницька обл. Новоархангельський р-н с. Скалівські Хутори | E7: Миколаївська обл. Баштанський р-н с. Поляне, вул. Садова, буд. 22 | F7: середньо-спеціальна ЧПБЛ №4 2013р. Маляр-штукатур (Фермерське господарство немировський) | G7: Одружений Дружина: Ісакова Оксана Миколаївна, Миколаївська обл. Баштанський р-н с. Поляне, вул. Садова, буд. 22, тел. 0988180989 | H7: 682269805
A8: 13 | B8: солдат | C8: Клімчкук Олександ Олександрович | D8: Вінницька обл. Хмільницький р-н, смт Бродецьке | E8: Вінницька обл. Хмільницький р-н, смт Бродецьке вул. Першотравнева 72 | F8: повна середня ЗОШ смт. Бродецьке 2007р. (Мясний мультикомплекс транспортувальник 1р.) | G8: одружений Дружина: Клімчук Алла Вадимівна, Вінницька обл. Хмільницький р-н, смт Бродецьке вул. Першотравнева 72, тел. 0631960845 | H8: 990631915
A9: 9 | B9: солдат | C9: Колесніков Сергій Сергійович | D9: с. Балтазарівка Чуплинський р-н, Херсонської обл. | E9: Микорлаївська обл. м. Первомайськ вул. Марія Демченка 33 | F9: середньо-спеціальна Електротехнічний ліцей №7 2013р.електрогазозварювальник (пожежний рятувальник 3р.) | G9: одружений Дружина: Колеснікова Ганна Миколаївна, Микорлаївська обл. м. Первомайськ вул. Марія Демченка 33, тел. 0683767312 | H9: 956741071
A10: 3 | B10: солдат | C10: Опанасюк Ігор Перрович | D10: Миколаївська обл. м. Новий Буг | E10: Миколаївська обл. Новобузький р-н с. Нова Хрестофорівка буд. 65 | F10: середньо-спеціальна Новобузький аграрний професійний ліцей 2013р. (права категорії Б, С, СЕ, Фермерське господарство Орбіта Водій) | G10: Розлучений Мати: Опанасюк Валентина Ігорівна, Миколаївська обл. Новобузький р-н с. Нова Хрестофорівка буд. 65, тел. 0508511843 | H10: 934248356
A11: 11 | B11: солдат | C11: Ручин Дмитро Вікторович | D11: Миколаївська обл. м. Баштанка | E11: Миколаївська обл. м. Баштанка вул. Грушевського 46 | F11: середньо-спеціальна ПТУ №9 м. Баштанка 2015р. Кухар (пекарня 1р) | G11: неодружений Мати: Дмитренко Алла Петрівна, Миколаївська обл. м. Баштанка вул. Грушевського 46, тел, 0636322801 | H11: 983438936
A12: 5 | B12: солдат | C12: Солоденко Анатолій Сергійович | D12: Миколаївська обл. Вознесенський р-н, с. Яструбинове | E12: Миколаївська обл. Вознесенський р-н, с. Яструбинове вул. Першотравнева 20 | F12: середньо-спеціальна ПТУ №18 2016р. будівельник (Гружчик 1р.) | G12: неодружений Сестрат: Черемуха Анастасія Сергіївна, тел. 0985362292 | H12: 938839470
A13: 2 | B13: солдат | C13: Фістікан Василь Петрович | D13: Миколаївська обл. Первомайський р-н, с. Софіївка | E13: Миколаївська обл. Первомайський р-н, с. Синюшин Брід, вул. Перемоги 38 | F13: середньо-спеціальна ПТУ №22 м. Первомайськ 2018р. Маляр-Штукатур (Сканувальник на новій пошті) | G13: Неодружений Мати: Фістікан Марія Вікторівна, Миколаївська обл. Первомайський р-н, с. Синюшин Брід, вул. Молодіжна 8, тел. 0967926486 | H13: 967927329
A14: 10 | B14: солдат | C14: Чабан Михайло Григорович | D14: Миколаївська обл. Березанського р-н, с. Новоподілля | E14: м. Миколаїв, 12 Повздовжня 47а, кв. 59 | F14: середньо-спеціальна ліцей №13 2012р. Автослюсар (СТО 9р) | G14: одружений Дружина: Чабан Влада Владиславівна, м. Миколаїв, 12 Повздовжня 47а, кв. 59, тел. 0971910656 | H14: 967953093
A15: 14 | B15: солдат
A16: 15 | B16: солдат
A17: 16 | B17: солдат
A18: 17 | B18: солдат
A19: 18 | B19: солдат
A20: 19 | B20: солдат
A21: 20 | B21: солдат
A22: 21 | B22: солдат
A23: 22 | B23: солдат
A24: 23 | B24: солдат
A25: 24 | B25: солдат
A26: 25 | B26: солдат
... A101: 100 | B101: солдат
