Workbook

Sheet Основний
Y2: Додаток
Y3: (Форма 5.10. ОС)
C4: ДОНЕСЕННЯ
C5: про зарахування військовослужбовців військової служби за контрактом на навчання до навчального центру (ВВНЗ, ВНП ЗВО)
C6: військова частина А2900
C7: найменування навчального центру (ВВНЗ, ВНЗ ЗВО)
C9: 1. Список військовослужбовців військової служби за контрактом, які зараховані на навчання
A10: №ПС | B10: Дата ПС | C10: № з/п | D10: Військове звання | E10: {=SUMPRODUCT(--(TRIM(E12:E855)<>""))} -> 141 | F10: Військова частина, ТЦК та СП | G10: Місто | H10: Область | I10: Дата народження | J10: ідентифікаційний код | K10: військовий квиток | L10: Паспорт, ким і коли виданий | M10: Місце народження | N10: адреса (фактична) | O10: Рівень освіти | P10: Заклад який закінчив Рік закінчення Професія | Q10: Професійний досвід Права | R10: склад сім’ї | S10: № телефону | T10: ВОС (попередній) | U10: Спеціальність, за якою зарахований на навчання | X10: Дата зарахування | Y10: № наказу про зарахування | Z10: присяга | AA10: Дата висновку ВЛК | AB10: Придатність | AC10: Група крові | AD10: Примітка | AE10: =COUNT(AE12:AE9817) -> 53 | AF10: =COUNT(AF12:AF9817) -> 67 | AG10: =COUNT(AG12:AG9817) -> 18 | AH10: =IFERROR(AVERAGE(AE12:AG9817),0) -> 37.231884
U11: посада | V11: ВОС | W11: код посади | AE11: 25-35 | AF11: 36-45 | AG11: 46-50 | AH11: Середній вік
A12: 614 | B12: 26 лютого 2026 року | C12: 1 | D12: солдат | E12: Абрамян Артур Маратович | F12: Дарницького районного | H12: {=IF( ISBLANK(F12), "", IF( COUNTIF([1]Settings!G$1:G$609, F12) = 1, INDEX([1]Settings!H$1:H$609, MATCH(F12, [1]Settings!G$1:G$609, 0)), IFERROR( INDEX([1]Settings!H$1:H$609, MATCH(1, ([1]Settings!G$1:G$609=F12) * ([1]Settings!D$1:D$609=G12), 0 ) ), "" ) ) )} -> #VALUE! | I12: 36089 | J12: 3608804152 | K12: 040520251458450705269/1 | L12: ВТ 101396 Приморським РС у м. Маріуполі ГУ ДМС України в Донецькій області 12.06.2015 | M12: м. Донецьк | N12: м. Київ вул. Бориспільська, буд. 9, кв. 16 | O12: базова загальна середня | P12: Школа №62 м. Донецьк 2014 | Q12: водій таксі - 5 керівник закладу харчування - 1р Права B | R12: не одружений брат: Губаян Давид Арсенович - 1997 - 0979699989, м. Київ, вул. ? Брат: Губаян Арсен Арменович - 1996 - 0935538585 - м. Київ, вул. ? | S12: 633131383 | U12: курсант | V12: 100 | X12: 46079 | Y12: № 60 | Z12: =IF(E12="","",IF(T12="","ні","так")) -> ні | AA12: 46079 | AB12: Придатний до військової служби | AE12: =IF(AND(INT(YEARFRAC(I12,TODAY()))>=25,INT(YEARFRAC(I12,TODAY()))<=35),INT(YEARFRAC(I12,TODAY())),"") -> 27 | AF12: =IF(AND(INT(YEARFRAC(I12,TODAY()))>=36,INT(YEARFRAC(I12,TODAY()))<=45),INT(YEARFRAC(I12,TODAY())),"") | AG12: =IF(AND(INT(YEARFRAC(I12,TODAY()))>=46,INT(YEARFRAC(I12,TODAY()))<=50),INT(YEARFRAC(I12,TODAY())),"")
A13: 4/1868 | B13: 24 лютого 2026 року | C13: 2 | D13: солдат | E13: Авраменко Андрій Миколайович | F13: Чернігівського районного | G13: м. Городня | H13: {=IF( ISBLANK(F13), "", IF( COUNTIF([2]Settings!G$1:G$609, F13) = 1, INDEX([2]Settings!H$1:H$609, MATCH(F13, [2]Settings!G$1:G$609, 0)), IFERROR( INDEX([2]Settings!H$1:H$609, MATCH(1, ([2]Settings!G$1:G$609=F13) * ([2]Settings!D$1:D$609=G13), 0 ) ), "" ) ) )} -> #VALUE! | I13: 30851 | J13: 3085003094 | M13: Чернігівська обл., м. Городня | N13: Чернігівська обл., м. Городня, вул. Чернігівська, буд. 86, кв 1. | O13: Вища | P13: ХНУРЕ, 2006, радіотехніка | Q13: Програміст, 12 років Права B | R13: не одружений, мати: Авраменко Людмила Михайлівна, 1955, Чернігівська обл., м. Городня, вул. Чернігівська, буд. 86, кв 1, | S13: 0671971309 | U13: курсант | V13: 100 | X13: 46077 | Y13: № 58 | Z13: =IF(E13="","",IF(T13="","ні","так")) -> ні | AA13: 46077 | AB13: Придатний до військової служби | AE13: =IF(AND(INT(YEARFRAC(I13,TODAY()))>=25,INT(YEARFRAC(I13,TODAY()))<=35),INT(YEARFRAC(I13,TODAY())),"") | AF13: =IF(AND(INT(YEARFRAC(I13,TODAY()))>=36,INT(YEARFRAC(I13,TODAY()))<=45),INT(YEARFRAC(I13,TODAY())),"") -> 41 | AG13: =IF(AND(INT(YEARFRAC(I13,TODAY()))>=46,INT(YEARFRAC(I13,TODAY()))<=50),INT(YEARFRAC(I13,TODAY())),"")
A14: 1/2363 | B14: 23 лютого 2026 року | C14: 2 | D14: солдат | E14: Алексенко Іван Миколайович | F14: Ніжинського районного | G14: Бахмач | H14: {=IF( ISBLANK(F14), "", IF( COUNTIF([3]Settings!G$1:G$609, F14) = 1, INDEX([3]Settings!H$1:H$609, MATCH(F14, [3]Settings!G$1:G$609, 0)), IFERROR( INDEX([3]Settings!H$1:H$609, MATCH(1, ([3]Settings!G$1:G$609=F14) * ([3]Settings!D$1:D$609=G14), 0 ) ), "" ) ) )} -> #VALUE! | I14: 35604 | J14: 3560301717 | M14: Чернігівська обл., Карюківський р-н., с. Бондарівка | N14: Чернігівська обл. м. Бахмач, вул. Олени Теліги, буд. 36 | O14: середня спеціальна | P14: Конотопський аграрний ліцей, 2017, слюсар-механік | Q14: Водій, 4 роки Слюсар-механік, 4 роки Права: В, С | R14: одружений, дружина: Алексенко Катерина Анатоліївна, 1994, Чернігівська обл. м. Бахмач, вул. Олени Теліги, буд. 36 | S14: 0632905799 | U14: курсант | V14: 100 | X14: 46076 | Y14: № 57 | Z14: =IF(E14="","",IF(T14="","ні","так")) -> ні | AA14: 46076 | AB14: Придатний до військової служби | AC14: I Rh + | AE14: =IF(AND(INT(YEARFRAC(I14,TODAY()))>=25,INT(YEARFRAC(I14,TODAY()))<=35),INT(YEARFRAC(I14,TODAY())),"") -> 28 | AF14: =IF(AND(INT(YEARFRAC(I14,TODAY()))>=36,INT(YEARFRAC(I14,TODAY()))<=45),INT(YEARFRAC(I14,TODAY())),"") | AG14: =IF(AND(INT(YEARFRAC(I14,TODAY()))>=46,INT(YEARFRAC(I14,TODAY()))<=50),INT(YEARFRAC(I14,TODAY())),"")
A15: 260223-9 | B15: 23 лютого 2026 року | C15: 3 | D15: солдат | E15: Алієв Парвіз Натікбєкович | F15: Солом'янського районного | H15: {=IF( ISBLANK(F15), "", IF( COUNTIF([3]Settings!G$1:G$609, F15) = 1, INDEX([3]Settings!H$1:H$609, MATCH(F15, [3]Settings!G$1:G$609, 0)), IFERROR( INDEX([3]Settings!H$1:H$609, MATCH(1, ([3]Settings!G$1:G$609=F15) * ([3]Settings!D$1:D$609=G15), 0 ) ), "" ) ) )} -> #VALUE! | I15: 30443 | J15: 3044204097 | K15: АГ 629818 | L15: КС 160333 Київським РВ ДМУ УДМС УКР в Донецькій обл 09.08.2002 | M15: Азербайджан, м. Баку | N15: м. Київ, вул. Копилівська, буд. 30, кв. 54 | O15: вища | P15: Київський політехнічний Інститут, 2005 Київський економічний Інститут, 2002 електотехнік, економіка | Q15: інженер систем безпеки, 25 років Права: Б | R15: не одружений мати: Лал Різа Заде, 1956, м. Баку, Азербайджан | S15: 663135516 | U15: курсант | V15: 100 | X15: 46076 | Y15: № 57 | Z15: =IF(E15="","",IF(T15="","ні","так")) -> ні | AA15: 46076 | AB15: Придатний до військової служби | AC15: I Rh + | AE15: =IF(AND(INT(YEARFRAC(I15,TODAY()))>=25,INT(YEARFRAC(I15,TODAY()))<=35),INT(YEARFRAC(I15,TODAY())),"") | AF15: =IF(AND(INT(YEARFRAC(I15,TODAY()))>=36,INT(YEARFRAC(I15,TODAY()))<=45),INT(YEARFRAC(I15,TODAY())),"") -> 42 | AG15: =IF(AND(INT(YEARFRAC(I15,TODAY()))>=46,INT(YEARFRAC(I15,TODAY()))<=50),INT(YEARFRAC(I15,TODAY())),"")
A16: 2580 | B16: 27 лютого 2026 року | C16: 1 | D16: солдат | E16: Андрушко Вадим Валентинович | F16: Житомирського районного | H16: {=IF( ISBLANK(F16), "", IF( COUNTIF([4]Settings!G$1:G$609, F16) = 1, INDEX([4]Settings!H$1:H$609, MATCH(F16, [4]Settings!G$1:G$609, 0)), IFERROR( INDEX([4]Settings!H$1:H$609, MATCH(1, ([4]Settings!G$1:G$609=F16) * ([4]Settings!D$1:D$609=G16), 0 ) ), "" ) ) )} -> #VALUE! | I16: 33544 | J16: 3354308835 | K16: АГ 603287 | L16: ВН 424127 Вололдарсько-Волинським РВ УМВС в Житомирській області 20.05.2008 | M16: Житомирська обл., Житомирський р-н., смт. Нова Борова | N16: Житомирська обл., Житомирський р-н., смт. Нова Борова, вул. Незалежності, буд. 57 | O16: професійно- технічна | P16: Житомирське ПТУ №5, 2013, маляр-штукатур | Q16: будівельник, 10 років Права В | R16: одружений, дружина: Андрушко Юлія Анатоліївна, 1994, Житомирська обл., Житомирський р-н., смт. Нова Борова, вул. Незалежності, буд. 57 | S16: 982607646 | U16: курсант | V16: 100 | X16: 46080 | Y16: № 61 | Z16: =IF(E16="","",IF(T16="","ні","так")) -> ні | AA16: 46080 | AB16: Придатний до служби на підводних човнох, на надводних кораблях, у морській піхоті, Десантно-штурмових військах, спеціальних спорудах, підрозділах спеціального призначення | AE16: =IF(AND(INT(YEARFRAC(I16,TODAY()))>=25,INT(YEARFRAC(I16,TODAY()))<=35),INT(YEARFRAC(I16,TODAY())),"") -> 34 | AF16: =IF(AND(INT(YEARFRAC(I16,TODAY()))>=36,INT(YEARFRAC(I16,TODAY()))<=45),INT(YEARFRAC(I16,TODAY())),"") | AG16: =IF(AND(INT(YEARFRAC(I16,TODAY()))>=46,INT(YEARFRAC(I16,TODAY()))<=50),INT(YEARFRAC(I16,TODAY())),"")
A17: 1/2342 | B17: 22 лютого 2026 року | C17: 5 | D17: солдат | E17: Анісімов Сергій Леонідович | F17: Ніжинського районного | G17: Ніжин | H17: {=IF( ISBLANK(F17), "", IF( COUNTIF(Settings!G$1:G$609, F17) = 1, INDEX(Settings!H$1:H$609, MATCH(F17, Settings!G$1:G$609, 0)), IFERROR( INDEX(Settings!H$1:H$609, MATCH(1, (Settings!G$1:G$609=F17) * (Settings!D$1:D$609=G17), 0 ) ), "" ) ) )} -> Чернігівська | I17: 32799 | J17: 3279802570 | K17: АГ 633795 | L17: АМ 247948 | M17: Чернігівська обл., м. Ніжин | N17: Чернігівська обл., Ніжинський р-н., с. Велика Кошелівка, вул. Веринарна, буд. 5 | O17: середня спеціальна | P17: Ніжинське ПТУ №35, водій-механік, 2008 | Q17: Тракторист, 10 років Права AB (трактор), B, C | R17: не одружений, мати: Куліш Наталія Василівна, 1960, Чернігівська обл., м. Ніжин, вул. Богуна, буд. 22, 0967676757 | S17: 0985324330 | T17: 790 259А | U17: курсант | V17: 100 | X17: 46075 | Y17: № 56 | Z17: =IF(E17="","",IF(T17="","ні","так")) -> так | AA17: 46075 | AB17: Придатний до військової служби | AC17: RH 2+ | AE17: =IF(AND(INT(YEARFRAC(I17,TODAY()))>=25,INT(YEARFRAC(I17,TODAY()))<=35),INT(YEARFRAC(I17,TODAY())),"") | AF17: =IF(AND(INT(YEARFRAC(I17,TODAY()))>=36,INT(YEARFRAC(I17,TODAY()))<=45),INT(YEARFRAC(I17,TODAY())),"") -> 36 | AG17: =IF(AND(INT(YEARFRAC(I17,TODAY()))>=46,INT(YEARFRAC(I17,TODAY()))<=50),INT(YEARFRAC(I17,TODAY())),"")
A18: 1452 | B18: 28 лютого 2026 року | C18: 1 | D18: солдат | E18: Антонюк Дмитро Русланович | F18: Хмільницького районного | H18: {=IF( ISBLANK(F18), "", IF( COUNTIF([5]Settings!G$1:G$609, F18) = 1, INDEX([5]Settings!H$1:H$609, MATCH(F18, [5]Settings!G$1:G$609, 0)), IFERROR( INDEX([5]Settings!H$1:H$609, MATCH(1, ([5]Settings!G$1:G$609=F18) * ([5]Settings!D$1:D$609=G18), 0 ) ), "" ) ) )} -> #VALUE! | I18: 36242 | J18: 3624109257 | K18: АГ 574988 | L18: АТ 121678 | M18: Житомирська обл. м. Радомишль | N18: м. Вінниця вул. Генерала Григоренка, буд. 36, кв. 21 | O18: професійно- технічна | P18: Тульчинський коледж ветеринарної медецини м. Тульчин 2018 фельдшер ветеринарної медецини | Q18: комплектувальник продуктів харчування - 4р | R18: не одружений мати: Антонюк Оксана Вікторівна - прибл. 43р - 0673588369 - Вінницька обл, Вінницький р-н, с. Гавришівка, вул. ? Брат: Антонюк Денис Русланович - 1999 - 0686749823 - м. Вінниця, вул. Ватутіна, буд. ? | S18: 976880495 | U18: курсант | V18: 100 | X18: 46081 | Y18: № 62 | Z18: =IF(E18="","",IF(T18="","ні","так")) -> ні | AA18: 46077 | AB18: Придатний до військової служби | AC18: I Rh + | AE18: =IF(AND(INT(YEARFRAC(I18,TODAY()))>=25,INT(YEARFRAC(I18,TODAY()))<=35),INT(YEARFRAC(I18,TODAY())),"") -> 27 | AF18: =IF(AND(INT(YEARFRAC(I18,TODAY()))>=36,INT(YEARFRAC(I18,TODAY()))<=45),INT(YEARFRAC(I18,TODAY())),"") | AG18: =IF(AND(INT(YEARFRAC(I18,TODAY()))>=46,INT(YEARFRAC(I18,TODAY()))<=50),INT(YEARFRAC(I18,TODAY())),"")
A19: 2500 | B19: 25 лютого 2026 року | C19: 1 | D19: солдат | E19: Антонюк Олександр Леонідович | F19: Житомирського районного | H19: {=IF( ISBLANK(F19), "", IF( COUNTIF([6]Settings!G$1:G$609, F19) = 1, INDEX([6]Settings!H$1:H$609, MATCH(F19, [6]Settings!G$1:G$609, 0)), IFERROR( INDEX([6]Settings!H$1:H$609, MATCH(1, ([6]Settings!G$1:G$609=F19) * ([6]Settings!D$1:D$609=G19), 0 ) ), "" ) ) )} -> #VALUE! | I19: 29125 | J19: 2912410393 | K19: АГ 603239 | L19: ТТ 193066 Дарнівським РО ГУ ДМС УКР в м. Києві 16.08.2013 | M19: м. Київ | N19: Житомирська обл. Попільнянський р-н., с. Романівка, вул. Миру, буд. 20 | O19: професійно- технічна | P19: Київське училище №26 | Q19: будівельник, 20 років Права- | R19: не одружениий Мати: Антонюк Світлана Миколаївна, 1959, м. Київ, вул. Бажана, буд. 9, 0972926021 | S19: 975269074 | U19: курсант | V19: 100 | X19: 46078 | Y19: № 59 | Z19: =IF(E19="","",IF(T19="","ні","так")) -> ні | AA19: 46078 | AB19: Придатний до військової служби | AC19: II Rh + | AE19: =IF(AND(INT(YEARFRAC(I19,TODAY()))>=25,INT(YEARFRAC(I19,TODAY()))<=35),INT(YEARFRAC(I19,TODAY())),"") | AF19: =IF(AND(INT(YEARFRAC(I19,TODAY()))>=36,INT(YEARFRAC(I19,TODAY()))<=45),INT(YEARFRAC(I19,TODAY())),"") | AG19: =IF(AND(INT(YEARFRAC(I19,TODAY()))>=46,INT(YEARFRAC(I19,TODAY()))<=50),INT(YEARFRAC(I19,TODAY())),"") -> 46
A20: 2566 | B20: 27 лютого 2026 року | C20: 2 | D20: солдат | E20: Бабич Андрій Васильович | F20: Житомирського районного | H20: {=IF( ISBLANK(F20), "", IF( COUNTIF([4]Settings!G$1:G$609, F20) = 1, INDEX([4]Settings!H$1:H$609, MATCH(F20, [4]Settings!G$1:G$609, 0)), IFERROR( INDEX([4]Settings!H$1:H$609, MATCH(1, ([4]Settings!G$1:G$609=F20) * ([4]Settings!D$1:D$609=G20), 0 ) ), "" ) ) )} -> #VALUE! | I20: 30790 | J20: 3078922215 | K20: АГ 603272 | L20: СТ 531446 Чернігівським РС УДМС УКР в Чернігівській обл 24.02.2017 | M20: Чернігівська обл., Чернігівський р-н., с. Павлівка | N20: Житомирський р-н., с. Покостівка, вул. Квіткова, буд. 5 | O20: професійно- технічна | P20: Чернігівське ПТУ №5, 2002, черговий по станції, провідник | Q20: провідник, 8 років Права - | R20: не одружений, сестра: Винниченко Олена Василівна, 1981, м. Чернігів, 0964958186 | S20: 989386733 | U20: курсант | V20: 100 | X20: 46080 | Y20: № 61 | Z20: =IF(E20="","",IF(T20="","ні","так")) -> ні | AA20: 46080 | AB20: Придатний до служби на підводних човнох, на надводних кораблях, у морській піхоті, Десантно-штурмових військах, спеціальних спорудах, підрозділах спеціального призначення | AE20: =IF(AND(INT(YEARFRAC(I20,TODAY()))>=25,INT(YEARFRAC(I20,TODAY()))<=35),INT(YEARFRAC(I20,TODAY())),"") | AF20: =IF(AND(INT(YEARFRAC(I20,TODAY()))>=36,INT(YEARFRAC(I20,TODAY()))<=45),INT(YEARFRAC(I20,TODAY())),"") -> 42 | AG20: =IF(AND(INT(YEARFRAC(I20,TODAY()))>=46,INT(YEARFRAC(I20,TODAY()))<=50),INT(YEARFRAC(I20,TODAY())),"")
A21: 11/1629 | B21: 27 лютого 2026 року | C21: 3 | D21: солдат | E21: Баскаков Павло Анатолійович | F21: Шевченківського районного | G21: міста Києва | H21: {=IF( ISBLANK(F21), "", IF( COUNTIF([4]Settings!G$1:G$609, F21) = 1, INDEX([4]Settings!H$1:H$609, MATCH(F21, [4]Settings!G$1:G$609, 0)), IFERROR( INDEX([4]Settings!H$1:H$609, MATCH(1, ([4]Settings!G$1:G$609=F21) * ([4]Settings!D$1:D$609=G21), 0 ) ), "" ) ) )} -> #VALUE! | I21: 30743 | J21: 3074200978 | K21: 140220221425037600020/1 | L21: АМ 064073 Заводським РВ Дніпродзержинського МУ УМВС України в Дніпропетровській області 03.10.2000 | M21: Дніпропетровська обл, м. Дніпродзержинськ | N21: м. Київ вул. Академіка Корольова, буд. 7, кв. 46 | O21: професійно- технічна | P21: Дніпродзержинський індустріальнгий коледж 2004 електрик | Q21: власник інтернет магазину - 4р Права A, B, C | R21: не одружений бабуся: Носуля Раїса Іванівна - 0687208035 - 85р - Дніпропетровська обл, м. Кам'янське, вул. Дніпробудівельна, буд. 27, кв. 7 | S21: 965569916 | U21: курсант | V21: 100 | X21: 46080 | Y21: № 61 | Z21: =IF(E21="","",IF(T21="","ні","так")) -> ні | AA21: 46080 | AB21: Придатний до служби на підводних човнох, на надводних кораблях, у морській піхоті, Десантно-штурмових військах, спеціальних спорудах, підрозділах спеціального призначення | AC21: III Rh - | AE21: =IF(AND(INT(YEARFRAC(I21,TODAY()))>=25,INT(YEARFRAC(I21,TODAY()))<=35),INT(YEARFRAC(I21,TODAY())),"") | AF21: =IF(AND(INT(YEARFRAC(I21,TODAY()))>=36,INT(YEARFRAC(I21,TODAY()))<=45),INT(YEARFRAC(I21,TODAY())),"") -> 42 | AG21: =IF(AND(INT(YEARFRAC(I21,TODAY()))>=46,INT(YEARFRAC(I21,TODAY()))<=50),INT(YEARFRAC(I21,TODAY())),"")
A22: 1537/11/2005 | B22: 26 лютого 2026 року | C22: 2 | D22: солдат | E22: Бершадський Олександр Миколайович | F22: Дніпровського районного | G22: міста Києва | H22: {=IF( ISBLANK(F22), "", IF( COUNTIF([1]Settings!G$1:G$609, F22) = 1, INDEX([1]Settings!H$1:H$609, MATCH(F22, [1]Settings!G$1:G$609, 0)), IFERROR( INDEX([1]Settings!H$1:H$609, MATCH(1, ([1]Settings!G$1:G$609=F22) * ([1]Settings!D$1:D$609=G22), 0 ) ), "" ) ) )} -> #VALUE! | I22: 33678 | J22: 3367700733 | K22: довідка | L22: 003047716 8034 04.03.2019 | M22: Дніпропетровська обл. м. Кривий Ріг | N22: м. Київ, вул. Тичини, буд. 3а, кв. 61 | O22: вища | P22: КПІ, 2016, ІТ | Q22: програміст, 8 років Права - | R22: не одружений, мати: Бершадська Ірина Володимирівна, 1968, м. Київ, вул. Тичини, буд. 3а, кв. 61, 0957958159, 0675784797 | S22: 934043734 | U22: курсант | V22: 100 | X22: 46079 | Y22: № 60 | Z22: =IF(E22="","",IF(T22="","ні","так")) -> ні | AA22: 46079 | AB22: Придатний до військової служби | AD22: А3316 по розподілу рекомендаційний лист | AE22: =IF(AND(INT(YEARFRAC(I22,TODAY()))>=25,INT(YEARFRAC(I22,TODAY()))<=35),INT(YEARFRAC(I22,TODAY())),"") -> 34 | AF22: =IF(AND(INT(YEARFRAC(I22,TODAY()))>=36,INT(YEARFRAC(I22,TODAY()))<=45),INT(YEARFRAC(I22,TODAY())),"") | AG22: =IF(AND(INT(YEARFRAC(I22,TODAY()))>=46,INT(YEARFRAC(I22,TODAY()))<=50),INT(YEARFRAC(I22,TODAY())),"")
A23: 2543 | B23: 26 лютого 2026 року | C23: 3 | D23: солдат | E23: Білоусов Сергій Вікторович | F23: Житомирського об'єднаного міського | H23: {=IF( ISBLANK(F23), "", IF( COUNTIF([1]Settings!G$1:G$609, F23) = 1, INDEX([1]Settings!H$1:H$609, MATCH(F23, [1]Settings!G$1:G$609, 0)), IFERROR( INDEX([1]Settings!H$1:H$609, MATCH(1, ([1]Settings!G$1:G$609=F23) * ([1]Settings!D$1:D$609=G23), 0 ) ), "" ) ) )} -> #VALUE! | I23: 30198 | J23: ВМ 632875 | K23: АГ 186080 | L23: 009302826 1836 23.06.2023 | M23: м. Житомир | N23: м. Житомир, вул. Переїзд Радомишльський, буд. 9 | O23: повна загальна середня | P23: Житомирська ЗОШ №2 | Q23: рихтувальник, 6 років Права - | R23: одружений, Дружина: Білоусова Оксана Вікторівна, 1980, м. Житомир, вул. Переїзд Радомишльський, буд. 9, 0960276981 | S23: 990907846 | U23: курсант | V23: 100 | X23: 46079 | Y23: № 60 | Z23: =IF(E23="","",IF(T23="","ні","так")) -> ні | AA23: 46079 | AB23: Придатний до військової служби | AE23: =IF(AND(INT(YEARFRAC(I23,TODAY()))>=25,INT(YEARFRAC(I23,TODAY()))<=35),INT(YEARFRAC(I23,TODAY())),"") | AF23: =IF(AND(INT(YEARFRAC(I23,TODAY()))>=36,INT(YEARFRAC(I23,TODAY()))<=45),INT(YEARFRAC(I23,TODAY())),"") -> 43 | AG23: =IF(AND(INT(YEARFRAC(I23,TODAY()))>=46,INT(YEARFRAC(I23,TODAY()))<=50),INT(YEARFRAC(I23,TODAY())),"")
C24: 18 | D24: солдат | E24: Бойко Геннадій Володимирович | H24: Сумська | I24: 29909 | J24: 2990807554 | K24: №250220261352624000001/2 Від 25.02.2026 | L24: МА 583941 Охтирським МРВУМВС України в Сумській обл., 04.01.1999 | M24: Сумська обл., м. Охтирка, пров. Весняний, буд. 15а | N24: Сумська обл., м. Охтирка, вул. Київська, буд. 107, кв. 57 | O24: професійно- технічна | P24: ПТУ №7, м. Охтирка, 1999, маляр-штукатур | Q24: будівельник, 20 років Права В, С | R24: не одружений, мати: Бойко Алла Миколаївна, 1960, Сумська обл., м. Охтирка, пров. Весняний, буд. 15а | S24: 0665156739 | Z24: ні | AC24: II Rh + | AD24: Резерв КДШВ | AE24: =IF(AND(INT(YEARFRAC(I24,TODAY()))>=25,INT(YEARFRAC(I24,TODAY()))<=35),INT(YEARFRAC(I24,TODAY())),"") | AF24: =IF(AND(INT(YEARFRAC(I24,TODAY()))>=36,INT(YEARFRAC(I24,TODAY()))<=45),INT(YEARFRAC(I24,TODAY())),"") -> 44 | AG24: =IF(AND(INT(YEARFRAC(I24,TODAY()))>=46,INT(YEARFRAC(I24,TODAY()))<=50),INT(YEARFRAC(I24,TODAY())),"")
A25: 1537/11/2005 | B25: 26 лютого 2026 року | C25: 4 | D25: солдат | E25: Большаков Костянтин Євгенович | F25: Дніпровського районного | G25: міста Києва | H25: {=IF( ISBLANK(F25), "", IF( COUNTIF([1]Settings!G$1:G$609, F25) = 1, INDEX([1]Settings!H$1:H$609, MATCH(F25, [1]Settings!G$1:G$609, 0)), IFERROR( INDEX([1]Settings!H$1:H$609, MATCH(1, ([1]Settings!G$1:G$609=F25) * ([1]Settings!D$1:D$609=G25), 0 ) ), "" ) ) )} -> #VALUE! | I25: 33787 | J25: 3378604531 | K25: довідка | L25: ЕН 904717 Краснолуцьким МВ УДМС УКР в Луганській обл 15.11.2012 | M25: Луганська обл, м. Красний Луч | N25: м. Київ, вул. Русанівська Набережна, буд. 6, кв. 56 | O25: професійно- технічна | P25: Краснолуцький приладобудівний технікум м. Красний Луч 2013р економіка підприємства | Q25: Фріланс - 2D дизайн логотипів, оточення для браузерних ігор (Photoshop, AI) - 5р портретист на пам'ятниках - 3р кухар - 1,5р | R25: не одружений сестра: Большакова Яна Євгеновна - 1990 - 0664203975 - м. Київ, вул. Русанівська Набережна, буд. 6, кв. 56 | S25: 995045246 | U25: курсант | V25: 100 | X25: 46079 | Y25: № 60 | Z25: =IF(E25="","",IF(T25="","ні","так")) -> ні | AA25: 46078 | AB25: Придатний до військової служби | AE25: =IF(AND(INT(YEARFRAC(I25,TODAY()))>=25,INT(YEARFRAC(I25,TODAY()))<=35),INT(YEARFRAC(I25,TODAY())),"") -> 33 | AF25: =IF(AND(INT(YEARFRAC(I25,TODAY()))>=36,INT(YEARFRAC(I25,TODAY()))<=45),INT(YEARFRAC(I25,TODAY())),"") | AG25: =IF(AND(INT(YEARFRAC(I25,TODAY()))>=46,INT(YEARFRAC(I25,TODAY()))<=50),INT(YEARFRAC(I25,TODAY())),"")
A26: 1230 | B26: 22 лютого 2026 року | C26: 4 | D26: солдат | E26: Бондар Андрій Васильович | F26: Хмільницького районного | H26: {=IF( ISBLANK(F26), "", IF( COUNTIF([3]Settings!G$1:G$609, F26) = 1, INDEX([3]Settings!H$1:H$609, MATCH(F26, [3]Settings!G$1:G$609, 0)), IFERROR( INDEX([3]Settings!H$1:H$609, MATCH(1, ([3]Settings!G$1:G$609=F26) * ([3]Settings!D$1:D$609=G26), 0 ) ), "" ) ) )} -> #VALUE! | I26: 32353 | J26: 3235207996 | K26: АГ 574967 | L26: 011098716 | M26: м. Вінниця | N26: м. Вінниця, вул. Запорізька, буд. 21, кв. 124 | O26: професійно- технічна | P26: Стрижовська СВК | Q26: Будівельник, 1 рік Права - | R26: не одружений мати: Бондар Лілія Петрівна, 1956, м. Вінниця, вул. Запорізька, буд. 21, кв. 124, 0961876495 | S26: 970255251 | U26: курсант | V26: 100 | X26: 46076 | Y26: № 57 | Z26: =IF(E26="","",IF(T26="","ні","так")) -> ні | AA26: 46074 | AB26: Придатний до військової служби | AE26: =IF(AND(INT(YEARFRAC(I26,TODAY()))>=25,INT(YEARFRAC(I26,TODAY()))<=35),INT(YEARFRAC(I26,TODAY())),"") | AF26: =IF(AND(INT(YEARFRAC(I26,TODAY()))>=36,INT(YEARFRAC(I26,TODAY()))<=45),INT(YEARFRAC(I26,TODAY())),"") -> 37 | AG26: =IF(AND(INT(YEARFRAC(I26,TODAY()))>=46,INT(YEARFRAC(I26,TODAY()))<=50),INT(YEARFRAC(I26,TODAY())),"")
A27: 10/584 | B27: 22 лютого 2026 року | C27: 10 | D27: солдат | E27: Борисов Дмитро Сергійович | F27: Чернігівського міського | G27: Чернігів | H27: {=IF( ISBLANK(F27), "", IF( COUNTIF(Settings!G$1:G$609, F27) = 1, INDEX(Settings!H$1:H$609, MATCH(F27, Settings!G$1:G$609, 0)), IFERROR( INDEX(Settings!H$1:H$609, MATCH(1, (Settings!G$1:G$609=F27) * (Settings!D$1:D$609=G27), 0 ) ), "" ) ) )} -> Чернігівська | I27: 30818 | J27: 3081727094 | K27: СО 871538 | M27: м. Хабаровськ, росія | N27: м. Чернігів, вул. Мстиславська, буд. 171, кв. 9 | O27: середня спеціальна | P27: ПУ 63, станиця Денська, Денський р-н., Краснодарський край, водій-автомеханік, 2005 | Q27: Менеджер з постачання, 4 роки Права В | R27: одружений, дружина: Борисова Євгенія Вʼячеславівна, 1987, м. Чернігів, вул. Мстиславська, буд. 171, кв. 9, 0632156010 | S27: 0969311148 | U27: курсант | V27: 100 | X27: 46075 | Y27: № 56 | Z27: =IF(E27="","",IF(T27="","ні","так")) -> ні | AA27: 46075 | AB27: Придатний до військової служби | AC27: RH 2- | AE27: =IF(AND(INT(YEARFRAC(I27,TODAY()))>=25,INT(YEARFRAC(I27,TODAY()))<=35),INT(YEARFRAC(I27,TODAY())),"") | AF27: =IF(AND(INT(YEARFRAC(I27,TODAY()))>=36,INT(YEARFRAC(I27,TODAY()))<=45),INT(YEARFRAC(I27,TODAY())),"") -> 41 | AG27: =IF(AND(INT(YEARFRAC(I27,TODAY()))>=46,INT(YEARFRAC(I27,TODAY()))<=50),INT(YEARFRAC(I27,TODAY())),"")
A28: 1/2286 | B28: 21 лютого 2026 року | C28: 1 | D28: солдат | E28: Бородавко Віталій Михайлович | F28: Ніжинського районного | G28: Ніжин | H28: {=IF( ISBLANK(F28), "", IF( COUNTIF(Settings!G$1:G$609, F28) = 1, INDEX(Settings!H$1:H$609, MATCH(F28, Settings!G$1:G$609, 0)), IFERROR( INDEX(Settings!H$1:H$609, MATCH(1, (Settings!G$1:G$609=F28) * (Settings!D$1:D$609=G28), 0 ) ), "" ) ) )} -> Чернігівська | I28: 32791 | J28: 3279006554 | K28: АГ 633793 | L28: НМ 247947 Ніжинським МВР УМВС УКР в Чернігівській обл 24.03.2006 | M28: Чернігівська обл., м. Ніжин | N28: Чернігівська обл., м. Ніжин, вул. Станіслава Прощенко, буд. 40/б, кв. 33 | O28: повна середня освіта | P28: Ніжинська ЗОШ №7 | Q28: Торгівельний представник, 6 міс. Права - | R28: не одружений, мати: Бородавко Тетяна Андріївна, 1959, Чернігівська обл., м. Ніжин, вул. Станіслава Прощенко, буд. 40/б, кв. 33, 0682364981 | S28: немає | U28: курсант | V28: 100 | X28: 46074 | Y28: № 55 | Z28: =IF(E28="","",IF(T28="","ні","так")) -> ні | AA28: 46074 | AB28: Придатний до військової служби | AC28: RH 2+ | AE28: =IF(AND(INT(YEARFRAC(I28,TODAY()))>=25,INT(YEARFRAC(I28,TODAY()))<=35),INT(YEARFRAC(I28,TODAY())),"") | AF28: =IF(AND(INT(YEARFRAC(I28,TODAY()))>=36,INT(YEARFRAC(I28,TODAY()))<=45),INT(YEARFRAC(I28,TODAY())),"") -> 36 | AG28: =IF(AND(INT(YEARFRAC(I28,TODAY()))>=46,INT(YEARFRAC(I28,TODAY()))<=50),INT(YEARFRAC(I28,TODAY())),"")
A29: 1/2420 | B29: 24 лютого 2026 року | C29: 3 | D29: солдат | E29: Брискін Денис Сергійович | F29: Ніжинського районного | G29: с. Холми | H29: {=IF( ISBLANK(F29), "", IF( COUNTIF([2]Settings!G$1:G$609, F29) = 1, INDEX([2]Settings!H$1:H$609, MATCH(F29, [2]Settings!G$1:G$609, 0)), IFERROR( INDEX([2]Settings!H$1:H$609, MATCH(1, ([2]Settings!G$1:G$609=F29) * ([2]Settings!D$1:D$609=G29), 0 ) ), "" ) ) )} -> #VALUE! | I29: 30197 | J29: 3019609990 | M29: м. Київ | N29: м. Чернігів, вул. Текстильників, буд. 24, кв. 42 | O29: повна загальна середня | P29: Рамаданівська ЗОШ, 2000 | Q29: Завідуючий складом, 16 років Начальник охорони, 4 роки Права - | R29: одружений, дружина: Брискіна Ірина Леонідівна, 1973, м. Чернігів, вул. Текстильників, буд. 24, кв. 42, 0992497840 | S29: 0960389583 | U29: курсант | V29: 100 | X29: 46077 | Y29: № 58 | Z29: =IF(E29="","",IF(T29="","ні","так")) -> ні | AA29: 46077 | AB29: Придатний до військової служби | AE29: =IF(AND(INT(YEARFRAC(I29,TODAY()))>=25,INT(YEARFRAC(I29,TODAY()))<=35),INT(YEARFRAC(I29,TODAY())),"") | AF29: =IF(AND(INT(YEARFRAC(I29,TODAY()))>=36,INT(YEARFRAC(I29,TODAY()))<=45),INT(YEARFRAC(I29,TODAY())),"") -> 43 | AG29: =IF(AND(INT(YEARFRAC(I29,TODAY()))>=46,INT(YEARFRAC(I29,TODAY()))<=50),INT(YEARFRAC(I29,TODAY())),"")
A30: 2609 | B30: 28 лютого 2026 року | C30: 2 | D30: солдат | E30: Бродовський Вадим Феліксович | F30: Житомирського районного | H30: {=IF( ISBLANK(F30), "", IF( COUNTIF([5]Settings!G$1:G$609, F30) = 1, INDEX([5]Settings!H$1:H$609, MATCH(F30, [5]Settings!G$1:G$609, 0)), IFERROR( INDEX([5]Settings!H$1:H$609, MATCH(1, ([5]Settings!G$1:G$609=F30) * ([5]Settings!D$1:D$609=G30), 0 ) ), "" ) ) )} -> #VALUE! | I30: 28438 | J30: 2843714031 | K30: АГ 603250 | L30: ВМ 028712 | M30: Житомирська обл., смт Полянка | N30: Житомирська обл., Житомирський р-н., с. Костянинівка, вул. Весняна, буд. 10 | O30: професійно- технічна | P30: Баранівське ПТУ №11 | Q30: Пилорамщик, 20 років Права - | R30: не одружений, сестра: Бродовська Ірина Феліксовна, 1984 | S30: не вказано | T30: 100 915А | U30: курсант | V30: 100 | X30: 46081 | Y30: № 62 | Z30: =IF(E30="","",IF(T30="","ні","так")) -> так | AA30: 46081 | AB30: Придатний до військової служби | AE30: =IF(AND(INT(YEARFRAC(I30,TODAY()))>=25,INT(YEARFRAC(I30,TODAY()))<=35),INT(YEARFRAC(I30,TODAY())),"") | AF30: =IF(AND(INT(YEARFRAC(I30,TODAY()))>=36,INT(YEARFRAC(I30,TODAY()))<=45),INT(YEARFRAC(I30,TODAY())),"") | AG30: =IF(AND(INT(YEARFRAC(I30,TODAY()))>=46,INT(YEARFRAC(I30,TODAY()))<=50),INT(YEARFRAC(I30,TODAY())),"") -> 48
C31: 23 | D31: солдат | E31: Бруяка Максим Юрійович | F31: Сумським МТЦК та СП 25.12.2025 | H31: Сумська | I31: 35366 | J31: 3536512192 | K31: АВ 960514 | L31: МВ 516155 Ковпаківським РВ м.Суми УДМС України в Сумській обл. 18.12.2012 | M31: Р | N31: м. Суми, вул. Засумська буд. 16, кв. 45 | O31: базова загальна середня | P31: Школа №12, м. Суми | Q31: різноробочий, 1 рік Права - | R31: не одружений, мати: Бруяка Наталія Володимирівна, 1976, м. Суми, вул. Засумська буд. 16, кв. 45, 0664739829 | S31: 0502773062 | Z31: ні | AC31: II Rh - | AD31: Резерв КДШВ | AE31: =IF(AND(INT(YEARFRAC(I31,TODAY()))>=25,INT(YEARFRAC(I31,TODAY()))<=35),INT(YEARFRAC(I31,TODAY())),"") -> 29 | AF31: =IF(AND(INT(YEARFRAC(I31,TODAY()))>=36,INT(YEARFRAC(I31,TODAY()))<=45),INT(YEARFRAC(I31,TODAY())),"") | AG31: =IF(AND(INT(YEARFRAC(I31,TODAY()))>=46,INT(YEARFRAC(I31,TODAY()))<=50),INT(YEARFRAC(I31,TODAY())),"")
C32: 38 | D32: солдат | E32: Бурковцов Андрій Юрійович | F32: Роменським ТЦК та СП Сумської обл., 27.02.2026 | H32: Сумська | I32: 32395 | J32: 3239413855 | K32: АВ 949437 | L32: закордоний паспорт ЕН991201 виданий 7401 08.06.2011 | M32: м. Ніжин, Чернігівська обл. | N32: Сумська обл., Роменський р-н, с. Русанівка, вул. Русанівська 26 | O32: вища | P32: НДУ ім. Гоголя, м. Ніжин, Чернігівська обл. спеціаліст вчитель Історії і права ДАКККІМ м. Київ, бакалавр, дизайнер середовища КДАІС м. Київ, бакалавр, священослужитель | Q32: священик педагог | R32: одружений дружина Гапон Зоя Сергиіївна - 1988, Сумська обл., Роменський р-н, с. Русанівка, вул. Русанівська 26 | S32: 0973166440 | Z32: ні | AC32: III Rh + | AD32: Резерв КДШВ | AE32: =IF(AND(INT(YEARFRAC(I32,TODAY()))>=25,INT(YEARFRAC(I32,TODAY()))<=35),INT(YEARFRAC(I32,TODAY())),"") | AF32: =IF(AND(INT(YEARFRAC(I32,TODAY()))>=36,INT(YEARFRAC(I32,TODAY()))<=45),INT(YEARFRAC(I32,TODAY())),"") -> 37 | AG32: =IF(AND(INT(YEARFRAC(I32,TODAY()))>=46,INT(YEARFRAC(I32,TODAY()))<=50),INT(YEARFRAC(I32,TODAY())),"")
A33: 614 | B33: 26 лютого 2026 року | C33: 5 | D33: солдат | E33: Бутко Руслан Павлович | F33: Дарницького районного | H33: {=IF( ISBLANK(F33), "", IF( COUNTIF([1]Settings!G$1:G$609, F33) = 1, INDEX([1]Settings!H$1:H$609, MATCH(F33, [1]Settings!G$1:G$609, 0)), IFERROR( INDEX([1]Settings!H$1:H$609, MATCH(1, ([1]Settings!G$1:G$609=F33) * ([1]Settings!D$1:D$609=G33), 0 ) ), "" ) ) )} -> #VALUE! | I33: 36005 | J33: 3600408276 | K33: 250620235816010600001/1 | L33: 009601452 3214 29.08.2023 | M33: Київська обл., Васильківський р-н., с. Вільшанська Новоселице | N33: м. Київ, вул. Закревського, буд. 27а, кв.38 | O33: повна загальна середня | P33: Вільшансько Новоселівська ЗОШ | Q33: Будівельник, 4 роки Права В | R33: не одружений, брат: Павленко Максим Андрійович, 1997, 0967116383 | S33: 962685449 | U33: курсант | V33: 100 | X33: 46079 | Y33: № 60 | Z33: =IF(E33="","",IF(T33="","ні","так")) -> ні | AA33: 46079 | AB33: Придатний до військової служби | AC33: II Rh + | AE33: =IF(AND(INT(YEARFRAC(I33,TODAY()))>=25,INT(YEARFRAC(I33,TODAY()))<=35),INT(YEARFRAC(I33,TODAY())),"") -> 27 | AF33: =IF(AND(INT(YEARFRAC(I33,TODAY()))>=36,INT(YEARFRAC(I33,TODAY()))<=45),INT(YEARFRAC(I33,TODAY())),"") | AG33: =IF(AND(INT(YEARFRAC(I33,TODAY()))>=46,INT(YEARFRAC(I33,TODAY()))<=50),INT(YEARFRAC(I33,TODAY())),"")
C34: 5 | D34: солдат | E34: Васильченко Сергій Анатолійович | F34: Роменським РТЦК та СП Сумської обл., 26.02.2026 | H34: Сумська | I34: 34290 | J34: 3428909730 | K34: АВ 949433 | L34: 002997059 виданий 5924 20.02.2019 | M34: Сумська обл., Роменський р-н., с Пустовойтівка | N34: Сумська обл., Роменський р-н., с Пустовойтівка, вул. 5 пер. Берегова, буд. 9 | O34: базова загальна середня | P34: Пустовійтівська ЗОШ | Q34: вантажник, 3 роки Права - | R34: не одружений, мати: Вовк Світлана Григорівна, 1970, Сумська обл., Роменський р-н., с Пустовойтівка, вул. 5 пер. Берегова, буд. 9, 0685482470 | S34: не надано | Z34: ні | AC34: I Rh + | AD34: Резерв КДШВ | AE34: =IF(AND(INT(YEARFRAC(I34,TODAY()))>=25,INT(YEARFRAC(I34,TODAY()))<=35),INT(YEARFRAC(I34,TODAY())),"") -> 32 | AF34: =IF(AND(INT(YEARFRAC(I34,TODAY()))>=36,INT(YEARFRAC(I34,TODAY()))<=45),INT(YEARFRAC(I34,TODAY())),"") | AG34: =IF(AND(INT(YEARFRAC(I34,TODAY()))>=46,INT(YEARFRAC(I34,TODAY()))<=50),INT(YEARFRAC(I34,TODAY())),"")
C35: 4 | D35: солдат | E35: Верба Володимир Олександрович | F35: Конотопським РТЦК та СП, 27.02.2026 | H35: Сумська | I35: 34939 | J35: 3493804851 | K35: АВ 552749 | M35: Миколаївська обл., м. Баштанка | N35: Сумська обл., м. Конотоп, вул. Успенсько-Троїцька, буд. 13, кв. 28 | O35: професійно- технічна | P35: ПТУ, м. Кременчук, 2013, маляр-штукатур | Q35: будівельник, 6 років Права - | R35: одружений, дружина: Верба Марія Сергіївна, 1997, Сумська обл., м. Конотоп, вул. Успенсько-Троїцька, буд. 13, кв. 28, 0977738011 | S35: 0685689787 | Z35: ні | AC35: II Rh + | AD35: Резерв КДШВ | AE35: =IF(AND(INT(YEARFRAC(I35,TODAY()))>=25,INT(YEARFRAC(I35,TODAY()))<=35),INT(YEARFRAC(I35,TODAY())),"") -> 30 | AF35: =IF(AND(INT(YEARFRAC(I35,TODAY()))>=36,INT(YEARFRAC(I35,TODAY()))<=45),INT(YEARFRAC(I35,TODAY())),"") | AG35: =IF(AND(INT(YEARFRAC(I35,TODAY()))>=46,INT(YEARFRAC(I35,TODAY()))<=50),INT(YEARFRAC(I35,TODAY())),"")
C36: 43 | D36: солдат | E36: Верстюк Євген Дмитрович | F36: Новобоварським РТЦК та СП 30.12.2025 | G36: міста Харкова | H36: Харківська | I36: 28220 | J36: 2821912276 | K36: АВ909239 | L36: МК 414303 Лозівським МРВУМВС України в Харківській обл. 15.01.1997 | M36: м.Лозова, Харківська обл. | N36: м. Харків, вул. Велика Панасівська, б. 106, кв.64 | O36: професійно- технічна | P36: Новомосковський Сільхоз технікум м. Новомосковськ, Дніпропетровська обл., 1998 ветфельшер | Q36: ветеринарний санітар | R36: не одружений тітка Носік Ганна Демидівна, м. Харків, вул. Богомольця буд.7, кв. 104 | S36: 0678946217 | Z36: ні | AD36: Резерв КДШВ | AE36: =IF(AND(INT(YEARFRAC(I36,TODAY()))>=25,INT(YEARFRAC(I36,TODAY()))<=35),INT(YEARFRAC(I36,TODAY())),"") | AF36: =IF(AND(INT(YEARFRAC(I36,TODAY()))>=36,INT(YEARFRAC(I36,TODAY()))<=45),INT(YEARFRAC(I36,TODAY())),"") | AG36: =IF(AND(INT(YEARFRAC(I36,TODAY()))>=46,INT(YEARFRAC(I36,TODAY()))<=50),INT(YEARFRAC(I36,TODAY())),"") -> 49
A37: 1537/11/2038 | B37: 27 лютого 2026 року | C37: 4 | D37: солдат | E37: Вигівський Денис Анатолійович | F37: Дніпровського районного | G37: міста Києва | H37: {=IF( ISBLANK(F37), "", IF( COUNTIF([4]Settings!G$1:G$609, F37) = 1, INDEX([4]Settings!H$1:H$609, MATCH(F37, [4]Settings!G$1:G$609, 0)), IFERROR( INDEX([4]Settings!H$1:H$609, MATCH(1, ([4]Settings!G$1:G$609=F37) * ([4]Settings!D$1:D$609=G37), 0 ) ), "" ) ) )} -> #VALUE! | I37: 31683 | J37: 3168215372 | K37: 070920231320634500225/1 | L37: МЕ 222316 | M37: м. Київ | N37: м. Київ, вул. Курнатовського буд. 6а, кв. 60 | O37: вища | P37: КНУ туризму економіки та права, 2009, менеджмент організації | Q37: менеджер автомийки, 9 років, будівельник, 10 років Права - В | R37: не одружений, мати: Виговська Станіслава Григорівна, 1954, м. Київ, вул. Курнатовського буд. 6а, кв. 60, 0634685200 | S37: 983622020 | U37: курсант | V37: 100 | X37: 46080 | Y37: № 61 | Z37: =IF(E37="","",IF(T37="","ні","так")) -> ні | AA37: 46080 | AB37: Придатний до військової служби | AE37: =IF(AND(INT(YEARFRAC(I37,TODAY()))>=25,INT(YEARFRAC(I37,TODAY()))<=35),INT(YEARFRAC(I37,TODAY())),"") | AF37: =IF(AND(INT(YEARFRAC(I37,TODAY()))>=36,INT(YEARFRAC(I37,TODAY()))<=45),INT(YEARFRAC(I37,TODAY())),"") -> 39 | AG37: =IF(AND(INT(YEARFRAC(I37,TODAY()))>=46,INT(YEARFRAC(I37,TODAY()))<=50),INT(YEARFRAC(I37,TODAY())),"")
C38: 22 | D38: солдат | E38: Войку Олег Георгійович | F38: Новобоварським РТЦК та СП 20.02.2026 | H38: Харківська | I38: 32488 | J38: 3248704812 | K38: АГ 330242 | L38: МН 730517 Московським РВ ХМУ УМВС України в Харківській обл. 03.03.2005 | M38: м. Харків | N38: м. Харків, просп. Ювілейний, буд. 72, кв. 107 | O38: вища | P38: ХНАМГ, 2004, менеджер організації міського господарства | Q38: голова правління ОСББ, 2 роки, менеджер з продажів, 7 років Права, В | R38: одружений, дружина: Бондаренко Наталія Володимирівна, 1980, Харківська обл., м. Чугуїв, вул. Харківська, буд. 105, кв. 112 | S38: 0957796772 | Z38: ні | AD38: Резерв КДШВ | AE38: =IF(AND(INT(YEARFRAC(I38,TODAY()))>=25,INT(YEARFRAC(I38,TODAY()))<=35),INT(YEARFRAC(I38,TODAY())),"") | AF38: =IF(AND(INT(YEARFRAC(I38,TODAY()))>=36,INT(YEARFRAC(I38,TODAY()))<=45),INT(YEARFRAC(I38,TODAY())),"") -> 37 | AG38: =IF(AND(INT(YEARFRAC(I38,TODAY()))>=46,INT(YEARFRAC(I38,TODAY()))<=50),INT(YEARFRAC(I38,TODAY())),"")
A39: 661 | B39: 23 лютого 2026 року | C39: 5 | D39: солдат | E39: Гаврик Євген Анатолійович | F39: Білоцерківського районного | G39: Київська обл., м. Фастів | H39: {=IF( ISBLANK(F39), "", IF( COUNTIF([3]Settings!G$1:G$609, F39) = 1, INDEX([3]Settings!H$1:H$609, MATCH(F39, [3]Settings!G$1:G$609, 0)), IFERROR( INDEX([3]Settings!H$1:H$609, MATCH(1, ([3]Settings!G$1:G$609=F39) * ([3]Settings!D$1:D$609=G39), 0 ) ), "" ) ) )} -> #VALUE! | I39: 31955 | J39: 3195413716 | K39: довідка | L39: СМ 568410 Фастівським МРВ ГУ МВС УКР в Київській обл 02.10.2003 | M39: Київська обл., м. Фастів | N39: Київська обл., м. Фастів, вул. Правди, буд. 105 | O39: професійно- технічна | P39: ПТУ №18, м. Фастів, 2005, столяр | Q39: Складальник-пакувальник, 6 років оператор-вантажної лінії, 2 роки Права - | R39: не одружений, батько: Гаврик Анатолій Анатолійович, 1965, Київська обл., м. Фастів, вул. Правди, буд. 105 | S39: 0632444929 | U39: курсант | V39: 100 | X39: 46076 | Y39: № 57 | Z39: =IF(E39="","",IF(T39="","ні","так")) -> ні | AA39: 46076 | AB39: Придатний до військової служби | AC39: ІІ Rh+ | AE39: =IF(AND(INT(YEARFRAC(I39,TODAY()))>=25,INT(YEARFRAC(I39,TODAY()))<=35),INT(YEARFRAC(I39,TODAY())),"") | AF39: =IF(AND(INT(YEARFRAC(I39,TODAY()))>=36,INT(YEARFRAC(I39,TODAY()))<=45),INT(YEARFRAC(I39,TODAY())),"") -> 38 | AG39: =IF(AND(INT(YEARFRAC(I39,TODAY()))>=46,INT(YEARFRAC(I39,TODAY()))<=50),INT(YEARFRAC(I39,TODAY())),"")
A40: 11/1553 | B40: 25 лютого 2026 року | C40: 2 | D40: солдат | E40: Гончаренко Вячеслав Вікторович | F40: Шевченківського районного | G40: міста Києва | H40: {=IF( ISBLANK(F40), "", IF( COUNTIF([6]Settings!G$1:G$609, F40) = 1, INDEX([6]Settings!H$1:H$609, MATCH(F40, [6]Settings!G$1:G$609, 0)), IFERROR( INDEX([6]Settings!H$1:H$609, MATCH(1, ([6]Settings!G$1:G$609=F40) * ([6]Settings!D$1:D$609=G40), 0 ) ), "" ) ) )} -> #VALUE! | I40: 30004 | J40: 3000315097 | K40: МО 498066 | L40: СО 062411 Ленінградським РУ ГУ МВС України в м. Києві 24.12.1998 | M40: м. Київ | N40: м. Київ пр. Берестейський, буд. 144 кв. 8 | O40: вища | P40: Національний транспортний університет м. Київ 2009р вантажні перевезення та логістика | Q40: спеціаліст канцелярії в банку - 10р виготовлення вікон водій - 13р Права B, C | R40: не одружений батько: Гончаренко Віктор Олександрович - 1959 - 0673571110, м. Київ, пр. Берестейський, буд. 144 кв. 8 мати: Гончаренко Світлана Василівна - 1960 - 0984768413, м. Київ, пр. Берестейський, буд. 144 кв. 8 | S40: 675504137 | T40: 102 533 А | U40: курсант | V40: 100 | X40: 46078 | Y40: № 59 | Z40: =IF(E40="","",IF(T40="","ні","так")) -> так | AA40: 46078 | AB40: Придатний до військової служби | AC40: I Rh + | AE40: =IF(AND(INT(YEARFRAC(I40,TODAY()))>=25,INT(YEARFRAC(I40,TODAY()))<=35),INT(YEARFRAC(I40,TODAY())),"") | AF40: =IF(AND(INT(YEARFRAC(I40,TODAY()))>=36,INT(YEARFRAC(I40,TODAY()))<=45),INT(YEARFRAC(I40,TODAY())),"") -> 44 | AG40: =IF(AND(INT(YEARFRAC(I40,TODAY()))>=46,INT(YEARFRAC(I40,TODAY()))<=50),INT(YEARFRAC(I40,TODAY())),"")
A41: 633 | B41: 21 лютого 2026 року | C41: 4 | D41: солдат | E41: Гончарук Владислав Миколайович | F41: Білоцерківського районного | G41: Біла Церква | H41: {=IF( ISBLANK(F41), "", IF( COUNTIF(Settings!G$1:G$609, F41) = 1, INDEX(Settings!H$1:H$609, MATCH(F41, Settings!G$1:G$609, 0)), IFERROR( INDEX(Settings!H$1:H$609, MATCH(1, (Settings!G$1:G$609=F41) * (Settings!D$1:D$609=G41), 0 ) ), "" ) ) )} -> Київ обл | I41: 36604 | J41: 3660308950 | K41: АВ 970998 | L41: 000060180 3210 23.01.2017 | M41: Київська обл., м. Біла Церква | N41: Київська обл., м. Біла Церква, вул. Томилівська, буд. 50, кв. 40 | O41: повна середня освіта | P41: Білоцерківська ЗОШ №11 | Q41: Зварювальник, 3 роки, Права - | R41: не одружений, батько: Гончарук Микола Михайлович, 1974, Київська обл., м. Біла Церква, вул. Томилівська, буд. 50, кв. 40, 0671744505 | S41: 0977019587 | U41: курсант | V41: 100 | X41: 46075 | Y41: № 56 | Z41: =IF(E41="","",IF(T41="","ні","так")) -> ні | AA41: 46074 | AB41: Придатний до військової служби | AC41: RH 3+ | AE41: =IF(AND(INT(YEARFRAC(I41,TODAY()))>=25,INT(YEARFRAC(I41,TODAY()))<=35),INT(YEARFRAC(I41,TODAY())),"") -> 26 | AF41: =IF(AND(INT(YEARFRAC(I41,TODAY()))>=36,INT(YEARFRAC(I41,TODAY()))<=45),INT(YEARFRAC(I41,TODAY())),"") | AG41: =IF(AND(INT(YEARFRAC(I41,TODAY()))>=46,INT(YEARFRAC(I41,TODAY()))<=50),INT(YEARFRAC(I41,TODAY())),"")
A42: 11/2499 | B42: 25 лютого 2026 року | C42: 3 | D42: солдат | E42: Горбачов Богдан Віталійович | F42: Святошинського районного | H42: {=IF( ISBLANK(F42), "", IF( COUNTIF([6]Settings!G$1:G$609, F42) = 1, INDEX([6]Settings!H$1:H$609, MATCH(F42, [6]Settings!G$1:G$609, 0)), IFERROR( INDEX([6]Settings!H$1:H$609, MATCH(1, ([6]Settings!G$1:G$609=F42) * ([6]Settings!D$1:D$609=G42), 0 ) ), "" ) ) )} -> #VALUE! | I42: 36786 | J42: 3678507715 | K42: АГ 606223 | L42: 000176202 8032 12.10.2016 | M42: м. Київ | N42: м. Київ вул. Жмеринська, буд. 24, кв. 279 | O42: професійно- технічна | P42: КПЛБ і КГ м. Київ 2019 слюсар, електрик на устаткуванні електричного транспорту | Q42: Працівник пошти - 2р Пакувальник - 4р | R42: не одружений мати: Горчабова Тетяна Василівна - 56 - 0962918854, м. Київ вул. Жмеринська, буд. 24, кв. 279 дівчина: Голянська Аліна Віталіївна - 2002 - 0953678166, м. Київ вул. Жмеринська, буд. 22, кв. 136 | S42: 972308159 | U42: курсант | V42: 100 | X42: 46078 | Y42: № 59 | Z42: =IF(E42="","",IF(T42="","ні","так")) -> ні | AA42: 46077 | AB42: Придатний до військової служби | AD42: А4355 по розподілу рекомендаційний лист | AE42: =IF(AND(INT(YEARFRAC(I42,TODAY()))>=25,INT(YEARFRAC(I42,TODAY()))<=35),INT(YEARFRAC(I42,TODAY())),"") -> 25 | AF42: =IF(AND(INT(YEARFRAC(I42,TODAY()))>=36,INT(YEARFRAC(I42,TODAY()))<=45),INT(YEARFRAC(I42,TODAY())),"") | AG42: =IF(AND(INT(YEARFRAC(I42,TODAY()))>=46,INT(YEARFRAC(I42,TODAY()))<=50),INT(YEARFRAC(I42,TODAY())),"")
...

Sheet Settings
A1: базова загальна середня | C1: Придатний до військової служби | J1: Вінницька | K1: солдат | L1: I Rh -
A2: повна загальна середня | C2: Придатний до служби на підводних човнох, на надводних кораблях, у морській піхоті, Десантно-штурмових військах, спеціальних спорудах, підрозділах спеціального призначення | E2: Вінниця | F2: 1 відділ Хмільницький РТЦК | G2: першого відділу Хмільницького районного | H2: Вінницька | I2: Вінницького ОТЦК та СП | J2: Волинь | K2: старший солдат | L2: I Rh +
A3: професійно- технічна | C3: Придатний до служби у військових частинах забезпечення, ТЦК та СП, ВВНЗ, навчальних центрах, закладах (установах), медичних підрозділах, підрозділах логістики, зв'язку, оперативного забезпечення, охорони | E3: Вінниця | F3: 2 відділ Хмільницький РТЦК | G3: другого відділу Хмільницького районного | H3: Вінницька | I3: Вінницького ОТЦК та СП | J3: Дніпро | K3: молодший сержант | L3: II Rh -
A4: вища | E4: Вінниця | F4: 7 відділ Вінницький РТЦК | G4: сьомого відділу Вінницького районного | H4: Вінницька | I4: Вінницького ОТЦК та СП | J4: Донецьк | K4: сержант | L4: II Rh +
E5: Вінниця | F5: Вінницький ОМТЦК | G5: Вінницького об'єднаного міського | H5: Вінницька | I5: Вінницького ОТЦК та СП | J5: Житомир | K5: старший сержант | L5: III Rh -
E6: Вінниця | F6: 1 відділ Вінницький РТЦК | G6: першого відділу Вінницького районного | H6: Вінницька | I6: Вінницького ОТЦК та СП | J6: Закарпаття | K6: штаб-сержант | L6: III Rh +
E7: Вінниця | F7: 1 відділ Жмеринський РТЦК | G7: першого відділу Жмеринського районного | H7: Вінницька | I7: Вінницького ОТЦК та СП | J7: Запоріжжя | K7: матрос | L7: IV Rh -
E8: Вінниця | F8: Тульчинський РТЦК | G8: Тульчинського районного | H8: Вінницька | I8: Вінницького ОТЦК та СП | J8: Івано-Франківськ | K8: старший матрос | L8: IV Rh +
E9: Вінниця | F9: Хмільницький РТЦК | G9: Хмільницького районного | H9: Вінницька | I9: Вінницького ОТЦК та СП | J9: Київ місто | K9: старшина
E10: Вінниця | F10: 1 відділ Могилів-Подільський РТЦК | G10: першого відділу Могилів-Подільського районного | H10: Вінницька | I10: Вінницького ОТЦК та СП | J10: Київ обл | K10: старшина I статті
E11: Вінниця | F11: 1 відділ Тульчинський РТЦК | G11: першого відділу Тульчинського районного | H11: Вінницька | I11: Вінницького ОТЦК та СП | J11: Кропивницький | K11: головний старшина
E12: Вінниця | F12: 2 відділ Вінницький РТЦК | G12: другого відділу Вінницького районного | H12: Вінницька | I12: Вінницького ОТЦК та СП | J12: Луганськ | K12: прапорщик
E13: Вінниця | F13: 2 відділ Жмеринський РТЦК | G13: другого відділу Жмеринського районного | H13: Вінницька | I13: Вінницького ОТЦК та СП | J13: Львів
E14: Вінниця | F14: 2 відділ Могилів-Подільський РТЦК | G14: другого відділу Могилів-Подільського районного | H14: Вінницька | I14: Вінницького ОТЦК та СП | J14: Миколаїв
E15: Вінниця | F15: 2 відділ Тульчинський РТЦК | G15: другого відділу Тульчинського районного | H15: Вінницька | I15: Вінницького ОТЦК та СП | J15: Одеса
E16: Вінниця | F16: 3 відділ Вінницький РТЦК | G16: третього відділу Вінницького районного | H16: Вінницька | I16: Вінницького ОТЦК та СП | J16: Полтава
E17: Вінниця | F17: 3 відділ Могилів-Подільський РТЦК | G17: третього відділу Могилів-Подільського районного | H17: Вінницька | I17: Вінницького ОТЦК та СП | J17: Рівне
E18: Вінниця | F18: 3 відділ Тульчинський РТЦК | G18: третього відділу Тульчинського районного | H18: Вінницька | I18: Вінницького ОТЦК та СП | J18: Суми
E19: Вінниця | F19: 4 відділ Вінницький РТЦК | G19: четвертого відділу Вінницького районного | H19: Вінницька | I19: Вінницького ОТЦК та СП | J19: Тернопіль
E20: Вінниця | F20: 5 відділ Вінницький РТЦК | G20: п'ятого відділу Вінницького районного | H20: Вінницька | I20: Вінницького ОТЦК та СП | J20: Харків
E21: Вінниця | F21: 6 відділ Вінницький РТЦК | G21: шостого відділу Вінницького районного | H21: Вінницька | I21: Вінницького ОТЦК та СП | J21: Херсон
E22: Вінниця | F22: Вінницький РТЦК | G22: Вінницького районного | H22: Вінницька | I22: Вінницького ОТЦК та СП | J22: Хмельницький
E23: Вінниця | F23: Гайсинський РТЦК | G23: Гайсинського районного | H23: Вінницька | I23: Вінницького ОТЦК та СП | J23: Черкаси
E24: Вінниця | F24: 1 відділ Гайсинський РТЦК | G24: першого відділу Гайсинського районного | H24: Вінницька | I24: Вінницького ОТЦК та СП | J24: Чернівці
E25: Вінниця | F25: 2 відділ Гайсинський РТЦК | G25: другого відділу Гайсинського районного | H25: Вінницька | I25: Вінницького ОТЦК та СП | J25: Чернігів
E26: Вінниця | F26: Жмеринський РТЦК | G26: Жмеринського районного | H26: Вінницька | I26: Вінницького ОТЦК та СП
E27: Вінниця | F27: Могилів-Подільський РТЦК | G27: Могилів-Подільського районного | H27: Вінницька | I27: Вінницького ОТЦК та СП
E28: Волинь | F28: 1 відділ Камінь-Каширський РТЦК | G28: першого відділу Камінь-Каширського районного | H28: Волинська | I28: Волинського ОТЦК та СП
E29: Волинь | F29: 1 відділ Ковельський РТЦК | G29: першого відділу Ковельського районного | H29: Волинська | I29: Волинського ОТЦК та СП
E30: Волинь | F30: 2 відділ Ковельський РТЦК | G30: другого відділу Ковельського районного | H30: Волинська | I30: Волинського ОТЦК та СП
E31: Волинь | F31: 4 відділ Ковельський РТЦК | G31: четвертого відділу Ковельського районного | H31: Волинська | I31: Волинського ОТЦК та СП
E32: Волинь | F32: 3 відділ Ковельський РТЦК | G32: третього відділу Ковельського районного | H32: Волинська | I32: Волинського ОТЦК та СП
E33: Волинь | F33: 5 відділ Ковельський РТЦК | G33: п'ятого відділу Ковельського районного | H33: Волинська | I33: Волинського ОТЦК та СП
E34: Волинь | F34: Луцький ОМТЦК | G34: Луцького об'єднаного міського | H34: Волинська | I34: Волинського ОТЦК та СП
E35: Волинь | F35: 2 відділ Камінь-Каширський РТЦК | G35: другого відділу Камінь-Каширського районного | H35: Волинська | I35: Волинського ОТЦК та СП
E36: Волинь | F36: 1 відділ Луцький РТЦК | G36: першого відділу Луцького районного | H36: Волинська | I36: Волинського ОТЦК та СП
E37: Волинь | F37: 2 відділ Луцький РТЦК | G37: другого відділу Луцького районного | H37: Волинська | I37: Волинського ОТЦК та СП
... E56: Дніпро | F56: 2 відділ Дніпровського РТЦК та СП | G56: другого відділу Дніпровського районного | H56: Дніпропетровська | I56: Дніпропетровського ОТЦК та СП
D57: міста Дніпра | E57: Дніпро | F57: Дніпровський РТЦК та СП | G57: Дніпровського районного | H57: Дніпропетровська | I57: Дніпропетровського ОТЦК та СП
D58: міста Дніпра | E58: Дніпро | F58: Індустріальний РТЦК та СП | G58: Індустріального районного | H58: Дніпропетровська | I58: Дніпропетровського ОТЦК та СП
...

Sheet перевірки
C1: =Основний!E11 -> 0
A2: Бобрушко В'ячеслав Сергійович | C2: =Основний!#REF! -> #REF! | E2: =C2=G2 -> #REF! | G2: Бичков Сергій Володимирович | H2: м.Козятин | I2: м.Козятин вул.Склярова буд.37 кв.2 | J2: базова загальна середня | K2: Школа №1 м.Козятин | L2: Будівелник 14 років | M2: не одружений . Сестра: Слободяник Наталія Володимирівна с.Козятин - 0938923398 | N2: 935193455
A3: Тишковець Богдан Петрович | C3: =Основний!#REF! -> #REF! | E3: =C3=G3 -> #REF! | G3: Бобрушко В'ячеслав Сергійович
A4: Виговський Максим Деонізович | C4: =Основний!#REF! -> #REF! | E4: =C4=G4 -> #REF! | G4: Виговський Максим Деонізович | H4: Житомирська обл. м.Житомир | I4: Житомирська обл. м.Житомир вул.Вітрука буд.42 кв.91 | J4: професійно- технічна | K4: Перше училеще м.Житомир 2004 будівельник | L4: Торговий представник буд.мат. Права А.Б. | M4: дружина: Гончарук Діана Анатолієвна -1994- 0990817448- Житомирська обл. м.Житомир мати: Виговська Марія Дмитрівна -1950- 0971990489- Житомирська обл. м.Житомир вул.Вітрука буд.42 кв.91 | N4: 986767190
A5: Бичков Сергій Володимирович | C5: =Основний!#REF! -> #REF! | E5: =C5=G5 -> #REF! | G5: Тишковець Богдан Петрович
C6: =Основний!#REF! -> #REF! | E6: =C6=G6 -> #REF!
C7: =Основний!#REF! -> #REF! | E7: =C7=G7 -> #REF!
C8: =Основний!#REF! -> #REF! | E8: =C8=G8 -> #REF!
C9: =Основний!#REF! -> #REF! | E9: =C9=G9 -> #REF!
C10: =Основний!#REF! -> #REF! | E10: =C10=G10 -> #REF!
C11: =Основний!#REF! -> #REF! | E11: =C11=G11 -> #REF!
C12: =Основний!#REF! -> #REF! | E12: =C12=G12 -> #REF!
C13: =Основний!#REF! -> #REF! | E13: =C13=G13 -> #REF!
C14: =Основний!#REF! -> #REF! | E14: =C14=G14 -> #REF!
C15: =Основний!#REF! -> #REF! | E15: =C15=G15 -> #REF!
C16: =Основний!#REF! -> #REF! | E16: =C16=G16 -> #REF!
C17: =Основний!#REF! -> #REF! | E17: =C17=G17 -> #REF!
... C93: =Основний!#REF! -> #REF! | E93: =C93=G93 -> #REF!
C94: =Основний!#REF! -> #REF!
C95: =Основний!#REF! -> #REF!
C96: =Основний!#REF! -> #REF!
C97: =Основний!#REF! -> #REF!
C98: =Основний!E12 -> Абрамян Артур Маратович
C99: =Основний!#REF! -> #REF!
C100: =Основний!E13 -> Авраменко Андрій Миколайович
C101: =Основний!#REF! -> #REF!
C102: =Основний!#REF! -> #REF!
C103: =Основний!#REF! -> #REF!
C104: =Основний!#REF! -> #REF!
C105: =Основний!#REF! -> #REF!
C106: =Основний!#REF! -> #REF!

Sheet Перевірка
A1: {=Основний!C10:C36} -> № з/п | B1: {=CONCATENATE("", Основний!E10:E36)} -> 141 | C1: {=CONCATENATE("", TEXT(Основний!I10:I36,"dd.mm.yyyy"))} -> Дата народження | D1: {=CONCATENATE("", Основний!J10:J36)} -> ідентифікаційний код | E1: Перевірка | F1: {=CONCATENATE("", Основний!K10:K36)} -> військовий квиток | G1: Перевірка | H1: {=CONCATENATE("", Основний!L10:L36)} -> Паспорт, ким і коли виданий | I1: Перевірка | J1: Алфавітка | K1: Д = А | L1: Поіменний Список | M1: Д = ПС | N1: А = ПС
A2: 0 | C2: 00.01.1900 | J2: - | K2: - | L2: - | M2: - | N2: - | O2: =DATEVALUE(C2) <> INT(LEFT(D2,5)) +1 -> #VALUE!
A3: 1 | B3: Абрамян Артур Маратович | C3: 21.10.1998 | D3: 3608804152 | E3: =IF(D3="", "", LEN(D3)) -> 10 | F3: 040520251458450705269/1 | G3: =IF(F3="", "", LEN(F3)) -> 23 | H3: ВТ 101396 Приморським РС у м. Маріуполі ГУ ДМС України в Донецькій області 12.06.2015 | I3: =IF(H3="", "", LEN(H3)) -> 85 | J3: Антоненко Руслан Олександрович | K3: =IF(J3="", "", B3=J3) -> FALSE | M3: =IF(L3="", "", B3=L3) | N3: =IF(L3="", "", J3=L3) | O3: =DATEVALUE(C3) <> INT(LEFT(D3,5)) +1 -> FALSE | P3: =DATEVALUE(C3) -> 36089
A4: 2 | B4: Авраменко Андрій Миколайович | C4: 18.06.1984 | D4: 3085003094 | E4: =IF(D4="", "", LEN(D4)) -> 10 | G4: =IF(F4="", "", LEN(F4)) | I4: =IF(H4="", "", LEN(H4)) | J4: Баранов Дмитро Геннадійович | K4: =IF(J4="", "", B4=J4) -> FALSE | M4: =IF(L4="", "", B4=L4) | N4: =IF(L4="", "", J4=L4) | O4: =DATEVALUE(C4) <> INT(LEFT(D4,5)) +1 -> FALSE
A5: 2 | B5: Алексенко Іван Миколайович | C5: 23.06.1997 | D5: 3560301717 | E5: =IF(D5="", "", LEN(D5)) -> 10 | G5: =IF(F5="", "", LEN(F5)) | I5: =IF(H5="", "", LEN(H5)) | J5: Боровик Юрій Володимирович | K5: =IF(J5="", "", B5=J5) -> FALSE | M5: =IF(L5="", "", B5=L5) | N5: =IF(L5="", "", J5=L5) | O5: =DATEVALUE(C5) <> INT(LEFT(D5,5)) +1 -> FALSE
A6: 3 | B6: Алієв Парвіз Натікбєкович | C6: 07.05.1983 | D6: 3044204097 | E6: =IF(D6="", "", LEN(D6)) -> 10 | F6: АГ 629818 | G6: =IF(F6="", "", LEN(F6)) -> 9 | H6: КС 160333 Київським РВ ДМУ УДМС УКР в Донецькій обл 09.08.2002 | I6: =IF(H6="", "", LEN(H6)) -> 62 | J6: Горбатенко Олександр Олегович | K6: =IF(J6="", "", B6=J6) -> FALSE | M6: =IF(L6="", "", B6=L6) | N6: =IF(L6="", "", J6=L6)
A7: 1 | B7: Андрушко Вадим Валентинович | C7: 02.11.1991 | D7: 3354308835 | E7: =IF(D7="", "", LEN(D7)) -> 10 | F7: АГ 603287 | G7: =IF(F7="", "", LEN(F7)) -> 9 | H7: ВН 424127 Вололдарсько-Волинським РВ УМВС в Житомирській області 20.05.2008 | I7: =IF(H7="", "", LEN(H7)) -> 75 | J7: Жестовський Сергій Сергійович | K7: =IF(J7="", "", B7=J7) -> FALSE | M7: =IF(L7="", "", B7=L7) | N7: =IF(L7="", "", J7=L7)
A8: 5 | B8: Анісімов Сергій Леонідович | C8: 18.10.1989 | D8: 3279802570 | E8: =IF(D8="", "", LEN(D8)) -> 10 | F8: АГ 633795 | G8: =IF(F8="", "", LEN(F8)) -> 9 | H8: АМ 247948 | I8: =IF(H8="", "", LEN(H8)) -> 9 | J8: Ісаков Олександр Сергійович | K8: =IF(J8="", "", B8=J8) -> FALSE | M8: =IF(L8="", "", B8=L8) | N8: =IF(L8="", "", J8=L8)
A9: 1 | B9: Антонюк Дмитро Русланович | C9: 23.03.1999 | D9: 3624109257 | E9: =IF(D9="", "", LEN(D9)) -> 10 | F9: АГ 574988 | G9: =IF(F9="", "", LEN(F9)) -> 9 | H9: АТ 121678 | I9: =IF(H9="", "", LEN(H9)) -> 9 | J9: Клімчук Олександр Олександрович | K9: =IF(J9="", "", B9=J9) -> FALSE | M9: =IF(L9="", "", B9=L9) | N9: =IF(L9="", "", J9=L9)
A10: 1 | B10: Антонюк Олександр Леонідович | C10: 27.09.1979 | D10: 2912410393 | E10: =IF(D10="", "", LEN(D10)) -> 10 | F10: АГ 603239 | G10: =IF(F10="", "", LEN(F10)) -> 9 | H10: ТТ 193066 Дарнівським РО ГУ ДМС УКР в м. Києві 16.08.2013 | I10: =IF(H10="", "", LEN(H10)) -> 57 | J10: Колесніков Сергій Сергійович | K10: =IF(J10="", "", B10=J10) -> FALSE | M10: =IF(L10="", "", B10=L10) | N10: =IF(L10="", "", J10=L10)
A11: 2 | B11: Бабич Андрій Васильович | C11: 18.04.1984 | D11: 3078922215 | E11: =IF(D11="", "", LEN(D11)) -> 10 | F11: АГ 603272 | G11: =IF(F11="", "", LEN(F11)) -> 9 | H11: СТ 531446 Чернігівським РС УДМС УКР в Чернігівській обл 24.02.2017 | I11: =IF(H11="", "", LEN(H11)) -> 67 | J11: Опанасюк Ігор Петрович | K11: =IF(J11="", "", B11=J11) -> FALSE | M11: =IF(L11="", "", B11=L11) | N11: =IF(L11="", "", J11=L11)
A12: 3 | B12: Баскаков Павло Анатолійович | C12: 02.03.1984 | D12: 3074200978 | E12: =IF(D12="", "", LEN(D12)) -> 10 | F12: 140220221425037600020/1 | G12: =IF(F12="", "", LEN(F12)) -> 23 | H12: АМ 064073 Заводським РВ Дніпродзержинського МУ УМВС України в Дніпропетровській області 03.10.2000 | I12: =IF(H12="", "", LEN(H12)) -> 98 | J12: Ручин Дмитро Вікторович | K12: =IF(J12="", "", B12=J12) -> FALSE | M12: =IF(L12="", "", B12=L12) | N12: =IF(L12="", "", J12=L12)
A13: 2 | B13: Бершадський Олександр Миколайович | C13: 15.03.1992 | D13: 3367700733 | E13: =IF(D13="", "", LEN(D13)) -> 10 | F13: довідка | G13: =IF(F13="", "", LEN(F13)) -> 7 | H13: 003047716 8034 04.03.2019 | I13: =IF(H13="", "", LEN(H13)) -> 25 | J13: Солоденко Анатолій Сергійович | K13: =IF(J13="", "", B13=J13) -> FALSE | M13: =IF(L13="", "", B13=L13) | N13: =IF(L13="", "", J13=L13)
A14: 3 | B14: Білоусов Сергій Вікторович | C14: 04.09.1982 | D14: ВМ 632875 | E14: =IF(D14="", "", LEN(D14)) -> 9 | F14: АГ 186080 | G14: =IF(F14="", "", LEN(F14)) -> 9 | H14: 009302826 1836 23.06.2023 | I14: =IF(H14="", "", LEN(H14)) -> 25 | J14: Фістікан Василь Петрович | K14: =IF(J14="", "", B14=J14) -> FALSE | M14: =IF(L14="", "", B14=L14) | N14: =IF(L14="", "", J14=L14)
A15: 18 | B15: Бойко Геннадій Володимирович | C15: 19.11.1981 | D15: 2990807554 | E15: =IF(D15="", "", LEN(D15)) -> 10 | F15: №250220261352624000001/2 Від 25.02.2026 | G15: =IF(F15="", "", LEN(F15)) -> 39 | H15: МА 583941 Охтирським МРВУМВС України в Сумській обл., 04.01.1999 | I15: =IF(H15="", "", LEN(H15)) -> 64 | J15: Чабан Михайло Григорович | K15: =IF(J15="", "", B15=J15) -> FALSE | M15: =IF(L15="", "", B15=L15) | N15: =IF(L15="", "", J15=L15)
A16: 4 | B16: Большаков Костянтин Євгенович | C16: 02.07.1992 | D16: 3378604531 | E16: =IF(D16="", "", LEN(D16)) -> 10 | F16: довідка | G16: =IF(F16="", "", LEN(F16)) -> 7 | H16: ЕН 904717 Краснолуцьким МВ УДМС УКР в Луганській обл 15.11.2012 | I16: =IF(H16="", "", LEN(H16)) -> 63 | K16: =IF(J16="", "", B16=J16) | M16: =IF(L16="", "", B16=L16) | N16: =IF(L16="", "", J16=L16)
A17: 4 | B17: Бондар Андрій Васильович | C17: 29.07.1988 | D17: 3235207996 | E17: =IF(D17="", "", LEN(D17)) -> 10 | F17: АГ 574967 | G17: =IF(F17="", "", LEN(F17)) -> 9 | H17: 011098716 | I17: =IF(H17="", "", LEN(H17)) -> 9 | K17: =IF(J17="", "", B17=J17) | M17: =IF(L17="", "", B17=L17) | N17: =IF(L17="", "", J17=L17)
A18: 10 | B18: Борисов Дмитро Сергійович | C18: 16.05.1984 | D18: 3081727094 | E18: =IF(D18="", "", LEN(D18)) -> 10 | F18: СО 871538 | G18: =IF(F18="", "", LEN(F18)) -> 9 | I18: =IF(H18="", "", LEN(H18)) | K18: =IF(J18="", "", B18=J18) | M18: =IF(L18="", "", B18=L18) | N18: =IF(L18="", "", J18=L18)
A19: 1 | B19: Бородавко Віталій Михайлович | C19: 10.10.1989 | D19: 3279006554 | E19: =IF(D19="", "", LEN(D19)) -> 10 | F19: АГ 633793 | G19: =IF(F19="", "", LEN(F19)) -> 9 | H19: НМ 247947 Ніжинським МВР УМВС УКР в Чернігівській обл 24.03.2006 | I19: =IF(H19="", "", LEN(H19)) -> 64 | K19: =IF(J19="", "", B19=J19) | M19: =IF(L19="", "", B19=L19) | N19: =IF(L19="", "", J19=L19)
A20: 3 | B20: Брискін Денис Сергійович | C20: 03.09.1982 | D20: 3019609990 | E20: =IF(D20="", "", LEN(D20)) -> 10 | G20: =IF(F20="", "", LEN(F20)) | I20: =IF(H20="", "", LEN(H20)) | K20: =IF(J20="", "", B20=J20) | M20: =IF(L20="", "", B20=L20) | N20: =IF(L20="", "", J20=L20)
A21: 2 | B21: Бродовський Вадим Феліксович | C21: 09.11.1977 | D21: 2843714031 | E21: =IF(D21="", "", LEN(D21)) -> 10 | F21: АГ 603250 | G21: =IF(F21="", "", LEN(F21)) -> 9 | H21: ВМ 028712 | I21: =IF(H21="", "", LEN(H21)) -> 9 | K21: =IF(J21="", "", B21=J21) | M21: =IF(L21="", "", B21=L21) | N21: =IF(L21="", "", J21=L21)
A22: 23 | B22: Бруяка Максим Юрійович | C22: 28.10.1996 | D22: 3536512192 | E22: =IF(D22="", "", LEN(D22)) -> 10 | F22: АВ 960514 | G22: =IF(F22="", "", LEN(F22)) -> 9 | H22: МВ 516155 Ковпаківським РВ м.Суми УДМС України в Сумській обл. 18.12.2012 | I22: =IF(H22="", "", LEN(H22)) -> 73 | K22: =IF(J22="", "", B22=J22) | M22: =IF(L22="", "", B22=L22) | N22: =IF(L22="", "", J22=L22)
A23: 38 | B23: Бурковцов Андрій Юрійович | C23: 09.09.1988 | D23: 3239413855 | E23: =IF(D23="", "", LEN(D23)) -> 10 | F23: АВ 949437 | G23: =IF(F23="", "", LEN(F23)) -> 9 | H23: закордоний паспорт ЕН991201 виданий 7401 08.06.2011 | I23: =IF(H23="", "", LEN(H23)) -> 51 | K23: =IF(J23="", "", B23=J23) | M23: =IF(L23="", "", B23=L23) | N23: =IF(L23="", "", J23=L23)
A24: 5 | B24: Бутко Руслан Павлович | C24: 29.07.1998 | D24: 3600408276 | E24: =IF(D24="", "", LEN(D24)) -> 10 | F24: 250620235816010600001/1 | G24: =IF(F24="", "", LEN(F24)) -> 23 | H24: 009601452 3214 29.08.2023 | I24: =IF(H24="", "", LEN(H24)) -> 25 | K24: =IF(J24="", "", B24=J24) | M24: =IF(L24="", "", B24=L24) | N24: =IF(L24="", "", J24=L24)
A25: 5 | B25: Васильченко Сергій Анатолійович | C25: 17.11.1993 | D25: 3428909730 | E25: =IF(D25="", "", LEN(D25)) -> 10 | F25: АВ 949433 | G25: =IF(F25="", "", LEN(F25)) -> 9 | H25: 002997059 виданий 5924 20.02.2019 | I25: =IF(H25="", "", LEN(H25)) -> 33 | K25: =IF(J25="", "", B25=J25) | M25: =IF(L25="", "", B25=L25) | N25: =IF(L25="", "", J25=L25)
