Workbook

Sheet Основний
B1: дата | D1: звання | E1: фио | F1: Прізвище | G1: Імя | H1: По батькові | I1: тцк | J1: рн | K1: інн | L1: квиток | N1: народження | O1: адреса | P1: освіта | Q1: заклад | S1: стан | T1: сімя | U1: телефон | Z1: датаприказа | AA1: приказ | AF1: Прибуття
A2: 614 | B2: 46079 | C2: 1 | D2: солдат | E2: АБРАМЯН Артур Маратович | F2: {=_xlfn.TEXTSPLIT(E2," ")} -> АБРАМЯН | G2: Артур | H2: Маратович | I2: Дарницьким РТЦК та СП у Київській області | J2: 21.10.1998 | K2: 3608804152 | L2: 040520251458450705269/1 | M2: ВТ 101396 Приморським РС у м. Маріуполі ГУ ДМС України в Донецькій області 12.06.2015 | N2: м. Донецьк | O2: м. Київ, вул. Бориспільська, буд. 9, кв. 16 | P2: базова загальна середня | Q2: Школа №62,м. Донецьк,2014 | R2: водій таксі - 5 керівник закладу харчування - 1р Права B | S2: не одружений | T2: брат: Губаян Давид Арсенович - 1997 - 0979699989, м. Київ | U2: 0633131383 | V2: =IF(LEFT(U2,1)="0", U2, "0"&U2) -> 0633131383 | W2: курсант | X2: 100 | Z2: 46079 | AA2: № 60 | AB2: =IF(E2="","",IF(V2="","ні","так")) -> так | AC2: 46079 | AD2: Придатний до військової служби | AG2: =IF(AND(INT(YEARFRAC(#REF!,TODAY()))>=25,INT(YEARFRAC(#REF!,TODAY()))<=35),INT(YEARFRAC(#REF!,TODAY())),"") -> #REF! | AH2: =IF(AND(INT(YEARFRAC(#REF!,TODAY()))>=36,INT(YEARFRAC(#REF!,TODAY()))<=45),INT(YEARFRAC(#REF!,TODAY())),"") -> #REF! | AI2: =IF(AND(INT(YEARFRAC(#REF!,TODAY()))>=46,INT(YEARFRAC(#REF!,TODAY()))<=50),INT(YEARFRAC(#REF!,TODAY())),"") -> #REF!
A3: 4/1868 | B3: 46077 | C3: 2 | D3: солдат | E3: АВРАМЕНКО Андрій Миколайович | F3: {=_xlfn.TEXTSPLIT(E3," ")} -> АВРАМЕНКО | G3: Андрій | H3: Миколайович | I3: Чернігівським РТЦК та СП у Чернігівській області | J3: 18.06.1984 | K3: 3085003094 | N3: Чернігівська обл., м. Городня | O3: Чернігівська обл., м. Городня, вул. Чернігівська, буд. 86, кв 1. | P3: Вища | Q3: ХНУРЕ, 2006, радіотехніка | R3: Програміст, 12 років Права B | S3: не одружений | T3: мати: Авраменко Людмила Михайлівна, 1955, Чернігівська обл., м. Городня, вул. Чернігівська, буд. 86, кв 1, | U3: 0671971309 | W3: курсант | X3: 100 | Z3: 46077 | AA3: № 58 | AB3: =IF(E3="","",IF(V3="","ні","так")) -> ні | AC3: 46077 | AD3: Придатний до військової служби | AG3: =IF(AND(INT(YEARFRAC(#REF!,TODAY()))>=25,INT(YEARFRAC(#REF!,TODAY()))<=35),INT(YEARFRAC(#REF!,TODAY())),"") -> #REF! | AH3: =IF(AND(INT(YEARFRAC(#REF!,TODAY()))>=36,INT(YEARFRAC(#REF!,TODAY()))<=45),INT(YEARFRAC(#REF!,TODAY())),"") -> #REF! | AI3: =IF(AND(INT(YEARFRAC(#REF!,TODAY()))>=46,INT(YEARFRAC(#REF!,TODAY()))<=50),INT(YEARFRAC(#REF!,TODAY())),"") -> #REF!
A4: 1/2363 | B4: 46076 | C4: 2 | D4: солдат | E4: АЛЕКСЕНКО Іван Миколайович | F4: {=_xlfn.TEXTSPLIT(E4," ")} -> АЛЕКСЕНКО | G4: Іван | H4: Миколайович | I4: Ніжинським РТЦК та СП у Чернігівській області | J4: 23.06.1997 | K4: 3560301717 | N4: Чернігівська обл., Карюківський р-н., с. Бондарівка | O4: Чернігівська обл. м. Бахмач, вул. Олени Теліги, буд. 36 | P4: середня спеціальна | Q4: Конотопський аграрний ліцей, 2017, слюсар-механік | R4: Водій, 4 роки Слюсар-механік, 4 роки Права: В, С | S4: одружений | T4: дружина: Алексенко Катерина Анатоліївна, 1994, Чернігівська обл. м. Бахмач, вул. Олени Теліги, буд. 36 | U4: 0632905799 | W4: курсант | X4: 100 | Z4: 46076 | AA4: № 57 | AB4: =IF(E4="","",IF(V4="","ні","так")) -> ні | AC4: 46076 | AD4: Придатний до військової служби | AE4: I Rh + | AG4: =IF(AND(INT(YEARFRAC(#REF!,TODAY()))>=25,INT(YEARFRAC(#REF!,TODAY()))<=35),INT(YEARFRAC(#REF!,TODAY())),"") -> #REF! | AH4: =IF(AND(INT(YEARFRAC(#REF!,TODAY()))>=36,INT(YEARFRAC(#REF!,TODAY()))<=45),INT(YEARFRAC(#REF!,TODAY())),"") -> #REF! | AI4: =IF(AND(INT(YEARFRAC(#REF!,TODAY()))>=46,INT(YEARFRAC(#REF!,TODAY()))<=50),INT(YEARFRAC(#REF!,TODAY())),"") -> #REF!
A5: 260223-9 | B5: 46076 | C5: 3 | D5: солдат | E5: АЛІЄВ Парвіз Натікбєкович | F5: {=_xlfn.TEXTSPLIT(E5," ")} -> АЛІЄВ | G5: Парвіз | H5: Натікбєкович | I5: Солом'янським РТЦК та СП у Київській області | J5: 07.05.1983 | K5: 3044204097 | L5: АГ 629818 | M5: КС 160333 Київським РВ ДМУ УДМС УКР в Донецькій обл 09.08.2002 | N5: Азербайджан, м. Баку | O5: м. Київ, вул. Копилівська, буд. 30, кв. 54 | P5: вища | Q5: Київський політехнічний Інститут, 2005,Київський економічний Інститут, 2002,електотехнік, економіка | R5: інженер систем безпеки, 25 років Права: Б | S5: не одружений | T5: мати: Лал Різа Заде, 1956, м. Баку, Азербайджан | U5: 0663135516 | W5: курсант | X5: 100 | Z5: 46076 | AA5: № 57 | AB5: =IF(E5="","",IF(V5="","ні","так")) -> ні | AC5: 46076 | AD5: Придатний до військової служби | AE5: I Rh + | AG5: =IF(AND(INT(YEARFRAC(#REF!,TODAY()))>=25,INT(YEARFRAC(#REF!,TODAY()))<=35),INT(YEARFRAC(#REF!,TODAY())),"") -> #REF! | AH5: =IF(AND(INT(YEARFRAC(#REF!,TODAY()))>=36,INT(YEARFRAC(#REF!,TODAY()))<=45),INT(YEARFRAC(#REF!,TODAY())),"") -> #REF! | AI5: =IF(AND(INT(YEARFRAC(#REF!,TODAY()))>=46,INT(YEARFRAC(#REF!,TODAY()))<=50),INT(YEARFRAC(#REF!,TODAY())),"") -> #REF!
A6: 2580 | B6: 46080 | C6: 1 | D6: солдат | E6: АНДРУШКО Вадим Валентинович | F6: {=_xlfn.TEXTSPLIT(E6," ")} -> АНДРУШКО | G6: Вадим | H6: Валентинович | I6: Житомирським РТЦК та СП у Житомирській області | J6: 02.11.1991 | K6: 3354308835 | L6: АГ 603287 | M6: ВН 424127 Вололдарсько-Волинським РВ УМВС в Житомирській області 20.05.2008 | N6: Житомирська обл., Житомирський р-н., смт. Нова Борова | O6: Житомирська обл., Житомирський р-н., смт. Нова Борова, вул. Незалежності, буд. 57 | P6: професійно- технічна | Q6: Житомирське ПТУ №5, 2013, маляр-штукатур | R6: будівельник, 10 років Права В | S6: одружений | T6: дружина: Андрушко Юлія Анатоліївна, 1994, Житомирська обл., Житомирський р-н., смт. Нова Борова, вул. Незалежності, буд. 57 | U6: 0982607646 | W6: курсант | X6: 100 | Z6: 46080 | AA6: № 61 | AB6: =IF(E6="","",IF(V6="","ні","так")) -> ні | AC6: 46080 | AD6: Придатний до служби на підводних човнох, на надводних кораблях, у морській піхоті, Десантно-штурмових військах, спеціальних спорудах, підрозділах спеціального призначення | AG6: =IF(AND(INT(YEARFRAC(#REF!,TODAY()))>=25,INT(YEARFRAC(#REF!,TODAY()))<=35),INT(YEARFRAC(#REF!,TODAY())),"") -> #REF! | AH6: =IF(AND(INT(YEARFRAC(#REF!,TODAY()))>=36,INT(YEARFRAC(#REF!,TODAY()))<=45),INT(YEARFRAC(#REF!,TODAY())),"") -> #REF! | AI6: =IF(AND(INT(YEARFRAC(#REF!,TODAY()))>=46,INT(YEARFRAC(#REF!,TODAY()))<=50),INT(YEARFRAC(#REF!,TODAY())),"") -> #REF!
A7: 1/2342 | B7: 46075 | C7: 5 | D7: солдат | E7: АНІСІМОВ Сергій Леонідович | F7: {=_xlfn.TEXTSPLIT(E7," ")} -> АНІСІМОВ | G7: Сергій | H7: Леонідович | I7: Ніжинським РТЦК та СП у Чернігівській області | J7: 18.10.1989 | K7: 3279802570 | L7: АГ 633795 | M7: АМ 247948 | N7: Чернігівська обл., м. Ніжин | O7: Чернігівська обл., Ніжинський р-н., с. Велика Кошелівка, вул. Веринарна, буд. 5 | P7: середня спеціальна | Q7: Ніжинське ПТУ №35, водій-механік, 2008 | R7: Тракторист, 10 років Права AB (трактор), B, C | S7: не одружений | T7: мати: Куліш Наталія Василівна, 1960, Чернігівська обл., м. Ніжин, вул. Богуна, буд. 22, 0967676757 | U7: 0985324330 | V7: 790 259А | W7: курсант | X7: 100 | Z7: 46075 | AA7: № 56 | AB7: =IF(E7="","",IF(V7="","ні","так")) -> так | AC7: 46075 | AD7: Придатний до військової служби | AE7: RH 2+ | AG7: =IF(AND(INT(YEARFRAC(#REF!,TODAY()))>=25,INT(YEARFRAC(#REF!,TODAY()))<=35),INT(YEARFRAC(#REF!,TODAY())),"") -> #REF! | AH7: =IF(AND(INT(YEARFRAC(#REF!,TODAY()))>=36,INT(YEARFRAC(#REF!,TODAY()))<=45),INT(YEARFRAC(#REF!,TODAY())),"") -> #REF! | AI7: =IF(AND(INT(YEARFRAC(#REF!,TODAY()))>=46,INT(YEARFRAC(#REF!,TODAY()))<=50),INT(YEARFRAC(#REF!,TODAY())),"") -> #REF!
A8: 1452 | B8: 46081 | C8: 1 | D8: солдат | E8: АНТОНЮК Дмитро Русланович | F8: {=_xlfn.TEXTSPLIT(E8," ")} -> АНТОНЮК | G8: Дмитро | H8: Русланович | I8: Хмільницьким РТЦК та СП у Вінницькій області | J8: 23.03.1999 | K8: 3624109257 | L8: АГ 574988 | M8: АТ 121678 | N8: Житомирська обл. м. Радомишль | O8: м. Вінниця, вул. Генерала Григоренка, буд. 36, кв. 21 | P8: професійно- технічна | Q8: Тульчинський коледж ветеринарної медецини,м. Тульчин,2018,фельдшер ветеринарної медецини | R8: комплектувальник продуктів харчування - 4р | S8: не одружений | T8: мати: Антонюк Оксана Вікторівна - прибл. 43р - 0673588369 - Вінницька обл, Вінницький р-н, с. Гавришівка, вул. ? | U8: 0976880495 | W8: курсант | X8: 100 | Z8: 46081 | AA8: № 62 | AB8: =IF(E8="","",IF(V8="","ні","так")) -> ні | AC8: 46077 | AD8: Придатний до військової служби | AE8: I Rh + | AG8: =IF(AND(INT(YEARFRAC(#REF!,TODAY()))>=25,INT(YEARFRAC(#REF!,TODAY()))<=35),INT(YEARFRAC(#REF!,TODAY())),"") -> #REF! | AH8: =IF(AND(INT(YEARFRAC(#REF!,TODAY()))>=36,INT(YEARFRAC(#REF!,TODAY()))<=45),INT(YEARFRAC(#REF!,TODAY())),"") -> #REF! | AI8: =IF(AND(INT(YEARFRAC(#REF!,TODAY()))>=46,INT(YEARFRAC(#REF!,TODAY()))<=50),INT(YEARFRAC(#REF!,TODAY())),"") -> #REF!
A9: 2500 | B9: 46078 | C9: 1 | D9: солдат | E9: АНТОНЮК Олександр Леонідович | F9: {=_xlfn.TEXTSPLIT(E9," ")} -> АНТОНЮК | G9: Олександр | H9: Леонідович | I9: Житомирським РТЦК та СП у Житомирській області | J9: 27.09.1979 | K9: 2912410393 | L9: АГ 603239 | M9: ТТ 193066 Дарнівським РО ГУ ДМС УКР в м. Києві 16.08.2013 | N9: м. Київ | O9: Житомирська обл. Попільнянський р-н., с. Романівка, вул. Миру, буд. 20 | P9: професійно- технічна | Q9: Київське училище №26 | R9: будівельник, 20 років Права- | S9: не одружений | T9: мати: Антонюк Світлана Миколаївна, 1959, м. Київ, вул. Бажана, буд. 9, 0972926021 | U9: 0975269074 | W9: курсант | X9: 100 | Z9: 46078 | AA9: № 59 | AB9: =IF(E9="","",IF(V9="","ні","так")) -> ні | AC9: 46078 | AD9: Придатний до військової служби | AE9: II Rh + | AG9: =IF(AND(INT(YEARFRAC(#REF!,TODAY()))>=25,INT(YEARFRAC(#REF!,TODAY()))<=35),INT(YEARFRAC(#REF!,TODAY())),"") -> #REF! | AH9: =IF(AND(INT(YEARFRAC(#REF!,TODAY()))>=36,INT(YEARFRAC(#REF!,TODAY()))<=45),INT(YEARFRAC(#REF!,TODAY())),"") -> #REF! | AI9: =IF(AND(INT(YEARFRAC(#REF!,TODAY()))>=46,INT(YEARFRAC(#REF!,TODAY()))<=50),INT(YEARFRAC(#REF!,TODAY())),"") -> #REF!
A10: 2566 | B10: 46080 | C10: 2 | D10: солдат | E10: БАБИЧ Андрій Васильович | F10: {=_xlfn.TEXTSPLIT(E10," ")} -> БАБИЧ | G10: Андрій | H10: Васильович | I10: Житомирським РТЦК та СП у Житомирській області | J10: 18.04.1984 | K10: 3078922215 | L10: АГ 603272 | M10: СТ 531446 Чернігівським РС УДМС УКР в Чернігівській обл 24.02.2017 | N10: Чернігівська обл., Чернігівський р-н., с. Павлівка | O10: Житомирський р-н., с. Покостівка, вул. Квіткова, буд. 5 | P10: професійно- технічна | Q10: Чернігівське ПТУ №5, 2002, черговий по станції, провідник | R10: провідник, 8 років Права - | S10: не одружений | T10: сестра: Винниченко Олена Василівна, 1981, м. Чернігів, 0964958186 | U10: 0989386733 | W10: курсант | X10: 100 | Z10: 46080 | AA10: № 61 | AB10: =IF(E10="","",IF(V10="","ні","так")) -> ні | AC10: 46080 | AD10: Придатний до служби на підводних човнох, на надводних кораблях, у морській піхоті, Десантно-штурмових військах, спеціальних спорудах, підрозділах спеціального призначення | AG10: =IF(AND(INT(YEARFRAC(#REF!,TODAY()))>=25,INT(YEARFRAC(#REF!,TODAY()))<=35),INT(YEARFRAC(#REF!,TODAY())),"") -> #REF! | AH10: =IF(AND(INT(YEARFRAC(#REF!,TODAY()))>=36,INT(YEARFRAC(#REF!,TODAY()))<=45),INT(YEARFRAC(#REF!,TODAY())),"") -> #REF! | AI10: =IF(AND(INT(YEARFRAC(#REF!,TODAY()))>=46,INT(YEARFRAC(#REF!,TODAY()))<=50),INT(YEARFRAC(#REF!,TODAY())),"") -> #REF!
A11: 11/1629 | B11: 46080 | C11: 3 | D11: солдат | E11: БАСКАКОВ Павло Анатолійович | F11: {=_xlfn.TEXTSPLIT(E11," ")} -> БАСКАКОВ | G11: Павло | H11: Анатолійович | I11: Шевченківським РТЦК та СП у Київській області | J11: 02.03.1984 | K11: 3074200978 | L11: 140220221425037600020/1 | M11: АМ 064073 Заводським РВ Дніпродзержинського МУ УМВС України в Дніпропетровській області 03.10.2000 | N11: Дніпропетровська обл, м. Дніпродзержинськ | O11: м. Київ, вул. Академіка Корольова, буд. 7, кв. 46 | P11: професійно- технічна | Q11: Дніпродзержинський індустріальнгий коледж,2004,електрик | R11: власник інтернет магазину - 4р Права A, B, C | S11: не одружений | T11: бабуся: Носуля Раїса Іванівна - 0687208035 - 85р - Дніпропетровська обл, м. Кам'янське, вул. Дніпробудівельна, буд. 27, кв. 7 | U11: 0965569916 | W11: курсант | X11: 100 | Z11: 46080 | AA11: № 61 | AB11: =IF(E11="","",IF(V11="","ні","так")) -> ні | AC11: 46080 | AD11: Придатний до служби на підводних човнох, на надводних кораблях, у морській піхоті, Десантно-штурмових військах, спеціальних спорудах, підрозділах спеціального призначення | AE11: III Rh - | AG11: =IF(AND(INT(YEARFRAC(#REF!,TODAY()))>=25,INT(YEARFRAC(#REF!,TODAY()))<=35),INT(YEARFRAC(#REF!,TODAY())),"") -> #REF! | AH11: =IF(AND(INT(YEARFRAC(#REF!,TODAY()))>=36,INT(YEARFRAC(#REF!,TODAY()))<=45),INT(YEARFRAC(#REF!,TODAY())),"") -> #REF! | AI11: =IF(AND(INT(YEARFRAC(#REF!,TODAY()))>=46,INT(YEARFRAC(#REF!,TODAY()))<=50),INT(YEARFRAC(#REF!,TODAY())),"") -> #REF!
A12: 1537/11/2005 | B12: 46079 | C12: 2 | D12: солдат | E12: БЕРШАДСЬКИЙ Олександр Миколайович | F12: {=_xlfn.TEXTSPLIT(E12," ")} -> БЕРШАДСЬКИЙ | G12: Олександр | H12: Миколайович | I12: Дніпровським РТЦК та СП у Київській області | J12: 15.03.1992 | K12: 3367700733 | L12: довідка | M12: 003047716 8034 04.03.2019 | N12: Дніпропетровська обл. м. Кривий Ріг | O12: м. Київ, вул. Тичини, буд. 3а, кв. 61 | P12: вища | Q12: КПІ, 2016, ІТ | R12: програміст, 8 років Права - | S12: не одружений | T12: мати: Бершадська Ірина Володимирівна, 1968, м. Київ, вул. Тичини, буд. 3а, кв. 61, 0957958159, 0675784797 | U12: 0934043734 | W12: курсант | X12: 100 | Z12: 46079 | AA12: № 60 | AB12: =IF(E12="","",IF(V12="","ні","так")) -> ні | AC12: 46079 | AD12: Придатний до військової служби | AF12: А3316 по розподілу рекомендаційний лист | AG12: =IF(AND(INT(YEARFRAC(#REF!,TODAY()))>=25,INT(YEARFRAC(#REF!,TODAY()))<=35),INT(YEARFRAC(#REF!,TODAY())),"") -> #REF! | AH12: =IF(AND(INT(YEARFRAC(#REF!,TODAY()))>=36,INT(YEARFRAC(#REF!,TODAY()))<=45),INT(YEARFRAC(#REF!,TODAY())),"") -> #REF! | AI12: =IF(AND(INT(YEARFRAC(#REF!,TODAY()))>=46,INT(YEARFRAC(#REF!,TODAY()))<=50),INT(YEARFRAC(#REF!,TODAY())),"") -> #REF!
A13: 2543 | B13: 46079 | C13: 3 | D13: солдат | E13: БІЛОУСОВ Сергій Вікторович | F13: {=_xlfn.TEXTSPLIT(E13," ")} -> БІЛОУСОВ | G13: Сергій | H13: Вікторович | I13: Житомирським ОМТЦК та СП у Житомирській області | J13: 04.09.1982 | K13: ВМ 632875 | L13: АГ 186080 | M13: 009302826 1836 23.06.2023 | N13: м. Житомир | O13: м. Житомир, вул. Переїзд Радомишльський, буд. 9 | P13: повна загальна середня | Q13: Житомирська ЗОШ №2 | R13: рихтувальник, 6 років Права - | S13: одружений | T13: дружина: Білоусова Оксана Вікторівна, 1980, м. Житомир, вул. Переїзд Радомишльський, буд. 9, 0960276981 | U13: 0990907846 | W13: курсант | X13: 100 | Z13: 46079 | AA13: № 60 | AB13: =IF(E13="","",IF(V13="","ні","так")) -> ні | AC13: 46079 | AD13: Придатний до військової служби | AG13: =IF(AND(INT(YEARFRAC(#REF!,TODAY()))>=25,INT(YEARFRAC(#REF!,TODAY()))<=35),INT(YEARFRAC(#REF!,TODAY())),"") -> #REF! | AH13: =IF(AND(INT(YEARFRAC(#REF!,TODAY()))>=36,INT(YEARFRAC(#REF!,TODAY()))<=45),INT(YEARFRAC(#REF!,TODAY())),"") -> #REF! | AI13: =IF(AND(INT(YEARFRAC(#REF!,TODAY()))>=46,INT(YEARFRAC(#REF!,TODAY()))<=50),INT(YEARFRAC(#REF!,TODAY())),"") -> #REF!
B14: 46078 | C14: 18 | D14: солдат | E14: БОЙКО Геннадій Володимирович | F14: {=_xlfn.TEXTSPLIT(E14," ")} -> БОЙКО | G14: Геннадій | H14: Володимирович | J14: 19.11.1981 | K14: 2990807554 | L14: 250220261352624000001/2 | M14: МА 583941 Охтирським МРВУМВС України в Сумській обл., 04.01.1999 | N14: Сумська обл., м. Охтирка, пров. Весняний, буд. 15а | O14: Сумська обл., м. Охтирка, вул. Київська, буд. 107, кв. 57 | P14: професійно- технічна | Q14: ПТУ №7, м. Охтирка, 1999, маляр-штукатур | R14: будівельник, 20 років Права В, С | S14: не одружений | T14: мати: Бойко Алла Миколаївна, 1960, Сумська обл., м. Охтирка, пров. Весняний, буд. 15а | U14: 0665156739 | AB14: ні | AE14: II Rh + | AF14: Резерв КДШВ | AG14: =IF(AND(INT(YEARFRAC(#REF!,TODAY()))>=25,INT(YEARFRAC(#REF!,TODAY()))<=35),INT(YEARFRAC(#REF!,TODAY())),"") -> #REF! | AH14: =IF(AND(INT(YEARFRAC(#REF!,TODAY()))>=36,INT(YEARFRAC(#REF!,TODAY()))<=45),INT(YEARFRAC(#REF!,TODAY())),"") -> #REF! | AI14: =IF(AND(INT(YEARFRAC(#REF!,TODAY()))>=46,INT(YEARFRAC(#REF!,TODAY()))<=50),INT(YEARFRAC(#REF!,TODAY())),"") -> #REF!
A15: 1537/11/2005 | B15: 46079 | C15: 4 | D15: солдат | E15: БОЛЬШАКОВ Костянтин Євгенович | F15: {=_xlfn.TEXTSPLIT(E15," ")} -> БОЛЬШАКОВ | G15: Костянтин | H15: Євгенович | I15: Дніпровським РТЦК та СП у Київській області | J15: 02.07.1992 | K15: 3378604531 | L15: 250220261320634500007/1 | M15: ЕН 904717 Краснолуцьким МВ УДМС УКР в Луганській обл 15.11.2012 | N15: Луганська обл, м. Красний Луч | O15: м. Київ,, вул. Русанівська Набережна, буд. 6, кв. 56 | P15: професійно- технічна | Q15: Краснолуцький приладобудівний технікум,м. Красний Луч,2013р,економіка підприємства | R15: Фріланс - 2D дизайн логотипів, оточення для браузерних ігор (Photoshop, AI) - 5р портретист на пам'ятниках - 3р кухар - 1,5р | S15: не одружений | T15: сестра: Большакова Яна Євгеновна - 1990 - 0664203975 - м. Київ, вул. Русанівська Набережна, буд. 6, кв. 56 | U15: 0995045246 | W15: курсант | X15: 100 | Z15: 46079 | AA15: № 60 | AB15: =IF(E15="","",IF(V15="","ні","так")) -> ні | AC15: 46078 | AD15: Придатний до військової служби | AG15: =IF(AND(INT(YEARFRAC(#REF!,TODAY()))>=25,INT(YEARFRAC(#REF!,TODAY()))<=35),INT(YEARFRAC(#REF!,TODAY())),"") -> #REF! | AH15: =IF(AND(INT(YEARFRAC(#REF!,TODAY()))>=36,INT(YEARFRAC(#REF!,TODAY()))<=45),INT(YEARFRAC(#REF!,TODAY())),"") -> #REF! | AI15: =IF(AND(INT(YEARFRAC(#REF!,TODAY()))>=46,INT(YEARFRAC(#REF!,TODAY()))<=50),INT(YEARFRAC(#REF!,TODAY())),"") -> #REF!
A16: 1230 | B16: 46075 | C16: 4 | D16: солдат | E16: БОНДАР Андрій Васильович | F16: {=_xlfn.TEXTSPLIT(E16," ")} -> БОНДАР | G16: Андрій | H16: Васильович | I16: Хмільницьким РТЦК та СП у Вінницькій області | J16: 29.07.1988 | K16: 3235207996 | L16: АГ 574967 | M16: 011098716 | N16: м. Вінниця | O16: м. Вінниця, вул. Запорізька, буд. 21, кв. 124 | P16: професійно- технічна | Q16: Стрижовська СВК | R16: Будівельник, 1 рік Права - | S16: не одружений | T16: мати: Бондар Лілія Петрівна, 1956, м. Вінниця, вул. Запорізька, буд. 21, кв. 124, 0961876495 | U16: 0970255251 | W16: курсант | X16: 100 | Z16: 46076 | AA16: № 57 | AB16: =IF(E16="","",IF(V16="","ні","так")) -> ні | AC16: 46074 | AD16: Придатний до військової служби | AG16: =IF(AND(INT(YEARFRAC(#REF!,TODAY()))>=25,INT(YEARFRAC(#REF!,TODAY()))<=35),INT(YEARFRAC(#REF!,TODAY())),"") -> #REF! | AH16: =IF(AND(INT(YEARFRAC(#REF!,TODAY()))>=36,INT(YEARFRAC(#REF!,TODAY()))<=45),INT(YEARFRAC(#REF!,TODAY())),"") -> #REF! | AI16: =IF(AND(INT(YEARFRAC(#REF!,TODAY()))>=46,INT(YEARFRAC(#REF!,TODAY()))<=50),INT(YEARFRAC(#REF!,TODAY())),"") -> #REF!
A17: 10/584 | B17: 46075 | C17: 10 | D17: солдат | E17: БОРИСОВ Дмитро Сергійович | F17: {=_xlfn.TEXTSPLIT(E17," ")} -> БОРИСОВ | G17: Дмитро | H17: Сергійович | I17: Чернігівським МТЦК та СП у Чернігівській області | J17: 16.05.1984 | K17: 3081727094 | L17: СО 871538 | N17: м. Хабаровськ, росія | O17: м. Чернігів, вул. Мстиславська, буд. 171, кв. 9 | P17: середня спеціальна | Q17: ПУ 63, станиця Денська, Денський р-н., Краснодарський край, водій-автомеханік, 2005 | R17: Менеджер з постачання, 4 роки Права В | S17: одружений | T17: дружина: Борисова Євгенія Вʼячеславівна, 1987, м. Чернігів, вул. Мстиславська, буд. 171, кв. 9, 0632156010 | U17: 0969311148 | W17: курсант | X17: 100 | Z17: 46075 | AA17: № 56 | AB17: =IF(E17="","",IF(V17="","ні","так")) -> ні | AC17: 46075 | AD17: Придатний до військової служби | AE17: RH 2- | AG17: =IF(AND(INT(YEARFRAC(#REF!,TODAY()))>=25,INT(YEARFRAC(#REF!,TODAY()))<=35),INT(YEARFRAC(#REF!,TODAY())),"") -> #REF! | AH17: =IF(AND(INT(YEARFRAC(#REF!,TODAY()))>=36,INT(YEARFRAC(#REF!,TODAY()))<=45),INT(YEARFRAC(#REF!,TODAY())),"") -> #REF! | AI17: =IF(AND(INT(YEARFRAC(#REF!,TODAY()))>=46,INT(YEARFRAC(#REF!,TODAY()))<=50),INT(YEARFRAC(#REF!,TODAY())),"") -> #REF!
A18: 1/2286 | B18: 46074 | C18: 1 | D18: солдат | E18: БОРОДАВКО Віталій Михайлович | F18: {=_xlfn.TEXTSPLIT(E18," ")} -> БОРОДАВКО | G18: Віталій | H18: Михайлович | I18: Ніжинським РТЦК та СП у Чернігівській області | J18: 10.10.1989 | K18: 3279006554 | L18: АГ 633793 | M18: НМ 247947 Ніжинським МВР УМВС УКР в Чернігівській обл 24.03.2006 | N18: Чернігівська обл., м. Ніжин | O18: Чернігівська обл., м. Ніжин, вул. Станіслава Прощенко, буд. 40/б, кв. 33 | P18: повна середня освіта | Q18: Ніжинська ЗОШ №7 | R18: Торгівельний представник, 6 міс. Права - | S18: не одружений | T18: мати: Бородавко Тетяна Андріївна, 1959, Чернігівська обл., м. Ніжин, вул. Станіслава Прощенко, буд. 40/б, кв. 33, 0682364981 | U18: ненадано | W18: курсант | X18: 100 | Z18: 46074 | AA18: № 55 | AB18: =IF(E18="","",IF(V18="","ні","так")) -> ні | AC18: 46074 | AD18: Придатний до військової служби | AE18: RH 2+ | AG18: =IF(AND(INT(YEARFRAC(#REF!,TODAY()))>=25,INT(YEARFRAC(#REF!,TODAY()))<=35),INT(YEARFRAC(#REF!,TODAY())),"") -> #REF! | AH18: =IF(AND(INT(YEARFRAC(#REF!,TODAY()))>=36,INT(YEARFRAC(#REF!,TODAY()))<=45),INT(YEARFRAC(#REF!,TODAY())),"") -> #REF! | AI18: =IF(AND(INT(YEARFRAC(#REF!,TODAY()))>=46,INT(YEARFRAC(#REF!,TODAY()))<=50),INT(YEARFRAC(#REF!,TODAY())),"") -> #REF!
A19: 1/2420 | B19: 46077 | C19: 3 | D19: солдат | E19: БРИСКІН Денис Сергійович | F19: {=_xlfn.TEXTSPLIT(E19," ")} -> БРИСКІН | G19: Денис | H19: Сергійович | I19: Ніжинським РТЦК та СП у Чернігівській області | J19: 03.09.1982 | K19: 3019609990 | L19: МО 369114 | N19: м. Київ | O19: м. Чернігів, вул. Текстильників, буд. 24, кв. 42 | P19: повна загальна середня | Q19: Рамаданівська ЗОШ, 2000 | R19: Завідуючий складом, 16 років Начальник охорони, 4 роки Права - | S19: одружений | T19: дружина: Брискіна Ірина Леонідівна, 1973, м. Чернігів, вул. Текстильників, буд. 24, кв. 42, 0992497840 | U19: 0960389583 | W19: курсант | X19: 100 | Z19: 46077 | AA19: № 58 | AB19: =IF(E19="","",IF(V19="","ні","так")) -> ні | AC19: 46077 | AD19: Придатний до військової служби | AG19: =IF(AND(INT(YEARFRAC(#REF!,TODAY()))>=25,INT(YEARFRAC(#REF!,TODAY()))<=35),INT(YEARFRAC(#REF!,TODAY())),"") -> #REF! | AH19: =IF(AND(INT(YEARFRAC(#REF!,TODAY()))>=36,INT(YEARFRAC(#REF!,TODAY()))<=45),INT(YEARFRAC(#REF!,TODAY())),"") -> #REF! | AI19: =IF(AND(INT(YEARFRAC(#REF!,TODAY()))>=46,INT(YEARFRAC(#REF!,TODAY()))<=50),INT(YEARFRAC(#REF!,TODAY())),"") -> #REF!
A20: 2609 | B20: 46081 | C20: 2 | D20: солдат | E20: БРОДОВСЬКИЙ Вадим Феліксович | F20: {=_xlfn.TEXTSPLIT(E20," ")} -> БРОДОВСЬКИЙ | G20: Вадим | H20: Феліксович | I20: Житомирським РТЦК та СП у Житомирській області | J20: 09.11.1977 | K20: 2843714031 | L20: АГ 603250 | M20: ВМ 028712 | N20: Житомирська обл., смт Полянка | O20: Житомирська обл., Житомирський р-н., с. Костянинівка, вул. Весняна, буд. 10 | P20: професійно- технічна | Q20: Баранівське ПТУ №11 | R20: Пилорамщик, 20 років Права - | S20: не одружений | T20: сестра: Бродовська Ірина Феліксовна, 1984 | U20: не надано | V20: 100 915А | W20: курсант | X20: 100 | Z20: 46081 | AA20: № 62 | AB20: =IF(E20="","",IF(V20="","ні","так")) -> так | AC20: 46081 | AD20: Придатний до військової служби | AG20: =IF(AND(INT(YEARFRAC(#REF!,TODAY()))>=25,INT(YEARFRAC(#REF!,TODAY()))<=35),INT(YEARFRAC(#REF!,TODAY())),"") -> #REF! | AH20: =IF(AND(INT(YEARFRAC(#REF!,TODAY()))>=36,INT(YEARFRAC(#REF!,TODAY()))<=45),INT(YEARFRAC(#REF!,TODAY())),"") -> #REF! | AI20: =IF(AND(INT(YEARFRAC(#REF!,TODAY()))>=46,INT(YEARFRAC(#REF!,TODAY()))<=50),INT(YEARFRAC(#REF!,TODAY())),"") -> #REF!
B21: 46016 | C21: 23 | D21: солдат | E21: БРУЯКА Максим Юрійович | F21: {=_xlfn.TEXTSPLIT(E21," ")} -> БРУЯКА | G21: Максим | H21: Юрійович | I21: Сумським МТЦК та СП у Сумській області | J21: 28.10.1996 | K21: 3536512192 | L21: АВ 960514 | M21: МВ 516155 Ковпаківським РВ м.Суми УДМС України в Сумській обл. 18.12.2012 | N21: Р | O21: м. Суми, вул. Засумська буд. 16, кв. 45 | P21: базова загальна середня | Q21: Школа №12, м. Суми | R21: різноробочий, 1 рік Права - | S21: не одружений | T21: мати: Бруяка Наталія Володимирівна, 1976, м. Суми, вул. Засумська буд. 16, кв. 45, 0664739829 | U21: 0502773062 | AB21: ні | AE21: II Rh - | AF21: Резерв КДШВ | AG21: =IF(AND(INT(YEARFRAC(#REF!,TODAY()))>=25,INT(YEARFRAC(#REF!,TODAY()))<=35),INT(YEARFRAC(#REF!,TODAY())),"") -> #REF! | AH21: =IF(AND(INT(YEARFRAC(#REF!,TODAY()))>=36,INT(YEARFRAC(#REF!,TODAY()))<=45),INT(YEARFRAC(#REF!,TODAY())),"") -> #REF! | AI21: =IF(AND(INT(YEARFRAC(#REF!,TODAY()))>=46,INT(YEARFRAC(#REF!,TODAY()))<=50),INT(YEARFRAC(#REF!,TODAY())),"") -> #REF!
B22: 46080 | C22: 38 | D22: солдат | E22: БУРКОВЦОВ Андрій Юрійович | F22: {=_xlfn.TEXTSPLIT(E22," ")} -> БУРКОВЦОВ | G22: Андрій | H22: Юрійович | I22: Роменським ТЦК та СП у Сумській області | J22: 09.09.1988 | K22: 3239413855 | L22: АВ 949437 | M22: закордоний паспорт ЕН991201 виданий 7401 08.06.2011 | N22: м. Ніжин, Чернігівська обл. | O22: Сумська обл., Роменський р-н, с. Русанівка, вул. Русанівська 26 | P22: вища | Q22: НДУ ім. Гоголя, м. Ніжин, Чернігівська обл.,спеціаліст вчитель Історії і права,ДАКККІМ м. Київ, бакалавр, дизайнер середовища,КДАІС м. Київ, бакалавр, священослужитель | R22: священик педагог | S22: одружений | T22: дружина Гапон Зоя Сергиіївна - 1988, Сумська обл., Роменський р-н, с. Русанівка, вул. Русанівська 26 | U22: 0973166440 | AB22: ні | AE22: III Rh + | AF22: Резерв КДШВ | AG22: =IF(AND(INT(YEARFRAC(#REF!,TODAY()))>=25,INT(YEARFRAC(#REF!,TODAY()))<=35),INT(YEARFRAC(#REF!,TODAY())),"") -> #REF! | AH22: =IF(AND(INT(YEARFRAC(#REF!,TODAY()))>=36,INT(YEARFRAC(#REF!,TODAY()))<=45),INT(YEARFRAC(#REF!,TODAY())),"") -> #REF! | AI22: =IF(AND(INT(YEARFRAC(#REF!,TODAY()))>=46,INT(YEARFRAC(#REF!,TODAY()))<=50),INT(YEARFRAC(#REF!,TODAY())),"") -> #REF!
A23: 614 | B23: 46079 | C23: 5 | D23: солдат | E23: БУТКО Руслан Павлович | F23: {=_xlfn.TEXTSPLIT(E23," ")} -> БУТКО | G23: Руслан | H23: Павлович | I23: Дарницьким РТЦК та СП у Київській області | J23: 29.07.1998 | K23: 3600408276 | L23: 250620235816010600001/1 | M23: 009601452 3214 29.08.2023 | N23: Київська обл., Васильківський р-н., с. Вільшанська Новоселице | O23: м. Київ, вул. Закревського, буд. 27а, кв.38 | P23: повна загальна середня | Q23: Вільшансько Новоселівська ЗОШ | R23: Будівельник, 4 роки Права В | S23: не одружений | T23: брат: Павленко Максим Андрійович, 1997, 0967116383 | U23: 0962685449 | W23: курсант | X23: 100 | Z23: 46079 | AA23: № 60 | AB23: =IF(E23="","",IF(V23="","ні","так")) -> ні | AC23: 46079 | AD23: Придатний до військової служби | AE23: II Rh + | AG23: =IF(AND(INT(YEARFRAC(#REF!,TODAY()))>=25,INT(YEARFRAC(#REF!,TODAY()))<=35),INT(YEARFRAC(#REF!,TODAY())),"") -> #REF! | AH23: =IF(AND(INT(YEARFRAC(#REF!,TODAY()))>=36,INT(YEARFRAC(#REF!,TODAY()))<=45),INT(YEARFRAC(#REF!,TODAY())),"") -> #REF! | AI23: =IF(AND(INT(YEARFRAC(#REF!,TODAY()))>=46,INT(YEARFRAC(#REF!,TODAY()))<=50),INT(YEARFRAC(#REF!,TODAY())),"") -> #REF!
B24: 46079 | C24: 5 | D24: солдат | E24: ВАСИЛЬЧЕНКО Сергій Анатолійович | F24: {=_xlfn.TEXTSPLIT(E24," ")} -> ВАСИЛЬЧЕНКО | G24: Сергій | H24: Анатолійович | I24: Роменським РТЦК та СП у Сумській області | J24: 17.11.1993 | K24: 3428909730 | L24: АВ 949433 | M24: 002997059 виданий 5924 20.02.2019 | N24: Сумська обл., Роменський р-н., с Пустовойтівка | O24: Сумська обл., Роменський р-н., с Пустовойтівка, вул. 5 пер. Берегова, буд. 9 | P24: базова загальна середня | Q24: Пустовійтівська ЗОШ | R24: вантажник, 3 роки Права - | S24: не одружений | T24: мати: Вовк Світлана Григорівна, 1970, Сумська обл., Роменський р-н., с Пустовойтівка, вул. 5 пер. Берегова, буд. 9, 0685482470 | U24: не надано | AB24: ні | AE24: I Rh + | AF24: Резерв КДШВ | AG24: =IF(AND(INT(YEARFRAC(#REF!,TODAY()))>=25,INT(YEARFRAC(#REF!,TODAY()))<=35),INT(YEARFRAC(#REF!,TODAY())),"") -> #REF! | AH24: =IF(AND(INT(YEARFRAC(#REF!,TODAY()))>=36,INT(YEARFRAC(#REF!,TODAY()))<=45),INT(YEARFRAC(#REF!,TODAY())),"") -> #REF! | AI24: =IF(AND(INT(YEARFRAC(#REF!,TODAY()))>=46,INT(YEARFRAC(#REF!,TODAY()))<=50),INT(YEARFRAC(#REF!,TODAY())),"") -> #REF!
B25: 46080 | C25: 4 | D25: солдат | E25: ВЕРБА Володимир Олександрович | F25: {=_xlfn.TEXTSPLIT(E25," ")} -> ВЕРБА | G25: Володимир | H25: Олександрович | I25: Конотопським РТЦК та СП у Сумській області | J25: 28.08.1995 | K25: 3493804851 | L25: АВ 552749 | N25: Миколаївська обл., м. Баштанка | O25: Сумська обл., м. Конотоп, вул. Успенсько-Троїцька, буд. 13, кв. 28 | P25: професійно- технічна | Q25: ПТУ, м. Кременчук, 2013, маляр-штукатур | R25: будівельник, 6 років Права - | S25: одружений | T25: дружина: Верба Марія Сергіївна, 1997, Сумська обл., м. Конотоп, вул. Успенсько-Троїцька, буд. 13, кв. 28, 0977738011 | U25: 0685689787 | AB25: ні | AE25: II Rh + | AF25: Резерв КДШВ | AG25: =IF(AND(INT(YEARFRAC(#REF!,TODAY()))>=25,INT(YEARFRAC(#REF!,TODAY()))<=35),INT(YEARFRAC(#REF!,TODAY())),"") -> #REF! | AH25: =IF(AND(INT(YEARFRAC(#REF!,TODAY()))>=36,INT(YEARFRAC(#REF!,TODAY()))<=45),INT(YEARFRAC(#REF!,TODAY())),"") -> #REF! | AI25: =IF(AND(INT(YEARFRAC(#REF!,TODAY()))>=46,INT(YEARFRAC(#REF!,TODAY()))<=50),INT(YEARFRAC(#REF!,TODAY())),"") -> #REF!
B26: 46021 | C26: 43 | D26: солдат | E26: ВЕРСТЮК Євген Дмитрович | F26: {=_xlfn.TEXTSPLIT(E26," ")} -> ВЕРСТЮК | G26: Євген | H26: Дмитрович | I26: Новобоварським РТЦК та СП у Харківській області | J26: 05.04.1977 | K26: 2821912276 | L26: АВ909239 | M26: МК 414303 Лозівським МРВУМВС України в Харківській обл. 15.01.1997 | N26: м.Лозова, Харківська обл. | O26: м. Харків, вул. Велика Панасівська, б. 106, кв.64 | P26: професійно- технічна | Q26: Новомосковський Сільхоз технікум ,м. Новомосковськ, Дніпропетровська обл.,,1998,ветфельшер | R26: ветеринарний санітар | S26: не одружений | T26: тітка Носік Ганна Демидівна, м. Харків, вул. Богомольця буд.7, кв. 104 | U26: 0678946217 | AB26: ні | AF26: Резерв КДШВ | AG26: =IF(AND(INT(YEARFRAC(#REF!,TODAY()))>=25,INT(YEARFRAC(#REF!,TODAY()))<=35),INT(YEARFRAC(#REF!,TODAY())),"") -> #REF! | AH26: =IF(AND(INT(YEARFRAC(#REF!,TODAY()))>=36,INT(YEARFRAC(#REF!,TODAY()))<=45),INT(YEARFRAC(#REF!,TODAY())),"") -> #REF! | AI26: =IF(AND(INT(YEARFRAC(#REF!,TODAY()))>=46,INT(YEARFRAC(#REF!,TODAY()))<=50),INT(YEARFRAC(#REF!,TODAY())),"") -> #REF!
A27: 1537/11/2038 | B27: 46080 | C27: 4 | D27: солдат | E27: ВИГІВСЬКИЙ Денис Анатолійович | F27: {=_xlfn.TEXTSPLIT(E27," ")} -> ВИГІВСЬКИЙ | G27: Денис | H27: Анатолійович | I27: Дніпровським РТЦК та СП у Київській області | J27: 28.09.1986 | K27: 3168215372 | L27: 070920231320634500225/1 | M27: МЕ 222316 | N27: м. Київ | O27: м. Київ, вул. Курнатовського буд. 6а, кв. 60 | P27: вища | Q27: КНУ туризму економіки та права, 2009, менеджмент організації | R27: менеджер автомийки, 9 років, будівельник, 10 років Права - В | S27: не одружений | T27: мати: Виговська Станіслава Григорівна, 1954, м. Київ, вул. Курнатовського буд. 6а, кв. 60, 0634685200 | U27: 0983622020 | W27: курсант | X27: 100 | Z27: 46080 | AA27: № 61 | AB27: =IF(E27="","",IF(V27="","ні","так")) -> ні | AC27: 46080 | AD27: Придатний до військової служби | AG27: =IF(AND(INT(YEARFRAC(#REF!,TODAY()))>=25,INT(YEARFRAC(#REF!,TODAY()))<=35),INT(YEARFRAC(#REF!,TODAY())),"") -> #REF! | AH27: =IF(AND(INT(YEARFRAC(#REF!,TODAY()))>=36,INT(YEARFRAC(#REF!,TODAY()))<=45),INT(YEARFRAC(#REF!,TODAY())),"") -> #REF! | AI27: =IF(AND(INT(YEARFRAC(#REF!,TODAY()))>=46,INT(YEARFRAC(#REF!,TODAY()))<=50),INT(YEARFRAC(#REF!,TODAY())),"") -> #REF!
B28: 46073 | C28: 22 | D28: солдат | E28: ВОЙКУ Олег Георгійович | F28: {=_xlfn.TEXTSPLIT(E28," ")} -> ВОЙКУ | G28: Олег | H28: Георгійович | I28: Новобоварським РТЦК та СП у Харківській області | J28: 11.12.1988 | K28: 3248704812 | L28: АГ 330242 | M28: МН 730517 Московським РВ ХМУ УМВС України в Харківській обл. 03.03.2005 | N28: м. Харків | O28: м. Харків, просп. Ювілейний, буд. 72, кв. 107 | P28: вища | Q28: ХНАМГ, 2004, менеджер організації міського господарства | R28: голова правління ОСББ, 2 роки, менеджер з продажів, 7 років Права, В | S28: одружений | T28: дружина: Бондаренко Наталія Володимирівна, 1980, Харківська обл., м. Чугуїв, вул. Харківська, буд. 105, кв. 112 | U28: 0957796772 | AB28: ні | AF28: Резерв КДШВ | AG28: =IF(AND(INT(YEARFRAC(#REF!,TODAY()))>=25,INT(YEARFRAC(#REF!,TODAY()))<=35),INT(YEARFRAC(#REF!,TODAY())),"") -> #REF! | AH28: =IF(AND(INT(YEARFRAC(#REF!,TODAY()))>=36,INT(YEARFRAC(#REF!,TODAY()))<=45),INT(YEARFRAC(#REF!,TODAY())),"") -> #REF! | AI28: =IF(AND(INT(YEARFRAC(#REF!,TODAY()))>=46,INT(YEARFRAC(#REF!,TODAY()))<=50),INT(YEARFRAC(#REF!,TODAY())),"") -> #REF!
A29: 661 | B29: 46076 | C29: 5 | D29: солдат | E29: ГАВРИК Євген Анатолійович | F29: {=_xlfn.TEXTSPLIT(E29," ")} -> ГАВРИК | G29: Євген | H29: Анатолійович | I29: Білоцерківським РТЦК та СП у Київській області | J29: 27.06.1987 | K29: 3195413716 | L29: 011220221362959000010/1 | M29: СМ 568410 Фастівським МРВ ГУ МВС УКР в Київській обл 02.10.2003 | N29: Київська обл., м. Фастів | O29: Київська обл., м. Фастів, вул. Правди, буд. 105 | P29: професійно- технічна | Q29: ПТУ №18, м. Фастів, 2005, столяр | R29: Складальник-пакувальник, 6 років оператор-вантажної лінії, 2 роки Права - | S29: не одружений | T29: батько: Гаврик Анатолій Анатолійович, 1965, Київська обл., м. Фастів, вул. Правди, буд. 105 | U29: 0632444929 | W29: курсант | X29: 100 | Z29: 46076 | AA29: № 57 | AB29: =IF(E29="","",IF(V29="","ні","так")) -> ні | AC29: 46076 | AD29: Придатний до військової служби | AE29: ІІ Rh+ | AG29: =IF(AND(INT(YEARFRAC(#REF!,TODAY()))>=25,INT(YEARFRAC(#REF!,TODAY()))<=35),INT(YEARFRAC(#REF!,TODAY())),"") -> #REF! | AH29: =IF(AND(INT(YEARFRAC(#REF!,TODAY()))>=36,INT(YEARFRAC(#REF!,TODAY()))<=45),INT(YEARFRAC(#REF!,TODAY())),"") -> #REF! | AI29: =IF(AND(INT(YEARFRAC(#REF!,TODAY()))>=46,INT(YEARFRAC(#REF!,TODAY()))<=50),INT(YEARFRAC(#REF!,TODAY())),"") -> #REF!
A30: 11/1553 | B30: 46078 | C30: 2 | D30: солдат | E30: ГОНЧАРЕНКО Вячеслав Вікторович | F30: {=_xlfn.TEXTSPLIT(E30," ")} -> ГОНЧАРЕНКО | G30: Вячеслав | H30: Вікторович | I30: Шевченківським РТЦК та СП у Київській області | J30: 22.02.1982 | K30: 3000315097 | L30: МО 498066 | M30: СО 062411 Ленінградським РУ ГУ МВС України в м. Києві 24.12.1998 | N30: м. Київ | O30: м. Київ, пр. Берестейський, буд. 144 кв. 8 | P30: вища | Q30: Національний транспортний університет,м. Київ,2009р,вантажні перевезення та логістика | R30: спеціаліст канцелярії в банку - 10р виготовлення вікон водій - 13р Права B, C | S30: не одружений | T30: батько: Гончаренко Віктор Олександрович - 1959 - 0673571110, м. Київ, пр. Берестейський, буд. 144 кв. 8 | U30: 0675504137 | V30: 102 533 А | W30: курсант | X30: 100 | Z30: 46078 | AA30: № 59 | AB30: =IF(E30="","",IF(V30="","ні","так")) -> так | AC30: 46078 | AD30: Придатний до військової служби | AE30: I Rh + | AG30: =IF(AND(INT(YEARFRAC(#REF!,TODAY()))>=25,INT(YEARFRAC(#REF!,TODAY()))<=35),INT(YEARFRAC(#REF!,TODAY())),"") -> #REF! | AH30: =IF(AND(INT(YEARFRAC(#REF!,TODAY()))>=36,INT(YEARFRAC(#REF!,TODAY()))<=45),INT(YEARFRAC(#REF!,TODAY())),"") -> #REF! | AI30: =IF(AND(INT(YEARFRAC(#REF!,TODAY()))>=46,INT(YEARFRAC(#REF!,TODAY()))<=50),INT(YEARFRAC(#REF!,TODAY())),"") -> #REF!
A31: 633 | B31: 46074 | C31: 4 | D31: солдат | E31: ГОНЧАРУК Владислав Миколайович | F31: {=_xlfn.TEXTSPLIT(E31," ")} -> ГОНЧАРУК | G31: Владислав | H31: Миколайович | I31: Білоцерківським РТЦК та СП у Київській області | J31: 19.03.2000 | K31: 3660308950 | L31: АВ 970998 | M31: 000060180 3210 23.01.2017 | N31: Київська обл., м. Біла Церква | O31: Київська обл., м. Біла Церква, вул. Томилівська, буд. 50, кв. 40 | P31: повна середня освіта | Q31: Білоцерківська ЗОШ №11 | R31: Зварювальник, 3 роки, Права - | S31: не одружений | T31: батько: Гончарук Микола Михайлович, 1974, Київська обл., м. Біла Церква, вул. Томилівська, буд. 50, кв. 40, 0671744505 | U31: 0977019587 | W31: курсант | X31: 100 | Z31: 46075 | AA31: № 56 | AB31: =IF(E31="","",IF(V31="","ні","так")) -> ні | AC31: 46074 | AD31: Придатний до військової служби | AE31: RH 3+ | AG31: =IF(AND(INT(YEARFRAC(#REF!,TODAY()))>=25,INT(YEARFRAC(#REF!,TODAY()))<=35),INT(YEARFRAC(#REF!,TODAY())),"") -> #REF! | AH31: =IF(AND(INT(YEARFRAC(#REF!,TODAY()))>=36,INT(YEARFRAC(#REF!,TODAY()))<=45),INT(YEARFRAC(#REF!,TODAY())),"") -> #REF! | AI31: =IF(AND(INT(YEARFRAC(#REF!,TODAY()))>=46,INT(YEARFRAC(#REF!,TODAY()))<=50),INT(YEARFRAC(#REF!,TODAY())),"") -> #REF!
A32: 11/2499 | B32: 46078 | C32: 3 | D32: солдат | E32: ГОРБАЧОВ Богдан Віталійович | F32: {=_xlfn.TEXTSPLIT(E32," ")} -> ГОРБАЧОВ | G32: Богдан | H32: Віталійович | I32: Святошинським РТЦК та СП у Київській області | J32: 17.09.2000 | K32: 3678507715 | L32: АГ 606223 | M32: 000176202 8032 12.10.2016 | N32: м. Київ | O32: м. Київ, вул. Жмеринська, буд. 24, кв. 279 | P32: професійно- технічна | Q32: КПЛБ і КГ,м. Київ,2019,слюсар, електрик на устаткуванні електричного транспорту | R32: Працівник пошти - 2р Пакувальник - 4р | S32: не одружений | T32: мати: Горчабова Тетяна Василівна - 56 - 0962918854, м. Київ вул. Жмеринська, буд. 24, кв. 279 | U32: 0972308159 | W32: курсант | X32: 100 | Z32: 46078 | AA32: № 59 | AB32: =IF(E32="","",IF(V32="","ні","так")) -> ні | AC32: 46077 | AD32: Придатний до військової служби | AG32: =IF(AND(INT(YEARFRAC(#REF!,TODAY()))>=25,INT(YEARFRAC(#REF!,TODAY()))<=35),INT(YEARFRAC(#REF!,TODAY())),"") -> #REF! | AH32: =IF(AND(INT(YEARFRAC(#REF!,TODAY()))>=36,INT(YEARFRAC(#REF!,TODAY()))<=45),INT(YEARFRAC(#REF!,TODAY())),"") -> #REF! | AI32: =IF(AND(INT(YEARFRAC(#REF!,TODAY()))>=46,INT(YEARFRAC(#REF!,TODAY()))<=50),INT(YEARFRAC(#REF!,TODAY())),"") -> #REF!
B33: 46076 | C33: 41 | D33: солдат | E33: ГРАБКО Андрій Іванович | F33: {=_xlfn.TEXTSPLIT(E33," ")} -> ГРАБКО | G33: Андрій | H33: Іванович | I33: Сумським МТЦК та СП у Сумській області | J33: 18.09.1986 | K33: 3167201934 | L33: АВ 949483 | M33: МВ 173258 Л.Долинським РВУМВС України в Сумській обл., 08.02.2003 | N33: Сумська обл., Л. Долинський р-н, с.Колядиниць | O33: м. Суми, вул. Черепіна, б.47, кв. 117 | P33: вища | Q33: СНАУ ,м. Суми,2010,магістр, | R33: зоотехнік кат. В,С1,С | S33: не одружений | T33: мати: Грабко Ганна Дмитриївна - 1959 - 0968446207, Сумська обл., Л. Долинський р-н, с.Колядиниць, вул. Щастя 30 | U33: 0671979898 | AB33: ні | AF33: Резерв КДШВ | AG33: =IF(AND(INT(YEARFRAC(#REF!,TODAY()))>=25,INT(YEARFRAC(#REF!,TODAY()))<=35),INT(YEARFRAC(#REF!,TODAY())),"") -> #REF! | AH33: =IF(AND(INT(YEARFRAC(#REF!,TODAY()))>=36,INT(YEARFRAC(#REF!,TODAY()))<=45),INT(YEARFRAC(#REF!,TODAY())),"") -> #REF! | AI33: =IF(AND(INT(YEARFRAC(#REF!,TODAY()))>=46,INT(YEARFRAC(#REF!,TODAY()))<=50),INT(YEARFRAC(#REF!,TODAY())),"") -> #REF!
A34: 260223-9 | B34: 46076 | C34: 6 | D34: солдат | E34: ГРЕЧАНЮК Денис Сергійович | F34: {=_xlfn.TEXTSPLIT(E34," ")} -> ГРЕЧАНЮК | G34: Денис | H34: Сергійович | I34: Солом'янським РТЦК та СП у Київській області | J34: 07.02.1996 | K34: 3510103050 | L34: АГ 629824 | M34: 005780250 8034 24.02.2021 | N34: м. Київ | O34: м. Київ, вул. Пилипа Козицького, буд. 3, кв. 32 | P34: вища | Q34: КНАУ, 2016, економіст-кібернетик | R34: Продавець, 6 років Права - | S34: не одружений | T34: мати: Гречанюк Ірина Олександрівна, 1978, м. Київ, 0674088553 | U34: 0505278293 | W34: курсант | X34: 100 | Z34: 46076 | AA34: № 57 | AB34: =IF(E34="","",IF(V34="","ні","так")) -> ні | AC34: 46076 | AD34: Придатний до військової служби | AE34: IV Rh - | AG34: =IF(AND(INT(YEARFRAC(#REF!,TODAY()))>=25,INT(YEARFRAC(#REF!,TODAY()))<=35),INT(YEARFRAC(#REF!,TODAY())),"") -> #REF! | AH34: =IF(AND(INT(YEARFRAC(#REF!,TODAY()))>=36,INT(YEARFRAC(#REF!,TODAY()))<=45),INT(YEARFRAC(#REF!,TODAY())),"") -> #REF! | AI34: =IF(AND(INT(YEARFRAC(#REF!,TODAY()))>=46,INT(YEARFRAC(#REF!,TODAY()))<=50),INT(YEARFRAC(#REF!,TODAY())),"") -> #REF!
A35: 260228-7 | B35: 46081 | C35: 3 | D35: солдат | E35: ГРІЩЕНКО Максим Олегович | F35: {=_xlfn.TEXTSPLIT(E35," ")} -> ГРІЩЕНКО | G35: Максим | H35: Олегович | I35: Солом'янським РТЦК та СП у Київській області | J35: 09.12.1987 | K35: 3211914316 | L35: АГ 629881 | M35: МЕ 482954 | N35: м. Київ | O35: м. Київ, вул. Митрополита Василя Липківського, буд. 30, кв. 122 | P35: вища | Q35: ДУІТ, м. Київ, 2012 | R35: Продажі, менеджер, 3 роки | S35: одружений | T35: дружина: Макєєва Ганна Миколаївна, 1989, м. Київ, вул. Митрополита Василя Липківського, буд. 30, кв. 122, 0987000360 | U35: 0976009086 | W35: курсант | X35: 100 | Z35: 46081 | AA35: № 62 | AB35: =IF(E35="","",IF(V35="","ні","так")) -> ні | AC35: 46081 | AD35: Придатний до військової служби | AE35: III Rh + | AG35: =IF(AND(INT(YEARFRAC(#REF!,TODAY()))>=25,INT(YEARFRAC(#REF!,TODAY()))<=35),INT(YEARFRAC(#REF!,TODAY())),"") -> #REF! | AH35: =IF(AND(INT(YEARFRAC(#REF!,TODAY()))>=36,INT(YEARFRAC(#REF!,TODAY()))<=45),INT(YEARFRAC(#REF!,TODAY())),"") -> #REF! | AI35: =IF(AND(INT(YEARFRAC(#REF!,TODAY()))>=46,INT(YEARFRAC(#REF!,TODAY()))<=50),INT(YEARFRAC(#REF!,TODAY())),"") -> #REF!
A36: 628 | B36: 46074 | C36: 2 | D36: солдат | E36: ГРОХ Андрій Вікторович | F36: {=_xlfn.TEXTSPLIT(E36," ")} -> ГРОХ | G36: Андрій | H36: Вікторович | I36: Білоцерківським РТЦК та СП у Київській області | J36: 18.07.1984 | K36: 3088000115 | L36: АВ 970598 | M36: СМ 236283 Міським відділом №1 Білоцерківського МУГУ МВС УКР в Київській обл 15.09.2000 | N36: Київська обл., м. Припʼять | O36: Київська обл., м. Біла Церква, вул. Луки Долинського, буд. 107, кв. 6 | P36: середня спеціальна | Q36: Білоцерківське ПТУ №5, електрогазозварювальник, 2002 | R36: електрогазозварювальник, рихтувальнк автомобілів, 15 років, Права BC | S36: одружений | T36: дружина: Грох Людмила Іванівна, 1986, Київська обл., м. Біла Церква, вул. Луки Долинського, буд. 107, кв. 6, 0986174303 | U36: 0966363660 | W36: курсант | X36: 100 | Z36: 46074 | AA36: № 55 | AB36: =IF(E36="","",IF(V36="","ні","так")) -> ні | AC36: 46074 | AD36: Придатний до військової служби | AE36: RH 4+ | AG36: =IF(AND(INT(YEARFRAC(#REF!,TODAY()))>=25,INT(YEARFRAC(#REF!,TODAY()))<=35),INT(YEARFRAC(#REF!,TODAY())),"") -> #REF! | AH36: =IF(AND(INT(YEARFRAC(#REF!,TODAY()))>=36,INT(YEARFRAC(#REF!,TODAY()))<=45),INT(YEARFRAC(#REF!,TODAY())),"") -> #REF! | AI36: =IF(AND(INT(YEARFRAC(#REF!,TODAY()))>=46,INT(YEARFRAC(#REF!,TODAY()))<=50),INT(YEARFRAC(#REF!,TODAY())),"") -> #REF!
A37: 260228-7 | B37: 46081 | C37: 4 | D37: солдат | E37: ГРУЗИНСЬКИЙ Юрій Миколайович | F37: {=_xlfn.TEXTSPLIT(E37," ")} -> ГРУЗИНСЬКИЙ | G37: Юрій | H37: Миколайович | I37: Солом'янським РТЦК та СП у Київській області | J37: 12.10.1985 | K37: 3133113253 | L37: АГ 629880 | M37: 003604871 2315 15.07.2019 | N37: м. Запоріжжя | O37: м. Київ, вул. Філіпа Козицького, буд. 7, кв. 3 | P37: професійно- технічна | Q37: ПТУ №1,м. Запоріжжя,2003,зварювальник контролер АТК | R37: Працівник СТО/шиномонтаж - 23р Права B (вилучені) | S37: не одружений | T37: цивільна дуржина: Янченюк Олена Михайлівна - 0960956996, м. Київ вул. Філіпа Козицького, буд. 7, кв. 3 | U37: 0688144881 | W37: курсант | X37: 100 | Z37: 46081 | AA37: № 62 | AB37: =IF(E37="","",IF(V37="","ні","так")) -> ні | AC37: 46081 | AD37: Придатний до військової служби | AE37: II Rh + | AG37: =IF(AND(INT(YEARFRAC(#REF!,TODAY()))>=25,INT(YEARFRAC(#REF!,TODAY()))<=35),INT(YEARFRAC(#REF!,TODAY())),"") -> #REF! | AH37: =IF(AND(INT(YEARFRAC(#REF!,TODAY()))>=36,INT(YEARFRAC(#REF!,TODAY()))<=45),INT(YEARFRAC(#REF!,TODAY())),"") -> #REF! | AI37: =IF(AND(INT(YEARFRAC(#REF!,TODAY()))>=46,INT(YEARFRAC(#REF!,TODAY()))<=50),INT(YEARFRAC(#REF!,TODAY())),"") -> #REF!
B38: 46076 | C38: 46 | D38: солдат | E38: ГУЛЕНКО Владислав Олександрович | F38: {=_xlfn.TEXTSPLIT(E38," ")} -> ГУЛЕНКО | G38: Владислав | H38: Олександрович | I38: Сумським РТЦК та СП у Сумській області | J38: 01.03.1998 | K38: 3585409073 | L38: АВ 949486 | N38: м. Суми | O38: м. Суми, вул. Ковпака, б. 4а | P38: професійно- технічна | Q38: ПТУ №43,м. Краснопілля, Сумська обл., Сумський р-н,кухар-кондитер 5кат,2018 | R38: вантажник | S38: не одружений | T38: батько: Гуленко Олександр Миколайович - 1970 - 0663936035, Сумська обл., Краснопільський р-н, с. Самотоївка, вул. Калініна 170 | U38: не надано | AB38: ні | AF38: Резерв КДШВ | AG38: =IF(AND(INT(YEARFRAC(#REF!,TODAY()))>=25,INT(YEARFRAC(#REF!,TODAY()))<=35),INT(YEARFRAC(#REF!,TODAY())),"") -> #REF! | AH38: =IF(AND(INT(YEARFRAC(#REF!,TODAY()))>=36,INT(YEARFRAC(#REF!,TODAY()))<=45),INT(YEARFRAC(#REF!,TODAY())),"") -> #REF! | AI38: =IF(AND(INT(YEARFRAC(#REF!,TODAY()))>=46,INT(YEARFRAC(#REF!,TODAY()))<=50),INT(YEARFRAC(#REF!,TODAY())),"") -> #REF!
A39: 621/МВ | B39: 46081 | C39: 5 | D39: солдат | E39: ГУСЄВ Євгеній Олександрович | F39: {=_xlfn.TEXTSPLIT(E39," ")} -> ГУСЄВ | G39: Євгеній | H39: Олександрович | I39: Оболонським РТЦК та СП у Київській області | J39: 18.11.1998 | K39: 3611608372 | L39: довідка | M39: ТТ 264727 Деснянським РВ ГУДМС УКР в м. Києві 20.11.2014 | N39: м. Київ | O39: м. Київ, вул. Мільчакова, буд. 3а | P39: професійно- технічна | Q39: Київське ВПУ, деревообробка | R39: Встановлення кондиціонерів, 4 роки, Права В | S39: не одружений | T39: мати: Зубарєва Катерина Сергвіївна, 1980, м. Київ, вул. Мільчакова, буд. 3а, 0502642717 | U39: 0955390619 | W39: курсант | X39: 100 | Z39: 46081 | AA39: № 62 | AB39: =IF(E39="","",IF(V39="","ні","так")) -> ні | AC39: 46081 | AD39: Придатний до військової служби | AG39: =IF(AND(INT(YEARFRAC(#REF!,TODAY()))>=25,INT(YEARFRAC(#REF!,TODAY()))<=35),INT(YEARFRAC(#REF!,TODAY())),"") -> #REF! | AH39: =IF(AND(INT(YEARFRAC(#REF!,TODAY()))>=36,INT(YEARFRAC(#REF!,TODAY()))<=45),INT(YEARFRAC(#REF!,TODAY())),"") -> #REF! | AI39: =IF(AND(INT(YEARFRAC(#REF!,TODAY()))>=46,INT(YEARFRAC(#REF!,TODAY()))<=50),INT(YEARFRAC(#REF!,TODAY())),"") -> #REF!
B40: 46075 | C40: 1 | D40: солдат | E40: ДАВИДЕНКО Богдан Миколайович | F40: {=_xlfn.TEXTSPLIT(E40," ")} -> ДАВИДЕНКО | G40: Богдан | H40: Миколайович | I40: Роменським РТЦК та СП у Сумській області | J40: 24.04.1996 | K40: 3517807937 | L40: АВ 949426 | M40: 006233429 Виданий 5930 16.06.2021 | N40: м. Суми | O40: м. Суми, вул. ЗСУ, буд. 65а, кв. 92 | P40: вища | Q40: НТУ ХПІ, 2018, механік-технолог | R40: QA-middle тімлід, 4 роки монтажник, 10 років Права - | S40: не одружений | T40: мати: Давиденко Олена Василівна, 1974, м. Суми, вул. ЗСУ, буд. 65а, кв. 92, 0956851446 | U40: 0999604676 | AB40: ні | AF40: Резерв КДШВ | AG40: =IF(AND(INT(YEARFRAC(#REF!,TODAY()))>=25,INT(YEARFRAC(#REF!,TODAY()))<=35),INT(YEARFRAC(#REF!,TODAY())),"") -> #REF! | AH40: =IF(AND(INT(YEARFRAC(#REF!,TODAY()))>=36,INT(YEARFRAC(#REF!,TODAY()))<=45),INT(YEARFRAC(#REF!,TODAY())),"") -> #REF! | AI40: =IF(AND(INT(YEARFRAC(#REF!,TODAY()))>=46,INT(YEARFRAC(#REF!,TODAY()))<=50),INT(YEARFRAC(#REF!,TODAY())),"") -> #REF!
A41: 2581 | B41: 46080 | C41: 5 | D41: старший солдат | E41: ДАЦЮК Вячеслав Іванович | F41: {=_xlfn.TEXTSPLIT(E41," ")} -> ДАЦЮК | G41: Вячеслав | H41: Іванович | I41: Житомирського ОМТЦК та СП у Житомирській області | J41: 31.05.1981 | K41: 2973607431 | L41: МО 300213 | M41: ВМ 546751 Богунським РВ УМВС України в Житомирській області 30.05.1998 | N41: м. Житомир | O41: м. Житомир, вул. Бориса Тена, буд. 96, кв. 72 | P41: професійно- технічна | Q41: СПТУ №1,м. Житомир,1998,муляр, штукатур | R41: будівельник (бетонні роботи, дах, цегляна кладка) - 23р Права B | S41: одружений | T41: дружина: Дацюк Наталія Анатоліївна - 1980 - 0686362312 - м. Житомир вул. Бориса Тена, буд. 96, кв. 72 | U41: 0961552828 | V41: 659 079 А | W41: курсант | X41: 100 | Z41: 46080 | AA41: № 61 | AB41: =IF(E41="","",IF(V41="","ні","так")) -> так | AC41: 46080 | AD41: Придатний до військової служби | AE41: II Rh - | AG41: =IF(AND(INT(YEARFRAC(#REF!,TODAY()))>=25,INT(YEARFRAC(#REF!,TODAY()))<=35),INT(YEARFRAC(#REF!,TODAY())),"") -> #REF! | AH41: =IF(AND(INT(YEARFRAC(#REF!,TODAY()))>=36,INT(YEARFRAC(#REF!,TODAY()))<=45),INT(YEARFRAC(#REF!,TODAY())),"") -> #REF! | AI41: =IF(AND(INT(YEARFRAC(#REF!,TODAY()))>=46,INT(YEARFRAC(#REF!,TODAY()))<=50),INT(YEARFRAC(#REF!,TODAY())),"") -> #REF!
B42: 46076 | C42: 8 | D42: солдат | E42: ДЕНИСЕНКО Артем Олегович | F42: {=_xlfn.TEXTSPLIT(E42," ")} -> ДЕНИСЕНКО | G42: Артем | H42: Олегович | I42: Сумським МТЦК та СП у Сумській області | J42: 02.02.1991 | K42: 3327015430 | L42: АВ 949485 | M42: МВ 340950 Зарічним ВМ СМВ УМВС України в Сумській обл. 27.03.2007 | N42: м. Суми | O42: м. Суми, вул. Друга Замостянська, буд. 82 | P42: повна загальна середня | Q42: ПТУ №11, м. Суми, столяр | R42: оператор відеонагляду, 7 років Права - | S42: одружений | T42: дружина: Денисенко Людмила Сергіївна, 1992, м. Суми, вул. Друга Замостянська, буд. 82, 0953130945 | U42: 0508008954 | AB42: ні | AE42: II Rh + | AF42: Резерв КДШВ | AG42: =IF(AND(INT(YEARFRAC(#REF!,TODAY()))>=25,INT(YEARFRAC(#REF!,TODAY()))<=35),INT(YEARFRAC(#REF!,TODAY())),"") -> #REF! | AH42: =IF(AND(INT(YEARFRAC(#REF!,TODAY()))>=36,INT(YEARFRAC(#REF!,TODAY()))<=45),INT(YEARFRAC(#REF!,TODAY())),"") -> #REF! | AI42: =IF(AND(INT(YEARFRAC(#REF!,TODAY()))>=46,INT(YEARFRAC(#REF!,TODAY()))<=50),INT(YEARFRAC(#REF!,TODAY())),"") -> #REF!
A43: 466 | B43: 46079 | C43: 6 | D43: солдат | E43: ДЕРЕВЛЮК Сергій Степанович | F43: {=_xlfn.TEXTSPLIT(E43," ")} -> ДЕРЕВЛЮК | G43: Сергій | H43: Степанович | I43: Деснянським РТЦК та СП у Київській області | J43: 09.10.1975 | K43: 2767516699 | L43: АГ 606569 | M43: 009085361 8029 01.05.2023 | N43: Київська обл., Васильківський р-н., с. Барахти | O43: м. Київ, Бережанська, буд. 12, кв. 46 | P43: базова загальна середня | Q43: Київська ЗОШ №74 | R43: склопакети, 3 роки Права - | S43: не одружений | T43: брат: Деревлюк Віктор Степанович, 1982, м. Київ, Бережанська, буд. 12, кв. 46, 0734737591 | U43: 0731557234 | V43: 100 915А | W43: курсант | X43: 100 | Z43: 46079 | AA43: № 60 | AB43: =IF(E43="","",IF(V43="","ні","так")) -> так | AC43: 46077 | AD43: Придатний до військової служби | AG43: =IF(AND(INT(YEARFRAC(#REF!,TODAY()))>=25,INT(YEARFRAC(#REF!,TODAY()))<=35),INT(YEARFRAC(#REF!,TODAY())),"") -> #REF! | AH43: =IF(AND(INT(YEARFRAC(#REF!,TODAY()))>=36,INT(YEARFRAC(#REF!,TODAY()))<=45),INT(YEARFRAC(#REF!,TODAY())),"") -> #REF! | AI43: =IF(AND(INT(YEARFRAC(#REF!,TODAY()))>=46,INT(YEARFRAC(#REF!,TODAY()))<=50),INT(YEARFRAC(#REF!,TODAY())),"") -> #REF!
A44: 239 | B44: 46077 | C44: 5 | D44: солдат | E44: ДЕРКАЧ Антон Олександрович | F44: {=_xlfn.TEXTSPLIT(E44," ")} -> ДЕРКАЧ | G44: Антон | H44: Олександрович | I44: Прилуцьким РТЦК та СП у Чернігівській області | J44: 20.04.1988 | K44: 3225211077 | L44: АГ 634946 | N44: Чернігівська обл., Прилуки | O44: Чернігівська обл., Прилуки, вул. Переяслівська, буд. 10, кв. 9 | P44: середня спеціальна | Q44: ПТУ, Прилуки, 2007, електрогазозварювальник | R44: водій електронавантажувач, 14 років, комірник, 14 років Права - | S44: одружений | T44: мати: Деркач Любов Борисівна, 1962, м. Київ | U44: 0668325680 | W44: курсант | X44: 100 | Z44: 46077 | AA44: № 58 | AB44: =IF(E44="","",IF(V44="","ні","так")) -> ні | AC44: 46077 | AD44: Придатний до військової служби | AG44: =IF(AND(INT(YEARFRAC(#REF!,TODAY()))>=25,INT(YEARFRAC(#REF!,TODAY()))<=35),INT(YEARFRAC(#REF!,TODAY())),"") -> #REF! | AH44: =IF(AND(INT(YEARFRAC(#REF!,TODAY()))>=36,INT(YEARFRAC(#REF!,TODAY()))<=45),INT(YEARFRAC(#REF!,TODAY())),"") -> #REF! | AI44: =IF(AND(INT(YEARFRAC(#REF!,TODAY()))>=46,INT(YEARFRAC(#REF!,TODAY()))<=50),INT(YEARFRAC(#REF!,TODAY())),"") -> #REF!
A45: 1/2421 | B45: 46077 | C45: 1 | D45: солдат | E45: ДРИГА Сергій Олександрович | F45: {=_xlfn.TEXTSPLIT(E45," ")} -> ДРИГА | G45: Сергій | H45: Олександрович | I45: Ніжинським РТЦК та СП у Чернігівській області | J45: 08.12.1986 | K45: 3175313158 | N45: Полтавська обл. Кобилянський р-н., с. Бутенки | O45: Полтавська обл. Кобилянський р-н., с. Вишневе, вул. Гоголя, буд. 10 | P45: повна загальна середня | Q45: Бутенська ЗОШ | R45: Дорожний робітник, 4 роки Права - | S45: не одружений | T45: мати: Дрига Марія Олексіївна, 1961, Полтавська обл. Кобилянський р-н., с. Бутенки, вул. Набережна, буд. 45, 0994590369 | U45: 0997810722 | W45: курсант | X45: 100 | Z45: 46077 | AA45: № 58 | AB45: =IF(E45="","",IF(V45="","ні","так")) -> ні | AC45: 46077 | AD45: Придатний до військової служби | AE45: I Rh + | AG45: =IF(AND(INT(YEARFRAC(#REF!,TODAY()))>=25,INT(YEARFRAC(#REF!,TODAY()))<=35),INT(YEARFRAC(#REF!,TODAY())),"") -> #REF! | AH45: =IF(AND(INT(YEARFRAC(#REF!,TODAY()))>=36,INT(YEARFRAC(#REF!,TODAY()))<=45),INT(YEARFRAC(#REF!,TODAY())),"") -> #REF! | AI45: =IF(AND(INT(YEARFRAC(#REF!,TODAY()))>=46,INT(YEARFRAC(#REF!,TODAY()))<=50),INT(YEARFRAC(#REF!,TODAY())),"") -> #REF!
D46: солдат | E46: ЄРМАКОВ Дмитро Олександрович | F46: {=_xlfn.TEXTSPLIT(E46," ")} -> ЄРМАКОВ | G46: Дмитро | H46: Олександрович | I46: Дніпровським РТЦК та СП у Дніпропетровській області | J46: 26.12.1976 | N46: м. Дніпро | O46: Дніпропетровська обл. смт. Підгороднє, вул. Залізнична, буд. 8 | P46: повна загальна середня | Q46: ПСШ №2, Підгороднє | R46: Міліція, 3 роки Водій, 15 років Права A, B,C, D, E | S46: одружений | T46: дружина: Волошко Надія Миколаївна, 1978, Дніпропетровська обл. смт. Підгороднє, вул. Залізнична, буд. 8 | U46: 0989854651 | AB46: =IF(E46="","",IF(V46="","ні","так")) -> ні | AE46: I Rh +
A47: 2584 | B47: 46080 | C47: 6 | D47: старший солдат | E47: ЖЕРЕБЦОВ Данило Вадимович | F47: {=_xlfn.TEXTSPLIT(E47," ")} -> ЖЕРЕБЦОВ | G47: Данило | H47: Вадимович | I47: Житомирського ОМТЦК та СП у Житомирській області | J47: 26.11.1997 | K47: 3575904092 | L47: АВ 381840 | M47: 009028574 1237 17.04.2023 | N47: Дніпропетровська обл., м. Тернівка | O47: м. Житомир, вул. Ю. Вороного, буд. 5, кв. 58 | P47: професійно- технічна | Q47: Тернівський проф. гірничий ліцей, 2017, електрослсар-підземний | R47: Електрослсар-підземний, 9 років, Права: А, В | S47: одружений | T47: дружина: Жеребцова Евеліна Олександрівна, м. Житомир, вул. Ю. Вороного, буд. 5, кв. 58, 0505033165 | U47: 0999402691 | V47: 100868 | W47: курсант | X47: 100 | Z47: 46080 | AA47: № 61 | AB47: =IF(E47="","",IF(V47="","ні","так")) -> так | AC47: 46080 | AD47: Придатний до служби у військових частинах забезпечення, ТЦК та СП, ВВНЗ, навчальних центрах, закладах (установах), медичних підрозділах, підрозділах логістики, зв'язку, оперативного забезпечення, охорони | AE47: II Rh - | AF47: А2900 по розподілу 1НБ діловод | AG47: =IF(AND(INT(YEARFRAC(#REF!,TODAY()))>=25,INT(YEARFRAC(#REF!,TODAY()))<=35),INT(YEARFRAC(#REF!,TODAY())),"") -> #REF! | AH47: =IF(AND(INT(YEARFRAC(#REF!,TODAY()))>=36,INT(YEARFRAC(#REF!,TODAY()))<=45),INT(YEARFRAC(#REF!,TODAY())),"") -> #REF! | AI47: =IF(AND(INT(YEARFRAC(#REF!,TODAY()))>=46,INT(YEARFRAC(#REF!,TODAY()))<=50),INT(YEARFRAC(#REF!,TODAY())),"") -> #REF!
B48: 46075 | C48: 31 | D48: солдат | E48: ЗАБАЙРАЧНИЙ Антон Валерійович | F48: {=_xlfn.TEXTSPLIT(E48," ")} -> ЗАБАЙРАЧНИЙ | G48: Антон | H48: Валерійович | I48: Сумським МТЦК та СП у Сумській області | J48: 19.05.1989 | K48: 3264613873 | L48: АВ 949421 | M48: ЕН 435216 Северодонецьким МВУМВС України в Луганській обл. 23.07.2005 | N48: м. Суми | O48: м. Суми, площа Пришибська б.16, кв.8а | P48: повна загальна середня | Q48: МВК №7,м. Суми,2004, | R48: бізнесмен | S48: не одружений | T48: мати: Забайрачна Ольга Анатоліївна - 1965 - Чехія | U48: 0994827403 | AB48: ні | AE48: II Rh + | AF48: Резерв КДШВ | AG48: =IF(AND(INT(YEARFRAC(#REF!,TODAY()))>=25,INT(YEARFRAC(#REF!,TODAY()))<=35),INT(YEARFRAC(#REF!,TODAY())),"") -> #REF! | AH48: =IF(AND(INT(YEARFRAC(#REF!,TODAY()))>=36,INT(YEARFRAC(#REF!,TODAY()))<=45),INT(YEARFRAC(#REF!,TODAY())),"") -> #REF! | AI48: =IF(AND(INT(YEARFRAC(#REF!,TODAY()))>=46,INT(YEARFRAC(#REF!,TODAY()))<=50),INT(YEARFRAC(#REF!,TODAY())),"") -> #REF!
A49: 1/2364 | B49: 46076 | C49: 1 | D49: солдат | E49: ЗАЇКА Віталій Олександрович | F49: {=_xlfn.TEXTSPLIT(E49," ")} -> ЗАЇКА | G49: Віталій | H49: Олександрович | I49: Ніжинським РТЦК та СП у Чернігівській області | J49: 05.07.1980 | K49: 2940603255 | L49: АВ 883684 | N49: Чернігівська обл., Бахмацький р-н., с. Щуча-Гребля | O49: Чернігівська обл., Ніжинський р-н., м. Бобровиця, вул. Святкова, буд. 6 | P49: професійно- технічна | Q49: Бобровицький ДСГТ, 2000, агроном | R49: слюсар, 2 роки оператор крупʼяного виробництва, 10 років Технік склада, 6 років Права - | S49: не одружений | T49: мати: Заїка Валентина Миколаївна, 1960, Чернігівська обл., Ніжинський р-н., м. Бобровиця, вул. Чергігівська, буд. 9а, кв. 10 | U49: 0681939861 | W49: курсант | X49: 100 | Z49: 46076 | AA49: № 57 | AB49: =IF(E49="","",IF(V49="","ні","так")) -> ні | AC49: 46076 | AD49: Придатний до військової служби | AE49: I Rh + | AG49: =IF(AND(INT(YEARFRAC(#REF!,TODAY()))>=25,INT(YEARFRAC(#REF!,TODAY()))<=35),INT(YEARFRAC(#REF!,TODAY())),"") -> #REF! | AH49: =IF(AND(INT(YEARFRAC(#REF!,TODAY()))>=36,INT(YEARFRAC(#REF!,TODAY()))<=45),INT(YEARFRAC(#REF!,TODAY())),"") -> #REF! | AI49: =IF(AND(INT(YEARFRAC(#REF!,TODAY()))>=46,INT(YEARFRAC(#REF!,TODAY()))<=50),INT(YEARFRAC(#REF!,TODAY())),"") -> #REF!
B50: 46074 | C50: 40 | D50: солдат | E50: ЗВАДА Микита Іванович | F50: {=_xlfn.TEXTSPLIT(E50," ")} -> ЗВАДА | G50: Микита | H50: Іванович | I50: Сумським МТЦК та СП у Сумській області | J50: 15.01.2001 | K50: 3690507477 | L50: АВ 949418 | M50: 006012577 виданий 5922 23.04.2021 | N50: м. Санкт- Петербург | O50: Сумська обл., Роменський р-н, с Вільшана, вул. Озерна 55 | P50: повна загальна середня | Q50: Вільшанська ЗОШ,Сумська обл., с.Вільшана,2017 | R50: водій кат В,С | S50: не одружений | T50: батько: Звада Іван Михайлович - 1968 - 0500662946, Сумська обл., Роменський р-н, с Вільшана, вул. Озерна 55 | U50: 0683586538 | AB50: ні | AE50: I Rh + | AF50: Резерв КДШВ | AG50: =IF(AND(INT(YEARFRAC(#REF!,TODAY()))>=25,INT(YEARFRAC(#REF!,TODAY()))<=35),INT(YEARFRAC(#REF!,TODAY())),"") -> #REF! | AH50: =IF(AND(INT(YEARFRAC(#REF!,TODAY()))>=36,INT(YEARFRAC(#REF!,TODAY()))<=45),INT(YEARFRAC(#REF!,TODAY())),"") -> #REF! | AI50: =IF(AND(INT(YEARFRAC(#REF!,TODAY()))>=46,INT(YEARFRAC(#REF!,TODAY()))<=50),INT(YEARFRAC(#REF!,TODAY())),"") -> #REF!
A51: 11/3193 | B51: 46078 | C51: 4 | D51: солдат | E51: ЗВЯГІНЦЕВ Вадим Сергійович | F51: {=_xlfn.TEXTSPLIT(E51," ")} -> ЗВЯГІНЦЕВ | G51: Вадим | H51: Сергійович | I51: Подільським РТЦК та СП у Київській області | J51: 19.05.1990 | K51: 3301112235 | L51: АГ 605685 | M51: СМ 828673 | N51: Київська обл. Бучанський р-н., смт. Коцюбинське | O51: Київська обл. Бучанський р-н., смт. Коцюбинське, вул. Пономарьова, кв. 78 | P51: професійно- технічна | Q51: Київський проф. коледж ім. А. Макаренка, 2010, правознавство | R51: водій, 10 років, кладовщик, 6 років Права В | S51: одружений | T51: дружина: Звягінцева Катерина Сергіївна, 1992, Київська обл. Бучанський р-н., смт. Коцюбинське, вул. Пономарьова, кв. 78, 0684331879 | U51: 0636364510 | W51: курсант | X51: 100 | Z51: 46078 | AA51: № 59 | AB51: =IF(E51="","",IF(V51="","ні","так")) -> ні | AC51: 46078 | AD51: Придатний до військової служби | AG51: =IF(AND(INT(YEARFRAC(#REF!,TODAY()))>=25,INT(YEARFRAC(#REF!,TODAY()))<=35),INT(YEARFRAC(#REF!,TODAY())),"") -> #REF! | AH51: =IF(AND(INT(YEARFRAC(#REF!,TODAY()))>=36,INT(YEARFRAC(#REF!,TODAY()))<=45),INT(YEARFRAC(#REF!,TODAY())),"") -> #REF! | AI51: =IF(AND(INT(YEARFRAC(#REF!,TODAY()))>=46,INT(YEARFRAC(#REF!,TODAY()))<=50),INT(YEARFRAC(#REF!,TODAY())),"") -> #REF!
A52: 260228-7 | B52: 46081 | C52: 6 | D52: солдат | E52: ЗУБКО Андрій Валерійович | F52: {=_xlfn.TEXTSPLIT(E52," ")} -> ЗУБКО | G52: Андрій | H52: Валерійович | I52: Солом'янським РТЦК та СП у Київській області | J52: 17.11.2000 | K52: 3684602658 | L52: АГ 629882 | M52: СЮ 439586 | N52: Запорізька обл. Кам'янсько-Дніпровський р-н, с. Водяне | O52: м. Київ, вул. Залізнична, буд. 34, кв. 112 | P52: вища | Q52: ХАІ, 2022, авіаційна та ракетна проекційна техніка | R52: інженер з міцності, 4 роки Права В | S52: одружений | T52: Тітка: Уварова Людмила Григорівна, 0675255951 | U52: 0687091749 | W52: курсант | X52: 100 | Z52: 46081 | AA52: № 62 | AB52: =IF(E52="","",IF(V52="","ні","так")) -> ні | AC52: 46081 | AD52: Придатний до військової служби | AE52: II Rh + | AF52: А3316 по розподілу рекомендаційний лист | AG52: =IF(AND(INT(YEARFRAC(#REF!,TODAY()))>=25,INT(YEARFRAC(#REF!,TODAY()))<=35),INT(YEARFRAC(#REF!,TODAY())),"") -> #REF! | AH52: =IF(AND(INT(YEARFRAC(#REF!,TODAY()))>=36,INT(YEARFRAC(#REF!,TODAY()))<=45),INT(YEARFRAC(#REF!,TODAY())),"") -> #REF! | AI52: =IF(AND(INT(YEARFRAC(#REF!,TODAY()))>=46,INT(YEARFRAC(#REF!,TODAY()))<=50),INT(YEARFRAC(#REF!,TODAY())),"") -> #REF!
B53: 46076 | C53: 16 | D53: солдат | E53: КАЛЬЧЕНКО Олександр Іванович | F53: {=_xlfn.TEXTSPLIT(E53," ")} -> КАЛЬЧЕНКО | G53: Олександр | H53: Іванович | I53: Сумським МТЦК та СП у Сумській області | J53: 25.01.1980 | K53: 2924420790 | L53: АВ 967887 | N53: Сумська обл., м. Білопілля | O53: м. Суми, вул. Харківська, буд. 28/1, кв. 46 | P53: вища | Q53: АМСУ, м. Дніпро, 2009, облік, аудит, правознавство | R53: інспектор митниці, 14 років ФОП, 8 років Права В | S53: одружений | T53: дружина: Кальченко Вікторія Володимирівна, м. Суми, пр. Перемоги, буд. 51, кв. 132, 0958425595 | U53: 0675997775 | AB53: ні | AE53: II Rh + | AF53: Резерв КДШВ | AG53: =IF(AND(INT(YEARFRAC(#REF!,TODAY()))>=25,INT(YEARFRAC(#REF!,TODAY()))<=35),INT(YEARFRAC(#REF!,TODAY())),"") -> #REF! | AH53: =IF(AND(INT(YEARFRAC(#REF!,TODAY()))>=36,INT(YEARFRAC(#REF!,TODAY()))<=45),INT(YEARFRAC(#REF!,TODAY())),"") -> #REF! | AI53: =IF(AND(INT(YEARFRAC(#REF!,TODAY()))>=46,INT(YEARFRAC(#REF!,TODAY()))<=50),INT(YEARFRAC(#REF!,TODAY())),"") -> #REF!
A54: 1376 | B54: 46079 | C54: 7 | D54: солдат | E54: КАМІНСЬКИЙ Андрій Михайлович | F54: {=_xlfn.TEXTSPLIT(E54," ")} -> КАМІНСЬКИЙ | G54: Андрій | H54: Михайлович | I54: Хмільницьким РТЦК та СП у Вінницькій області | J54: 17.12.1996 | K54: 3541511375 | L54: АГ 574999 | M54: АТ 021347 Ленінським РВ УПМС України у Вінницькій області 17.01.2013 | N54: Вінницька обл., Вінницький р-н., с. Пултівці | O54: м. Вінниця, вул. Пирогова, буд. 103а, кв. 157 | P54: повна загальна середня | Q54: Гімназія №1, Медичний коледж ім. Д.К. Заболотного, м. Вінниця, 2016 | R54: комплектувальник, 3 роки, Права - | S54: одружений | T54: дружина: Камінська Валентина Петрівна, 1998, м. Вінниця, вул. Пирогова, буд. 103а, кв. 157, 0501442286 | U54: 0933511962 | W54: курсант | X54: 100 | Z54: 46079 | AA54: № 60 | AB54: =IF(E54="","",IF(V54="","ні","так")) -> ні | AC54: 46079 | AD54: Придатний до військової служби | AE54: III Rh + | AG54: =IF(AND(INT(YEARFRAC(#REF!,TODAY()))>=25,INT(YEARFRAC(#REF!,TODAY()))<=35),INT(YEARFRAC(#REF!,TODAY())),"") -> #REF! | AH54: =IF(AND(INT(YEARFRAC(#REF!,TODAY()))>=36,INT(YEARFRAC(#REF!,TODAY()))<=45),INT(YEARFRAC(#REF!,TODAY())),"") -> #REF! | AI54: =IF(AND(INT(YEARFRAC(#REF!,TODAY()))>=46,INT(YEARFRAC(#REF!,TODAY()))<=50),INT(YEARFRAC(#REF!,TODAY())),"") -> #REF!
A55: 11/1553 | B55: 46078 | C55: 5 | D55: солдат | E55: КАТЕРУША Ярослав Ігорович | F55: {=_xlfn.TEXTSPLIT(E55," ")} -> КАТЕРУША | G55: Ярослав | H55: Ігорович | I55: Шевченківським РТЦК та СП у Київській області | J55: 06.07.1996 | K55: 3525107076 | L55: довідка | M55: НЕ 670190 Городищенським РС УДМС УКР в Черкаській обл 12.09.2012 | N55: Черкаська обл., Черкаський р-н, м. Городище | O55: Черкаська обл., Черкаський р-н, м. Городище, вул. Миру, буд. 56, кв. 10 | P55: вища | Q55: Київський національний лінгвістичний університет, 2018, філологія (мова та література англійська) | R55: менеджер з продажів, 3 роки перекладач, 8 років Права В | S55: не одружений | T55: мати: Яременко Ольга Вікторівна, 1973, Черкаська обл., Черкаський р-н, м. Городище, вул. Миру, буд. 56, кв. 10, 0983966889 | U55: 0733474748 | W55: курсант | X55: 100 | Z55: 46078 | AA55: № 59 | AB55: =IF(E55="","",IF(V55="","ні","так")) -> ні | AC55: 46078 | AD55: Придатний до військової служби | AF55: А3316 по розподілу рекомендаційний лист!!! | AG55: =IF(AND(INT(YEARFRAC(#REF!,TODAY()))>=25,INT(YEARFRAC(#REF!,TODAY()))<=35),INT(YEARFRAC(#REF!,TODAY())),"") -> #REF! | AH55: =IF(AND(INT(YEARFRAC(#REF!,TODAY()))>=36,INT(YEARFRAC(#REF!,TODAY()))<=45),INT(YEARFRAC(#REF!,TODAY())),"") -> #REF! | AI55: =IF(AND(INT(YEARFRAC(#REF!,TODAY()))>=46,INT(YEARFRAC(#REF!,TODAY()))<=50),INT(YEARFRAC(#REF!,TODAY())),"") -> #REF!
A56: 10/590 | B56: 46076 | C56: 7 | D56: солдат | E56: КАЧУРА Олексій Олександрович | F56: {=_xlfn.TEXTSPLIT(E56," ")} -> КАЧУРА | G56: Олексій | H56: Олександрович | I56: Чернігівським МТЦК та СП у Чернігівській області | J56: 01.03.1998 | K56: 3585404453 | L56: 011220221358641100104/1 | N56: м. Чернігів | O56: м. Чернігів, просп. Миру, буд. 201б, кв. 20 | P56: вища | Q56: Чернігівський педагогічний університет, 2021, фізичне виховання, хореографія | R56: Тренер із спортивних бальних танців, 22 роки Права - | S56: не одружений | T56: мати: Качура Оксана Валеріївна, 1974, м. Чернігів, просп. Миру, буд. 201б, кв. 20, 0509957275 | U56: 0664746771 | W56: курсант | X56: 100 | Z56: 46076 | AA56: № 57 | AB56: =IF(E56="","",IF(V56="","ні","так")) -> ні | AC56: 46076 | AD56: Придатний до військової служби | AG56: =IF(AND(INT(YEARFRAC(#REF!,TODAY()))>=25,INT(YEARFRAC(#REF!,TODAY()))<=35),INT(YEARFRAC(#REF!,TODAY())),"") -> #REF! | AH56: =IF(AND(INT(YEARFRAC(#REF!,TODAY()))>=36,INT(YEARFRAC(#REF!,TODAY()))<=45),INT(YEARFRAC(#REF!,TODAY())),"") -> #REF! | AI56: =IF(AND(INT(YEARFRAC(#REF!,TODAY()))>=46,INT(YEARFRAC(#REF!,TODAY()))<=50),INT(YEARFRAC(#REF!,TODAY())),"") -> #REF!
B57: 46080 | C57: 20 | D57: солдат | E57: КВАША Сергій Анатолійович | F57: {=_xlfn.TEXTSPLIT(E57," ")} -> КВАША | G57: Сергій | H57: Анатолійович | I57: Роменським РТЦК та СП у Сумської області | J57: 03.03.1990 | K57: 3293410951 | L57: СО 728605 | M57: МВ 341636 Роменським МРВУМВС України в Сумській обл., 10.01.2007 | N57: Сумська обл., Роменський р-н., с. Анастасівка | O57: Сумська обл., Роменський р-н., с. Анастасівка, вул. Паркова, буд. 6 | P57: професійно- технічна | Q57: Глинське ПТУ, 2009, слюсар, зварювальник | R57: доглядач за тваринами, 6 років Права - | S57: не одружений | T57: мати: Кваша Надія Іванівна, 1964, Сумська обл., Роменський р-н., с. Анастасівка, вул. Паркова, буд. 6, 0987449092 | U57: 0686718122 | AB57: ні | AE57: II Rh + | AF57: Резерв КДШВ | AG57: =IF(AND(INT(YEARFRAC(#REF!,TODAY()))>=25,INT(YEARFRAC(#REF!,TODAY()))<=35),INT(YEARFRAC(#REF!,TODAY())),"") -> #REF! | AH57: =IF(AND(INT(YEARFRAC(#REF!,TODAY()))>=36,INT(YEARFRAC(#REF!,TODAY()))<=45),INT(YEARFRAC(#REF!,TODAY())),"") -> #REF! | AI57: =IF(AND(INT(YEARFRAC(#REF!,TODAY()))>=46,INT(YEARFRAC(#REF!,TODAY()))<=50),INT(YEARFRAC(#REF!,TODAY())),"") -> #REF!
B58: 46077 | C58: 26 | D58: солдат | E58: КЛИМЕНЧЕНКО Максим Анатолійович | F58: {=_xlfn.TEXTSPLIT(E58," ")} -> КЛИМЕНЧЕНКО | G58: Максим | H58: Анатолійович | I58: Шосткинським РТЦК та СП у Сумській області | J58: 04.01.1990 | K58: 3287611732 | L58: АВ 967980 | M58: МВ 302722 Глухівським МРВ УМВС України в Сумській обл. 07.07.2006 | N58: Сумська обл., м. Глухів | O58: Сумська обл., м. Глухів.ю вул. Франка, буд. 39 | P58: професійно- технічна | Q58: ПТУ, м. Глухів, муляр, печник, штукатур | R58: слюсар, 9 років Права - | S58: не одружений | T58: мати: Клименченко Інна Петрівна, 1972, Сумська обл., м. Глухів.ю вул. Франка, буд. 39, 0956028336 | U58: 0667570803 | AB58: ні | AE58: I Rh + | AF58: Резерв КДШВ | AG58: =IF(AND(INT(YEARFRAC(#REF!,TODAY()))>=25,INT(YEARFRAC(#REF!,TODAY()))<=35),INT(YEARFRAC(#REF!,TODAY())),"") -> #REF! | AH58: =IF(AND(INT(YEARFRAC(#REF!,TODAY()))>=36,INT(YEARFRAC(#REF!,TODAY()))<=45),INT(YEARFRAC(#REF!,TODAY())),"") -> #REF! | AI58: =IF(AND(INT(YEARFRAC(#REF!,TODAY()))>=46,INT(YEARFRAC(#REF!,TODAY()))<=50),INT(YEARFRAC(#REF!,TODAY())),"") -> #REF!
B59: 46077 | C59: 28 | D59: солдат | E59: КНЯЗЄВ Олексадр Олексійович | F59: {=_xlfn.TEXTSPLIT(E59," ")} -> КНЯЗЄВ | G59: Олексадр | H59: Олексійович | I59: Сумським РтЦК та СП у Сумській області | J59: 10.01.1984 | K59: 3069007313 | L59: МО 533842 | M59: МВ 580136 Лебединським МСУДМС України в Сумській обл., 18.03.2015 | N59: Сумська обл., Сумський р-й, с.Першотравневе | O59: м. Лебедин, вул. Капранів б.24, Сумська обл. | P59: професійно- технічна | Q59: ПТУ34, 2002, будівельник | R59: будівельник, кат.В | S59: одружений | T59: дружина Князєва Анна Миколаївна - 1990 - 0988266864 | U59: 0984312805 | AB59: ні | AE59: I Rh + | AF59: Резерв КДШВ | AG59: =IF(AND(INT(YEARFRAC(#REF!,TODAY()))>=25,INT(YEARFRAC(#REF!,TODAY()))<=35),INT(YEARFRAC(#REF!,TODAY())),"") -> #REF! | AH59: =IF(AND(INT(YEARFRAC(#REF!,TODAY()))>=36,INT(YEARFRAC(#REF!,TODAY()))<=45),INT(YEARFRAC(#REF!,TODAY())),"") -> #REF! | AI59: =IF(AND(INT(YEARFRAC(#REF!,TODAY()))>=46,INT(YEARFRAC(#REF!,TODAY()))<=50),INT(YEARFRAC(#REF!,TODAY())),"") -> #REF!
A60: 2611 | B60: 46081 | C60: 7 | D60: солдат | E60: КОВАЛЕНКО Анатолій Григорович | F60: {=_xlfn.TEXTSPLIT(E60," ")} -> КОВАЛЕНКО | G60: Анатолій | H60: Григорович | I60: Житомирським РТЦК та СП у Житомирській області | J60: 21.12.1980 | K60: 2957514658 | L60: АВ 960033 | M60: ВМ 531816 Корольовським РВ УМВС України в Житомирській області 04.04.1998 | N60: м. Житомир | O60: м. Житомир, вул. Володимира Гнатюка, буд. 30, кв. 309 | P60: професійно- технічна | Q60: ПТУ №17,м. Житомир,1999,автослюсар-водій | R60: слюсар - 20р Права B, C | S60: одружений | T60: дружина: Коваленко Оксана Вікторівна - 1982 - 0963146316 - м. Житомир, пров. Соломії Крушельницької, буд. 6 | U60: 0963148587 | W60: курсант | X60: 100 | Z60: 46081 | AA60: № 62 | AB60: =IF(E60="","",IF(V60="","ні","так")) -> ні | AC60: 46081 | AD60: Придатний до військової служби | AE60: II Rh + | AG60: =IF(AND(INT(YEARFRAC(#REF!,TODAY()))>=25,INT(YEARFRAC(#REF!,TODAY()))<=35),INT(YEARFRAC(#REF!,TODAY())),"") -> #REF! | AH60: =IF(AND(INT(YEARFRAC(#REF!,TODAY()))>=36,INT(YEARFRAC(#REF!,TODAY()))<=45),INT(YEARFRAC(#REF!,TODAY())),"") -> #REF! | AI60: =IF(AND(INT(YEARFRAC(#REF!,TODAY()))>=46,INT(YEARFRAC(#REF!,TODAY()))<=50),INT(YEARFRAC(#REF!,TODAY())),"") -> #REF!
A61: 260228-7 | B61: 46081 | C61: 8 | D61: солдат | E61: КОВАЛЕНКО Дмитро Валентинович | F61: {=_xlfn.TEXTSPLIT(E61," ")} -> КОВАЛЕНКО | G61: Дмитро | H61: Валентинович | I61: Солом'янським РТЦК та СП у Київській області | J61: 29.10.1984 | K61: 3098314219 | L61: АГ 629884 | M61: 004120993 8026 28.10.2019 | N61: м. Київ | O61: м. Київ, просп. Червоної Калини, буд. 22а, кв. 114 | P61: повна загальна середня | Q61: ЗОШ №238,м. Київ,2001 | R61: бухгалтер - 6р промоутер реклами - 10р | S61: не одружений | T61: мати: Коваленко Лариса Євгеновна - 1960 - 0630463778, м. Київ просп. Червоної Калини, буд. 22а, кв. 114 | U61: 0930344674 | W61: курсант | X61: 100 | Z61: 46081 | AA61: № 62 | AB61: =IF(E61="","",IF(V61="","ні","так")) -> ні | AC61: 46081 | AD61: Придатний до військової служби | AE61: IV Rh + | AG61: =IF(AND(INT(YEARFRAC(#REF!,TODAY()))>=25,INT(YEARFRAC(#REF!,TODAY()))<=35),INT(YEARFRAC(#REF!,TODAY())),"") -> #REF! | AH61: =IF(AND(INT(YEARFRAC(#REF!,TODAY()))>=36,INT(YEARFRAC(#REF!,TODAY()))<=45),INT(YEARFRAC(#REF!,TODAY())),"") -> #REF! | AI61: =IF(AND(INT(YEARFRAC(#REF!,TODAY()))>=46,INT(YEARFRAC(#REF!,TODAY()))<=50),INT(YEARFRAC(#REF!,TODAY())),"") -> #REF!
A62: 620/МВ | B62: 46081 | C62: 9 | D62: солдат | E62: КОВАЛЕНКО Олег Андрійович | F62: {=_xlfn.TEXTSPLIT(E62," ")} -> КОВАЛЕНКО | G62: Олег | H62: Андрійович | I62: Оболонським РТЦК та СП у Київській області | J62: 17.05.1993 | K62: 3410506256 | L62: 040520250688132901083/1 | M62: МР 295449 | N62: м. Херсон | O62: м. Київ, просп. Оболонський, буд. 28б | P62: вища | Q62: ХДПУ, 2019, тренер | R62: менеджер басейну, тренер з плавання, 15 років Права - | S62: одружений | T62: дружина: Коваленко Катерина Андріївна, 1994, м. Київ, просп. Оболонський, буд. 28б, 0508486881 | U62: 0990928972 | W62: курсант | X62: 100 | Z62: 46081 | AA62: № 62 | AB62: =IF(E62="","",IF(V62="","ні","так")) -> ні | AC62: 46081 | AD62: Придатний до військової служби | AE62: II Rh - | AG62: =IF(AND(INT(YEARFRAC(#REF!,TODAY()))>=25,INT(YEARFRAC(#REF!,TODAY()))<=35),INT(YEARFRAC(#REF!,TODAY())),"") -> #REF! | AH62: =IF(AND(INT(YEARFRAC(#REF!,TODAY()))>=36,INT(YEARFRAC(#REF!,TODAY()))<=45),INT(YEARFRAC(#REF!,TODAY())),"") -> #REF! | AI62: =IF(AND(INT(YEARFRAC(#REF!,TODAY()))>=46,INT(YEARFRAC(#REF!,TODAY()))<=50),INT(YEARFRAC(#REF!,TODAY())),"") -> #REF!
A63: 1379 | B63: 46079 | C63: 8 | D63: солдат | E63: КОВАЛЬ Сергій Степанович | F63: {=_xlfn.TEXTSPLIT(E63," ")} -> КОВАЛЬ | G63: Сергій | H63: Степанович | I63: Хмільницьким РТЦК та СП у Вінницькій області | J63: 09.09.1982 | K63: 3020225699 | L63: АГ 574997 | M63: АТ 170876 Хмільницьким РС УДМС УКР в Вінницькій обл 27.10.2016 | N63: Вінницька обл., Хмільницький р-н., с. Вербівка | O63: Вінницька обл., Хмільницький р-н., с. Вербівка, вул. Космонавтів, буд. 48 | P63: базова загальна середня | Q63: Хмільницька ЗОШ №4 | R63: автослюсар, 12 років | S63: не одружений | T63: сестра: Коваль Леся Степанівна, 1978, Вінницька обл., Хмільницький р-н., с. Вербівка, вул. Космонавтів, буд. 48, 0682159607 | U63: 0681797617 | W63: курсант | X63: 100 | Z63: 46079 | AA63: № 60 | AB63: =IF(E63="","",IF(V63="","ні","так")) -> ні | AC63: 46078 | AD63: Придатний до військової служби | AG63: =IF(AND(INT(YEARFRAC(#REF!,TODAY()))>=25,INT(YEARFRAC(#REF!,TODAY()))<=35),INT(YEARFRAC(#REF!,TODAY())),"") -> #REF! | AH63: =IF(AND(INT(YEARFRAC(#REF!,TODAY()))>=36,INT(YEARFRAC(#REF!,TODAY()))<=45),INT(YEARFRAC(#REF!,TODAY())),"") -> #REF! | AI63: =IF(AND(INT(YEARFRAC(#REF!,TODAY()))>=46,INT(YEARFRAC(#REF!,TODAY()))<=50),INT(YEARFRAC(#REF!,TODAY())),"") -> #REF!
B64: 46084 | C64: 16 | D64: солдат | E64: КОВАЛЬОВ Владислав Віталійович | F64: {=_xlfn.TEXTSPLIT(E64," ")} -> КОВАЛЬОВ | G64: Владислав | H64: Віталійович | I64: Кам'янським РТЦК та СП у Дніпропетровскій області | J64: 16.04.2001 | N64: Дніпровська обл. Дніпропетровський р-н,с. Партизанське | O64: Дніпропетровська обл., Дніпропетровський р-н, с. Балівка, вул. Калинова, буд. 55 | P64: повна загальна середня учіліще | Q64: Професійне технічне учіліще №79 м. Дніпро, 2019, водій сільско-господарських, лісо-господарських машин, слюсар ремонтник 3 разряду | R64: водій, 3,5 року, Права В | S64: не одружений | T64: мати: Головата Юлія Василівна, 13.01.1983, Дніпропетровська обл., Дніпроперовський р-н, с. Балівка, вул. Калинова, буд. 55. | U64: 0664717290 | W64: курсант | X64: 100 | AB64: ні | AC64: 46080 | AD64: Придатний до військової служби | AE64: I Rh + | AF64: А5242 відношення РОТА ОХОРОНИ стрілець зенітник 4 ст., контракт | AG64: =IF(AND(INT(YEARFRAC(#REF!,TODAY()))>=25,INT(YEARFRAC(#REF!,TODAY()))<=35),INT(YEARFRAC(#REF!,TODAY())),"") -> #REF! | AH64: =IF(AND(INT(YEARFRAC(#REF!,TODAY()))>=36,INT(YEARFRAC(#REF!,TODAY()))<=45),INT(YEARFRAC(#REF!,TODAY())),"") -> #REF! | AI64: =IF(AND(INT(YEARFRAC(#REF!,TODAY()))>=46,INT(YEARFRAC(#REF!,TODAY()))<=50),INT(YEARFRAC(#REF!,TODAY())),"") -> #REF!
B65: 46073 | C65: 30 | D65: старший сержант | E65: КОЛОДЧЕНКО Олег Григорович | F65: {=_xlfn.TEXTSPLIT(E65," ")} -> КОЛОДЧЕНКО | G65: Олег | H65: Григорович | I65: Індустріальним РТЦК та СП 20.02.2026 | J65: 10.03.1990 | K65: 3294101893 | L65: СО 621238 | M65: МВ 321644 Великописарівським РВУМВС України в Сумській обл. 25.07.2006 | N65: Сумська обл., Ахтирський р-н, с. Попівка | O65: м. Чугуїв, вул. Піщана 48 | P65: професійно- технічна | Q65: Велекописерівська філія Ахтирскього профліцею, Сумська обл., смт.Велика Писарівка,2008 | R65: війсковий трахторист В,С,С1 | S65: одружений | T65: дружина: Колодченко Єлена Ігорівна - 1989 - 0980437691 - м. Одеса | U65: 0950483028 | AB65: ні | AE65: III Rh + | AF65: Резерв КДШВ | AG65: =IF(AND(INT(YEARFRAC(#REF!,TODAY()))>=25,INT(YEARFRAC(#REF!,TODAY()))<=35),INT(YEARFRAC(#REF!,TODAY())),"") -> #REF! | AH65: =IF(AND(INT(YEARFRAC(#REF!,TODAY()))>=36,INT(YEARFRAC(#REF!,TODAY()))<=45),INT(YEARFRAC(#REF!,TODAY())),"") -> #REF! | AI65: =IF(AND(INT(YEARFRAC(#REF!,TODAY()))>=46,INT(YEARFRAC(#REF!,TODAY()))<=50),INT(YEARFRAC(#REF!,TODAY())),"") -> #REF!
A66: 4/1847/1 | B66: 46076 | C66: 8 | D66: солдат | E66: КОНОВАЛ Євгеній Миколайович | F66: {=_xlfn.TEXTSPLIT(E66," ")} -> КОНОВАЛ | G66: Євгеній | H66: Миколайович | I66: Чернігівським РТЦК та СП у Чернігівській області | J66: 01.06.1984 | K66: 3083303814 | L66: АГ 633620 | N66: Дніппопетровська обл., м. Новомосковськ | O66: Чернігівська обл., Чернігівський р-н., с. Десна, вул. Захисників України, буд. 3, кв. 38 | P66: вища | Q66: Чернігівський інститут економіки та управління, 2007, маркетолог | R66: системний адміністратор, 18 років Права: С | S66: не одружений | T66: батько: Коновал Микола Сергійович, 1953, Чернігівська обл., Чернігівський р-н., с. Десна, вул. Захисників України, буд. 3, кв. 38, 0931987601 | U66: 0937859535 | W66: курсант | X66: 100 | Z66: 46076 | AA66: № 57 | AB66: =IF(E66="","",IF(V66="","ні","так")) -> ні | AC66: 46076 | AD66: Придатний до військової служби | AE66: І RH + | AG66: =IF(AND(INT(YEARFRAC(#REF!,TODAY()))>=25,INT(YEARFRAC(#REF!,TODAY()))<=35),INT(YEARFRAC(#REF!,TODAY())),"") -> #REF! | AH66: =IF(AND(INT(YEARFRAC(#REF!,TODAY()))>=36,INT(YEARFRAC(#REF!,TODAY()))<=45),INT(YEARFRAC(#REF!,TODAY())),"") -> #REF! | AI66: =IF(AND(INT(YEARFRAC(#REF!,TODAY()))>=46,INT(YEARFRAC(#REF!,TODAY()))<=50),INT(YEARFRAC(#REF!,TODAY())),"") -> #REF!
B67: 46077 | C67: 24 | D67: солдат | E67: КОРЕНЄВ Віталій Віталійович | F67: {=_xlfn.TEXTSPLIT(E67," ")} -> КОРЕНЄВ | G67: Віталій | H67: Віталійович | I67: Конотопським РТЦК та СП у Сумській області | J67: 24.02.1989 | K67: 3256220573 | L67: АВ 949492 | M67: закордоний паспорт FM731032 виданий 5901 05.04.2018 | N67: м. Суми | O67: м. Суми, вул. Роменська, буд. 98, кв. 48 | P67: базова загальна середня | Q67: Школа №1, м. Суми | R67: муляр, 19 років Права В | S67: не одружений | T67: батько: Коренєв Віталій Олексійович, 1962, м. Суми, вул. Роменська, буд. 98, кв. 48, 0507243078 | U67: 0661495776 | AB67: ні | AE67: IV Rh - | AF67: Резерв КДШВ | AG67: =IF(AND(INT(YEARFRAC(#REF!,TODAY()))>=25,INT(YEARFRAC(#REF!,TODAY()))<=35),INT(YEARFRAC(#REF!,TODAY())),"") -> #REF! | AH67: =IF(AND(INT(YEARFRAC(#REF!,TODAY()))>=36,INT(YEARFRAC(#REF!,TODAY()))<=45),INT(YEARFRAC(#REF!,TODAY())),"") -> #REF! | AI67: =IF(AND(INT(YEARFRAC(#REF!,TODAY()))>=46,INT(YEARFRAC(#REF!,TODAY()))<=50),INT(YEARFRAC(#REF!,TODAY())),"") -> #REF!
B68: 46080 | C68: 35 | D68: солдат | E68: КОСЕНКО Віталій Якович | F68: {=_xlfn.TEXTSPLIT(E68," ")} -> КОСЕНКО | G68: Віталій | H68: Якович | I68: Сумським МТЦК та СП у Сумській області | J68: 25.10.1994 | K68: 3463112994 | L68: АВ 949438 | M68: 008368296 виданий 5922 21.10.2022 | N68: с. Немудруї, Сумська обл., Роменський р-н | O68: Сумська обл, с. Недригалів, вул. Заболотівка 80 | P68: повна загальна середня | Q68: ПТУ №41,с. Недригалів, Сумська обл.,2013 | R68: водій кат В,С трахторист кат. А1, А2 | S68: не одружений | T68: батько: Косенко Яків Петрович - 1964 - 0500535095, Сумська обл, с. Недригалів, вул. Заболотівка 80 | U68: 0991610466 | AB68: ні | AE68: IV Rh - | AF68: Резерв КДШВ | AG68: =IF(AND(INT(YEARFRAC(#REF!,TODAY()))>=25,INT(YEARFRAC(#REF!,TODAY()))<=35),INT(YEARFRAC(#REF!,TODAY())),"") -> #REF! | AH68: =IF(AND(INT(YEARFRAC(#REF!,TODAY()))>=36,INT(YEARFRAC(#REF!,TODAY()))<=45),INT(YEARFRAC(#REF!,TODAY())),"") -> #REF! | AI68: =IF(AND(INT(YEARFRAC(#REF!,TODAY()))>=46,INT(YEARFRAC(#REF!,TODAY()))<=50),INT(YEARFRAC(#REF!,TODAY())),"") -> #REF!
A69: 466 | B69: 46079 | C69: 9 | D69: солдат | E69: КОСЕНЮК Валерій Анатолійович | F69: {=_xlfn.TEXTSPLIT(E69," ")} -> КОСЕНЮК | G69: Валерій | H69: Анатолійович | I69: Деснянським РТЦК та СП у Київській області | J69: 23.07.1975 | K69: 2759713830 | L69: АГ 606584 | M69: СН 289053 | N69: м. Київ | O69: м. Київ, вул. Кіото, буд. 5, кв. 117 | P69: вища | Q69: КДАККМ, 2005, звукорежисура, театральне мистецтво | R69: музикант, 35 років Права: - | S69: одружений | T69: дружина: Щипан-Косенюк Олександра Олегівна, 1981, м. Київ, вул. Кіото, буд. 5, кв. 117, 0503803966 | U69: 0503803960 | W69: курсант | X69: 100 | Z69: 46079 | AA69: № 60 | AB69: =IF(E69="","",IF(V69="","ні","так")) -> ні | AC69: 46079 | AD69: Придатний до служби у військових частинах забезпечення, ТЦК та СП, ВВНЗ, навчальних центрах, закладах (установах), медичних підрозділах, підрозділах логістики, зв'язку, оперативного забезпечення, охорони | AF69: А2900 по розподілу Біліченко Руслан Петрович оркестр | AG69: =IF(AND(INT(YEARFRAC(#REF!,TODAY()))>=25,INT(YEARFRAC(#REF!,TODAY()))<=35),INT(YEARFRAC(#REF!,TODAY())),"") -> #REF! | AH69: =IF(AND(INT(YEARFRAC(#REF!,TODAY()))>=36,INT(YEARFRAC(#REF!,TODAY()))<=45),INT(YEARFRAC(#REF!,TODAY())),"") -> #REF! | AI69: =IF(AND(INT(YEARFRAC(#REF!,TODAY()))>=46,INT(YEARFRAC(#REF!,TODAY()))<=50),INT(YEARFRAC(#REF!,TODAY())),"") -> #REF!
B70: 46077 | C70: 7 | D70: солдат | E70: КОСЬМІН Юрій Віталійович | F70: {=_xlfn.TEXTSPLIT(E70," ")} -> КОСЬМІН | G70: Юрій | H70: Віталійович | I70: Конотопським РТЦК та СП у Сумській області | J70: 12.07.1980 | K70: 2941315057 | L70: АВ 967804 | N70: Сумська обл., м. Путивль | O70: Сумська обл., м. Путивль, вул. І. Путивльського, буд. 7 | P70: базова загальна середня | Q70: Бурса №9, м. Путивль | R70: будівельник, 20 років Права - | S70: не одружений | T70: батько: Косьмін Віталій | U70: 0662402865 | AB70: ні | AE70: II Rh + | AF70: Резерв КДШВ | AG70: =IF(AND(INT(YEARFRAC(#REF!,TODAY()))>=25,INT(YEARFRAC(#REF!,TODAY()))<=35),INT(YEARFRAC(#REF!,TODAY())),"") -> #REF! | AH70: =IF(AND(INT(YEARFRAC(#REF!,TODAY()))>=36,INT(YEARFRAC(#REF!,TODAY()))<=45),INT(YEARFRAC(#REF!,TODAY())),"") -> #REF! | AI70: =IF(AND(INT(YEARFRAC(#REF!,TODAY()))>=46,INT(YEARFRAC(#REF!,TODAY()))<=50),INT(YEARFRAC(#REF!,TODAY())),"") -> #REF!
A71: 2504 | B71: 46078 | C71: 6 | D71: солдат | E71: КРЕЙДИЧ Жан Віталійович | F71: {=_xlfn.TEXTSPLIT(E71," ")} -> КРЕЙДИЧ | G71: Жан | H71: Віталійович | I71: Житомирського ОМТЦК та СП у Житомирській області | J71: 11.03.1985 | K71: 3111620917 | L71: АГ 186074 | M71: ВН 498883 Корольовським РВ УМВС України в Житомирській області 17.08.2010 | N71: м. Житомир | O71: м. Житомир, вул. Вітрука, буд. 27, кв. 53 | S71: одружений | T71: дружина: Шмідт Ірина Володимирівна, 1988 | U71: не надано | W71: курсант | X71: 100 | Z71: 46078 | AA71: № 59 | AB71: =IF(E71="","",IF(V71="","ні","так")) -> ні | AC71: 46078 | AD71: Придатний до військової служби | AG71: =IF(AND(INT(YEARFRAC(#REF!,TODAY()))>=25,INT(YEARFRAC(#REF!,TODAY()))<=35),INT(YEARFRAC(#REF!,TODAY())),"") -> #REF! | AH71: =IF(AND(INT(YEARFRAC(#REF!,TODAY()))>=36,INT(YEARFRAC(#REF!,TODAY()))<=45),INT(YEARFRAC(#REF!,TODAY())),"") -> #REF! | AI71: =IF(AND(INT(YEARFRAC(#REF!,TODAY()))>=46,INT(YEARFRAC(#REF!,TODAY()))<=50),INT(YEARFRAC(#REF!,TODAY())),"") -> #REF!
B72: 46074 | C72: 44 | D72: солдат | E72: КРИВОГУЗ Віталій Олександович | F72: {=_xlfn.TEXTSPLIT(E72," ")} -> КРИВОГУЗ | G72: Віталій | H72: Олександович | I72: Сумським МТЦК та СП у Сумській області | J72: 01.03.1980 | K72: 2928021037 | L72: СО 431160 | M72: МА 314704, Буринським РВУМВС України в Сумський обл., 04.08.1997 | N72: м. Ромни, Сумска обл. | O72: Сумська обл., м. Буринь, вул. Пірогова, б.1б/2 | P72: вища | Q72: ПУСК м. Полтава,бакалавр,товарознавство і комерційна діяльність,2003 | R72: ФОП кат. В | S72: не одружений | T72: мати: Дзюба Євгенія Миколайвна - 1957, Сумська обл., м. Буринь, вул. 121 Стрілецької Дивізії, буд. 13, кв.2 | U72: 0994461246 | AB72: ні | AF72: Резерв КДШВ | AG72: =IF(AND(INT(YEARFRAC(#REF!,TODAY()))>=25,INT(YEARFRAC(#REF!,TODAY()))<=35),INT(YEARFRAC(#REF!,TODAY())),"") -> #REF! | AH72: =IF(AND(INT(YEARFRAC(#REF!,TODAY()))>=36,INT(YEARFRAC(#REF!,TODAY()))<=45),INT(YEARFRAC(#REF!,TODAY())),"") -> #REF! | AI72: =IF(AND(INT(YEARFRAC(#REF!,TODAY()))>=46,INT(YEARFRAC(#REF!,TODAY()))<=50),INT(YEARFRAC(#REF!,TODAY())),"") -> #REF!
A73: 2612 | B73: 46081 | C73: 10 | D73: солдат | E73: КУЗЬМИШИН Юрій Миколайович | F73: {=_xlfn.TEXTSPLIT(E73," ")} -> КУЗЬМИШИН | G73: Юрій | H73: Миколайович | I73: Житомирським РТЦК та СП у Київській області | J73: 07.05.1989 | K73: 3263419370 | L73: АГ 603381 | M73: 012496201 1819 27.10.2025 | N73: Житомирська обл. Житомирський р-н. с. Висока Піч | O73: Житомирська обл., Житомирський р-н., с. Висока Піч, вул. Воронкіна, буд. 1, кв. 38 | P73: професійно- технічна | Q73: Турчинівка (училище),Житомирська обл, м. Чуднів,2007,електрогазозварювальник, водій | R73: водій (грузова) - 10р Права B, C, CE | S73: не одружений | T73: тітка: Бондарчук Антоніна Анатоліївна - 42р - 0688241992, Житомирська обл, Житомирський р-н, с. Нова Рудня, вул. Шевченка, буд. ? | U73: 0673197537 | W73: курсант | X73: 100 | Z73: 46081 | AA73: № 62 | AB73: =IF(E73="","",IF(V73="","ні","так")) -> ні | AC73: 46081 | AD73: Придатний до військової служби | AE73: III Rh + | AG73: =IF(AND(INT(YEARFRAC(#REF!,TODAY()))>=25,INT(YEARFRAC(#REF!,TODAY()))<=35),INT(YEARFRAC(#REF!,TODAY())),"") -> #REF! | AH73: =IF(AND(INT(YEARFRAC(#REF!,TODAY()))>=36,INT(YEARFRAC(#REF!,TODAY()))<=45),INT(YEARFRAC(#REF!,TODAY())),"") -> #REF! | AI73: =IF(AND(INT(YEARFRAC(#REF!,TODAY()))>=46,INT(YEARFRAC(#REF!,TODAY()))<=50),INT(YEARFRAC(#REF!,TODAY())),"") -> #REF!
A74: 11/2499 | B74: 46078 | C74: 7 | D74: солдат | E74: КУЧЕРЕНКО Анатолій Михайлович | F74: {=_xlfn.TEXTSPLIT(E74," ")} -> КУЧЕРЕНКО | G74: Анатолій | H74: Михайлович | I74: Святошинським РТЦК та СП у Київській області | J74: 22.12.1992 | K74: 3395907198 | L74: АГ 606238 | M74: 005837755 5926 11.03.2021 | N74: Сумська обл, Сумський р-н, с. Нижня Сироватка | O74: м. Київ,, просп. Академіка Корольова, буд. 6, кв 245 | P74: професійно- технічна | Q74: ПТУ №16,м. Суми,2012,охоронник | R74: робітник на складі | S74: не одружений | T74: мати: Кучеренко Любов Іванівна - 1961 - 0992350554 - Сумська обл, Сумський р-н, с. Нижня Сироватка, пров. Перемоги, буд. 6 | U74: 0668498110 | W74: курсант | X74: 100 | Z74: 46078 | AA74: № 59 | AB74: =IF(E74="","",IF(V74="","ні","так")) -> ні | AC74: 46078 | AD74: Придатний до військової служби | AG74: =IF(AND(INT(YEARFRAC(#REF!,TODAY()))>=25,INT(YEARFRAC(#REF!,TODAY()))<=35),INT(YEARFRAC(#REF!,TODAY())),"") -> #REF! | AH74: =IF(AND(INT(YEARFRAC(#REF!,TODAY()))>=36,INT(YEARFRAC(#REF!,TODAY()))<=45),INT(YEARFRAC(#REF!,TODAY())),"") -> #REF! | AI74: =IF(AND(INT(YEARFRAC(#REF!,TODAY()))>=46,INT(YEARFRAC(#REF!,TODAY()))<=50),INT(YEARFRAC(#REF!,TODAY())),"") -> #REF!
A75: 470 | B75: 46080 | C75: 7 | D75: солдат | E75: КУЧУРА Андрій Віталійович | F75: {=_xlfn.TEXTSPLIT(E75," ")} -> КУЧУРА | G75: Андрій | H75: Віталійович | I75: Деснянським РТЦК та СП у Київській області | J75: 08.02.1988 | K75: 3218006254 | L75: АГ 606587 | M75: НМ 474141 | N75: Чернігівська обл., м. Борзна | O75: Чернігівська обл., м. Борзна, вул. Олійника, буд. 41 | P75: повна загальна середня | Q75: Борзнівська ЗОШ | R75: будівельник, 10 років Права - | S75: не одружений | T75: мати: Кучура Тетяна Іванівна, Чернігівська обл., м. Борзна, вул. Олійника, буд. 41, 0639370324 | U75: 0937290800 | W75: курсант | X75: 100 | Z75: 46080 | AA75: № 61 | AB75: =IF(E75="","",IF(V75="","ні","так")) -> ні | AC75: 46079 | AD75: Придатний до військової служби | AE75: I Rh + | AG75: =IF(AND(INT(YEARFRAC(#REF!,TODAY()))>=25,INT(YEARFRAC(#REF!,TODAY()))<=35),INT(YEARFRAC(#REF!,TODAY())),"") -> #REF! | AH75: =IF(AND(INT(YEARFRAC(#REF!,TODAY()))>=36,INT(YEARFRAC(#REF!,TODAY()))<=45),INT(YEARFRAC(#REF!,TODAY())),"") -> #REF! | AI75: =IF(AND(INT(YEARFRAC(#REF!,TODAY()))>=46,INT(YEARFRAC(#REF!,TODAY()))<=50),INT(YEARFRAC(#REF!,TODAY())),"") -> #REF!
B76: 46077 | C76: 29 | D76: сержант | E76: КУЩ Андрій Петрович | F76: {=_xlfn.TEXTSPLIT(E76," ")} -> КУЩ | G76: Андрій | H76: Петрович | I76: Сумським МТЦК та СП у Сумській області | J76: 20.03.1979 | K76: 2893300213 | L76: УН 0497799 | M76: МВ 429139 Буринським РВГУМВС України в Сумській обл., 28.01.2010 | N76: Сумська обл., Буринськийр-н, с. Михайлівка, вул. Лесі Українки 33 | O76: м. Суми, вул. Ковпака, б. 85, кв.52 | P76: повна загальна середня | Q76: Михайлівська ЗОШ Сумська обл., | R76: електрогазозварник | S76: одружений | T76: дружина: Кущ Світлана Олександрівна - 1987 - 0990357418 | U76: 0669213337 | AB76: ні | AE76: II Rh + | AF76: Резерв КДШВ | AG76: =IF(AND(INT(YEARFRAC(#REF!,TODAY()))>=25,INT(YEARFRAC(#REF!,TODAY()))<=35),INT(YEARFRAC(#REF!,TODAY())),"") -> #REF! | AH76: =IF(AND(INT(YEARFRAC(#REF!,TODAY()))>=36,INT(YEARFRAC(#REF!,TODAY()))<=45),INT(YEARFRAC(#REF!,TODAY())),"") -> #REF! | AI76: =IF(AND(INT(YEARFRAC(#REF!,TODAY()))>=46,INT(YEARFRAC(#REF!,TODAY()))<=50),INT(YEARFRAC(#REF!,TODAY())),"") -> #REF!
A77: 260223-9 | B77: 46076 | C77: 9 | D77: солдат | E77: ЛЕВЕНЕЦЬ Максим Дмитрович | F77: {=_xlfn.TEXTSPLIT(E77," ")} -> ЛЕВЕНЕЦЬ | G77: Максим | H77: Дмитрович | I77: Солом'янським РТЦК та СП у Київській області | J77: 01.08.1988 | K77: 3235521550 | L77: АГ 629816 | M77: МЕ 490408 Шевченківського РУ ГУ МВС УКР в м. Києві 28.04.2005 | N77: м. Київ | O77: м. Київ, вул. Дмитрицька, буд. 82, кв. 16 | P77: вища | Q77: Київський бізнес коледж | R77: ІТ-фахівець, 20 років Права - | S77: не одружений | T77: не вказано | U77: 0930007874 | W77: курсант | X77: 100 | Z77: 46076 | AA77: № 57 | AB77: =IF(E77="","",IF(V77="","ні","так")) -> ні | AC77: 46076 | AD77: Придатний до військової служби | AF77: А3316 по розподілу рекомендаційний лист | AG77: =IF(AND(INT(YEARFRAC(#REF!,TODAY()))>=25,INT(YEARFRAC(#REF!,TODAY()))<=35),INT(YEARFRAC(#REF!,TODAY())),"") -> #REF! | AH77: =IF(AND(INT(YEARFRAC(#REF!,TODAY()))>=36,INT(YEARFRAC(#REF!,TODAY()))<=45),INT(YEARFRAC(#REF!,TODAY())),"") -> #REF! | AI77: =IF(AND(INT(YEARFRAC(#REF!,TODAY()))>=46,INT(YEARFRAC(#REF!,TODAY()))<=50),INT(YEARFRAC(#REF!,TODAY())),"") -> #REF!
B78: 46077 | C78: 33 | D78: солдат | E78: ЛЕВЧИЧ Олександр Миколайович | F78: {=_xlfn.TEXTSPLIT(E78," ")} -> ЛЕВЧИЧ | G78: Олександр | H78: Миколайович | I78: Сумським МТЦК та СП у Сумській області | J78: 17.06.1978 | K78: 2865716296 | L78: АВ 949490 | M78: 010064683 Виданий 5930 21.12.2023 | N78: м. Суми | O78: м. Суми, вул. ЗСУ , буд.6, кв 119 | P78: повна загальна середня | Q78: СВШ №2,м. Суми,1996 | R78: В | S78: не одружений | T78: брат: Левчич Володимир Миколайович - 1971 - 0503074035, м. Суми | U78: 0501372378 | AB78: ні | AE78: I Rh + | AF78: Резерв КДШВ | AG78: =IF(AND(INT(YEARFRAC(#REF!,TODAY()))>=25,INT(YEARFRAC(#REF!,TODAY()))<=35),INT(YEARFRAC(#REF!,TODAY())),"") -> #REF! | AH78: =IF(AND(INT(YEARFRAC(#REF!,TODAY()))>=36,INT(YEARFRAC(#REF!,TODAY()))<=45),INT(YEARFRAC(#REF!,TODAY())),"") -> #REF! | AI78: =IF(AND(INT(YEARFRAC(#REF!,TODAY()))>=46,INT(YEARFRAC(#REF!,TODAY()))<=50),INT(YEARFRAC(#REF!,TODAY())),"") -> #REF!
B79: 46077 | C79: 3 | D79: солдат | E79: ЛИТВИНКО Олександр Сергійович | F79: {=_xlfn.TEXTSPLIT(E79," ")} -> ЛИТВИНКО | G79: Олександр | H79: Сергійович | I79: Роменським РТЦК та СП у Сумській області | J79: 21.07.2000 | K79: 3672709816 | L79: АВ 949425 | M79: 006384474 Виданий 5924 19.07.2021 | N79: Сумська обл., Роменський р-н., с Перекопівка | O79: Сумська обл., Роменський р-н., с Перекопівка, вул. Космонавтів, буд. 107 | P79: професійно- технічна | Q79: Глинський ПТАЛ, 2019, водій-тракторист, слюсар з ремонту с\г машин, ,Путивльський ветеринарний коледж, 2023, ветеринарна медицина | R79: тракторист, 7 років Права А, В, С, тракторні | S79: одружений | T79: дружина: Литвинко Катерина Олександрівна, 2004, Сумська обл., Роменський р-н., с Перекопівка, вул. Космонавтів, буд. 107, 0993483660 | U79: не надано | AB79: ні | AF79: Резерв КДШВ | AG79: =IF(AND(INT(YEARFRAC(#REF!,TODAY()))>=25,INT(YEARFRAC(#REF!,TODAY()))<=35),INT(YEARFRAC(#REF!,TODAY())),"") -> #REF! | AH79: =IF(AND(INT(YEARFRAC(#REF!,TODAY()))>=36,INT(YEARFRAC(#REF!,TODAY()))<=45),INT(YEARFRAC(#REF!,TODAY())),"") -> #REF! | AI79: =IF(AND(INT(YEARFRAC(#REF!,TODAY()))>=46,INT(YEARFRAC(#REF!,TODAY()))<=50),INT(YEARFRAC(#REF!,TODAY())),"") -> #REF!
A80: 2581 | B80: 46080 | C80: 8 | D80: солдат | E80: ЛЮЛЕВИЧ Віталій Михайлович | F80: {=_xlfn.TEXTSPLIT(E80," ")} -> ЛЮЛЕВИЧ | G80: Віталій | H80: Михайлович | I80: Житомирського ОМТЦК та СП у Житомирській області | J80: 21.08.1989 | K80: 3274005414 | L80: АВ 960028 | M80: ВН 610181 Корольовським РВ у м. Житомирі УДМС УКР в Житомирській обл 07.09.2013 | N80: м. Житомир | O80: м. Житомир, Огієнко, буд. 1/34, кв. 71 | P80: повна загальна середня | Q80: Житомирська ЗОШ №14 | R80: водій, 20 років Права: всі окрім D, небезпечні вантажі | S80: не одружений | T80: батько: Люлевич Михайло Йосипович 0679593591 | U80: 0973712130 | V80: 790 037А | W80: курсант | X80: 100 | Z80: 46080 | AA80: № 61 | AB80: =IF(E80="","",IF(V80="","ні","так")) -> так | AC80: 46080 | AD80: Придатний до служби на підводних човнох, на надводних кораблях, у морській піхоті, Десантно-штурмових військах, спеціальних спорудах, підрозділах спеціального призначення | AG80: =IF(AND(INT(YEARFRAC(#REF!,TODAY()))>=25,INT(YEARFRAC(#REF!,TODAY()))<=35),INT(YEARFRAC(#REF!,TODAY())),"") -> #REF! | AH80: =IF(AND(INT(YEARFRAC(#REF!,TODAY()))>=36,INT(YEARFRAC(#REF!,TODAY()))<=45),INT(YEARFRAC(#REF!,TODAY())),"") -> #REF! | AI80: =IF(AND(INT(YEARFRAC(#REF!,TODAY()))>=46,INT(YEARFRAC(#REF!,TODAY()))<=50),INT(YEARFRAC(#REF!,TODAY())),"") -> #REF!
B81: 46072 | D81: солдат | E81: МАЗУРКЕВИЧ Віталій Петрович | F81: {=_xlfn.TEXTSPLIT(E81," ")} -> МАЗУРКЕВИЧ | G81: Віталій | H81: Петрович | I81: Подільський РТЦК та СП 19.02.2026 | J81: 29.03.1993 | K81: 3405600870 | L81: АГ 605625 | N81: Вінницька обл., Літинський р-н., с. Громадське | O81: м. Київ, вул. В. Липківського, буд. 13, кв. 27 | P81: повна загальна середня | Q81: Громадська ЗОШ, 2008, | R81: автомеханік, 12 років Права: В, С | S81: одружений | T81: дружина: Мазуркевич Марина Анатоліївна, 1991, м. Київ, вул. В. Липківського, буд. 13, кв. 27, 0631378707 | U81: 0638014463 | AF81: Резерв КДШВ | AG81: =IF(AND(INT(YEARFRAC(#REF!,TODAY()))>=25,INT(YEARFRAC(#REF!,TODAY()))<=35),INT(YEARFRAC(#REF!,TODAY())),"") -> #REF! | AH81: =IF(AND(INT(YEARFRAC(#REF!,TODAY()))>=36,INT(YEARFRAC(#REF!,TODAY()))<=45),INT(YEARFRAC(#REF!,TODAY())),"") -> #REF! | AI81: =IF(AND(INT(YEARFRAC(#REF!,TODAY()))>=46,INT(YEARFRAC(#REF!,TODAY()))<=50),INT(YEARFRAC(#REF!,TODAY())),"") -> #REF!
A82: 2501 | B82: 46078 | C82: 8 | D82: солдат | E82: МАТЮНІН Іван Леонідович | F82: {=_xlfn.TEXTSPLIT(E82," ")} -> МАТЮНІН | G82: Іван | H82: Леонідович | I82: Житомирського ОМТЦК та СП у Житомирській області | J82: 09.10.1984 | K82: 3096315737 | L82: АГ 186071 | M82: ВН 566980 Корольовським РВ УМВС України в Житомирській області 01.01.2000 | N82: м. Житомир | O82: м. Житомир,, вул. Короленка, буд. 52, кв. 2 | P82: повна загальна середня | Q82: Вечірня школа №1,м. Житомир,2005 | R82: Стропольщик башеного крану - 6р | S82: не одружений | T82: мати: Матюніна Наталія Сергіївна - 1960 - 0977692131, м. Житомир, вул. Короленка, буд. 52, кв. 2 | U82: 0975383164 | W82: курсант | X82: 100 | Z82: 46078 | AA82: № 59 | AB82: =IF(E82="","",IF(V82="","ні","так")) -> ні | AC82: 46078 | AD82: Придатний до військової служби | AG82: =IF(AND(INT(YEARFRAC(#REF!,TODAY()))>=25,INT(YEARFRAC(#REF!,TODAY()))<=35),INT(YEARFRAC(#REF!,TODAY())),"") -> #REF! | AH82: =IF(AND(INT(YEARFRAC(#REF!,TODAY()))>=36,INT(YEARFRAC(#REF!,TODAY()))<=45),INT(YEARFRAC(#REF!,TODAY())),"") -> #REF! | AI82: =IF(AND(INT(YEARFRAC(#REF!,TODAY()))>=46,INT(YEARFRAC(#REF!,TODAY()))<=50),INT(YEARFRAC(#REF!,TODAY())),"") -> #REF!
B83: 46016 | C83: 42 | D83: солдат | E83: МЕНЬШИКОВ Олексій Єгорович | F83: {=_xlfn.TEXTSPLIT(E83," ")} -> МЕНЬШИКОВ | G83: Олексій | H83: Єгорович | I83: Харківським ТЦК та СП у Харківській області | J83: 30.03.1980 | K83: 2930900615 | L83: АВ 909203 | M83: МК 119294, Пісочинським ВМ Харківського РВУМВС України 09.04.1996 | N83: м. Харків | O83: Харківська обл., Харківський р-н, смт. Пісочин, пров. Лісовий 20 | P83: базова загальна середня | Q83: Пісочинська ЗОШ,Харківська обл., смт. Пісочин,1995 | R83: сантехнік | S83: одружений | T83: дружина Меньшикова Маргарита Сергиївна - 1989, Харківська обл., Харківський р-н, с. Санжари, вул. Майська 1 | U83: 0669377797 | AB83: ні | AE83: III Rh + | AF83: Резерв КДШВ | AG83: =IF(AND(INT(YEARFRAC(#REF!,TODAY()))>=25,INT(YEARFRAC(#REF!,TODAY()))<=35),INT(YEARFRAC(#REF!,TODAY())),"") -> #REF! | AH83: =IF(AND(INT(YEARFRAC(#REF!,TODAY()))>=36,INT(YEARFRAC(#REF!,TODAY()))<=45),INT(YEARFRAC(#REF!,TODAY())),"") -> #REF! | AI83: =IF(AND(INT(YEARFRAC(#REF!,TODAY()))>=46,INT(YEARFRAC(#REF!,TODAY()))<=50),INT(YEARFRAC(#REF!,TODAY())),"") -> #REF!
B84: 46073 | C84: 9 | D84: солдат | E84: НЄЖНОВ Сергій Миколайович | F84: {=_xlfn.TEXTSPLIT(E84," ")} -> НЄЖНОВ | G84: Сергій | H84: Миколайович | I84: Харківським РТЦК та СП у Сумській області | J84: 11.01.1977 | K84: 2813500653 | L84: АГ 594862 | M84: МН 840776 Червонозаводським РВХМУУМВС України в Харківській обл., 25.04.2006 | N84: м. Харків | O84: м. Харків, вул. Заводська, буд. 114 | P84: професійно- технічна | Q84: СПТУ №9 м. Харків, 1995, електрогазозварювальник | R84: водій, 30 років Права: В, С, Д | S84: одружений | T84: дружина: Нєжнова Надія Іванівна, 1979, м. Харків, вул. Заводська, буд. 114, 0671567613 | U84: 0962762720 | AB84: ні | AE84: I Rh - | AF84: Резерв КДШВ | AG84: =IF(AND(INT(YEARFRAC(#REF!,TODAY()))>=25,INT(YEARFRAC(#REF!,TODAY()))<=35),INT(YEARFRAC(#REF!,TODAY())),"") -> #REF! | AH84: =IF(AND(INT(YEARFRAC(#REF!,TODAY()))>=36,INT(YEARFRAC(#REF!,TODAY()))<=45),INT(YEARFRAC(#REF!,TODAY())),"") -> #REF! | AI84: =IF(AND(INT(YEARFRAC(#REF!,TODAY()))>=46,INT(YEARFRAC(#REF!,TODAY()))<=50),INT(YEARFRAC(#REF!,TODAY())),"") -> #REF!
A85: 2505 | B85: 46079 | C85: 10 | D85: солдат | E85: ОСАДЧУК Олександр Олександрович | F85: {=_xlfn.TEXTSPLIT(E85," ")} -> ОСАДЧУК | G85: Олександр | H85: Олександрович | I85: Житомирським РТЦК та СП у Житомирській області | J85: 06.04.1988 | K85: 3223818474 | L85: АГ 603361 | M85: ВН 554655 Корольовським РВ УМВС УКР в Житомирській обл 17.04.2012 | N85: м. Житомир | O85: Житомирська обл., Пулинський р-н., с.Бабичівка, вул. Польова, 1 | P85: базова загальна середня | Q85: Мартинівська ЗОШ | R85: Різноробочий, 4 роки, Права - | S85: не одружений | T85: мати: Осадчук Альвіна Зиновіївна, 1963, Житомирська обл., Пулинський р-н., с.Бабичівка, вул. Польова, 1 | U85: не надано | W85: курсант | X85: 100 | Z85: 46079 | AA85: № 60 | AB85: =IF(E85="","",IF(V85="","ні","так")) -> ні | AC85: 46078 | AD85: Придатний до військової служби | AE85: II Rh + | AG85: =IF(AND(INT(YEARFRAC(#REF!,TODAY()))>=25,INT(YEARFRAC(#REF!,TODAY()))<=35),INT(YEARFRAC(#REF!,TODAY())),"") -> #REF! | AH85: =IF(AND(INT(YEARFRAC(#REF!,TODAY()))>=36,INT(YEARFRAC(#REF!,TODAY()))<=45),INT(YEARFRAC(#REF!,TODAY())),"") -> #REF! | AI85: =IF(AND(INT(YEARFRAC(#REF!,TODAY()))>=46,INT(YEARFRAC(#REF!,TODAY()))<=50),INT(YEARFRAC(#REF!,TODAY())),"") -> #REF!
B86: 46076 | C86: 45 | D86: солдат | E86: ПАНЧЕНКО Олексадр Валерійович | F86: {=_xlfn.TEXTSPLIT(E86," ")} -> ПАНЧЕНКО | G86: Олексадр | H86: Валерійович | I86: Конотопським РТЦК та СП у Сумській області | J86: 13.12.1982 | K86: 3029719656 | L86: АВ 967839 | M86: 005500019 | N86: Конотопський р-н, с. Підлипне | O86: Сумська обл., Конотопський р-н, м. Кролевец, вул. Зелинського, буд. 1, кв. 4 | P86: базова загальна середня | Q86: Грузківська ЗОШ ,Сумська обл., Кроливецький р-н, с. Грузків, | R86: будівельник | S86: одружений | T86: дружина Панченко Оксана Володимирівна - 1987 - 0960923346, Сумська обл., Конотопський р-н, м. Кролевец, вул. Зелинського, буд. 1, кв. 4 | U86: не надано | AB86: ні | AE86: III Rh + | AF86: Резерв КДШВ | AG86: =IF(AND(INT(YEARFRAC(#REF!,TODAY()))>=25,INT(YEARFRAC(#REF!,TODAY()))<=35),INT(YEARFRAC(#REF!,TODAY())),"") -> #REF! | AH86: =IF(AND(INT(YEARFRAC(#REF!,TODAY()))>=36,INT(YEARFRAC(#REF!,TODAY()))<=45),INT(YEARFRAC(#REF!,TODAY())),"") -> #REF! | AI86: =IF(AND(INT(YEARFRAC(#REF!,TODAY()))>=46,INT(YEARFRAC(#REF!,TODAY()))<=50),INT(YEARFRAC(#REF!,TODAY())),"") -> #REF!
B87: 46074 | C87: 21 | D87: солдат | E87: ПАРХОМЕНКО Володимир Анатолійович | F87: {=_xlfn.TEXTSPLIT(E87," ")} -> ПАРХОМЕНКО | G87: Володимир | H87: Анатолійович | I87: Конотопським РТЦК та СП у Сумській області | J87: 29.12.1985 | K87: 3140913593 | L87: АВ 967840 | M87: МВ 078689 Крокевецьким РВ УМВС України в Сумській обл 22.10.2002 | N87: Сумська обл., Конотопський р-н., м. Кролевець | O87: Сумська обл., Конотопський р-н., с. Зазірки, вул. Маричанівка, буд. 12 | P87: професійно- технічна | Q87: ПТУ №23 м. Київ, муляр-штукатур | R87: будівельник, 20 років, Права - | S87: не одружений | T87: брат: Пархоменко Юрій Анатолійович, 1988, м. Кролевець | U87: 0685057883 | AB87: ні | AF87: Резерв КДШВ | AG87: =IF(AND(INT(YEARFRAC(#REF!,TODAY()))>=25,INT(YEARFRAC(#REF!,TODAY()))<=35),INT(YEARFRAC(#REF!,TODAY())),"") -> #REF! | AH87: =IF(AND(INT(YEARFRAC(#REF!,TODAY()))>=36,INT(YEARFRAC(#REF!,TODAY()))<=45),INT(YEARFRAC(#REF!,TODAY())),"") -> #REF! | AI87: =IF(AND(INT(YEARFRAC(#REF!,TODAY()))>=46,INT(YEARFRAC(#REF!,TODAY()))<=50),INT(YEARFRAC(#REF!,TODAY())),"") -> #REF!
A88: 1/2870 | B88: 46079 | C88: 11 | D88: солдат | E88: ПАРШИКОВ Артем Вадимович | F88: {=_xlfn.TEXTSPLIT(E88," ")} -> ПАРШИКОВ | G88: Артем | H88: Вадимович | I88: Кропивницьким РТЦК та СП у Кіровоградській області | J88: 15.09.1998 | K88: 3605210974 | L88: АГ 471494 | M88: ЕВ 370186 Кіровським РВ у м. Кіровограді УДМС УКР в Кіровоградській обл 12.09.2014 | N88: Кіровоградсбка обл. Бобрунецький р-н., с. Кохана | O88: м. Кропивницький, вул. Павла Сніцера, буд. 1 | P88: вища | Q88: Кропвницький інстинут державного та муніципального управління, 2022, право | R88: Кухар, 3 роки Права: - | S88: не одружений | T88: батько: Паршиков Вадим Миколайович, 1976, Кіровоградсбка обл. Бобрунецький р-н., с. Кохана,вул. Степова, буд. 5, 0970189569 | U88: 0961367161 | W88: курсант | X88: 100 | Z88: 46079 | AA88: № 60 | AB88: =IF(E88="","",IF(V88="","ні","так")) -> ні | AC88: 46079 | AD88: Придатний до військової служби | AG88: =IF(AND(INT(YEARFRAC(#REF!,TODAY()))>=25,INT(YEARFRAC(#REF!,TODAY()))<=35),INT(YEARFRAC(#REF!,TODAY())),"") -> #REF! | AH88: =IF(AND(INT(YEARFRAC(#REF!,TODAY()))>=36,INT(YEARFRAC(#REF!,TODAY()))<=45),INT(YEARFRAC(#REF!,TODAY())),"") -> #REF! | AI88: =IF(AND(INT(YEARFRAC(#REF!,TODAY()))>=46,INT(YEARFRAC(#REF!,TODAY()))<=50),INT(YEARFRAC(#REF!,TODAY())),"") -> #REF!
B89: 46080 | C89: 17 | D89: солдат | E89: ПАШКОВ Денис Геннадійович | F89: {=_xlfn.TEXTSPLIT(E89," ")} -> ПАШКОВ | G89: Денис | H89: Геннадійович | I89: Слобідським РТЦК та СП м. Харків 27.02.2026 | J89: 01.02.1989 | K89: 3253904779 | L89: СО 316222 | M89: МН773485 Орджонікідзевським РВХМУУМВС України в Харківській обл. 16.06.2005 | N89: м. Харків | O89: м. Харків, просп. Індустріальний, буд. 31, кв. 28 | P89: вища | Q89: Академія НГУ, 2008, командник, менеджер організації | R89: реабілітолог, 15 років, Права - | S89: не одружений | T89: мати: Пашкова Ніна Опанасівна, 1954, м. Харків, просп. Індустріальний, буд. 31, кв. 28, 0661600161 | U89: 0669166227 | AB89: ні | AE89: I Rh + | AF89: Резерв КДШВ | AG89: =IF(AND(INT(YEARFRAC(#REF!,TODAY()))>=25,INT(YEARFRAC(#REF!,TODAY()))<=35),INT(YEARFRAC(#REF!,TODAY())),"") -> #REF! | AH89: =IF(AND(INT(YEARFRAC(#REF!,TODAY()))>=36,INT(YEARFRAC(#REF!,TODAY()))<=45),INT(YEARFRAC(#REF!,TODAY())),"") -> #REF! | AI89: =IF(AND(INT(YEARFRAC(#REF!,TODAY()))>=46,INT(YEARFRAC(#REF!,TODAY()))<=50),INT(YEARFRAC(#REF!,TODAY())),"") -> #REF!
B90: 46076 | C90: 2 | D90: старший солдат | E90: ПЕТРАШ Віктор Володимирович | F90: {=_xlfn.TEXTSPLIT(E90," ")} -> ПЕТРАШ | G90: Віктор | H90: Володимирович | I90: Сумським МТЦК та СП у Сумській області | J90: 04.09.1984 | K90: 3092805058 | L90: АВ 704155 | M90: МА 942892 Лебединським МРВУМВС України в Сумській обл., 27.02.2002 | N90: Магаданський край, с. Ягідне | O90: Сумська обл, Сумський р-н., с. Коршачина, вул. Шкільна, буд. 52 | P90: професійно- технічна | Q90: Маловисторопський державний аграрний коледж СНАУ, 2004, фельдшер ветеринарної медицини | R90: ветеринар, 4 роки Вальцювальник гумових сумішей, 10 років, Бруківник, 7 років Права В | S90: не одружений | T90: мати: Петраш Віра Юріївна, 1961, Сумська обл, Сумський р-н., с. Коршачина, вул. Шкільна, буд. 56, 0997604401 | U90: 0953467547 | AB90: ні | AE90: IV Rh + | AF90: Резерв КДШВ | AG90: =IF(AND(INT(YEARFRAC(#REF!,TODAY()))>=25,INT(YEARFRAC(#REF!,TODAY()))<=35),INT(YEARFRAC(#REF!,TODAY())),"") -> #REF! | AH90: =IF(AND(INT(YEARFRAC(#REF!,TODAY()))>=36,INT(YEARFRAC(#REF!,TODAY()))<=45),INT(YEARFRAC(#REF!,TODAY())),"") -> #REF! | AI90: =IF(AND(INT(YEARFRAC(#REF!,TODAY()))>=46,INT(YEARFRAC(#REF!,TODAY()))<=50),INT(YEARFRAC(#REF!,TODAY())),"") -> #REF!
A91: 1/2345 | B91: 46075 | C91: 8 | D91: солдат | E91: ПИРОГАНИЧ Ігор Ігорович | F91: {=_xlfn.TEXTSPLIT(E91," ")} -> ПИРОГАНИЧ | G91: Ігор | H91: Ігорович | I91: Ніжинським РТЦК та СП у Чернігівській області | J91: 05.03.1991 | K91: 3330114316 | L91: АГ 633796 | M91: 006435172 5124 27.07.2021 | N91: Одеська обл. м. Арциз | O91: Чернігівська обл., Ніжинський р-н., с. Крути, вул. Ніжинського полку, буд. 5 | P91: базова середня | Q91: ЗОШ с. Черниш, 2006 | R91: Вантажник кар, 3 роки Права - | S91: не одружений | T91: мати: Пироганич Любов Миколаївна, 1973, Чернігівська обл., Ніжинський р-н., с. Крути, вул. Ніжинського полку, буд. 5, 0972447274 | U91: 0663157097 | W91: курсант | X91: 100 | Z91: 46075 | AA91: № 56 | AB91: =IF(E91="","",IF(V91="","ні","так")) -> ні | AC91: 46075 | AD91: Придатний до військової служби | AG91: =IF(AND(INT(YEARFRAC(#REF!,TODAY()))>=25,INT(YEARFRAC(#REF!,TODAY()))<=35),INT(YEARFRAC(#REF!,TODAY())),"") -> #REF! | AH91: =IF(AND(INT(YEARFRAC(#REF!,TODAY()))>=36,INT(YEARFRAC(#REF!,TODAY()))<=45),INT(YEARFRAC(#REF!,TODAY())),"") -> #REF! | AI91: =IF(AND(INT(YEARFRAC(#REF!,TODAY()))>=46,INT(YEARFRAC(#REF!,TODAY()))<=50),INT(YEARFRAC(#REF!,TODAY())),"") -> #REF!
A92: 1454 | B92: 46081 | C92: 11 | D92: солдат | E92: ПЛАТКІВСЬКИЙ Олександр Анатолійович | F92: {=_xlfn.TEXTSPLIT(E92," ")} -> ПЛАТКІВСЬКИЙ | G92: Олександр | H92: Анатолійович | I92: Хмільницьким РТЦК та СП у Вінницькій області | J92: 21.04.1985 | K92: 3115715211 | L92: АГ 641907 | M92: ВН 355573 | N92: м. Житомир | O92: м. Житомир, вул. Захисників України буд. 12, кв. 28 | P92: професійно- технічна | Q92: Сільхозтехнікум,м. Житомир,2005р,механізація | R92: водій таксі - 15р Права B | S92: не одружений | T92: цивільна дружина: Куницька Вікторія Русланівна - 2001 - 0632966285 - м. Житомир вул. Захисників України буд. 12, кв. 28 | U92: 0969999707 | W92: курсант | X92: 100 | Z92: 46081 | AA92: № 62 | AB92: =IF(E92="","",IF(V92="","ні","так")) -> ні | AC92: 46081 | AD92: Придатний до військової служби | AG92: =IF(AND(INT(YEARFRAC(#REF!,TODAY()))>=25,INT(YEARFRAC(#REF!,TODAY()))<=35),INT(YEARFRAC(#REF!,TODAY())),"") -> #REF! | AH92: =IF(AND(INT(YEARFRAC(#REF!,TODAY()))>=36,INT(YEARFRAC(#REF!,TODAY()))<=45),INT(YEARFRAC(#REF!,TODAY())),"") -> #REF! | AI92: =IF(AND(INT(YEARFRAC(#REF!,TODAY()))>=46,INT(YEARFRAC(#REF!,TODAY()))<=50),INT(YEARFRAC(#REF!,TODAY())),"") -> #REF!
A93: 1377 | B93: 46079 | C93: 12 | D93: солдат | E93: ПОЛІЩЕНКО Олександр Петрович | F93: {=_xlfn.TEXTSPLIT(E93," ")} -> ПОЛІЩЕНКО | G93: Олександр | H93: Петрович | I93: Хмільницьким РТЦК та СП у Вінницькій області | J93: 07.12.1993 | K93: 3430910630 | L93: АГ 575000 | M93: 004508736 29.01.2020 | N93: м. Вінниця | O93: Вінницька обл., с. Веселівка, вул. Лесі Українки, буд. 118 | P93: професійно- технічна | Q93: Вінницький технічний коледж, 2013 | R93: маркетолог, 13 років Права В | S93: не одружений | T93: батько: Поліщенко Петро Кирилович, 1968, м. Вінниця, 0673027474 | U93: 0966336888 | W93: курсант | X93: 100 | Z93: 46079 | AA93: № 60 | AB93: =IF(E93="","",IF(V93="","ні","так")) -> ні | AC93: 46079 | AD93: Придатний до військової служби | AG93: =IF(AND(INT(YEARFRAC(#REF!,TODAY()))>=25,INT(YEARFRAC(#REF!,TODAY()))<=35),INT(YEARFRAC(#REF!,TODAY())),"") -> #REF! | AH93: =IF(AND(INT(YEARFRAC(#REF!,TODAY()))>=36,INT(YEARFRAC(#REF!,TODAY()))<=45),INT(YEARFRAC(#REF!,TODAY())),"") -> #REF! | AI93: =IF(AND(INT(YEARFRAC(#REF!,TODAY()))>=46,INT(YEARFRAC(#REF!,TODAY()))<=50),INT(YEARFRAC(#REF!,TODAY())),"") -> #REF!
A94: 1/2342 | B94: 46075 | C94: 6 | D94: старший солдат | E94: ПОЛТОРАЦЬКИЙ Сергій Олександрович | F94: {=_xlfn.TEXTSPLIT(E94," ")} -> ПОЛТОРАЦЬКИЙ | G94: Сергій | H94: Олександрович | I94: Ніжинським РТЦК та СП у Чернігівській області | J94: 09.09.1991 | K94: 3348900619 | L94: АВ 093085 | M94: НМ 302525 Ніжинським МРВ УМВС УКР в Чернігівській обл 02.11.2007 | N94: Чернігівська обл., м. Ніжин | O94: Чернігівська обл., Ніжинський р-н., с. Вертіївка, вул. Миру, буд. 41 | P94: середня спеціальна | Q94: Ніжинське ПТУ №35, електрогазозварник-водій, 2009 | R94: Оператор АЗС, 3,5 роки Права: А1, B, C | S94: не одружений | T94: мати: Полторацька Світлана Іванівна, 1973, Чернігівська обл., Ніжинський р-н., с. Вертіївка, вул. Миру, буд. 41, 0984353167 | U94: 0500779439 | V94: 485 898А | W94: курсант | X94: 100 | Z94: 46075 | AA94: № 56 | AB94: =IF(E94="","",IF(V94="","ні","так")) -> так | AC94: 46075 | AD94: Придатний до військової служби | AG94: =IF(AND(INT(YEARFRAC(#REF!,TODAY()))>=25,INT(YEARFRAC(#REF!,TODAY()))<=35),INT(YEARFRAC(#REF!,TODAY())),"") -> #REF! | AH94: =IF(AND(INT(YEARFRAC(#REF!,TODAY()))>=36,INT(YEARFRAC(#REF!,TODAY()))<=45),INT(YEARFRAC(#REF!,TODAY())),"") -> #REF! | AI94: =IF(AND(INT(YEARFRAC(#REF!,TODAY()))>=46,INT(YEARFRAC(#REF!,TODAY()))<=50),INT(YEARFRAC(#REF!,TODAY())),"") -> #REF!
A95: 11/1553 | B95: 46078 | C95: 9 | D95: солдат | E95: ПОНОМАРЕНКО Володимир Миколайович | F95: {=_xlfn.TEXTSPLIT(E95," ")} -> ПОНОМАРЕНКО | G95: Володимир | H95: Миколайович | I95: Шевченківським РТЦК та СП у Київській області | J95: 03.10.1987 | K95: 3205210030 | L95: №250220261320609100002/1 | M95: НЕ 335807 Смілянським МРВ УМВС України в Черкаській області 25.12.2003 | N95: Черкаська обл, м. Сміла | O95: Черкаська обл,, м. Сміла, вул. Софії Ковалевської, буд. 16 | P95: вища | Q95: Харківський національний університет внутрішніх справ,2009,право та підприємництво | R95: Водій (5т, 12м) - 20р Права A, B, C | S95: не одружений | T95: мати: Пономаренко Ольга Іванівна - 1967 - 0638900538, Черкаська обл, м. Сміла, вул. Софії Ковалевської, буд. 16 | U95: 0631406221 | W95: курсант | X95: 100 | Z95: 46078 | AA95: № 59 | AB95: =IF(E95="","",IF(V95="","ні","так")) -> ні | AC95: 46078 | AD95: Придатний до військової служби | AF95: А2900 по розподілу ВОДІЙ | AG95: =IF(AND(INT(YEARFRAC(#REF!,TODAY()))>=25,INT(YEARFRAC(#REF!,TODAY()))<=35),INT(YEARFRAC(#REF!,TODAY())),"") -> #REF! | AH95: =IF(AND(INT(YEARFRAC(#REF!,TODAY()))>=36,INT(YEARFRAC(#REF!,TODAY()))<=45),INT(YEARFRAC(#REF!,TODAY())),"") -> #REF! | AI95: =IF(AND(INT(YEARFRAC(#REF!,TODAY()))>=46,INT(YEARFRAC(#REF!,TODAY()))<=50),INT(YEARFRAC(#REF!,TODAY())),"") -> #REF!
A96: 260228-8 | B96: 46081 | C96: 12 | D96: солдат | E96: ПРИЩЕПЧУК Андрій Олександрович | F96: {=_xlfn.TEXTSPLIT(E96," ")} -> ПРИЩЕПЧУК | G96: Андрій | H96: Олександрович | I96: Солом'янським РТЦК та СП у Київській області | J96: 06.08.1991 | K96: 3345513459 | L96: АГ 629885 | M96: СМ 957975 Бородянським РВ ГУ МВС УКР в Київській обл 29.09.2007 | N96: Київська обл., Бородянський р-н., с. Пісківка | O96: м. Київ, вул. Якуба Колоса, буд. 2, кв. 104 | P96: вища | Q96: ІТТУ, Київ, інженер | R96: ІТ, 15 років Права А, В, С, С1 | S96: не одружений | T96: мати: Прищепчук Світлана Петрівна, 1970, м. Київ, вул. Якуба Колоса, буд. 2, кв. 104, 0673192335 | U96: 0631562438 | W96: курсант | X96: 100 | Z96: 46081 | AA96: № 62 | AB96: =IF(E96="","",IF(V96="","ні","так")) -> ні | AC96: 46081 | AD96: Придатний до військової служби | AG96: =IF(AND(INT(YEARFRAC(#REF!,TODAY()))>=25,INT(YEARFRAC(#REF!,TODAY()))<=35),INT(YEARFRAC(#REF!,TODAY())),"") -> #REF! | AH96: =IF(AND(INT(YEARFRAC(#REF!,TODAY()))>=36,INT(YEARFRAC(#REF!,TODAY()))<=45),INT(YEARFRAC(#REF!,TODAY())),"") -> #REF! | AI96: =IF(AND(INT(YEARFRAC(#REF!,TODAY()))>=46,INT(YEARFRAC(#REF!,TODAY()))<=50),INT(YEARFRAC(#REF!,TODAY())),"") -> #REF!
A97: 2542 | B97: 46079 | C97: 13 | D97: солдат | E97: ПРОКОПЧУК Євген Антонович | F97: {=_xlfn.TEXTSPLIT(E97," ")} -> ПРОКОПЧУК | G97: Євген | H97: Антонович | I97: Житомирським РТЦК та СП у Житомирській області | J97: 18.03.1981 | K97: 2966217453 | L97: АГ 603343 | M97: ВМ 570005 Богунським РВ УМВС УКР в Житоминській обл 17.06.1998 | N97: м. Житомир | O97: м. Житомир, вул. Вільсбкий Шлях, буд. 64 | P97: професійно- технічна | Q97: Житомирське ПТУ №5, 1997, пічник-штукатур | R97: Будівельник, 12 років, Права - | S97: не одружений | T97: не вказано | U97: 0677402215 | W97: курсант | X97: 100 | Z97: 46079 | AA97: № 60 | AB97: =IF(E97="","",IF(V97="","ні","так")) -> ні | AC97: 46079 | AD97: Придатний до військової служби | AG97: =IF(AND(INT(YEARFRAC(#REF!,TODAY()))>=25,INT(YEARFRAC(#REF!,TODAY()))<=35),INT(YEARFRAC(#REF!,TODAY())),"") -> #REF! | AH97: =IF(AND(INT(YEARFRAC(#REF!,TODAY()))>=36,INT(YEARFRAC(#REF!,TODAY()))<=45),INT(YEARFRAC(#REF!,TODAY())),"") -> #REF! | AI97: =IF(AND(INT(YEARFRAC(#REF!,TODAY()))>=46,INT(YEARFRAC(#REF!,TODAY()))<=50),INT(YEARFRAC(#REF!,TODAY())),"") -> #REF!
A98: 11/1629 | B98: 46080 | C98: 9 | D98: солдат | E98: ПЯТНІКОВ Анатолій Вікторович | F98: {=_xlfn.TEXTSPLIT(E98," ")} -> ПЯТНІКОВ | G98: Анатолій | H98: Вікторович | I98: Шевченківським РТЦК та СП у Київській області | J98: 17.12.1978 | K98: 2884021413 | L98: №020520251320939300022/1 | M98: 009833927 8017 24.10.2023 | N98: м. Київ | O98: м. Київ, вул. Дмирівська, буд. 69, кв. 124 | P98: повна загальна середня | Q98: Київ, №271 | R98: ТОВ, 20 років Права - | S98: не одружений | T98: не вказано | U98: 0676933296 | W98: курсант | X98: 100 | Z98: 46080 | AA98: № 61 | AB98: =IF(E98="","",IF(V98="","ні","так")) -> ні | AC98: 46080 | AD98: Придатний до військової служби | AF98: А2900 по розподілу телекомунікації. Директор Софтлінк ІТ Телесеть | AG98: =IF(AND(INT(YEARFRAC(#REF!,TODAY()))>=25,INT(YEARFRAC(#REF!,TODAY()))<=35),INT(YEARFRAC(#REF!,TODAY())),"") -> #REF! | AH98: =IF(AND(INT(YEARFRAC(#REF!,TODAY()))>=36,INT(YEARFRAC(#REF!,TODAY()))<=45),INT(YEARFRAC(#REF!,TODAY())),"") -> #REF! | AI98: =IF(AND(INT(YEARFRAC(#REF!,TODAY()))>=46,INT(YEARFRAC(#REF!,TODAY()))<=50),INT(YEARFRAC(#REF!,TODAY())),"") -> #REF!
B99: 46072 | D99: солдат | E99: РЕДЬКО Вадим Юрійович | F99: {=_xlfn.TEXTSPLIT(E99," ")} -> РЕДЬКО | G99: Вадим | H99: Юрійович | I99: Дніпровський РТЦК та СП 19.02.2026 | J99: 22.04.1992 | K99: 3371514395 | L99: №291120211320515300024/1 | N99: м. Київ | O99: м. Київ, вул. Іжкарська, буд. 8а | P99: професійно- технічна | Q99: Київський професійний будівелний ліцей, 2012, автослюсар | R99: Менеджер з продажу, 13 років, Права В | S99: одружений | T99: дружина: Редько Юлія Сергіївна, 1991, м. Київ, вул. Іжкарська, буд. 8а, 0976891224 | U99: 0672492265 | AF99: Резерв КДШВ | AG99: =IF(AND(INT(YEARFRAC(#REF!,TODAY()))>=25,INT(YEARFRAC(#REF!,TODAY()))<=35),INT(YEARFRAC(#REF!,TODAY())),"") -> #REF! | AH99: =IF(AND(INT(YEARFRAC(#REF!,TODAY()))>=36,INT(YEARFRAC(#REF!,TODAY()))<=45),INT(YEARFRAC(#REF!,TODAY())),"") -> #REF! | AI99: =IF(AND(INT(YEARFRAC(#REF!,TODAY()))>=46,INT(YEARFRAC(#REF!,TODAY()))<=50),INT(YEARFRAC(#REF!,TODAY())),"") -> #REF!
B100: 46077 | C100: 36 | D100: солдат | E100: РІЗНИЧОК Ігор Миколайович | F100: {=_xlfn.TEXTSPLIT(E100," ")} -> РІЗНИЧОК | G100: Ігор | H100: Миколайович | I100: Конотопським РТЦК та СП у Сумській області | J100: 28.08.1990 | K100: 3311204310 | L100: АВ 967827 | M100: 007897814 Виданий 5920 12.07.2022 | N100: с.Довга Лука, Липоодолинський р-н, Сумська обл. | O100: м. Лебедин, Сумська обл., Сумський р-н, вул. Павла Чубинського, б. 4 | P100: повна загальна середня | Q100: Синівський ПАЛ,Сумська обл., с. Синівка,2009 | R100: тракторист кат А, В, С водій кат В,С | S100: не одружений | T100: мати: Різничок Любов Михайлівна - 1963 - 0995630158, с. Довга Лука, Сумська обл., Роменський р-н | U100: 0957600927 | AB100: ні | AE100: II Rh + | AF100: Резерв КДШВ | AG100: =IF(AND(INT(YEARFRAC(#REF!,TODAY()))>=25,INT(YEARFRAC(#REF!,TODAY()))<=35),INT(YEARFRAC(#REF!,TODAY())),"") -> #REF! | AH100: =IF(AND(INT(YEARFRAC(#REF!,TODAY()))>=36,INT(YEARFRAC(#REF!,TODAY()))<=45),INT(YEARFRAC(#REF!,TODAY())),"") -> #REF! | AI100: =IF(AND(INT(YEARFRAC(#REF!,TODAY()))>=46,INT(YEARFRAC(#REF!,TODAY()))<=50),INT(YEARFRAC(#REF!,TODAY())),"") -> #REF!
...

Sheet відмінювання
A1: Прізвище | B1: Імя | C1: По батькові | D1: ПІБ_А | E1: ПІБ_У | F1: ПІБ_КИМ | G1: ЗВАННЯ_А | H1: ЗВАННЯ_У | I1: ЗВАННЯ_ОМ | J1: ЗВАННЯ_С
A2: АБРАМЯН | B2: Артур | C2: Маратович | D2: АБРАМЯНА Артура Маратовича | E2: АБРАМЯНУ Артуру Маратовичу | F2: АБРАМЯНОМ Артуром Маратовичем | G2: солдата | H2: солдату | I2: солдатом | J2: солдат
A3: АВРАМЕНКО | B3: Андрій | C3: Миколайович | D3: АВРАМЕНКА Андрія Миколайовича | E3: АВРАМЕНКУ Андрію Миколайовичу | F3: АВРАМЕНКОМ Андрієм Миколайовичем | G3: солдата | H3: солдату | I3: солдатом | J3: солдат
A4: АЛЕКСЕНКО | B4: Іван | C4: Миколайович | D4: АЛЕКСЕНКА Івана Миколайовича | E4: АЛЕКСЕНКУ Івану Миколайовичу | F4: АЛЕКСЕНКОМ Іваном Миколайовичем | G4: солдата | H4: солдату | I4: солдатом | J4: солдат
A5: АЛІЄВ | B5: Парвіз | C5: Натікбєкович | D5: АЛІЄВА Парвіза Натікбєковича | E5: АЛІЄВУ Парвізу Натікбєковичу | F5: АЛІЄВИМ Парвізом Натікбєковичем | G5: солдата | H5: солдату | I5: солдатом | J5: солдат
A6: АНДРУШКО | B6: Вадим | C6: Валентинович | D6: АНДРУШКА Вадима Валентиновича | E6: АНДРУШКУ Вадиму Валентиновичу | F6: АНДРУШКОМ Вадимом Валентиновичем | G6: солдата | H6: солдату | I6: солдатом | J6: солдат
A7: АНІСІМОВ | B7: Сергій | C7: Леонідович | D7: АНІСІМОВА Сергія Леонідовича | E7: АНІСІМОВУ Сергію Леонідовичу | F7: АНІСІМОВИМ Сергієм Леонідовичем | G7: солдата | H7: солдату | I7: солдатом | J7: солдат
A8: АНТОНЮК | B8: Дмитро | C8: Русланович | D8: АНТОНЮКА Дмитра Руслановича | E8: АНТОНЮКУ Дмитру Руслановичу | F8: АНТОНЮКОМ Дмитром Руслановичем | G8: солдата | H8: солдату | I8: солдатом | J8: солдат
A9: АНТОНЮК | B9: Олександр | C9: Леонідович | D9: АНТОНЮКА Олександра Леонідовича | E9: АНТОНЮКУ Олександру Леонідовичу | F9: АНТОНЮКОМ Олександром Леонідовичем | G9: солдата | H9: солдату | I9: солдатом | J9: солдат
A10: БАБИЧ | B10: Андрій | C10: Васильович | D10: БАБИЧА Андрія Васильовича | E10: БАБИЧУ Андрію Васильовичу | F10: БАБИЧЕМ Андрієм Васильовичем | G10: солдата | H10: солдату | I10: солдатом | J10: солдат
A11: БАСКАКОВ | B11: Павло | C11: Анатолійович | D11: БАСКАКОВА Павла Анатолійовича | E11: БАСКАКОВУ Павлу Анатолійовичу | F11: БАСКАКОВИМ Павлом Анатолійовичем | G11: солдата | H11: солдату | I11: солдатом | J11: солдат
A12: БЕРШАДСЬКИЙ | B12: Олександр | C12: Миколайович | D12: БЕРШАДСЬКОГО Олександра Миколайовича | E12: БЕРШАДСЬКОМУ Олександру Миколайовичу | F12: БЕРШАДСЬКИМ Олександром Миколайовичем | G12: солдата | H12: солдату | I12: солдатом | J12: солдат
... A142: ЯНЦ | B142: Сергій | C142: Геннадійович | D142: ЯНЦА Сергія Геннадійовича | E142: ЯНЦУ Сергію Геннадійовичу | F142: ЯНЦОМ Сергієм Геннадійовичем | G142: солдата | H142: солдату | I142: солдатом | J142: солдат

Sheet Перевірка
A1: {=Основний!C2:C26} -> 1 | B1: {=CONCATENATE("", Основний!E2:E26)} -> АБРАМЯН Артур Маратович | C1: {=CONCATENATE("", TEXT(Основний!#REF!,"dd.mm.yyyy"))} -> #REF! | D1: {=CONCATENATE("", Основний!K2:K26)} -> 3608804152 | E1: Перевірка | F1: {=CONCATENATE("", Основний!L2:L26)} -> 040520251458450705269/1 | G1: Перевірка | H1: {=CONCATENATE("", Основний!M2:M26)} -> ВТ 101396 Приморським РС у м. Маріуполі ГУ ДМС України в Донецькій області 12.06.2015 | I1: Перевірка | J1: Алфавітка | K1: Д = А | L1: Поіменний Список | M1: Д = ПС | N1: А = ПС
A2: 2 | B2: АВРАМЕНКО Андрій Миколайович | C2: #REF! | D2: 3085003094 | J2: - | K2: - | L2: - | M2: - | N2: - | O2: =DATEVALUE(C2) <> INT(LEFT(D2,5)) +1 -> #REF!
A3: 2 | B3: АЛЕКСЕНКО Іван Миколайович | C3: #REF! | D3: 3560301717 | E3: =IF(D3="", "", LEN(D3)) -> 10 | G3: =IF(F3="", "", LEN(F3)) | I3: =IF(H3="", "", LEN(H3)) | J3: Антоненко Руслан Олександрович | K3: =IF(J3="", "", B3=J3) -> FALSE | M3: =IF(L3="", "", B3=L3) | N3: =IF(L3="", "", J3=L3) | O3: =DATEVALUE(C3) <> INT(LEFT(D3,5)) +1 -> #REF! | P3: =DATEVALUE(C3) -> #REF!
A4: 3 | B4: АЛІЄВ Парвіз Натікбєкович | C4: #REF! | D4: 3044204097 | E4: =IF(D4="", "", LEN(D4)) -> 10 | F4: АГ 629818 | G4: =IF(F4="", "", LEN(F4)) -> 9 | H4: КС 160333 Київським РВ ДМУ УДМС УКР в Донецькій обл 09.08.2002 | I4: =IF(H4="", "", LEN(H4)) -> 62 | J4: Баранов Дмитро Геннадійович | K4: =IF(J4="", "", B4=J4) -> FALSE | M4: =IF(L4="", "", B4=L4) | N4: =IF(L4="", "", J4=L4) | O4: =DATEVALUE(C4) <> INT(LEFT(D4,5)) +1 -> #REF!
A5: 1 | B5: АНДРУШКО Вадим Валентинович | C5: #REF! | D5: 3354308835 | E5: =IF(D5="", "", LEN(D5)) -> 10 | F5: АГ 603287 | G5: =IF(F5="", "", LEN(F5)) -> 9 | H5: ВН 424127 Вололдарсько-Волинським РВ УМВС в Житомирській області 20.05.2008 | I5: =IF(H5="", "", LEN(H5)) -> 75 | J5: Боровик Юрій Володимирович | K5: =IF(J5="", "", B5=J5) -> FALSE | M5: =IF(L5="", "", B5=L5) | N5: =IF(L5="", "", J5=L5) | O5: =DATEVALUE(C5) <> INT(LEFT(D5,5)) +1 -> #REF!
A6: 5 | B6: АНІСІМОВ Сергій Леонідович | C6: #REF! | D6: 3279802570 | E6: =IF(D6="", "", LEN(D6)) -> 10 | F6: АГ 633795 | G6: =IF(F6="", "", LEN(F6)) -> 9 | H6: АМ 247948 | I6: =IF(H6="", "", LEN(H6)) -> 9 | J6: Горбатенко Олександр Олегович | K6: =IF(J6="", "", B6=J6) -> FALSE | M6: =IF(L6="", "", B6=L6) | N6: =IF(L6="", "", J6=L6)
A7: 1 | B7: АНТОНЮК Дмитро Русланович | C7: #REF! | D7: 3624109257 | E7: =IF(D7="", "", LEN(D7)) -> 10 | F7: АГ 574988 | G7: =IF(F7="", "", LEN(F7)) -> 9 | H7: АТ 121678 | I7: =IF(H7="", "", LEN(H7)) -> 9 | J7: Жестовський Сергій Сергійович | K7: =IF(J7="", "", B7=J7) -> FALSE | M7: =IF(L7="", "", B7=L7) | N7: =IF(L7="", "", J7=L7)
A8: 1 | B8: АНТОНЮК Олександр Леонідович | C8: #REF! | D8: 2912410393 | E8: =IF(D8="", "", LEN(D8)) -> 10 | F8: АГ 603239 | G8: =IF(F8="", "", LEN(F8)) -> 9 | H8: ТТ 193066 Дарнівським РО ГУ ДМС УКР в м. Києві 16.08.2013 | I8: =IF(H8="", "", LEN(H8)) -> 57 | J8: Ісаков Олександр Сергійович | K8: =IF(J8="", "", B8=J8) -> FALSE | M8: =IF(L8="", "", B8=L8) | N8: =IF(L8="", "", J8=L8)
A9: 2 | B9: БАБИЧ Андрій Васильович | C9: #REF! | D9: 3078922215 | E9: =IF(D9="", "", LEN(D9)) -> 10 | F9: АГ 603272 | G9: =IF(F9="", "", LEN(F9)) -> 9 | H9: СТ 531446 Чернігівським РС УДМС УКР в Чернігівській обл 24.02.2017 | I9: =IF(H9="", "", LEN(H9)) -> 67 | J9: Клімчук Олександр Олександрович | K9: =IF(J9="", "", B9=J9) -> FALSE | M9: =IF(L9="", "", B9=L9) | N9: =IF(L9="", "", J9=L9)
A10: 3 | B10: БАСКАКОВ Павло Анатолійович | C10: #REF! | D10: 3074200978 | E10: =IF(D10="", "", LEN(D10)) -> 10 | F10: 140220221425037600020/1 | G10: =IF(F10="", "", LEN(F10)) -> 23 | H10: АМ 064073 Заводським РВ Дніпродзержинського МУ УМВС України в Дніпропетровській області 03.10.2000 | I10: =IF(H10="", "", LEN(H10)) -> 98 | J10: Колесніков Сергій Сергійович | K10: =IF(J10="", "", B10=J10) -> FALSE | M10: =IF(L10="", "", B10=L10) | N10: =IF(L10="", "", J10=L10)
A11: 2 | B11: БЕРШАДСЬКИЙ Олександр Миколайович | C11: #REF! | D11: 3367700733 | E11: =IF(D11="", "", LEN(D11)) -> 10 | F11: довідка | G11: =IF(F11="", "", LEN(F11)) -> 7 | H11: 003047716 8034 04.03.2019 | I11: =IF(H11="", "", LEN(H11)) -> 25 | J11: Опанасюк Ігор Петрович | K11: =IF(J11="", "", B11=J11) -> FALSE | M11: =IF(L11="", "", B11=L11) | N11: =IF(L11="", "", J11=L11)
A12: 3 | B12: БІЛОУСОВ Сергій Вікторович | C12: #REF! | D12: ВМ 632875 | E12: =IF(D12="", "", LEN(D12)) -> 9 | F12: АГ 186080 | G12: =IF(F12="", "", LEN(F12)) -> 9 | H12: 009302826 1836 23.06.2023 | I12: =IF(H12="", "", LEN(H12)) -> 25 | J12: Ручин Дмитро Вікторович | K12: =IF(J12="", "", B12=J12) -> FALSE | M12: =IF(L12="", "", B12=L12) | N12: =IF(L12="", "", J12=L12)
A13: 18 | B13: БОЙКО Геннадій Володимирович | C13: #REF! | D13: 2990807554 | E13: =IF(D13="", "", LEN(D13)) -> 10 | F13: 250220261352624000001/2 | G13: =IF(F13="", "", LEN(F13)) -> 23 | H13: МА 583941 Охтирським МРВУМВС України в Сумській обл., 04.01.1999 | I13: =IF(H13="", "", LEN(H13)) -> 64 | J13: Солоденко Анатолій Сергійович | K13: =IF(J13="", "", B13=J13) -> FALSE | M13: =IF(L13="", "", B13=L13) | N13: =IF(L13="", "", J13=L13)
A14: 4 | B14: БОЛЬШАКОВ Костянтин Євгенович | C14: #REF! | D14: 3378604531 | E14: =IF(D14="", "", LEN(D14)) -> 10 | F14: 250220261320634500007/1 | G14: =IF(F14="", "", LEN(F14)) -> 23 | H14: ЕН 904717 Краснолуцьким МВ УДМС УКР в Луганській обл 15.11.2012 | I14: =IF(H14="", "", LEN(H14)) -> 63 | J14: Фістікан Василь Петрович | K14: =IF(J14="", "", B14=J14) -> FALSE | M14: =IF(L14="", "", B14=L14) | N14: =IF(L14="", "", J14=L14)
A15: 4 | B15: БОНДАР Андрій Васильович | C15: #REF! | D15: 3235207996 | E15: =IF(D15="", "", LEN(D15)) -> 10 | F15: АГ 574967 | G15: =IF(F15="", "", LEN(F15)) -> 9 | H15: 011098716 | I15: =IF(H15="", "", LEN(H15)) -> 9 | J15: Чабан Михайло Григорович | K15: =IF(J15="", "", B15=J15) -> FALSE | M15: =IF(L15="", "", B15=L15) | N15: =IF(L15="", "", J15=L15)
A16: 10 | B16: БОРИСОВ Дмитро Сергійович | C16: #REF! | D16: 3081727094 | E16: =IF(D16="", "", LEN(D16)) -> 10 | F16: СО 871538 | G16: =IF(F16="", "", LEN(F16)) -> 9 | I16: =IF(H16="", "", LEN(H16)) | K16: =IF(J16="", "", B16=J16) | M16: =IF(L16="", "", B16=L16) | N16: =IF(L16="", "", J16=L16)
A17: 1 | B17: БОРОДАВКО Віталій Михайлович | C17: #REF! | D17: 3279006554 | E17: =IF(D17="", "", LEN(D17)) -> 10 | F17: АГ 633793 | G17: =IF(F17="", "", LEN(F17)) -> 9 | H17: НМ 247947 Ніжинським МВР УМВС УКР в Чернігівській обл 24.03.2006 | I17: =IF(H17="", "", LEN(H17)) -> 64 | K17: =IF(J17="", "", B17=J17) | M17: =IF(L17="", "", B17=L17) | N17: =IF(L17="", "", J17=L17)
A18: 3 | B18: БРИСКІН Денис Сергійович | C18: #REF! | D18: 3019609990 | E18: =IF(D18="", "", LEN(D18)) -> 10 | F18: МО 369114 | G18: =IF(F18="", "", LEN(F18)) -> 9 | I18: =IF(H18="", "", LEN(H18)) | K18: =IF(J18="", "", B18=J18) | M18: =IF(L18="", "", B18=L18) | N18: =IF(L18="", "", J18=L18)
A19: 2 | B19: БРОДОВСЬКИЙ Вадим Феліксович | C19: #REF! | D19: 2843714031 | E19: =IF(D19="", "", LEN(D19)) -> 10 | F19: АГ 603250 | G19: =IF(F19="", "", LEN(F19)) -> 9 | H19: ВМ 028712 | I19: =IF(H19="", "", LEN(H19)) -> 9 | K19: =IF(J19="", "", B19=J19) | M19: =IF(L19="", "", B19=L19) | N19: =IF(L19="", "", J19=L19)
A20: 23 | B20: БРУЯКА Максим Юрійович | C20: #REF! | D20: 3536512192 | E20: =IF(D20="", "", LEN(D20)) -> 10 | F20: АВ 960514 | G20: =IF(F20="", "", LEN(F20)) -> 9 | H20: МВ 516155 Ковпаківським РВ м.Суми УДМС України в Сумській обл. 18.12.2012 | I20: =IF(H20="", "", LEN(H20)) -> 73 | K20: =IF(J20="", "", B20=J20) | M20: =IF(L20="", "", B20=L20) | N20: =IF(L20="", "", J20=L20)
A21: 38 | B21: БУРКОВЦОВ Андрій Юрійович | C21: #REF! | D21: 3239413855 | E21: =IF(D21="", "", LEN(D21)) -> 10 | F21: АВ 949437 | G21: =IF(F21="", "", LEN(F21)) -> 9 | H21: закордоний паспорт ЕН991201 виданий 7401 08.06.2011 | I21: =IF(H21="", "", LEN(H21)) -> 51 | K21: =IF(J21="", "", B21=J21) | M21: =IF(L21="", "", B21=L21) | N21: =IF(L21="", "", J21=L21)
A22: 5 | B22: БУТКО Руслан Павлович | C22: #REF! | D22: 3600408276 | E22: =IF(D22="", "", LEN(D22)) -> 10 | F22: 250620235816010600001/1 | G22: =IF(F22="", "", LEN(F22)) -> 23 | H22: 009601452 3214 29.08.2023 | I22: =IF(H22="", "", LEN(H22)) -> 25 | K22: =IF(J22="", "", B22=J22) | M22: =IF(L22="", "", B22=L22) | N22: =IF(L22="", "", J22=L22)
A23: 5 | B23: ВАСИЛЬЧЕНКО Сергій Анатолійович | C23: #REF! | D23: 3428909730 | E23: =IF(D23="", "", LEN(D23)) -> 10 | F23: АВ 949433 | G23: =IF(F23="", "", LEN(F23)) -> 9 | H23: 002997059 виданий 5924 20.02.2019 | I23: =IF(H23="", "", LEN(H23)) -> 33 | K23: =IF(J23="", "", B23=J23) | M23: =IF(L23="", "", B23=L23) | N23: =IF(L23="", "", J23=L23)
A24: 4 | B24: ВЕРБА Володимир Олександрович | C24: #REF! | D24: 3493804851 | E24: =IF(D24="", "", LEN(D24)) -> 10 | F24: АВ 552749 | G24: =IF(F24="", "", LEN(F24)) -> 9 | I24: =IF(H24="", "", LEN(H24)) | K24: =IF(J24="", "", B24=J24) | M24: =IF(L24="", "", B24=L24) | N24: =IF(L24="", "", J24=L24)
A25: 43 | B25: ВЕРСТЮК Євген Дмитрович | C25: #REF! | D25: 2821912276 | E25: =IF(D25="", "", LEN(D25)) -> 10 | F25: АВ909239 | G25: =IF(F25="", "", LEN(F25)) -> 8 | H25: МК 414303 Лозівським МРВУМВС України в Харківській обл. 15.01.1997 | I25: =IF(H25="", "", LEN(H25)) -> 68 | K25: =IF(J25="", "", B25=J25) | M25: =IF(L25="", "", B25=L25) | N25: =IF(L25="", "", J25=L25)
A26: #N/A | B26: #N/A | C26: #REF! | D26: #N/A | E26: =IF(D26="", "", LEN(D26)) -> #N/A | F26: #N/A | G26: =IF(F26="", "", LEN(F26)) -> #N/A | H26: #N/A | I26: =IF(H26="", "", LEN(H26)) -> #N/A | K26: =IF(J26="", "", B26=J26) | M26: =IF(L26="", "", B26=L26) | N26: =IF(L26="", "", J26=L26)
A27: #N/A | B27: #N/A | C27: #REF! | D27: #N/A | E27: =IF(D27="", "", LEN(D27)) -> #N/A | F27: #N/A | G27: =IF(F27="", "", LEN(F27)) -> #N/A | H27: #N/A | I27: =IF(H27="", "", LEN(H27)) -> #N/A | K27: =IF(J27="", "", B27=J27) | M27: =IF(L27="", "", B27=L27) | N27: =IF(L27="", "", J27=L27)
A28: #N/A | B28: #N/A | C28: #REF! | D28: #N/A | E28: =IF(D28="", "", LEN(D28)) -> #N/A | F28: #N/A | G28: =IF(F28="", "", LEN(F28)) -> #N/A | H28: #N/A | I28: =IF(H28="", "", LEN(H28)) -> #N/A | K28: =IF(J28="", "", B28=J28) | M28: =IF(L28="", "", B28=L28) | N28: =IF(L28="", "", J28=L28)
A29: #N/A | B29: #N/A | C29: #REF! | D29: #N/A | E29: =IF(D29="", "", LEN(D29)) -> #N/A | F29: #N/A | G29: =IF(F29="", "", LEN(F29)) -> #N/A | H29: #N/A | I29: =IF(H29="", "", LEN(H29)) -> #N/A | K29: =IF(J29="", "", B29=J29) | M29: =IF(L29="", "", B29=L29) | N29: =IF(L29="", "", J29=L29)
A30: #N/A | B30: #N/A | C30: #REF! | D30: #N/A | E30: =IF(D30="", "", LEN(D30)) -> #N/A | F30: #N/A | G30: =IF(F30="", "", LEN(F30)) -> #N/A | H30: #N/A | I30: =IF(H30="", "", LEN(H30)) -> #N/A | K30: =IF(J30="", "", B30=J30) | M30: =IF(L30="", "", B30=L30) | N30: =IF(L30="", "", J30=L30)
A31: #N/A | B31: #N/A | C31: #REF! | D31: #N/A | E31: =IF(D31="", "", LEN(D31)) -> #N/A | F31: #N/A | G31: =IF(F31="", "", LEN(F31)) -> #N/A | H31: #N/A | I31: =IF(H31="", "", LEN(H31)) -> #N/A | K31: =IF(J31="", "", B31=J31) | M31: =IF(L31="", "", B31=L31) | N31: =IF(L31="", "", J31=L31)
A32: #N/A | B32: #N/A | C32: #REF! | D32: #N/A | E32: =IF(D32="", "", LEN(D32)) -> #N/A | F32: #N/A | G32: =IF(F32="", "", LEN(F32)) -> #N/A | H32: #N/A | I32: =IF(H32="", "", LEN(H32)) -> #N/A | K32: =IF(J32="", "", B32=J32) | M32: =IF(L32="", "", B32=L32) | N32: =IF(L32="", "", J32=L32)
A33: #N/A | B33: #N/A | C33: #REF! | D33: #N/A | E33: =IF(D33="", "", LEN(D33)) -> #N/A | F33: #N/A | G33: =IF(F33="", "", LEN(F33)) -> #N/A | H33: #N/A | I33: =IF(H33="", "", LEN(H33)) -> #N/A | K33: =IF(J33="", "", B33=J33) | M33: =IF(L33="", "", B33=L33) | N33: =IF(L33="", "", J33=L33)
A34: #N/A | B34: #N/A | C34: #REF! | D34: #N/A | E34: =IF(D34="", "", LEN(D34)) -> #N/A | F34: #N/A | G34: =IF(F34="", "", LEN(F34)) -> #N/A | H34: #N/A | I34: =IF(H34="", "", LEN(H34)) -> #N/A | K34: =IF(J34="", "", B34=J34) | M34: =IF(L34="", "", B34=L34) | N34: =IF(L34="", "", J34=L34)
A35: #N/A | B35: #N/A | C35: #REF! | D35: #N/A | E35: =IF(D35="", "", LEN(D35)) -> #N/A | F35: #N/A | G35: =IF(F35="", "", LEN(F35)) -> #N/A | H35: #N/A | I35: =IF(H35="", "", LEN(H35)) -> #N/A | K35: =IF(J35="", "", B35=J35) | M35: =IF(L35="", "", B35=L35) | N35: =IF(L35="", "", J35=L35)
A36: #N/A | B36: #N/A | C36: #REF! | D36: #N/A | E36: =IF(D36="", "", LEN(D36)) -> #N/A | F36: #N/A | G36: =IF(F36="", "", LEN(F36)) -> #N/A | H36: #N/A | I36: =IF(H36="", "", LEN(H36)) -> #N/A | K36: =IF(J36="", "", B36=J36) | M36: =IF(L36="", "", B36=L36) | N36: =IF(L36="", "", J36=L36)
A37: #N/A | B37: #N/A | C37: #REF! | D37: #N/A | E37: =IF(D37="", "", LEN(D37)) -> #N/A | F37: #N/A | G37: =IF(F37="", "", LEN(F37)) -> #N/A | H37: #N/A | I37: =IF(H37="", "", LEN(H37)) -> #N/A | K37: =IF(J37="", "", B37=J37) | M37: =IF(L37="", "", B37=L37) | N37: =IF(L37="", "", J37=L37)
... A172: #N/A | B172: #N/A | C172: #REF! | D172: #N/A | E172: =IF(D172="", "", LEN(D172)) -> #N/A | F172: #N/A | G172: =IF(F172="", "", LEN(F172)) -> #N/A | H172: #N/A | I172: =IF(H172="", "", LEN(H172)) -> #N/A | K172: =IF(J172="", "", B172=J172) | M172: =IF(L172="", "", B172=L172) | N172: =IF(L172="", "", J172=L172)
E173: =IF(D173="", "", LEN(D173)) | G173: =IF(F173="", "", LEN(F173)) | I173: =IF(H173="", "", LEN(H173)) | K173: =IF(J173="", "", B173=J173) | M173: =IF(L173="", "", B173=L173) | N173: =IF(L173="", "", J173=L173)
E174: =IF(D174="", "", LEN(D174)) | G174: =IF(F174="", "", LEN(F174)) | I174: =IF(H174="", "", LEN(H174)) | K174: =IF(J174="", "", B174=J174) | M174: =IF(L174="", "", B174=L174) | N174: =IF(L174="", "", J174=L174)
E175: =IF(D175="", "", LEN(D175)) | G175: =IF(F175="", "", LEN(F175)) | I175: =IF(H175="", "", LEN(H175)) | K175: =IF(J175="", "", B175=J175) | M175: =IF(L175="", "", B175=L175) | N175: =IF(L175="", "", J175=L175)
E176: =IF(D176="", "", LEN(D176)) | G176: =IF(F176="", "", LEN(F176)) | I176: =IF(H176="", "", LEN(H176)) | K176: =IF(J176="", "", B176=J176) | M176: =IF(L176="", "", B176=L176) | N176: =IF(L176="", "", J176=L176)
E177: =IF(D177="", "", LEN(D177)) | G177: =IF(F177="", "", LEN(F177)) | I177: =IF(H177="", "", LEN(H177)) | K177: =IF(J177="", "", B177=J177) | M177: =IF(L177="", "", B177=L177) | N177: =IF(L177="", "", J177=L177)
E178: =IF(D178="", "", LEN(D178)) | G178: =IF(F178="", "", LEN(F178)) | I178: =IF(H178="", "", LEN(H178)) | K178: =IF(J178="", "", B178=J178) | M178: =IF(L178="", "", B178=L178) | N178: =IF(L178="", "", J178=L178)
E179: =IF(D179="", "", LEN(D179)) | G179: =IF(F179="", "", LEN(F179)) | I179: =IF(H179="", "", LEN(H179)) | K179: =IF(J179="", "", B179=J179) | M179: =IF(L179="", "", B179=L179) | N179: =IF(L179="", "", J179=L179)
E180: =IF(D180="", "", LEN(D180)) | G180: =IF(F180="", "", LEN(F180)) | I180: =IF(H180="", "", LEN(H180)) | K180: =IF(J180="", "", B180=J180) | M180: =IF(L180="", "", B180=L180) | N180: =IF(L180="", "", J180=L180)
E181: =IF(D181="", "", LEN(D181)) | G181: =IF(F181="", "", LEN(F181)) | I181: =IF(H181="", "", LEN(H181)) | K181: =IF(J181="", "", B181=J181) | M181: =IF(L181="", "", B181=L181) | N181: =IF(L181="", "", J181=L181)
E182: =IF(D182="", "", LEN(D182)) | G182: =IF(F182="", "", LEN(F182)) | I182: =IF(H182="", "", LEN(H182)) | K182: =IF(J182="", "", B182=J182) | M182: =IF(L182="", "", B182=L182) | N182: =IF(L182="", "", J182=L182)
E183: =IF(D183="", "", LEN(D183)) | G183: =IF(F183="", "", LEN(F183)) | I183: =IF(H183="", "", LEN(H183)) | K183: =IF(J183="", "", B183=J183) | M183: =IF(L183="", "", B183=L183) | N183: =IF(L183="", "", J183=L183)
E184: =IF(D184="", "", LEN(D184)) | G184: =IF(F184="", "", LEN(F184)) | I184: =IF(H184="", "", LEN(H184)) | K184: =IF(J184="", "", B184=J184) | M184: =IF(L184="", "", B184=L184) | N184: =IF(L184="", "", J184=L184)
... E202: =IF(D202="", "", LEN(D202)) | G202: =IF(F202="", "", LEN(F202)) | I202: =IF(H202="", "", LEN(H202)) | K202: =IF(J202="", "", B202=J202) | M202: =IF(L202="", "", B202=L202) | N202: =IF(L202="", "", J202=L202)
K203: =IF(J203="", "", B203=J203)
K204: =IF(J204="", "", B204=J204)
K205: =IF(J205="", "", B205=J205)
K206: =IF(J206="", "", B206=J206)
K207: =IF(J207="", "", B207=J207)
K208: =IF(J208="", "", B208=J208)
K209: =IF(J209="", "", B209=J209)
K210: =IF(J210="", "", B210=J210)
K211: =IF(J211="", "", B211=J211)
K212: =IF(J212="", "", B212=J212)
K213: =IF(J213="", "", B213=J213)
K214: =IF(J214="", "", B214=J214)
... K627: =IF(J627="", "", B627=J627)

Sheet Аркуш1
C2: `=MOD(MOD(-MID(D2;1;1) + MID(D2;2;1)*5 + MID(D2;3;1)*7 + MID(D2;4;1)*9 + MID(D2;5;1)*4 + MID(D2;6;1)*6 + MID(D2;7;1)*10 + MID(D2;8;1)*5 + MID(D2;9;1)*7; 11);10) <> VALUE( MID(D2;10;1))
C6: `=DATEVALUE( C2) <> INT(LEFT(D2;5)) +1

Sheet Алфавітки
A1: № з/п | B1: В/звання | D1: Місце народження | E1: адреса (фактична) | F1: Освіта | G1: склад сім’ї | H1: № телефону
A2: 1 | B2: солдат | C2: Антоненко Руслан Олександрович | D2: Миколаївська обл. Миколаївський р-н, с. Весняне | E2: м. Миколаїв вул. Айвазовського буд. 6 кв. 809-809 | F2: середня-спеціальна, ПТУ №1 м. Миколаїв 2005 судобудівельник, зварювальник (права категорії Б, ФОП Парус, будівельник 18р.) | G2: Розлучений Мати: Калага Лідія Миронівна, м. Миколаїв вул. Айвазовського буд. 6 кв. 809-809, 0663420925 | H2: 660263238
A3: 8 | B3: солдат | C3: Баранов Дмитро Генащдійович | D3: с. Кірове Базарський р-н Херсонської обл. | E3: Херсонської обл. Базарський р-н, с. Олександрівка вул. Мельнична 5 | F3: середньо-спеціальна Судобудівельний ліцей 2018р. Зварювальник Содозбірник (Категорія прав Б, С1, С, СЕ, далекобійник 4р.) | G3: неодружений Батько: Баранов Генадій Анатолійович Херсонської обл. Базарський р-н, с. Олександрівка вул. Мельнична 5, тел. 0668290286 | H3: 505059149
A4: 12 | B4: солдат | C4: Боровик Юрій Володимирович | D4: м. Миколаїв | E4: м. Миколаїв вул. Восьма Лінія буд. 68 | F4: середньо-спеціальна Теплодарський професійний ліцей 2011р. Кухар (категорія прав Б, автоелектрик 1р) | G4: цивільний шлюб Цивільна дружина: Голубченко Юлія Вадимівна, м. Миколаїв вул. Восьма Лінія буд. 68, тел. 0950975840 | H4: 993803701
A5: 7 | B5: солдат | C5: Горбатенко Олександр Олегович | D5: м. Миколаїв | E5: м. Миколаїв вул. Архітектора Староба 3 кв.1 | F5: повна середня ЗОШ № 64 2009р.(кухар 7р) | G5: неодружений Бабуся: Горбатенко Людмила Іванівна м. Миколаїв вул. Архітектора Староба 6б кв. 24, тел. 0966366295 | H5: 677153559
A6: 4 | B6: солдат | C6: Жестовський Сергій Сергійович | D6: Миколаївська обл. Первомайський р-н, с. Новопавлівка | E6: Миколаївська обл. Первомайський р-н, с. Новопавлівка вул. Роднікова 18 | F6: середньо-спеціальна Одеський професійний ліцей морського транспорту 2008р. електрозварювальник (категорія прав Б, Будівельник 2р.) | G6: Одружений Дружина: Жестовська Ірина Анатоліївна Миколаївська обл. Первомайський р-н, с. Новопавлівка вул. Роднікова 18, 0974890880 | H6: 683977036
A7: 6 | B7: солдат | C7: Ісаков Олександ Сергійович | D7: Кропивницька обл. Новоархангельський р-н с. Скалівські Хутори | E7: Миколаївська обл. Баштанський р-н с. Поляне, вул. Садова, буд. 22 | F7: середньо-спеціальна ЧПБЛ №4 2013р. Маляр-штукатур (Фермерське господарство немировський) | G7: Одружений Дружина: Ісакова Оксана Миколаївна, Миколаївська обл. Баштанський р-н с. Поляне, вул. Садова, буд. 22, тел. 0988180989 | H7: 682269805
A8: 13 | B8: солдат | C8: Клімчкук Олександ Олександрович | D8: Вінницька обл. Хмільницький р-н, смт Бродецьке | E8: Вінницька обл. Хмільницький р-н, смт Бродецьке вул. Першотравнева 72 | F8: повна середня ЗОШ смт. Бродецьке 2007р. (Мясний мультикомплекс транспортувальник 1р.) | G8: одружений Дружина: Клімчук Алла Вадимівна, Вінницька обл. Хмільницький р-н, смт Бродецьке вул. Першотравнева 72, тел. 0631960845 | H8: 990631915
A9: 9 | B9: солдат | C9: Колесніков Сергій Сергійович | D9: с. Балтазарівка Чуплинський р-н, Херсонської обл. | E9: Микорлаївська обл. м. Первомайськ вул. Марія Демченка 33 | F9: середньо-спеціальна Електротехнічний ліцей №7 2013р.електрогазозварювальник (пожежний рятувальник 3р.) | G9: одружений Дружина: Колеснікова Ганна Миколаївна, Микорлаївська обл. м. Первомайськ вул. Марія Демченка 33, тел. 0683767312 | H9: 956741071
A10: 3 | B10: солдат | C10: Опанасюк Ігор Перрович | D10: Миколаївська обл. м. Новий Буг | E10: Миколаївська обл. Новобузький р-н с. Нова Хрестофорівка буд. 65 | F10: середньо-спеціальна Новобузький аграрний професійний ліцей 2013р. (права категорії Б, С, СЕ, Фермерське господарство Орбіта Водій) | G10: Розлучений Мати: Опанасюк Валентина Ігорівна, Миколаївська обл. Новобузький р-н с. Нова Хрестофорівка буд. 65, тел. 0508511843 | H10: 934248356
A11: 11 | B11: солдат | C11: Ручин Дмитро Вікторович | D11: Миколаївська обл. м. Баштанка | E11: Миколаївська обл. м. Баштанка вул. Грушевського 46 | F11: середньо-спеціальна ПТУ №9 м. Баштанка 2015р. Кухар (пекарня 1р) | G11: неодружений Мати: Дмитренко Алла Петрівна, Миколаївська обл. м. Баштанка вул. Грушевського 46, тел, 0636322801 | H11: 983438936
A12: 5 | B12: солдат | C12: Солоденко Анатолій Сергійович | D12: Миколаївська обл. Вознесенський р-н, с. Яструбинове | E12: Миколаївська обл. Вознесенський р-н, с. Яструбинове вул. Першотравнева 20 | F12: середньо-спеціальна ПТУ №18 2016р. будівельник (Гружчик 1р.) | G12: неодружений Сестрат: Черемуха Анастасія Сергіївна, тел. 0985362292 | H12: 938839470
A13: 2 | B13: солдат | C13: Фістікан Василь Петрович | D13: Миколаївська обл. Первомайський р-н, с. Софіївка | E13: Миколаївська обл. Первомайський р-н, с. Синюшин Брід, вул. Перемоги 38 | F13: середньо-спеціальна ПТУ №22 м. Первомайськ 2018р. Маляр-Штукатур (Сканувальник на новій пошті) | G13: Неодружений Мати: Фістікан Марія Вікторівна, Миколаївська обл. Первомайський р-н, с. Синюшин Брід, вул. Молодіжна 8, тел. 0967926486 | H13: 967927329
A14: 10 | B14: солдат | C14: Чабан Михайло Григорович | D14: Миколаївська обл. Березанського р-н, с. Новоподілля | E14: м. Миколаїв, 12 Повздовжня 47а, кв. 59 | F14: середньо-спеціальна ліцей №13 2012р. Автослюсар (СТО 9р) | G14: одружений Дружина: Чабан Влада Владиславівна, м. Миколаїв, 12 Повздовжня 47а, кв. 59, тел. 0971910656 | H14: 967953093
A15: 14 | B15: солдат
A16: 15 | B16: солдат
A17: 16 | B17: солдат
A18: 17 | B18: солдат
A19: 18 | B19: солдат
A20: 19 | B20: солдат
A21: 20 | B21: солдат
A22: 21 | B22: солдат
A23: 22 | B23: солдат
A24: 23 | B24: солдат
A25: 24 | B25: солдат
A26: 25 | B26: солдат
... A101: 100 | B101: солдат
