Workbook

Sheet Основний
B1: дата | D1: звання | E1: фио | F1: Прізвище | G1: Імя | H1: По батькові | I1: тцк | J1: рн | K1: інн | L1: квиток | N1: народження | O1: адреса | P1: освіта | Q1: заклад | S1: стан | T1: сімя | U1: телефон | Z1: датаприказа | AA1: приказ | AF1: Прибуття
A2: 614 | B2: 46079 | C2: 1 | D2: солдат | E2: АБРАМЯН Артур Маратович | F2: {=_xlfn.TEXTSPLIT(E2," ")} -> АБРАМЯН | G2: Артур | H2: Маратович | I2: Дарницьким РТЦК та СП у Київській області | J2: 21.10.1998 | K2: 3608804152 | L2: 040520251458450705269/1 | M2: ВТ 101396 Приморським РС у м. Маріуполі ГУ ДМС України в Донецькій області 12.06.2015 | N2: м. Донецьк | O2: м. Київ, вул. Бориспільська, буд. 9, кв. 16 | P2: базова загальна середня | Q2: Школа №62,м. Донецьк,2014 | R2: водій таксі - 5 керівник закладу харчування - 1р Права B | S2: не одружений | T2: брат: Губаян Давид Арсенович - 1997 - 0979699989, м. Київ | U2: 0633131383 | V2: =IF(LEFT(U2,1)="0", U2, "0"&U2) -> 0633131383 | W2: курсант | X2: 100 | Z2: 46079 | AA2: № 60 | AB2: =IF(E2="","",IF(V2="","ні","так")) -> так | AC2: 46079 | AD2: Придатний до військової служби | AG2: =IF(AND(INT(YEARFRAC(#REF!,TODAY()))>=25,INT(YEARFRAC(#REF!,TODAY()))<=35),INT(YEARFRAC(#REF!,TODAY())),"") -> #REF! | AH2: =IF(AND(INT(YEARFRAC(#REF!,TODAY()))>=36,INT(YEARFRAC(#REF!,TODAY()))<=45),INT(YEARFRAC(#REF!,TODAY())),"") -> #REF! | AI2: =IF(AND(INT(YEARFRAC(#REF!,TODAY()))>=46,INT(YEARFRAC(#REF!,TODAY()))<=50),INT(YEARFRAC(#REF!,TODAY())),"") -> #REF!
A3: 4/1868 | B3: 46077 | C3: 2 | D3: солдат | E3: АВРАМЕНКО Андрій Миколайович | F3: {=_xlfn.TEXTSPLIT(E3," ")} -> АВРАМЕНКО | G3: Андрій | H3: Миколайович | I3: Чернігівським РТЦК та СП у Чернігівській області | J3: 18.06.1984 | K3: 3085003094 | N3: Чернігівська обл., м. Городня | O3: Чернігівська обл., м. Городня, вул. Чернігівська, буд. 86, кв 1. | P3: Вища | Q3: ХНУРЕ, 2006, радіотехніка | R3: Програміст, 12 років Права B | S3: не одружений | T3: мати: Авраменко Людмила Михайлівна, 1955, Чернігівська обл., м. Городня, вул. Чернігівська, буд. 86, кв 1, | U3: 0671971309 | W3: курсант | X3: 100 | Z3: 46077 | AA3: № 58 | AB3: =IF(E3="","",IF(V3="","ні","так")) -> ні | AC3: 46077 | AD3: Придатний до військової служби | AG3: =IF(AND(INT(YEARFRAC(#REF!,TODAY()))>=25,INT(YEARFRAC(#REF!,TODAY()))<=35),INT(YEARFRAC(#REF!,TODAY())),"") -> #REF! | AH3: =IF(AND(INT(YEARFRAC(#REF!,TODAY()))>=36,INT(YEARFRAC(#REF!,TODAY()))<=45),INT(YEARFRAC(#REF!,TODAY())),"") -> #REF! | AI3: =IF(AND(INT(YEARFRAC(#REF!,TODAY()))>=46,INT(YEARFRAC(#REF!,TODAY()))<=50),INT(YEARFRAC(#REF!,TODAY())),"") -> #REF!
A4: 1/2363 | B4: 46076 | C4: 2 | D4: солдат | E4: АЛЕКСЕНКО Іван Миколайович | F4: {=_xlfn.TEXTSPLIT(E4," ")} -> АЛЕКСЕНКО | G4: Іван | H4: Миколайович | I4: Ніжинським РТЦК та СП у Чернігівській області | J4: 23.06.1997 | K4: 3560301717 | N4: Чернігівська обл., Карюківський р-н., с. Бондарівка | O4: Чернігівська обл. м. Бахмач, вул. Олени Теліги, буд. 36 | P4: середня спеціальна | Q4: Конотопський аграрний ліцей, 2017, слюсар-механік | R4: Водій, 4 роки Слюсар-механік, 4 роки Права: В, С | S4: одружений | T4: дружина: Алексенко Катерина Анатоліївна, 1994, Чернігівська обл. м. Бахмач, вул. Олени Теліги, буд. 36 | U4: 0632905799 | W4: курсант | X4: 100 | Z4: 46076 | AA4: № 57 | AB4: =IF(E4="","",IF(V4="","ні","так")) -> ні | AC4: 46076 | AD4: Придатний до військової служби | AE4: I Rh + | AG4: =IF(AND(INT(YEARFRAC(#REF!,TODAY()))>=25,INT(YEARFRAC(#REF!,TODAY()))<=35),INT(YEARFRAC(#REF!,TODAY())),"") -> #REF! | AH4: =IF(AND(INT(YEARFRAC(#REF!,TODAY()))>=36,INT(YEARFRAC(#REF!,TODAY()))<=45),INT(YEARFRAC(#REF!,TODAY())),"") -> #REF! | AI4: =IF(AND(INT(YEARFRAC(#REF!,TODAY()))>=46,INT(YEARFRAC(#REF!,TODAY()))<=50),INT(YEARFRAC(#REF!,TODAY())),"") -> #REF!
A5: 260223-9 | B5: 46076 | C5: 3 | D5: солдат | E5: АЛІЄВ Парвіз Натікбєкович | F5: {=_xlfn.TEXTSPLIT(E5," ")} -> АЛІЄВ | G5: Парвіз | H5: Натікбєкович | I5: Солом'янським РТЦК та СП у Київській області | J5: 07.05.1983 | K5: 3044204097 | L5: АГ 629818 | M5: КС 160333 Київським РВ ДМУ УДМС УКР в Донецькій обл 09.08.2002 | N5: Азербайджан, м. Баку | O5: м. Київ, вул. Копилівська, буд. 30, кв. 54 | P5: вища | Q5: Київський політехнічний Інститут, 2005,Київський економічний Інститут, 2002,електотехнік, економіка | R5: інженер систем безпеки, 25 років Права: Б | S5: не одружений | T5: мати: Лал Різа Заде, 1956, м. Баку, Азербайджан | U5: 0663135516 | W5: курсант | X5: 100 | Z5: 46076 | AA5: № 57 | AB5: =IF(E5="","",IF(V5="","ні","так")) -> ні | AC5: 46076 | AD5: Придатний до військової служби | AE5: I Rh + | AG5: =IF(AND(INT(YEARFRAC(#REF!,TODAY()))>=25,INT(YEARFRAC(#REF!,TODAY()))<=35),INT(YEARFRAC(#REF!,TODAY())),"") -> #REF! | AH5: =IF(AND(INT(YEARFRAC(#REF!,TODAY()))>=36,INT(YEARFRAC(#REF!,TODAY()))<=45),INT(YEARFRAC(#REF!,TODAY())),"") -> #REF! | AI5: =IF(AND(INT(YEARFRAC(#REF!,TODAY()))>=46,INT(YEARFRAC(#REF!,TODAY()))<=50),INT(YEARFRAC(#REF!,TODAY())),"") -> #REF!
A6: 2580 | B6: 46080 | C6: 1 | D6: солдат | E6: АНДРУШКО Вадим Валентинович | F6: {=_xlfn.TEXTSPLIT(E6," ")} -> АНДРУШКО | G6: Вадим | H6: Валентинович | I6: Житомирським РТЦК та СП у Житомирській області | J6: 02.11.1991 | K6: 3354308835 | L6: АГ 603287 | M6: ВН 424127 Вололдарсько-Волинським РВ УМВС в Житомирській області 20.05.2008 | N6: Житомирська обл., Житомирський р-н., смт. Нова Борова | O6: Житомирська обл., Житомирський р-н., смт. Нова Борова, вул. Незалежності, буд. 57 | P6: професійно- технічна | Q6: Житомирське ПТУ №5, 2013, маляр-штукатур | R6: будівельник, 10 років Права В | S6: одружений | T6: дружина: Андрушко Юлія Анатоліївна, 1994, Житомирська обл., Житомирський р-н., смт. Нова Борова, вул. Незалежності, буд. 57 | U6: 0982607646 | W6: курсант | X6: 100 | Z6: 46080 | AA6: № 61 | AB6: =IF(E6="","",IF(V6="","ні","так")) -> ні | AC6: 46080 | AD6: Придатний до служби на підводних човнох, на надводних кораблях, у морській піхоті, Десантно-штурмових військах, спеціальних спорудах, підрозділах спеціального призначення | AG6: =IF(AND(INT(YEARFRAC(#REF!,TODAY()))>=25,INT(YEARFRAC(#REF!,TODAY()))<=35),INT(YEARFRAC(#REF!,TODAY())),"") -> #REF! | AH6: =IF(AND(INT(YEARFRAC(#REF!,TODAY()))>=36,INT(YEARFRAC(#REF!,TODAY()))<=45),INT(YEARFRAC(#REF!,TODAY())),"") -> #REF! | AI6: =IF(AND(INT(YEARFRAC(#REF!,TODAY()))>=46,INT(YEARFRAC(#REF!,TODAY()))<=50),INT(YEARFRAC(#REF!,TODAY())),"") -> #REF!
A7: 1/2342 | B7: 46075 | C7: 5 | D7: солдат | E7: АНІСІМОВ Сергій Леонідович | F7: {=_xlfn.TEXTSPLIT(E7," ")} -> АНІСІМОВ | G7: Сергій | H7: Леонідович | I7: Ніжинським РТЦК та СП у Чернігівській області | J7: 18.10.1989 | K7: 3279802570 | L7: АГ 633795 | M7: АМ 247948 | N7: Чернігівська обл., м. Ніжин | O7: Чернігівська обл., Ніжинський р-н., с. Велика Кошелівка, вул. Веринарна, буд. 5 | P7: середня спеціальна | Q7: Ніжинське ПТУ №35, водій-механік, 2008 | R7: Тракторист, 10 років Права AB (трактор), B, C | S7: не одружений | T7: мати: Куліш Наталія Василівна, 1960, Чернігівська обл., м. Ніжин, вул. Богуна, буд. 22, 0967676757 | U7: 0985324330 | V7: 790 259А | W7: курсант | X7: 100 | Z7: 46075 | AA7: № 56 | AB7: =IF(E7="","",IF(V7="","ні","так")) -> так | AC7: 46075 | AD7: Придатний до військової служби | AE7: RH 2+ | AG7: =IF(AND(INT(YEARFRAC(#REF!,TODAY()))>=25,INT(YEARFRAC(#REF!,TODAY()))<=35),INT(YEARFRAC(#REF!,TODAY())),"") -> #REF! | AH7: =IF(AND(INT(YEARFRAC(#REF!,TODAY()))>=36,INT(YEARFRAC(#REF!,TODAY()))<=45),INT(YEARFRAC(#REF!,TODAY())),"") -> #REF! | AI7: =IF(AND(INT(YEARFRAC(#REF!,TODAY()))>=46,INT(YEARFRAC(#REF!,TODAY()))<=50),INT(YEARFRAC(#REF!,TODAY())),"") -> #REF!
A8: 1452 | B8: 46081 | C8: 1 | D8: солдат | E8: АНТОНЮК Дмитро Русланович | F8: {=_xlfn.TEXTSPLIT(E8," ")} -> АНТОНЮК | G8: Дмитро | H8: Русланович | I8: Хмільницьким РТЦК та СП у Вінницькій області | J8: 23.03.1999 | K8: 3624109257 | L8: АГ 574988 | M8: АТ 121678 | N8: Житомирська обл. м. Радомишль | O8: м. Вінниця, вул. Генерала Григоренка, буд. 36, кв. 21 | P8: професійно- технічна | Q8: Тульчинський коледж ветеринарної медецини,м. Тульчин,2018,фельдшер ветеринарної медецини | R8: комплектувальник продуктів харчування - 4р | S8: не одружений | T8: мати: Антонюк Оксана Вікторівна - прибл. 43р - 0673588369 - Вінницька обл, Вінницький р-н, с. Гавришівка, вул. ? | U8: 0976880495 | W8: курсант | X8: 100 | Z8: 46081 | AA8: № 62 | AB8: =IF(E8="","",IF(V8="","ні","так")) -> ні | AC8: 46077 | AD8: Придатний до військової служби | AE8: I Rh + | AG8: =IF(AND(INT(YEARFRAC(#REF!,TODAY()))>=25,INT(YEARFRAC(#REF!,TODAY()))<=35),INT(YEARFRAC(#REF!,TODAY())),"") -> #REF! | AH8: =IF(AND(INT(YEARFRAC(#REF!,TODAY()))>=36,INT(YEARFRAC(#REF!,TODAY()))<=45),INT(YEARFRAC(#REF!,TODAY())),"") -> #REF! | AI8: =IF(AND(INT(YEARFRAC(#REF!,TODAY()))>=46,INT(YEARFRAC(#REF!,TODAY()))<=50),INT(YEARFRAC(#REF!,TODAY())),"") -> #REF!
A9: 2500 | B9: 46078 | C9: 1 | D9: солдат | E9: АНТОНЮК Олександр Леонідович | F9: {=_xlfn.TEXTSPLIT(E9," ")} -> АНТОНЮК | G9: Олександр | H9: Леонідович | I9: Житомирським РТЦК та СП у Житомирській області | J9: 27.09.1979 | K9: 2912410393 | L9: АГ 603239 | M9: ТТ 193066 Дарнівським РО ГУ ДМС УКР в м. Києві 16.08.2013 | N9: м. Київ | O9: Житомирська обл. Попільнянський р-н., с. Романівка, вул. Миру, буд. 20 | P9: професійно- технічна | Q9: Київське училище №26 | R9: будівельник, 20 років Права- | S9: не одружений | T9: мати: Антонюк Світлана Миколаївна, 1959, м. Київ, вул. Бажана, буд. 9, 0972926021 | U9: 0975269074 | W9: курсант | X9: 100 | Z9: 46078 | AA9: № 59 | AB9: =IF(E9="","",IF(V9="","ні","так")) -> ні | AC9: 46078 | AD9: Придатний до військової служби | AE9: II Rh + | AG9: =IF(AND(INT(YEARFRAC(#REF!,TODAY()))>=25,INT(YEARFRAC(#REF!,TODAY()))<=35),INT(YEARFRAC(#REF!,TODAY())),"") -> #REF! | AH9: =IF(AND(INT(YEARFRAC(#REF!,TODAY()))>=36,INT(YEARFRAC(#REF!,TODAY()))<=45),INT(YEARFRAC(#REF!,TODAY())),"") -> #REF! | AI9: =IF(AND(INT(YEARFRAC(#REF!,TODAY()))>=46,INT(YEARFRAC(#REF!,TODAY()))<=50),INT(YEARFRAC(#REF!,TODAY())),"") -> #REF!
A10: 2566 | B10: 46080 | C10: 2 | D10: солдат | E10: БАБИЧ Андрій Васильович | F10: {=_xlfn.TEXTSPLIT(E10," ")} -> БАБИЧ | G10: Андрій | H10: Васильович | I10: Житомирським РТЦК та СП у Житомирській області | J10: 18.04.1984 | K10: 3078922215 | L10: АГ 603272 | M10: СТ 531446 Чернігівським РС УДМС УКР в Чернігівській обл 24.02.2017 | N10: Чернігівська обл., Чернігівський р-н., с. Павлівка | O10: Житомирський р-н., с. Покостівка, вул. Квіткова, буд. 5 | P10: професійно- технічна | Q10: Чернігівське ПТУ №5, 2002, черговий по станції, провідник | R10: провідник, 8 років Права - | S10: не одружений | T10: сестра: Винниченко Олена Василівна, 1981, м. Чернігів, 0964958186 | U10: 0989386733 | W10: курсант | X10: 100 | Z10: 46080 | AA10: № 61 | AB10: =IF(E10="","",IF(V10="","ні","так")) -> ні | AC10: 46080 | AD10: Придатний до служби на підводних човнох, на надводних кораблях, у морській піхоті, Десантно-штурмових військах, спеціальних спорудах, підрозділах спеціального призначення | AG10: =IF(AND(INT(YEARFRAC(#REF!,TODAY()))>=25,INT(YEARFRAC(#REF!,TODAY()))<=35),INT(YEARFRAC(#REF!,TODAY())),"") -> #REF! | AH10: =IF(AND(INT(YEARFRAC(#REF!,TODAY()))>=36,INT(YEARFRAC(#REF!,TODAY()))<=45),INT(YEARFRAC(#REF!,TODAY())),"") -> #REF! | AI10: =IF(AND(INT(YEARFRAC(#REF!,TODAY()))>=46,INT(YEARFRAC(#REF!,TODAY()))<=50),INT(YEARFRAC(#REF!,TODAY())),"") -> #REF!
A11: 11/1629 | B11: 46080 | C11: 3 | D11: солдат | E11: БАСКАКОВ Павло Анатолійович | F11: {=_xlfn.TEXTSPLIT(E11," ")} -> БАСКАКОВ | G11: Павло | H11: Анатолійович | I11: Шевченківським РТЦК та СП у Київській області | J11: 02.03.1984 | K11: 3074200978 | L11: 140220221425037600020/1 | M11: АМ 064073 Заводським РВ Дніпродзержинського МУ УМВС України в Дніпропетровській області 03.10.2000 | N11: Дніпропетровська обл, м. Дніпродзержинськ | O11: м. Київ, вул. Академіка Корольова, буд. 7, кв. 46 | P11: професійно- технічна | Q11: Дніпродзержинський індустріальнгий коледж,2004,електрик | R11: власник інтернет магазину - 4р Права A, B, C | S11: не одружений | T11: бабуся: Носуля Раїса Іванівна - 0687208035 - 85р - Дніпропетровська обл, м. Кам'янське, вул. Дніпробудівельна, буд. 27, кв. 7 | U11: 0965569916 | W11: курсант | X11: 100 | Z11: 46080 | AA11: № 61 | AB11: =IF(E11="","",IF(V11="","ні","так")) -> ні | AC11: 46080 | AD11: Придатний до служби на підводних човнох, на надводних кораблях, у морській піхоті, Десантно-штурмових військах, спеціальних спорудах, підрозділах спеціального призначення | AE11: III Rh - | AG11: =IF(AND(INT(YEARFRAC(#REF!,TODAY()))>=25,INT(YEARFRAC(#REF!,TODAY()))<=35),INT(YEARFRAC(#REF!,TODAY())),"") -> #REF! | AH11: =IF(AND(INT(YEARFRAC(#REF!,TODAY()))>=36,INT(YEARFRAC(#REF!,TODAY()))<=45),INT(YEARFRAC(#REF!,TODAY())),"") -> #REF! | AI11: =IF(AND(INT(YEARFRAC(#REF!,TODAY()))>=46,INT(YEARFRAC(#REF!,TODAY()))<=50),INT(YEARFRAC(#REF!,TODAY())),"") -> #REF!
A12: 1537/11/2005 | B12: 46079 | C12: 2 | D12: солдат | E12: БЕРШАДСЬКИЙ Олександр Миколайович | F12: {=_xlfn.TEXTSPLIT(E12," ")} -> БЕРШАДСЬКИЙ | G12: Олександр | H12: Миколайович | I12: Дніпровським РТЦК та СП у Київській області | J12: 15.03.1992 | K12: 3367700733 | L12: довідка | M12: 003047716 8034 04.03.2019 | N12: Дніпропетровська обл. м. Кривий Ріг | O12: м. Київ, вул. Тичини, буд. 3а, кв. 61 | P12: вища | Q12: КПІ, 2016, ІТ | R12: програміст, 8 років Права - | S12: не одружений | T12: мати: Бершадська Ірина Володимирівна, 1968, м. Київ, вул. Тичини, буд. 3а, кв. 61, 0957958159, 0675784797 | U12: 0934043734 | W12: курсант | X12: 100 | Z12: 46079 | AA12: № 60 | AB12: =IF(E12="","",IF(V12="","ні","так")) -> ні | AC12: 46079 | AD12: Придатний до військової служби | AF12: А3316 по розподілу рекомендаційний лист | AG12: =IF(AND(INT(YEARFRAC(#REF!,TODAY()))>=25,INT(YEARFRAC(#REF!,TODAY()))<=35),INT(YEARFRAC(#REF!,TODAY())),"") -> #REF! | AH12: =IF(AND(INT(YEARFRAC(#REF!,TODAY()))>=36,INT(YEARFRAC(#REF!,TODAY()))<=45),INT(YEARFRAC(#REF!,TODAY())),"") -> #REF! | AI12: =IF(AND(INT(YEARFRAC(#REF!,TODAY()))>=46,INT(YEARFRAC(#REF!,TODAY()))<=50),INT(YEARFRAC(#REF!,TODAY())),"") -> #REF!
A13: 2543 | B13: 46079 | C13: 3 | D13: солдат | E13: БІЛОУСОВ Сергій Вікторович | F13: {=_xlfn.TEXTSPLIT(E13," ")} -> БІЛОУСОВ | G13: Сергій | H13: Вікторович | I13: Житомирським ОМТЦК та СП у Житомирській області | J13: 04.09.1982 | K13: ВМ 632875 | L13: АГ 186080 | M13: 009302826 1836 23.06.2023 | N13: м. Житомир | O13: м. Житомир, вул. Переїзд Радомишльський, буд. 9 | P13: повна загальна середня | Q13: Житомирська ЗОШ №2 | R13: рихтувальник, 6 років Права - | S13: одружений | T13: дружина: Білоусова Оксана Вікторівна, 1980, м. Житомир, вул. Переїзд Радомишльський, буд. 9, 0960276981 | U13: 0990907846 | W13: курсант | X13: 100 | Z13: 46079 | AA13: № 60 | AB13: =IF(E13="","",IF(V13="","ні","так")) -> ні | AC13: 46079 | AD13: Придатний до військової служби | AG13: =IF(AND(INT(YEARFRAC(#REF!,TODAY()))>=25,INT(YEARFRAC(#REF!,TODAY()))<=35),INT(YEARFRAC(#REF!,TODAY())),"") -> #REF! | AH13: =IF(AND(INT(YEARFRAC(#REF!,TODAY()))>=36,INT(YEARFRAC(#REF!,TODAY()))<=45),INT(YEARFRAC(#REF!,TODAY())),"") -> #REF! | AI13: =IF(AND(INT(YEARFRAC(#REF!,TODAY()))>=46,INT(YEARFRAC(#REF!,TODAY()))<=50),INT(YEARFRAC(#REF!,TODAY())),"") -> #REF!
B14: 46078 | C14: 18 | D14: солдат | E14: БОЙКО Геннадій Володимирович | F14: {=_xlfn.TEXTSPLIT(E14," ")} -> БОЙКО | G14: Геннадій | H14: Володимирович | J14: 19.11.1981 | K14: 2990807554 | L14: 250220261352624000001/2 | M14: МА 583941 Охтирським МРВУМВС України в Сумській обл., 04.01.1999 | N14: Сумська обл., м. Охтирка, пров. Весняний, буд. 15а | O14: Сумська обл., м. Охтирка, вул. Київська, буд. 107, кв. 57 | P14: професійно- технічна | Q14: ПТУ №7, м. Охтирка, 1999, маляр-штукатур | R14: будівельник, 20 років Права В, С | S14: не одружений | T14: мати: Бойко Алла Миколаївна, 1960, Сумська обл., м. Охтирка, пров. Весняний, буд. 15а | U14: 0665156739 | AB14: ні | AE14: II Rh + | AF14: Резерв КДШВ | AG14: =IF(AND(INT(YEARFRAC(#REF!,TODAY()))>=25,INT(YEARFRAC(#REF!,TODAY()))<=35),INT(YEARFRAC(#REF!,TODAY())),"") -> #REF! | AH14: =IF(AND(INT(YEARFRAC(#REF!,TODAY()))>=36,INT(YEARFRAC(#REF!,TODAY()))<=45),INT(YEARFRAC(#REF!,TODAY())),"") -> #REF! | AI14: =IF(AND(INT(YEARFRAC(#REF!,TODAY()))>=46,INT(YEARFRAC(#REF!,TODAY()))<=50),INT(YEARFRAC(#REF!,TODAY())),"") -> #REF!
A15: 1537/11/2005 | B15: 46079 | C15: 4 | D15: солдат | E15: БОЛЬШАКОВ Костянтин Євгенович | F15: {=_xlfn.TEXTSPLIT(E15," ")} -> БОЛЬШАКОВ | G15: Костянтин | H15: Євгенович | I15: Дніпровським РТЦК та СП у Київській області | J15: 02.07.1992 | K15: 3378604531 | L15: 250220261320634500007/1 | M15: ЕН 904717 Краснолуцьким МВ УДМС УКР в Луганській обл 15.11.2012 | N15: Луганська обл, м. Красний Луч | O15: м. Київ,, вул. Русанівська Набережна, буд. 6, кв. 56 | P15: професійно- технічна | Q15: Краснолуцький приладобудівний технікум,м. Красний Луч,2013р,економіка підприємства | R15: Фріланс - 2D дизайн логотипів, оточення для браузерних ігор (Photoshop, AI) - 5р портретист на пам'ятниках - 3р кухар - 1,5р | S15: не одружений | T15: сестра: Большакова Яна Євгеновна - 1990 - 0664203975 - м. Київ, вул. Русанівська Набережна, буд. 6, кв. 56 | U15: 0995045246 | W15: курсант | X15: 100 | Z15: 46079 | AA15: № 60 | AB15: =IF(E15="","",IF(V15="","ні","так")) -> ні | AC15: 46078 | AD15: Придатний до військової служби | AG15: =IF(AND(INT(YEARFRAC(#REF!,TODAY()))>=25,INT(YEARFRAC(#REF!,TODAY()))<=35),INT(YEARFRAC(#REF!,TODAY())),"") -> #REF! | AH15: =IF(AND(INT(YEARFRAC(#REF!,TODAY()))>=36,INT(YEARFRAC(#REF!,TODAY()))<=45),INT(YEARFRAC(#REF!,TODAY())),"") -> #REF! | AI15: =IF(AND(INT(YEARFRAC(#REF!,TODAY()))>=46,INT(YEARFRAC(#REF!,TODAY()))<=50),INT(YEARFRAC(#REF!,TODAY())),"") -> #REF!
A16: 1230 | B16: 46075 | C16: 4 | D16: солдат | E16: БОНДАР Андрій Васильович | F16: {=_xlfn.TEXTSPLIT(E16," ")} -> БОНДАР | G16: Андрій | H16: Васильович | I16: Хмільницьким РТЦК та СП у Вінницькій області | J16: 29.07.1988 | K16: 3235207996 | L16: АГ 574967 | M16: 011098716 | N16: м. Вінниця | O16: м. Вінниця, вул. Запорізька, буд. 21, кв. 124 | P16: професійно- технічна | Q16: Стрижовська СВК | R16: Будівельник, 1 рік Права - | S16: не одружений | T16: мати: Бондар Лілія Петрівна, 1956, м. Вінниця, вул. Запорізька, буд. 21, кв. 124, 0961876495 | U16: 0970255251 | W16: курсант | X16: 100 | Z16: 46076 | AA16: № 57 | AB16: =IF(E16="","",IF(V16="","ні","так")) -> ні | AC16: 46074 | AD16: Придатний до військової служби | AG16: =IF(AND(INT(YEARFRAC(#REF!,TODAY()))>=25,INT(YEARFRAC(#REF!,TODAY()))<=35),INT(YEARFRAC(#REF!,TODAY())),"") -> #REF! | AH16: =IF(AND(INT(YEARFRAC(#REF!,TODAY()))>=36,INT(YEARFRAC(#REF!,TODAY()))<=45),INT(YEARFRAC(#REF!,TODAY())),"") -> #REF! | AI16: =IF(AND(INT(YEARFRAC(#REF!,TODAY()))>=46,INT(YEARFRAC(#REF!,TODAY()))<=50),INT(YEARFRAC(#REF!,TODAY())),"") -> #REF!
A17: 10/584 | B17: 46075 | C17: 10 | D17: солдат | E17: БОРИСОВ Дмитро Сергійович | F17: {=_xlfn.TEXTSPLIT(E17," ")} -> БОРИСОВ | G17: Дмитро | H17: Сергійович | I17: Чернігівським МТЦК та СП у Чернігівській області | J17: 16.05.1984 | K17: 3081727094 | L17: СО 871538 | N17: м. Хабаровськ, росія | O17: м. Чернігів, вул. Мстиславська, буд. 171, кв. 9 | P17: середня спеціальна | Q17: ПУ 63, станиця Денська, Денський р-н., Краснодарський край, водій-автомеханік, 2005 | R17: Менеджер з постачання, 4 роки Права В | S17: одружений | T17: дружина: Борисова Євгенія Вʼячеславівна, 1987, м. Чернігів, вул. Мстиславська, буд. 171, кв. 9, 0632156010 | U17: 0969311148 | W17: курсант | X17: 100 | Z17: 46075 | AA17: № 56 | AB17: =IF(E17="","",IF(V17="","ні","так")) -> ні | AC17: 46075 | AD17: Придатний до військової служби | AE17: RH 2- | AG17: =IF(AND(INT(YEARFRAC(#REF!,TODAY()))>=25,INT(YEARFRAC(#REF!,TODAY()))<=35),INT(YEARFRAC(#REF!,TODAY())),"") -> #REF! | AH17: =IF(AND(INT(YEARFRAC(#REF!,TODAY()))>=36,INT(YEARFRAC(#REF!,TODAY()))<=45),INT(YEARFRAC(#REF!,TODAY())),"") -> #REF! | AI17: =IF(AND(INT(YEARFRAC(#REF!,TODAY()))>=46,INT(YEARFRAC(#REF!,TODAY()))<=50),INT(YEARFRAC(#REF!,TODAY())),"") -> #REF!
A18: 1/2286 | B18: 46074 | C18: 1 | D18: солдат | E18: БОРОДАВКО Віталій Михайлович | F18: {=_xlfn.TEXTSPLIT(E18," ")} -> БОРОДАВКО | G18: Віталій | H18: Михайлович | I18: Ніжинським РТЦК та СП у Чернігівській області | J18: 10.10.1989 | K18: 3279006554 | L18: АГ 633793 | M18: НМ 247947 Ніжинським МВР УМВС УКР в Чернігівській обл 24.03.2006 | N18: Чернігівська обл., м. Ніжин | O18: Чернігівська обл., м. Ніжин, вул. Станіслава Прощенко, буд. 40/б, кв. 33 | P18: повна середня освіта | Q18: Ніжинська ЗОШ №7 | R18: Торгівельний представник, 6 міс. Права - | S18: не одружений | T18: мати: Бородавко Тетяна Андріївна, 1959, Чернігівська обл., м. Ніжин, вул. Станіслава Прощенко, буд. 40/б, кв. 33, 0682364981 | U18: ненадано | W18: курсант | X18: 100 | Z18: 46074 | AA18: № 55 | AB18: =IF(E18="","",IF(V18="","ні","так")) -> ні | AC18: 46074 | AD18: Придатний до військової служби | AE18: RH 2+ | AG18: =IF(AND(INT(YEARFRAC(#REF!,TODAY()))>=25,INT(YEARFRAC(#REF!,TODAY()))<=35),INT(YEARFRAC(#REF!,TODAY())),"") -> #REF! | AH18: =IF(AND(INT(YEARFRAC(#REF!,TODAY()))>=36,INT(YEARFRAC(#REF!,TODAY()))<=45),INT(YEARFRAC(#REF!,TODAY())),"") -> #REF! | AI18: =IF(AND(INT(YEARFRAC(#REF!,TODAY()))>=46,INT(YEARFRAC(#REF!,TODAY()))<=50),INT(YEARFRAC(#REF!,TODAY())),"") -> #REF!
A19: 1/2420 | B19: 46077 | C19: 3 | D19: солдат | E19: БРИСКІН Денис Сергійович | F19: {=_xlfn.TEXTSPLIT(E19," ")} -> БРИСКІН | G19: Денис | H19: Сергійович | I19: Ніжинським РТЦК та СП у Чернігівській області | J19: 03.09.1982 | K19: 3019609990 | L19: МО 369114 | N19: м. Київ | O19: м. Чернігів, вул. Текстильників, буд. 24, кв. 42 | P19: повна загальна середня | Q19: Рамаданівська ЗОШ, 2000 | R19: Завідуючий складом, 16 років Начальник охорони, 4 роки Права - | S19: одружений | T19: дружина: Брискіна Ірина Леонідівна, 1973, м. Чернігів, вул. Текстильників, буд. 24, кв. 42, 0992497840 | U19: 0960389583 | W19: курсант | X19: 100 | Z19: 46077 | AA19: № 58 | AB19: =IF(E19="","",IF(V19="","ні","так")) -> ні | AC19: 46077 | AD19: Придатний до військової служби | AG19: =IF(AND(INT(YEARFRAC(#REF!,TODAY()))>=25,INT(YEARFRAC(#REF!,TODAY()))<=35),INT(YEARFRAC(#REF!,TODAY())),"") -> #REF! | AH19: =IF(AND(INT(YEARFRAC(#REF!,TODAY()))>=36,INT(YEARFRAC(#REF!,TODAY()))<=45),INT(YEARFRAC(#REF!,TODAY())),"") -> #REF! | AI19: =IF(AND(INT(YEARFRAC(#REF!,TODAY()))>=46,INT(YEARFRAC(#REF!,TODAY()))<=50),INT(YEARFRAC(#REF!,TODAY())),"") -> #REF!
A20: 2609 | B20: 46081 | C20: 2 | D20: солдат | E20: БРОДОВСЬКИЙ Вадим Феліксович | F20: {=_xlfn.TEXTSPLIT(E20," ")} -> БРОДОВСЬКИЙ | G20: Вадим | H20: Феліксович | I20: Житомирським РТЦК та СП у Житомирській області | J20: 09.11.1977 | K20: 2843714031 | L20: АГ 603250 | M20: ВМ 028712 | N20: Житомирська обл., смт Полянка | O20: Житомирська обл., Житомирський р-н., с. Костянинівка, вул. Весняна, буд. 10 | P20: професійно- технічна | Q20: Баранівське ПТУ №11 | R20: Пилорамщик, 20 років Права - | S20: не одружений | T20: сестра: Бродовська Ірина Феліксовна, 1984 | U20: не надано | V20: 100 915А | W20: курсант | X20: 100 | Z20: 46081 | AA20: № 62 | AB20: =IF(E20="","",IF(V20="","ні","так")) -> так | AC20: 46081 | AD20: Придатний до військової служби | AG20: =IF(AND(INT(YEARFRAC(#REF!,TODAY()))>=25,INT(YEARFRAC(#REF!,TODAY()))<=35),INT(YEARFRAC(#REF!,TODAY())),"") -> #REF! | AH20: =IF(AND(INT(YEARFRAC(#REF!,TODAY()))>=36,INT(YEARFRAC(#REF!,TODAY()))<=45),INT(YEARFRAC(#REF!,TODAY())),"") -> #REF! | AI20: =IF(AND(INT(YEARFRAC(#REF!,TODAY()))>=46,INT(YEARFRAC(#REF!,TODAY()))<=50),INT(YEARFRAC(#REF!,TODAY())),"") -> #REF!
B21: 46016 | C21: 23 | D21: солдат | E21: БРУЯКА Максим Юрійович | F21: {=_xlfn.TEXTSPLIT(E21," ")} -> БРУЯКА | G21: Максим | H21: Юрійович | I21: Сумським МТЦК та СП у Сумській області | J21: 28.10.1996 | K21: 3536512192 | L21: АВ 960514 | M21: МВ 516155 Ковпаківським РВ м.Суми УДМС України в Сумській обл. 18.12.2012 | N21: Р | O21: м. Суми, вул. Засумська буд. 16, кв. 45 | P21: базова загальна середня | Q21: Школа №12, м. Суми | R21: різноробочий, 1 рік Права - | S21: не одружений | T21: мати: Бруяка Наталія Володимирівна, 1976, м. Суми, вул. Засумська буд. 16, кв. 45, 0664739829 | U21: 0502773062 | AB21: ні | AE21: II Rh - | AF21: Резерв КДШВ | AG21: =IF(AND(INT(YEARFRAC(#REF!,TODAY()))>=25,INT(YEARFRAC(#REF!,TODAY()))<=35),INT(YEARFRAC(#REF!,TODAY())),"") -> #REF! | AH21: =IF(AND(INT(YEARFRAC(#REF!,TODAY()))>=36,INT(YEARFRAC(#REF!,TODAY()))<=45),INT(YEARFRAC(#REF!,TODAY())),"") -> #REF! | AI21: =IF(AND(INT(YEARFRAC(#REF!,TODAY()))>=46,INT(YEARFRAC(#REF!,TODAY()))<=50),INT(YEARFRAC(#REF!,TODAY())),"") -> #REF!
B22: 46080 | C22: 38 | D22: солдат | E22: БУРКОВЦОВ Андрій Юрійович | F22: {=_xlfn.TEXTSPLIT(E22," ")} -> БУРКОВЦОВ | G22: Андрій | H22: Юрійович | I22: Роменським ТЦК та СП у Сумській області | J22: 09.09.1988 | K22: 3239413855 | L22: АВ 949437 | M22: закордоний паспорт ЕН991201 виданий 7401 08.06.2011 | N22: м. Ніжин, Чернігівська обл. | O22: Сумська обл., Роменський р-н, с. Русанівка, вул. Русанівська 26 | P22: вища | Q22: НДУ ім. Гоголя, м. Ніжин, Чернігівська обл.,спеціаліст вчитель Історії і права,ДАКККІМ м. Київ, бакалавр, дизайнер середовища,КДАІС м. Київ, бакалавр, священослужитель | R22: священик педагог | S22: одружений | T22: дружина Гапон Зоя Сергиіївна - 1988, Сумська обл., Роменський р-н, с. Русанівка, вул. Русанівська 26 | U22: 0973166440 | AB22: ні | AE22: III Rh + | AF22: Резерв КДШВ | AG22: =IF(AND(INT(YEARFRAC(#REF!,TODAY()))>=25,INT(YEARFRAC(#REF!,TODAY()))<=35),INT(YEARFRAC(#REF!,TODAY())),"") -> #REF! | AH22: =IF(AND(INT(YEARFRAC(#REF!,TODAY()))>=36,INT(YEARFRAC(#REF!,TODAY()))<=45),INT(YEARFRAC(#REF!,TODAY())),"") -> #REF! | AI22: =IF(AND(INT(YEARFRAC(#REF!,TODAY()))>=46,INT(YEARFRAC(#REF!,TODAY()))<=50),INT(YEARFRAC(#REF!,TODAY())),"") -> #REF!
A23: 614 | B23: 46079 | C23: 5 | D23: солдат | E23: БУТКО Руслан Павлович | F23: {=_xlfn.TEXTSPLIT(E23," ")} -> БУТКО | G23: Руслан | H23: Павлович | I23: Дарницьким РТЦК та СП у Київській області | J23: 29.07.1998 | K23: 3600408276 | L23: 250620235816010600001/1 | M23: 009601452 3214 29.08.2023 | N23: Київська обл., Васильківський р-н., с. Вільшанська Новоселице | O23: м. Київ, вул. Закревського, буд. 27а, кв.38 | P23: повна загальна середня | Q23: Вільшансько Новоселівська ЗОШ | R23: Будівельник, 4 роки Права В | S23: не одружений | T23: брат: Павленко Максим Андрійович, 1997, 0967116383 | U23: 0962685449 | W23: курсант | X23: 100 | Z23: 46079 | AA23: № 60 | AB23: =IF(E23="","",IF(V23="","ні","так")) -> ні | AC23: 46079 | AD23: Придатний до військової служби | AE23: II Rh + | AG23: =IF(AND(INT(YEARFRAC(#REF!,TODAY()))>=25,INT(YEARFRAC(#REF!,TODAY()))<=35),INT(YEARFRAC(#REF!,TODAY())),"") -> #REF! | AH23: =IF(AND(INT(YEARFRAC(#REF!,TODAY()))>=36,INT(YEARFRAC(#REF!,TODAY()))<=45),INT(YEARFRAC(#REF!,TODAY())),"") -> #REF! | AI23: =IF(AND(INT(YEARFRAC(#REF!,TODAY()))>=46,INT(YEARFRAC(#REF!,TODAY()))<=50),INT(YEARFRAC(#REF!,TODAY())),"") -> #REF!
B24: 46079 | C24: 5 | D24: солдат | E24: ВАСИЛЬЧЕНКО Сергій Анатолійович | F24: {=_xlfn.TEXTSPLIT(E24," ")} -> ВАСИЛЬЧЕНКО | G24: Сергій | H24: Анатолійович | I24: Роменським РТЦК та СП у Сумській області | J24: 17.11.1993 | K24: 3428909730 | L24: АВ 949433 | M24: 002997059 виданий 5924 20.02.2019 | N24: Сумська обл., Роменський р-н., с Пустовойтівка | O24: Сумська обл., Роменський р-н., с Пустовойтівка, вул. 5 пер. Берегова, буд. 9 | P24: базова загальна середня | Q24: Пустовійтівська ЗОШ | R24: вантажник, 3 роки Права - | S24: не одружений | T24: мати: Вовк Світлана Григорівна, 1970, Сумська обл., Роменський р-н., с Пустовойтівка, вул. 5 пер. Берегова, буд. 9, 0685482470 | U24: не надано | AB24: ні | AE24: I Rh + | AF24: Резерв КДШВ | AG24: =IF(AND(INT(YEARFRAC(#REF!,TODAY()))>=25,INT(YEARFRAC(#REF!,TODAY()))<=35),INT(YEARFRAC(#REF!,TODAY())),"") -> #REF! | AH24: =IF(AND(INT(YEARFRAC(#REF!,TODAY()))>=36,INT(YEARFRAC(#REF!,TODAY()))<=45),INT(YEARFRAC(#REF!,TODAY())),"") -> #REF! | AI24: =IF(AND(INT(YEARFRAC(#REF!,TODAY()))>=46,INT(YEARFRAC(#REF!,TODAY()))<=50),INT(YEARFRAC(#REF!,TODAY())),"") -> #REF!
B25: 46080 | C25: 4 | D25: солдат | E25: ВЕРБА Володимир Олександрович | F25: {=_xlfn.TEXTSPLIT(E25," ")} -> ВЕРБА | G25: Володимир | H25: Олександрович | I25: Конотопським РТЦК та СП у Сумській області | J25: 28.08.1995 | K25: 3493804851 | L25: АВ 552749 | N25: Миколаївська обл., м. Баштанка | O25: Сумська обл., м. Конотоп, вул. Успенсько-Троїцька, буд. 13, кв. 28 | P25: професійно- технічна | Q25: ПТУ, м. Кременчук, 2013, маляр-штукатур | R25: будівельник, 6 років Права - | S25: одружений | T25: дружина: Верба Марія Сергіївна, 1997, Сумська обл., м. Конотоп, вул. Успенсько-Троїцька, буд. 13, кв. 28, 0977738011 | U25: 0685689787 | AB25: ні | AE25: II Rh + | AF25: Резерв КДШВ | AG25: =IF(AND(INT(YEARFRAC(#REF!,TODAY()))>=25,INT(YEARFRAC(#REF!,TODAY()))<=35),INT(YEARFRAC(#REF!,TODAY())),"") -> #REF! | AH25: =IF(AND(INT(YEARFRAC(#REF!,TODAY()))>=36,INT(YEARFRAC(#REF!,TODAY()))<=45),INT(YEARFRAC(#REF!,TODAY())),"") -> #REF! | AI25: =IF(AND(INT(YEARFRAC(#REF!,TODAY()))>=46,INT(YEARFRAC(#REF!,TODAY()))<=50),INT(YEARFRAC(#REF!,TODAY())),"") -> #REF!
B26: 46021 | C26: 43 | D26: солдат | E26: ВЕРСТЮК Євген Дмитрович | F26: {=_xlfn.TEXTSPLIT(E26," ")} -> ВЕРСТЮК | G26: Євген | H26: Дмитрович | I26: Новобоварським РТЦК та СП у Харківській області | J26: 05.04.1977 | K26: 2821912276 | L26: АВ909239 | M26: МК 414303 Лозівським МРВУМВС України в Харківській обл. 15.01.1997 | N26: м.Лозова, Харківська обл. | O26: м. Харків, вул. Велика Панасівська, б. 106, кв.64 | P26: професійно- технічна | Q26: Новомосковський Сільхоз технікум ,м. Новомосковськ, Дніпропетровська обл.,,1998,ветфельшер | R26: ветеринарний санітар | S26: не одружений | T26: тітка Носік Ганна Демидівна, м. Харків, вул. Богомольця буд.7, кв. 104 | U26: 0678946217 | AB26: ні | AF26: Резерв КДШВ | AG26: =IF(AND(INT(YEARFRAC(#REF!,TODAY()))>=25,INT(YEARFRAC(#REF!,TODAY()))<=35),INT(YEARFRAC(#REF!,TODAY())),"") -> #REF! | AH26: =IF(AND(INT(YEARFRAC(#REF!,TODAY()))>=36,INT(YEARFRAC(#REF!,TODAY()))<=45),INT(YEARFRAC(#REF!,TODAY())),"") -> #REF! | AI26: =IF(AND(INT(YEARFRAC(#REF!,TODAY()))>=46,INT(YEARFRAC(#REF!,TODAY()))<=50),INT(YEARFRAC(#REF!,TODAY())),"") -> #REF!
A27: 1537/11/2038 | B27: 46080 | C27: 4 | D27: солдат | E27: ВИГІВСЬКИЙ Денис Анатолійович | F27: {=_xlfn.TEXTSPLIT(E27," ")} -> ВИГІВСЬКИЙ | G27: Денис | H27: Анатолійович | I27: Дніпровським РТЦК та СП у Київській області | J27: 28.09.1986 | K27: 3168215372 | L27: 070920231320634500225/1 | M27: МЕ 222316 | N27: м. Київ | O27: м. Київ, вул. Курнатовського буд. 6а, кв. 60 | P27: вища | Q27: КНУ туризму економіки та права, 2009, менеджмент організації | R27: менеджер автомийки, 9 років, будівельник, 10 років Права - В | S27: не одружений | T27: мати: Виговська Станіслава Григорівна, 1954, м. Київ, вул. Курнатовського буд. 6а, кв. 60, 0634685200 | U27: 0983622020 | W27: курсант | X27: 100 | Z27: 46080 | AA27: № 61 | AB27: =IF(E27="","",IF(V27="","ні","так")) -> ні | AC27: 46080 | AD27: Придатний до військової служби | AG27: =IF(AND(INT(YEARFRAC(#REF!,TODAY()))>=25,INT(YEARFRAC(#REF!,TODAY()))<=35),INT(YEARFRAC(#REF!,TODAY())),"") -> #REF! | AH27: =IF(AND(INT(YEARFRAC(#REF!,TODAY()))>=36,INT(YEARFRAC(#REF!,TODAY()))<=45),INT(YEARFRAC(#REF!,TODAY())),"") -> #REF! | AI27: =IF(AND(INT(YEARFRAC(#REF!,TODAY()))>=46,INT(YEARFRAC(#REF!,TODAY()))<=50),INT(YEARFRAC(#REF!,TODAY())),"") -> #REF!
B28: 46073 | C28: 22 | D28: солдат | E28: ВОЙКУ Олег Георгійович | F28: {=_xlfn.TEXTSPLIT(E28," ")} -> ВОЙКУ | G28: Олег | H28: Георгійович | I28: Новобоварським РТЦК та СП у Харківській області | J28: 11.12.1988 | K28: 3248704812 | L28: АГ 330242 | M28: МН 730517 Московським РВ ХМУ УМВС України в Харківській обл. 03.03.2005 | N28: м. Харків | O28: м. Харків, просп. Ювілейний, буд. 72, кв. 107 | P28: вища | Q28: ХНАМГ, 2004, менеджер організації міського господарства | R28: голова правління ОСББ, 2 роки, менеджер з продажів, 7 років Права, В | S28: одружений | T28: дружина: Бондаренко Наталія Володимирівна, 1980, Харківська обл., м. Чугуїв, вул. Харківська, буд. 105, кв. 112 | U28: 0957796772 | AB28: ні | AF28: Резерв КДШВ | AG28: =IF(AND(INT(YEARFRAC(#REF!,TODAY()))>=25,INT(YEARFRAC(#REF!,TODAY()))<=35),INT(YEARFRAC(#REF!,TODAY())),"") -> #REF! | AH28: =IF(AND(INT(YEARFRAC(#REF!,TODAY()))>=36,INT(YEARFRAC(#REF!,TODAY()))<=45),INT(YEARFRAC(#REF!,TODAY())),"") -> #REF! | AI28: =IF(AND(INT(YEARFRAC(#REF!,TODAY()))>=46,INT(YEARFRAC(#REF!,TODAY()))<=50),INT(YEARFRAC(#REF!,TODAY())),"") -> #REF!
A29: 661 | B29: 46076 | C29: 5 | D29: солдат | E29: ГАВРИК Євген Анатолійович | F29: {=_xlfn.TEXTSPLIT(E29," ")} -> ГАВРИК | G29: Євген | H29: Анатолійович | I29: Білоцерківським РТЦК та СП у Київській області | J29: 27.06.1987 | K29: 3195413716 | L29: 011220221362959000010/1 | M29: СМ 568410 Фастівським МРВ ГУ МВС УКР в Київській обл 02.10.2003 | N29: Київська обл., м. Фастів | O29: Київська обл., м. Фастів, вул. Правди, буд. 105 | P29: професійно- технічна | Q29: ПТУ №18, м. Фастів, 2005, столяр | R29: Складальник-пакувальник, 6 років оператор-вантажної лінії, 2 роки Права - | S29: не одружений | T29: батько: Гаврик Анатолій Анатолійович, 1965, Київська обл., м. Фастів, вул. Правди, буд. 105 | U29: 0632444929 | W29: курсант | X29: 100 | Z29: 46076 | AA29: № 57 | AB29: =IF(E29="","",IF(V29="","ні","так")) -> ні | AC29: 46076 | AD29: Придатний до військової служби | AE29: ІІ Rh+ | AG29: =IF(AND(INT(YEARFRAC(#REF!,TODAY()))>=25,INT(YEARFRAC(#REF!,TODAY()))<=35),INT(YEARFRAC(#REF!,TODAY())),"") -> #REF! | AH29: =IF(AND(INT(YEARFRAC(#REF!,TODAY()))>=36,INT(YEARFRAC(#REF!,TODAY()))<=45),INT(YEARFRAC(#REF!,TODAY())),"") -> #REF! | AI29: =IF(AND(INT(YEARFRAC(#REF!,TODAY()))>=46,INT(YEARFRAC(#REF!,TODAY()))<=50),INT(YEARFRAC(#REF!,TODAY())),"") -> #REF!
A30: 11/1553 | B30: 46078 | C30: 2 | D30: солдат | E30: ГОНЧАРЕНКО Вячеслав Вікторович | F30: {=_xlfn.TEXTSPLIT(E30," ")} -> ГОНЧАРЕНКО | G30: Вячеслав | H30: Вікторович | I30: Шевченківським РТЦК та СП у Київській області | J30: 22.02.1982 | K30: 3000315097 | L30: МО 498066 | M30: СО 062411 Ленінградським РУ ГУ МВС України в м. Києві 24.12.1998 | N30: м. Київ | O30: м. Київ, пр. Берестейський, буд. 144 кв. 8 | P30: вища | Q30: Національний транспортний університет,м. Київ,2009р,вантажні перевезення та логістика | R30: спеціаліст канцелярії в банку - 10р виготовлення вікон водій - 13р Права B, C | S30: не одружений | T30: батько: Гончаренко Віктор Олександрович - 1959 - 0673571110, м. Київ, пр. Берестейський, буд. 144 кв. 8 | U30: 0675504137 | V30: 102 533 А | W30: курсант | X30: 100 | Z30: 46078 | AA30: № 59 | AB30: =IF(E30="","",IF(V30="","ні","так")) -> так | AC30: 46078 | AD30: Придатний до військової служби | AE30: I Rh + | AG30: =IF(AND(INT(YEARFRAC(#REF!,TODAY()))>=25,INT(YEARFRAC(#REF!,TODAY()))<=35),INT(YEARFRAC(#REF!,TODAY())),"") -> #REF! | AH30: =IF(AND(INT(YEARFRAC(#REF!,TODAY()))>=36,INT(YEARFRAC(#REF!,TODAY()))<=45),INT(YEARFRAC(#REF!,TODAY())),"") -> #REF! | AI30: =IF(AND(INT(YEARFRAC(#REF!,TODAY()))>=46,INT(YEARFRAC(#REF!,TODAY()))<=50),INT(YEARFRAC(#REF!,TODAY())),"") -> #REF!
A31: 633 | B31: 46074 | C31: 4 | D31: солдат | E31: ГОНЧАРУК Владислав Миколайович | F31: {=_xlfn.TEXTSPLIT(E31," ")} -> ГОНЧАРУК | G31: Владислав | H31: Миколайович | I31: Білоцерківським РТЦК та СП у Київській області | J31: 19.03.2000 | K31: 3660308950 | L31: АВ 970998 | M31: 000060180 3210 23.01.2017 | N31: Київська обл., м. Біла Церква | O31: Київська обл., м. Біла Церква, вул. Томилівська, буд. 50, кв. 40 | P31: повна середня освіта | Q31: Білоцерківська ЗОШ №11 | R31: Зварювальник, 3 роки, Права - | S31: не одружений | T31: батько: Гончарук Микола Михайлович, 1974, Київська обл., м. Біла Церква, вул. Томилівська, буд. 50, кв. 40, 0671744505 | U31: 0977019587 | W31: курсант | X31: 100 | Z31: 46075 | AA31: № 56 | AB31: =IF(E31="","",IF(V31="","ні","так")) -> ні | AC31: 46074 | AD31: Придатний до військової служби | AE31: RH 3+ | AG31: =IF(AND(INT(YEARFRAC(#REF!,TODAY()))>=25,INT(YEARFRAC(#REF!,TODAY()))<=35),INT(YEARFRAC(#REF!,TODAY())),"") -> #REF! | AH31: =IF(AND(INT(YEARFRAC(#REF!,TODAY()))>=36,INT(YEARFRAC(#REF!,TODAY()))<=45),INT(YEARFRAC(#REF!,TODAY())),"") -> #REF! | AI31: =IF(AND(INT(YEARFRAC(#REF!,TODAY()))>=46,INT(YEARFRAC(#REF!,TODAY()))<=50),INT(YEARFRAC(#REF!,TODAY())),"") -> #REF!
A32: 11/2499 | B32: 46078 | C32: 3 | D32: солдат | E32: ГОРБАЧОВ Богдан Віталійович | F32: {=_xlfn.TEXTSPLIT(E32," ")} -> ГОРБАЧОВ | G32: Богдан | H32: Віталійович | I32: Святошинським РТЦК та СП у Київській області | J32: 17.09.2000 | K32: 3678507715 | L32: АГ 606223 | M32: 000176202 8032 12.10.2016 | N32: м. Київ | O32: м. Київ, вул. Жмеринська, буд. 24, кв. 279 | P32: професійно- технічна | Q32: КПЛБ і КГ,м. Київ,2019,слюсар, електрик на устаткуванні електричного транспорту | R32: Працівник пошти - 2р Пакувальник - 4р | S32: не одружений | T32: мати: Горчабова Тетяна Василівна - 56 - 0962918854, м. Київ вул. Жмеринська, буд. 24, кв. 279 | U32: 0972308159 | W32: курсант | X32: 100 | Z32: 46078 | AA32: № 59 | AB32: =IF(E32="","",IF(V32="","ні","так")) -> ні | AC32: 46077 | AD32: Придатний до військової служби | AG32: =IF(AND(INT(YEARFRAC(#REF!,TODAY()))>=25,INT(YEARFRAC(#REF!,TODAY()))<=35),INT(YEARFRAC(#REF!,TODAY())),"") -> #REF! | AH32: =IF(AND(INT(YEARFRAC(#REF!,TODAY()))>=36,INT(YEARFRAC(#REF!,TODAY()))<=45),INT(YEARFRAC(#REF!,TODAY())),"") -> #REF! | AI32: =IF(AND(INT(YEARFRAC(#REF!,TODAY()))>=46,INT(YEARFRAC(#REF!,TODAY()))<=50),INT(YEARFRAC(#REF!,TODAY())),"") -> #REF!
B33: 46076 | C33: 41 | D33: солдат | E33: ГРАБКО Андрій Іванович | F33: {=_xlfn.TEXTSPLIT(E33," ")} -> ГРАБКО | G33: Андрій | H33: Іванович | I33: Сумським МТЦК та СП у Сумській області | J33: 18.09.1986 | K33: 3167201934 | L33: АВ 949483 | M33: МВ 173258 Л.Долинським РВУМВС України в Сумській обл., 08.02.2003 | N33: Сумська обл., Л. Долинський р-н, с.Колядиниць | O33: м. Суми, вул. Черепіна, б.47, кв. 117 | P33: вища | Q33: СНАУ ,м. Суми,2010,магістр, | R33: зоотехнік кат. В,С1,С | S33: не одружений | T33: мати: Грабко Ганна Дмитриївна - 1959 - 0968446207, Сумська обл., Л. Долинський р-н, с.Колядиниць, вул. Щастя 30 | U33: 0671979898 | AB33: ні | AF33: Резерв КДШВ | AG33: =IF(AND(INT(YEARFRAC(#REF!,TODAY()))>=25,INT(YEARFRAC(#REF!,TODAY()))<=35),INT(YEARFRAC(#REF!,TODAY())),"") -> #REF! | AH33: =IF(AND(INT(YEARFRAC(#REF!,TODAY()))>=36,INT(YEARFRAC(#REF!,TODAY()))<=45),INT(YEARFRAC(#REF!,TODAY())),"") -> #REF! | AI33: =IF(AND(INT(YEARFRAC(#REF!,TODAY()))>=46,INT(YEARFRAC(#REF!,TODAY()))<=50),INT(YEARFRAC(#REF!,TODAY())),"") -> #REF!
A34: 260223-9 | B34: 46076 | C34: 6 | D34: солдат | E34: ГРЕЧАНЮК Денис Сергійович | F34: {=_xlfn.TEXTSPLIT(E34," ")} -> ГРЕЧАНЮК | G34: Денис | H34: Сергійович | I34: Солом'янським РТЦК та СП у Київській області | J34: 07.02.1996 | K34: 3510103050 | L34: АГ 629824 | M34: 005780250 8034 24.02.2021 | N34: м. Київ | O34: м. Київ, вул. Пилипа Козицького, буд. 3, кв. 32 | P34: вища | Q34: КНАУ, 2016, економіст-кібернетик | R34: Продавець, 6 років Права - | S34: не одружений | T34: мати: Гречанюк Ірина Олександрівна, 1978, м. Київ, 0674088553 | U34: 0505278293 | W34: курсант | X34: 100 | Z34: 46076 | AA34: № 57 | AB34: =IF(E34="","",IF(V34="","ні","так")) -> ні | AC34: 46076 | AD34: Придатний до військової служби | AE34: IV Rh - | AG34: =IF(AND(INT(YEARFRAC(#REF!,TODAY()))>=25,INT(YEARFRAC(#REF!,TODAY()))<=35),INT(YEARFRAC(#REF!,TODAY())),"") -> #REF! | AH34: =IF(AND(INT(YEARFRAC(#REF!,TODAY()))>=36,INT(YEARFRAC(#REF!,TODAY()))<=45),INT(YEARFRAC(#REF!,TODAY())),"") -> #REF! | AI34: =IF(AND(INT(YEARFRAC(#REF!,TODAY()))>=46,INT(YEARFRAC(#REF!,TODAY()))<=50),INT(YEARFRAC(#REF!,TODAY())),"") -> #REF!
A35: 260228-7 | B35: 46081 | C35: 3 | D35: солдат | E35: ГРІЩЕНКО Максим Олегович | F35: {=_xlfn.TEXTSPLIT(E35," ")} -> ГРІЩЕНКО | G35: Максим | H35: Олегович | I35: Солом'янським РТЦК та СП у Київській області | J35: 09.12.1987 | K35: 3211914316 | L35: АГ 629881 | M35: МЕ 482954 | N35: м. Київ | O35: м. Київ, вул. Митрополита Василя Липківського, буд. 30, кв. 122 | P35: вища | Q35: ДУІТ, м. Київ, 2012 | R35: Продажі, менеджер, 3 роки | S35: одружений | T35: дружина: Макєєва Ганна Миколаївна, 1989, м. Київ, вул. Митрополита Василя Липківського, буд. 30, кв. 122, 0987000360 | U35: 0976009086 | W35: курсант | X35: 100 | Z35: 46081 | AA35: № 62 | AB35: =IF(E35="","",IF(V35="","ні","так")) -> ні | AC35: 46081 | AD35: Придатний до військової служби | AE35: III Rh + | AG35: =IF(AND(INT(YEARFRAC(#REF!,TODAY()))>=25,INT(YEARFRAC(#REF!,TODAY()))<=35),INT(YEARFRAC(#REF!,TODAY())),"") -> #REF! | AH35: =IF(AND(INT(YEARFRAC(#REF!,TODAY()))>=36,INT(YEARFRAC(#REF!,TODAY()))<=45),INT(YEARFRAC(#REF!,TODAY())),"") -> #REF! | AI35: =IF(AND(INT(YEARFRAC(#REF!,TODAY()))>=46,INT(YEARFRAC(#REF!,TODAY()))<=50),INT(YEARFRAC(#REF!,TODAY())),"") -> #REF!
A36: 628 | B36: 46074 | C36: 2 | D36: солдат | E36: ГРОХ Андрій Вікторович | F36: {=_xlfn.TEXTSPLIT(E36," ")} -> ГРОХ | G36: Андрій | H36: Вікторович | I36: Білоцерківським РТЦК та СП у Київській області | J36: 18.07.1984 | K36: 3088000115 | L36: АВ 970598 | M36: СМ 236283 Міським відділом №1 Білоцерківського МУГУ МВС УКР в Київській обл 15.09.2000 | N36: Київська обл., м. Припʼять | O36: Київська обл., м. Біла Церква, вул. Луки Долинського, буд. 107, кв. 6 | P36: середня спеціальна | Q36: Білоцерківське ПТУ №5, електрогазозварювальник, 2002 | R36: електрогазозварювальник, рихтувальнк автомобілів, 15 років, Права BC | S36: одружений | T36: дружина: Грох Людмила Іванівна, 1986, Київська обл., м. Біла Церква, вул. Луки Долинського, буд. 107, кв. 6, 0986174303 | U36: 0966363660 | W36: курсант | X36: 100 | Z36: 46074 | AA36: № 55 | AB36: =IF(E36="","",IF(V36="","ні","так")) -> ні | AC36: 46074 | AD36: Придатний до військової служби | AE36: RH 4+ | AG36: =IF(AND(INT(YEARFRAC(#REF!,TODAY()))>=25,INT(YEARFRAC(#REF!,TODAY()))<=35),INT(YEARFRAC(#REF!,TODAY())),"") -> #REF! | AH36: =IF(AND(INT(YEARFRAC(#REF!,TODAY()))>=36,INT(YEARFRAC(#REF!,TODAY()))<=45),INT(YEARFRAC(#REF!,TODAY())),"") -> #REF! | AI36: =IF(AND(INT(YEARFRAC(#REF!,TODAY()))>=46,INT(YEARFRAC(#REF!,TODAY()))<=50),INT(YEARFRAC(#REF!,TODAY())),"") -> #REF!
A37: 260228-7 | B37: 46081 | C37: 4 | D37: солдат | E37: ГРУЗИНСЬКИЙ Юрій Миколайович | F37: {=_xlfn.TEXTSPLIT(E37," ")} -> ГРУЗИНСЬКИЙ | G37: Юрій | H37: Миколайович | I37: Солом'янським РТЦК та СП у Київській області | J37: 12.10.1985 | K37: 3133113253 | L37: АГ 629880 | M37: 003604871 2315 15.07.2019 | N37: м. Запоріжжя | O37: м. Київ, вул. Філіпа Козицького, буд. 7, кв. 3 | P37: професійно- технічна | Q37: ПТУ №1,м. Запоріжжя,2003,зварювальник контролер АТК | R37: Працівник СТО/шиномонтаж - 23р Права B (вилучені) | S37: не одружений | T37: цивільна дуржина: Янченюк Олена Михайлівна - 0960956996, м. Київ вул. Філіпа Козицького, буд. 7, кв. 3 | U37: 0688144881 | W37: курсант | X37: 100 | Z37: 46081 | AA37: № 62 | AB37: =IF(E37="","",IF(V37="","ні","так")) -> ні | AC37: 46081 | AD37: Придатний до військової служби | AE37: II Rh + | AG37: =IF(AND(INT(YEARFRAC(#REF!,TODAY()))>=25,INT(YEARFRAC(#REF!,TODAY()))<=35),INT(YEARFRAC(#REF!,TODAY())),"") -> #REF! | AH37: =IF(AND(INT(YEARFRAC(#REF!,TODAY()))>=36,INT(YEARFRAC(#REF!,TODAY()))<=45),INT(YEARFRAC(#REF!,TODAY())),"") -> #REF! | AI37: =IF(AND(INT(YEARFRAC(#REF!,TODAY()))>=46,INT(YEARFRAC(#REF!,TODAY()))<=50),INT(YEARFRAC(#REF!,TODAY())),"") -> #REF!
B38: 46076 | C38: 46 | D38: солдат | E38: ГУЛЕНКО Владислав Олександрович | F38: {=_xlfn.TEXTSPLIT(E38," ")} -> ГУЛЕНКО | G38: Владислав | H38: Олександрович | I38: Сумським РТЦК та СП у Сумській області | J38: 01.03.1998 | K38: 3585409073 | L38: АВ 949486 | N38: м. Суми | O38: м. Суми, вул. Ковпака, б. 4а | P38: професійно- технічна | Q38: ПТУ №43,м. Краснопілля, Сумська обл., Сумський р-н,кухар-кондитер 5кат,2018 | R38: вантажник | S38: не одружений | T38: батько: Гуленко Олександр Миколайович - 1970 - 0663936035, Сумська обл., Краснопільський р-н, с. Самотоївка, вул. Калініна 170 | U38: не надано | AB38: ні | AF38: Резерв КДШВ | AG38: =IF(AND(INT(YEARFRAC(#REF!,TODAY()))>=25,INT(YEARFRAC(#REF!,TODAY()))<=35),INT(YEARFRAC(#REF!,TODAY())),"") -> #REF! | AH38: =IF(AND(INT(YEARFRAC(#REF!,TODAY()))>=36,INT(YEARFRAC(#REF!,TODAY()))<=45),INT(YEARFRAC(#REF!,TODAY())),"") -> #REF! | AI38: =IF(AND(INT(YEARFRAC(#REF!,TODAY()))>=46,INT(YEARFRAC(#REF!,TODAY()))<=50),INT(YEARFRAC(#REF!,TODAY())),"") -> #REF!
A39: 621/МВ | B39: 46081 | C39: 5 | D39: солдат | E39: ГУСЄВ Євгеній Олександрович | F39: {=_xlfn.TEXTSPLIT(E39," ")} -> ГУСЄВ | G39: Євгеній | H39: Олександрович | I39: Оболонським РТЦК та СП у Київській області | J39: 18.11.1998 | K39: 3611608372 | L39: довідка | M39: ТТ 264727 Деснянським РВ ГУДМС УКР в м. Києві 20.11.2014 | N39: м. Київ | O39: м. Київ, вул. Мільчакова, буд. 3а | P39: професійно- технічна | Q39: Київське ВПУ, деревообробка | R39: Встановлення кондиціонерів, 4 роки, Права В | S39: не одружений | T39: мати: Зубарєва Катерина Сергвіївна, 1980, м. Київ, вул. Мільчакова, буд. 3а, 0502642717 | U39: 0955390619 | W39: курсант | X39: 100 | Z39: 46081 | AA39: № 62 | AB39: =IF(E39="","",IF(V39="","ні","так")) -> ні | AC39: 46081 | AD39: Придатний до військової служби | AG39: =IF(AND(INT(YEARFRAC(#REF!,TODAY()))>=25,INT(YEARFRAC(#REF!,TODAY()))<=35),INT(YEARFRAC(#REF!,TODAY())),"") -> #REF! | AH39: =IF(AND(INT(YEARFRAC(#REF!,TODAY()))>=36,INT(YEARFRAC(#REF!,TODAY()))<=45),INT(YEARFRAC(#REF!,TODAY())),"") -> #REF! | AI39: =IF(AND(INT(YEARFRAC(#REF!,TODAY()))>=46,INT(YEARFRAC(#REF!,TODAY()))<=50),INT(YEARFRAC(#REF!,TODAY())),"") -> #REF!
B40: 46075 | C40: 1 | D40: солдат | E40: ДАВИДЕНКО Богдан Миколайович | F40: {=_xlfn.TEXTSPLIT(E40," ")} -> ДАВИДЕНКО | G40: Богдан | H40: Миколайович | I40: Роменським РТЦК та СП у Сумській області | J40: 24.04.1996 | K40: 3517807937 | L40: АВ 949426 | M40: 006233429 Виданий 5930 16.06.2021 | N40: м. Суми | O40: м. Суми, вул. ЗСУ, буд. 65а, кв. 92 | P40: вища | Q40: НТУ ХПІ, 2018, механік-технолог | R40: QA-middle тімлід, 4 роки монтажник, 10 років Права - | S40: не одружений | T40: мати: Давиденко Олена Василівна, 1974, м. Суми, вул. ЗСУ, буд. 65а, кв. 92, 0956851446 | U40: 0999604676 | AB40: ні | AF40: Резерв КДШВ | AG40: =IF(AND(INT(YEARFRAC(#REF!,TODAY()))>=25,INT(YEARFRAC(#REF!,TODAY()))<=35),INT(YEARFRAC(#REF!,TODAY())),"") -> #REF! | AH40: =IF(AND(INT(YEARFRAC(#REF!,TODAY()))>=36,INT(YEARFRAC(#REF!,TODAY()))<=45),INT(YEARFRAC(#REF!,TODAY())),"") -> #REF! | AI40: =IF(AND(INT(YEARFRAC(#REF!,TODAY()))>=46,INT(YEARFRAC(#REF!,TODAY()))<=50),INT(YEARFRAC(#REF!,TODAY())),"") -> #REF!
...

Sheet відмінювання
A1: Прізвище | B1: Імя | C1: По батькові | D1: ПІБ_А | E1: ПІБ_У | F1: ПІБ_КИМ | G1: ЗВАННЯ_А | H1: ЗВАННЯ_У | I1: ЗВАННЯ_ОМ | J1: ЗВАННЯ_С
A2: АБРАМЯН | B2: Артур | C2: Маратович | D2: АБРАМЯНА Артура Маратовича | E2: АБРАМЯНУ Артуру Маратовичу | F2: АБРАМЯНОМ Артуром Маратовичем | G2: солдата | H2: солдату | I2: солдатом | J2: солдат
A3: АВРАМЕНКО | B3: Андрій | C3: Миколайович | D3: АВРАМЕНКА Андрія Миколайовича | E3: АВРАМЕНКУ Андрію Миколайовичу | F3: АВРАМЕНКОМ Андрієм Миколайовичем | G3: солдата | H3: солдату | I3: солдатом | J3: солдат
A4: АЛЕКСЕНКО | B4: Іван | C4: Миколайович | D4: АЛЕКСЕНКА Івана Миколайовича | E4: АЛЕКСЕНКУ Івану Миколайовичу | F4: АЛЕКСЕНКОМ Іваном Миколайовичем | G4: солдата | H4: солдату | I4: солдатом | J4: солдат
A5: АЛІЄВ | B5: Парвіз | C5: Натікбєкович | D5: АЛІЄВА Парвіза Натікбєковича | E5: АЛІЄВУ Парвізу Натікбєковичу | F5: АЛІЄВИМ Парвізом Натікбєковичем | G5: солдата | H5: солдату | I5: солдатом | J5: солдат
A6: АНДРУШКО | B6: Вадим | C6: Валентинович | D6: АНДРУШКА Вадима Валентиновича | E6: АНДРУШКУ Вадиму Валентиновичу | F6: АНДРУШКОМ Вадимом Валентиновичем | G6: солдата | H6: солдату | I6: солдатом | J6: солдат
A7: АНІСІМОВ | B7: Сергій | C7: Леонідович | D7: АНІСІМОВА Сергія Леонідовича | E7: АНІСІМОВУ Сергію Леонідовичу | F7: АНІСІМОВИМ Сергієм Леонідовичем | G7: солдата | H7: солдату | I7: солдатом | J7: солдат
A8: АНТОНЮК | B8: Дмитро | C8: Русланович | D8: АНТОНЮКА Дмитра Руслановича | E8: АНТОНЮКУ Дмитру Руслановичу | F8: АНТОНЮКОМ Дмитром Руслановичем | G8: солдата | H8: солдату | I8: солдатом | J8: солдат
A9: АНТОНЮК | B9: Олександр | C9: Леонідович | D9: АНТОНЮКА Олександра Леонідовича | E9: АНТОНЮКУ Олександру Леонідовичу | F9: АНТОНЮКОМ Олександром Леонідовичем | G9: солдата | H9: солдату | I9: солдатом | J9: солдат
A10: БАБИЧ | B10: Андрій | C10: Васильович | D10: БАБИЧА Андрія Васильовича | E10: БАБИЧУ Андрію Васильовичу | F10: БАБИЧЕМ Андрієм Васильовичем | G10: солдата | H10: солдату | I10: солдатом | J10: солдат
A11: БАСКАКОВ | B11: Павло | C11: Анатолійович | D11: БАСКАКОВА Павла Анатолійовича | E11: БАСКАКОВУ Павлу Анатолійовичу | F11: БАСКАКОВИМ Павлом Анатолійовичем | G11: солдата | H11: солдату | I11: солдатом | J11: солдат
A12: БЕРШАДСЬКИЙ | B12: Олександр | C12: Миколайович | D12: БЕРШАДСЬКОГО Олександра Миколайовича | E12: БЕРШАДСЬКОМУ Олександру Миколайовичу | F12: БЕРШАДСЬКИМ Олександром Миколайовичем | G12: солдата | H12: солдату | I12: солдатом | J12: солдат
... A142: ЯНЦ | B142: Сергій | C142: Геннадійович | D142: ЯНЦА Сергія Геннадійовича | E142: ЯНЦУ Сергію Геннадійовичу | F142: ЯНЦОМ Сергієм Геннадійовичем | G142: солдата | H142: солдату | I142: солдатом | J142: солдат

Sheet Перевірка
A1: {=Основний!C2:C26} -> 1 | B1: {=CONCATENATE("", Основний!E2:E26)} -> АБРАМЯН Артур Маратович | C1: {=CONCATENATE("", TEXT(Основний!#REF!,"dd.mm.yyyy"))} -> #REF! | D1: {=CONCATENATE("", Основний!K2:K26)} -> 3608804152 | E1: Перевірка | F1: {=CONCATENATE("", Основний!L2:L26)} -> 040520251458450705269/1 | G1: Перевірка | H1: {=CONCATENATE("", Основний!M2:M26)} -> ВТ 101396 Приморським РС у м. Маріуполі ГУ ДМС України в Донецькій області 12.06.2015 | I1: Перевірка | J1: Алфавітка | K1: Д = А | L1: Поіменний Список | M1: Д = ПС | N1: А = ПС
A2: 2 | B2: АВРАМЕНКО Андрій Миколайович | C2: #REF! | D2: 3085003094 | J2: - | K2: - | L2: - | M2: - | N2: - | O2: =DATEVALUE(C2) <> INT(LEFT(D2,5)) +1 -> #REF!
A3: 2 | B3: АЛЕКСЕНКО Іван Миколайович | C3: #REF! | D3: 3560301717 | E3: =IF(D3="", "", LEN(D3)) -> 10 | G3: =IF(F3="", "", LEN(F3)) | I3: =IF(H3="", "", LEN(H3)) | J3: Антоненко Руслан Олександрович | K3: =IF(J3="", "", B3=J3) -> FALSE | M3: =IF(L3="", "", B3=L3) | N3: =IF(L3="", "", J3=L3) | O3: =DATEVALUE(C3) <> INT(LEFT(D3,5)) +1 -> #REF! | P3: =DATEVALUE(C3) -> #REF!
A4: 3 | B4: АЛІЄВ Парвіз Натікбєкович | C4: #REF! | D4: 3044204097 | E4: =IF(D4="", "", LEN(D4)) -> 10 | F4: АГ 629818 | G4: =IF(F4="", "", LEN(F4)) -> 9 | H4: КС 160333 Київським РВ ДМУ УДМС УКР в Донецькій обл 09.08.2002 | I4: =IF(H4="", "", LEN(H4)) -> 62 | J4: Баранов Дмитро Геннадійович | K4: =IF(J4="", "", B4=J4) -> FALSE | M4: =IF(L4="", "", B4=L4) | N4: =IF(L4="", "", J4=L4) | O4: =DATEVALUE(C4) <> INT(LEFT(D4,5)) +1 -> #REF!
A5: 1 | B5: АНДРУШКО Вадим Валентинович | C5: #REF! | D5: 3354308835 | E5: =IF(D5="", "", LEN(D5)) -> 10 | F5: АГ 603287 | G5: =IF(F5="", "", LEN(F5)) -> 9 | H5: ВН 424127 Вололдарсько-Волинським РВ УМВС в Житомирській області 20.05.2008 | I5: =IF(H5="", "", LEN(H5)) -> 75 | J5: Боровик Юрій Володимирович | K5: =IF(J5="", "", B5=J5) -> FALSE | M5: =IF(L5="", "", B5=L5) | N5: =IF(L5="", "", J5=L5) | O5: =DATEVALUE(C5) <> INT(LEFT(D5,5)) +1 -> #REF!
A6: 5 | B6: АНІСІМОВ Сергій Леонідович | C6: #REF! | D6: 3279802570 | E6: =IF(D6="", "", LEN(D6)) -> 10 | F6: АГ 633795 | G6: =IF(F6="", "", LEN(F6)) -> 9 | H6: АМ 247948 | I6: =IF(H6="", "", LEN(H6)) -> 9 | J6: Горбатенко Олександр Олегович | K6: =IF(J6="", "", B6=J6) -> FALSE | M6: =IF(L6="", "", B6=L6) | N6: =IF(L6="", "", J6=L6)
A7: 1 | B7: АНТОНЮК Дмитро Русланович | C7: #REF! | D7: 3624109257 | E7: =IF(D7="", "", LEN(D7)) -> 10 | F7: АГ 574988 | G7: =IF(F7="", "", LEN(F7)) -> 9 | H7: АТ 121678 | I7: =IF(H7="", "", LEN(H7)) -> 9 | J7: Жестовський Сергій Сергійович | K7: =IF(J7="", "", B7=J7) -> FALSE | M7: =IF(L7="", "", B7=L7) | N7: =IF(L7="", "", J7=L7)
A8: 1 | B8: АНТОНЮК Олександр Леонідович | C8: #REF! | D8: 2912410393 | E8: =IF(D8="", "", LEN(D8)) -> 10 | F8: АГ 603239 | G8: =IF(F8="", "", LEN(F8)) -> 9 | H8: ТТ 193066 Дарнівським РО ГУ ДМС УКР в м. Києві 16.08.2013 | I8: =IF(H8="", "", LEN(H8)) -> 57 | J8: Ісаков Олександр Сергійович | K8: =IF(J8="", "", B8=J8) -> FALSE | M8: =IF(L8="", "", B8=L8) | N8: =IF(L8="", "", J8=L8)
A9: 2 | B9: БАБИЧ Андрій Васильович | C9: #REF! | D9: 3078922215 | E9: =IF(D9="", "", LEN(D9)) -> 10 | F9: АГ 603272 | G9: =IF(F9="", "", LEN(F9)) -> 9 | H9: СТ 531446 Чернігівським РС УДМС УКР в Чернігівській обл 24.02.2017 | I9: =IF(H9="", "", LEN(H9)) -> 67 | J9: Клімчук Олександр Олександрович | K9: =IF(J9="", "", B9=J9) -> FALSE | M9: =IF(L9="", "", B9=L9) | N9: =IF(L9="", "", J9=L9)
A10: 3 | B10: БАСКАКОВ Павло Анатолійович | C10: #REF! | D10: 3074200978 | E10: =IF(D10="", "", LEN(D10)) -> 10 | F10: 140220221425037600020/1 | G10: =IF(F10="", "", LEN(F10)) -> 23 | H10: АМ 064073 Заводським РВ Дніпродзержинського МУ УМВС України в Дніпропетровській області 03.10.2000 | I10: =IF(H10="", "", LEN(H10)) -> 98 | J10: Колесніков Сергій Сергійович | K10: =IF(J10="", "", B10=J10) -> FALSE | M10: =IF(L10="", "", B10=L10) | N10: =IF(L10="", "", J10=L10)
A11: 2 | B11: БЕРШАДСЬКИЙ Олександр Миколайович | C11: #REF! | D11: 3367700733 | E11: =IF(D11="", "", LEN(D11)) -> 10 | F11: довідка | G11: =IF(F11="", "", LEN(F11)) -> 7 | H11: 003047716 8034 04.03.2019 | I11: =IF(H11="", "", LEN(H11)) -> 25 | J11: Опанасюк Ігор Петрович | K11: =IF(J11="", "", B11=J11) -> FALSE | M11: =IF(L11="", "", B11=L11) | N11: =IF(L11="", "", J11=L11)
A12: 3 | B12: БІЛОУСОВ Сергій Вікторович | C12: #REF! | D12: ВМ 632875 | E12: =IF(D12="", "", LEN(D12)) -> 9 | F12: АГ 186080 | G12: =IF(F12="", "", LEN(F12)) -> 9 | H12: 009302826 1836 23.06.2023 | I12: =IF(H12="", "", LEN(H12)) -> 25 | J12: Ручин Дмитро Вікторович | K12: =IF(J12="", "", B12=J12) -> FALSE | M12: =IF(L12="", "", B12=L12) | N12: =IF(L12="", "", J12=L12)
A13: 18 | B13: БОЙКО Геннадій Володимирович | C13: #REF! | D13: 2990807554 | E13: =IF(D13="", "", LEN(D13)) -> 10 | F13: 250220261352624000001/2 | G13: =IF(F13="", "", LEN(F13)) -> 23 | H13: МА 583941 Охтирським МРВУМВС України в Сумській обл., 04.01.1999 | I13: =IF(H13="", "", LEN(H13)) -> 64 | J13: Солоденко Анатолій Сергійович | K13: =IF(J13="", "", B13=J13) -> FALSE | M13: =IF(L13="", "", B13=L13) | N13: =IF(L13="", "", J13=L13)
A14: 4 | B14: БОЛЬШАКОВ Костянтин Євгенович | C14: #REF! | D14: 3378604531 | E14: =IF(D14="", "", LEN(D14)) -> 10 | F14: 250220261320634500007/1 | G14: =IF(F14="", "", LEN(F14)) -> 23 | H14: ЕН 904717 Краснолуцьким МВ УДМС УКР в Луганській обл 15.11.2012 | I14: =IF(H14="", "", LEN(H14)) -> 63 | J14: Фістікан Василь Петрович | K14: =IF(J14="", "", B14=J14) -> FALSE | M14: =IF(L14="", "", B14=L14) | N14: =IF(L14="", "", J14=L14)
A15: 4 | B15: БОНДАР Андрій Васильович | C15: #REF! | D15: 3235207996 | E15: =IF(D15="", "", LEN(D15)) -> 10 | F15: АГ 574967 | G15: =IF(F15="", "", LEN(F15)) -> 9 | H15: 011098716 | I15: =IF(H15="", "", LEN(H15)) -> 9 | J15: Чабан Михайло Григорович | K15: =IF(J15="", "", B15=J15) -> FALSE | M15: =IF(L15="", "", B15=L15) | N15: =IF(L15="", "", J15=L15)
A16: 10 | B16: БОРИСОВ Дмитро Сергійович | C16: #REF! | D16: 3081727094 | E16: =IF(D16="", "", LEN(D16)) -> 10 | F16: СО 871538 | G16: =IF(F16="", "", LEN(F16)) -> 9 | I16: =IF(H16="", "", LEN(H16)) | K16: =IF(J16="", "", B16=J16) | M16: =IF(L16="", "", B16=L16) | N16: =IF(L16="", "", J16=L16)
A17: 1 | B17: БОРОДАВКО Віталій Михайлович | C17: #REF! | D17: 3279006554 | E17: =IF(D17="", "", LEN(D17)) -> 10 | F17: АГ 633793 | G17: =IF(F17="", "", LEN(F17)) -> 9 | H17: НМ 247947 Ніжинським МВР УМВС УКР в Чернігівській обл 24.03.2006 | I17: =IF(H17="", "", LEN(H17)) -> 64 | K17: =IF(J17="", "", B17=J17) | M17: =IF(L17="", "", B17=L17) | N17: =IF(L17="", "", J17=L17)
A18: 3 | B18: БРИСКІН Денис Сергійович | C18: #REF! | D18: 3019609990 | E18: =IF(D18="", "", LEN(D18)) -> 10 | F18: МО 369114 | G18: =IF(F18="", "", LEN(F18)) -> 9 | I18: =IF(H18="", "", LEN(H18)) | K18: =IF(J18="", "", B18=J18) | M18: =IF(L18="", "", B18=L18) | N18: =IF(L18="", "", J18=L18)
A19: 2 | B19: БРОДОВСЬКИЙ Вадим Феліксович | C19: #REF! | D19: 2843714031 | E19: =IF(D19="", "", LEN(D19)) -> 10 | F19: АГ 603250 | G19: =IF(F19="", "", LEN(F19)) -> 9 | H19: ВМ 028712 | I19: =IF(H19="", "", LEN(H19)) -> 9 | K19: =IF(J19="", "", B19=J19) | M19: =IF(L19="", "", B19=L19) | N19: =IF(L19="", "", J19=L19)
A20: 23 | B20: БРУЯКА Максим Юрійович | C20: #REF! | D20: 3536512192 | E20: =IF(D20="", "", LEN(D20)) -> 10 | F20: АВ 960514 | G20: =IF(F20="", "", LEN(F20)) -> 9 | H20: МВ 516155 Ковпаківським РВ м.Суми УДМС України в Сумській обл. 18.12.2012 | I20: =IF(H20="", "", LEN(H20)) -> 73 | K20: =IF(J20="", "", B20=J20) | M20: =IF(L20="", "", B20=L20) | N20: =IF(L20="", "", J20=L20)
A21: 38 | B21: БУРКОВЦОВ Андрій Юрійович | C21: #REF! | D21: 3239413855 | E21: =IF(D21="", "", LEN(D21)) -> 10 | F21: АВ 949437 | G21: =IF(F21="", "", LEN(F21)) -> 9 | H21: закордоний паспорт ЕН991201 виданий 7401 08.06.2011 | I21: =IF(H21="", "", LEN(H21)) -> 51 | K21: =IF(J21="", "", B21=J21) | M21: =IF(L21="", "", B21=L21) | N21: =IF(L21="", "", J21=L21)
A22: 5 | B22: БУТКО Руслан Павлович | C22: #REF! | D22: 3600408276 | E22: =IF(D22="", "", LEN(D22)) -> 10 | F22: 250620235816010600001/1 | G22: =IF(F22="", "", LEN(F22)) -> 23 | H22: 009601452 3214 29.08.2023 | I22: =IF(H22="", "", LEN(H22)) -> 25 | K22: =IF(J22="", "", B22=J22) | M22: =IF(L22="", "", B22=L22) | N22: =IF(L22="", "", J22=L22)
A23: 5 | B23: ВАСИЛЬЧЕНКО Сергій Анатолійович | C23: #REF! | D23: 3428909730 | E23: =IF(D23="", "", LEN(D23)) -> 10 | F23: АВ 949433 | G23: =IF(F23="", "", LEN(F23)) -> 9 | H23: 002997059 виданий 5924 20.02.2019 | I23: =IF(H23="", "", LEN(H23)) -> 33 | K23: =IF(J23="", "", B23=J23) | M23: =IF(L23="", "", B23=L23) | N23: =IF(L23="", "", J23=L23)
A24: 4 | B24: ВЕРБА Володимир Олександрович | C24: #REF! | D24: 3493804851 | E24: =IF(D24="", "", LEN(D24)) -> 10 | F24: АВ 552749 | G24: =IF(F24="", "", LEN(F24)) -> 9 | I24: =IF(H24="", "", LEN(H24)) | K24: =IF(J24="", "", B24=J24) | M24: =IF(L24="", "", B24=L24) | N24: =IF(L24="", "", J24=L24)
A25: 43 | B25: ВЕРСТЮК Євген Дмитрович | C25: #REF! | D25: 2821912276 | E25: =IF(D25="", "", LEN(D25)) -> 10 | F25: АВ909239 | G25: =IF(F25="", "", LEN(F25)) -> 8 | H25: МК 414303 Лозівським МРВУМВС України в Харківській обл. 15.01.1997 | I25: =IF(H25="", "", LEN(H25)) -> 68 | K25: =IF(J25="", "", B25=J25) | M25: =IF(L25="", "", B25=L25) | N25: =IF(L25="", "", J25=L25)
A26: #N/A | B26: #N/A | C26: #REF! | D26: #N/A | E26: =IF(D26="", "", LEN(D26)) -> #N/A | F26: #N/A | G26: =IF(F26="", "", LEN(F26)) -> #N/A | H26: #N/A | I26: =IF(H26="", "", LEN(H26)) -> #N/A | K26: =IF(J26="", "", B26=J26) | M26: =IF(L26="", "", B26=L26) | N26: =IF(L26="", "", J26=L26)
A27: #N/A | B27: #N/A | C27: #REF! | D27: #N/A | E27: =IF(D27="", "", LEN(D27)) -> #N/A | F27: #N/A | G27: =IF(F27="", "", LEN(F27)) -> #N/A | H27: #N/A | I27: =IF(H27="", "", LEN(H27)) -> #N/A | K27: =IF(J27="", "", B27=J27) | M27: =IF(L27="", "", B27=L27) | N27: =IF(L27="", "", J27=L27)
A28: #N/A | B28: #N/A | C28: #REF! | D28: #N/A | E28: =IF(D28="", "", LEN(D28)) -> #N/A | F28: #N/A | G28: =IF(F28="", "", LEN(F28)) -> #N/A | H28: #N/A | I28: =IF(H28="", "", LEN(H28)) -> #N/A | K28: =IF(J28="", "", B28=J28) | M28: =IF(L28="", "", B28=L28) | N28: =IF(L28="", "", J28=L28)
A29: #N/A | B29: #N/A | C29: #REF! | D29: #N/A | E29: =IF(D29="", "", LEN(D29)) -> #N/A | F29: #N/A | G29: =IF(F29="", "", LEN(F29)) -> #N/A | H29: #N/A | I29: =IF(H29="", "", LEN(H29)) -> #N/A | K29: =IF(J29="", "", B29=J29) | M29: =IF(L29="", "", B29=L29) | N29: =IF(L29="", "", J29=L29)
A30: #N/A | B30: #N/A | C30: #REF! | D30: #N/A | E30: =IF(D30="", "", LEN(D30)) -> #N/A | F30: #N/A | G30: =IF(F30="", "", LEN(F30)) -> #N/A | H30: #N/A | I30: =IF(H30="", "", LEN(H30)) -> #N/A | K30: =IF(J30="", "", B30=J30) | M30: =IF(L30="", "", B30=L30) | N30: =IF(L30="", "", J30=L30)
