Workbook

Sheet Облік СЗЧ
A1: =SUBTOTAL(103,B:B)-1 -> 223 | B1: Звання та ПІБ в/с, який СЗЧ | C1: Навчальна рота (якщо є) | D1: В/ч | E1: Дата події | F1: Місце СЗЧ | G1: Дата повернення з СЗЧ | H1: Місце поверненя або частина до якої поверувся | I1: Дата наказу на призначення службового розслідування | J1: Номер наказу на призначення службового розслідування | K1: Термін проведення службового розслідування | L1: Виконавець, звання ПІБ | M1: Виконавець по факту, званая ПІБ | N1: Дата акту службового розслідування | O1: Номер акту службового розслідування | P1: Дата наказу про результат службового розслідування | Q1: Номер наказу про результат службового розслідування | R1: Дата повідомлення на ДБР про направлення матеріалів службового розслідування | S1: Номер повідомлення на ДБР про направлення матеріалів службового розслідування | T1: Дата повідомлення на в/ч про результати службового розслідування (якщо в/с з іншої в/ч) | U1: Номер повідомлення на в/ч про результати службового розслідування (якщо в/с з іншої в/ч)
A2: 1 | B2: солдат ЄРОХАНОВ Олександр Михайлович | C2: 3 | D2: А2900 | E2: 46023 | F2: ЛЗ | I2: 46023 | J2: №37 | K2: 46033 | L2: капітан Шеремета Олег Андрійович | M2: старший лейтенант Степанський Анатолій Анатолійович | N2: 46034 | O2: №1384 | P2: 46051 | Q2: №615 | R2: 46057 | S2: №812/5111
A3: 2 | B3: солдат ЛИСАК Віталій Васильович | C3: 3 | D3: А2900 | E3: 46025 | F3: ЛЗ | I3: 46025 | J3: №94 | K3: 46035 | L3: старший лейтенант Степанський Анатолій Анатолійович | M3: старший лейтенант Степанський Анатолій Анатолійович | N3: 46034 | O3: №1383 | P3: 46045 | Q3: №418 | R3: 46049 | S3: №812/3580
A4: 3 | B4: солдат ГАВРОШ Василь Васильович | C4: 3 | D4: А2900 | E4: 46025 | F4: табір | I4: 46026 | J4: №100 | K4: 46036 | L4: старший лейтенант Степанський Анатолій Анатолійович | M4: старший лейтенант Степанський Анатолій Анатолійович | N4: 46034 | O4: №1385 | P4: 46045 | Q4: №415 | R4: 46049 | S4: №812/3583
A5: 4 | B5: солдат ЛЕШАН Микола Борисович | C5: 3 | D5: А2900 | E5: 46026 | F5: з відпустки за станом здоров'я | I5: 46026 | J5: №105 | K5: 46036 | L5: старший лейтенант Степанський Анатолій Анатолійович | M5: старший лейтенант Степанський Анатолій Анатолійович | N5: 46034 | O5: №1381 | P5: 46051 | Q5: №597 | R5: 46055 | S5: №812/4657
A6: 5 | B6: солдат НЕБЕЛИЦЯ Роман Віталійович | C6: 1 | D6: А2900 | E6: 46027 | F6: табір | I6: 46027 | J6: №117 | K6: 46037 | L6: сержант Казаков Євген Іванович | M6: старший лейтенант Демянчук Наталія Василівна | N6: 46034 | O6: №1393 | P6: 46045 | Q6: №416 | R6: 46057 | S6: №812/5137
A7: 6 | B7: солдат КУКУРУЗА Сергій Петрович | C7: 1 | D7: А2900 | E7: 46027 | F7: ЛЗ | I7: 46027 | J7: №147 | K7: 46037 | L7: молодший сержант Минайлюк Ігор Миколайович | M7: старший лейтенант Демянчук Наталія Василівна | N7: 46034 | O7: №1365 | P7: 46045 | Q7: №420 | R7: 46057 | S7: №812/5139
A8: 7 | B8: солдат СОЛОДУНОВ Максим Михайлович | C8: 1 | D8: А2900 | E8: 46027 | F8: ЛЗ | I8: 46027 | J8: №148 | K8: 46037 | L8: сержант Казаков Євген Іванович | M8: старший лейтенант Демянчук Наталія Василівна | N8: 46034 | O8: №1364 | P8: 46053 | Q8: №745 | R8: 46057 | S8: №812/5134
A9: 8 | B9: старший сержант МАЛЕНКО Володимир Вікторович | C9: 3 | D9: А2900 | E9: 46027 | F9: ЛЗ | I9: 46027 | J9: №149 | K9: 46037 | L9: старший лейтенант Степанський Анатолій Анатолійович | M9: старший лейтенант Степанський Анатолій Анатолійович | N9: 46034 | O9: №1382 | P9: 46060 | Q9: №862 | R9: 46062 | S9: №812/5842
A10: 9 | B10: солдат ЧЕРНЕЦЬКИЙ Владислав Олегович | C10: 1 | D10: А2900 | E10: 46028 | F10: ЛЗ | I10: 46028 | J10: №184 | K10: 46038 | L10: старший сержант Василюк Андрій Васильович | M10: старший лейтенант Демянчук Наталія Василівна | N10: 46034 | O10: №1392 | P10: 46045 | Q10: №423 | R10: 46057 | S10: №812/5132
A11: 10 | B11: солдат МОРГУНОВ Ігор Петрович | C11: 2 | D11: А7788 | E11: 46029 | F11: табір | I11: 46029 | J11: №201 | K11: 46039 | L11: старший лейтенант Бартко Сергій Сергійович | M11: старший лейтенант Бартко Сергій Сергійович | N11: 46039 | O11: №2189 | P11: 46046 | Q11: №443 | R11: 46051 | S11: №812/4051 | T11: 46057 | U11: №812/5235
A12: 11 | B12: старший сержант ШИМАНСЬКИЙ Володимир Володимирович | C12: 1 | D12: А2900 | E12: 46029 | F12: ЛЗ | I12: 46029 | J12: №226 | K12: 46039 | L12: старший сержант Василюк Андрій Васильович | M12: старший лейтенант Демянчук Наталія Василівна | N12: 46035 | O12: №1544 | P12: 46053 | Q12: №728 | R12: 46057 | S12: №812/5131
A13: 12 | B13: солдат МОРЯ Сергій Анатолійович | C13: 1 | D13: А2900 | E13: 46030 | F13: табір | I13: 46030 | J13: №240 | K13: 46040 | L13: старший сержант Дідовець Дмитро Юрійович | M13: старший лейтенант Демянчук Наталія Василівна | N13: 46035 | O13: №1541 | P13: 46053 | Q13: №730 | R13: 46057 | S13: №812/5138
A14: 13 | B14: солдат ОМЕЛЬЧЕНКО Микола Миколайович | C14: 1 | D14: А2900 | E14: 46030 | F14: табір | I14: 46030 | J14: №239 | K14: 46040 | L14: старший сержант Дідовець Дмитро Юрійович | M14: старший лейтенант Демянчук Наталія Василівна | N14: 46035 | O14: №1549 | P14: 46053 | Q14: №707 | R14: 46057 | S14: №812/5136
A15: 14 | B15: солдат ВДОВИЧЕНКО Дмитро Васильович | C15: 1 | D15: А2900 | E15: 46030 | F15: ЛЗ | I15: 46030 | J15: №261 | K15: 46040 | L15: молодший лейтенант Бородавкін Микола Михайлович | M15: старший лейтенант Демянчук Наталія Василівна | N15: 46035 | O15: №1609 | P15: 46053 | Q15: №709 | R15: 46057 | S15: №812/5149
A16: 15 | B16: солдат ЧЕПУР Дмитро Андрійович | C16: 2 | D16: А0224 | E16: 46032 | F16: табір | I16: 46032 | J16: №325 | K16: 46042 | L16: старший лейтенант Бартко Сергій Сергійович | M16: старший лейтенант Бартко Сергій Сергійович | N16: 46041 | O16: №2297 | P16: 46045 | Q16: №414 | R16: 46051 | S16: №812/4052 | T16: 46059 | U16: №812/5548
A17: 16 | B17: солдат СУПРУНЧУК Юрій Юрійович | C17: 3 | D17: А2900 | E17: 46032 | F17: з відпустки за станом здоров'я | I17: 46032 | J17: №337 | K17: 46042 | L17: старший лейтенант Степанський Анатолій Анатолійович | M17: старший лейтенант Степанський Анатолій Анатолійович | N17: 46037 | O17: №1951 | P17: 46051 | Q17: №599 | R17: 46055 | S17: №812/4632
A18: 17 | B18: солдат БУЛИЧ Микола Сергійович | C18: 3 | D18: А2900 | E18: 46033 | F18: з відпустки за сімейними обставинами | I18: 46033 | J18: №348 | K18: 46043 | L18: старший лейтенант Степанський Анатолій Анатолійович | M18: старший лейтенант Степанський Анатолій Анатолійович | N18: 46037 | O18: №1950 | P18: 46049 | Q18: №515 | R18: 46051 | S18: №812/4130
A19: 18 | B19: солдат ПОХИЛЬЧЕНКО Іван Володимирович | C19: 3 | D19: А2900 | E19: 46033 | F19: табір | I19: 46033 | J19: №352 | K19: 46043 | L19: старший лейтенант Степанський Анатолій Анатолійович | M19: старший лейтенант Степанський Анатолій Анатолійович | N19: 46037 | O19: №1948 | P19: 46050 | Q19: №532 | R19: 46051 | S19: №812/4127
A20: 19 | B20: солдат КАРТАШОВ Вячеслав Васильович | C20: 1 | D20: А2900 | E20: 46034 | F20: табір | I20: 46034 | J20: №353 | K20: 46044 | L20: молодший сержант Черненко Андрій Юрійович | M20: старший лейтенант Демянчук Наталія Василівна | N20: 46037 | O20: №1947 | P20: 46049 | Q20: №508 | R20: 46057 | S20: №812/5141
A21: 20 | B21: солдат ДОМБРОВА Володимир Ярославович | C21: 1 | D21: А2900 | E21: 46034 | F21: табір | I21: 46034 | J21: №354 | K21: 46044 | L21: молодший сержант Черненко Андрій Юрійович | M21: старший лейтенант Демянчук Наталія Василівна | N21: 46039 | O21: №2192 | P21: 46053 | Q21: №705 | R21: 46057 | S21: №812/5146
A22: 21 | B22: солдат ВЕРЖАНСЬКИЙ Віталій Анатолійович | C22: 1 | D22: А2900 | E22: 46034 | F22: ЛЗ | I22: 46034 | J22: №388 | K22: 46044 | L22: молодший лейтенант Бородавкін Микола Михайлович | M22: старший лейтенант Демянчук Наталія Василівна | N22: 46037 | O22: №1944 | P22: 46053 | Q22: №726 | R22: 46057 | S22: №812/5148
A23: 22 | B23: солдат СТЕФАНІВ Олег Володимирович | C23: 1 | D23: А2900 | E23: 46034 | F23: ЛЗ | I23: 46034 | J23: №390 | K23: 46044 | L23: сержант Коваальчук Андрій Леонідович | M23: старший лейтенант Демянчук Наталія Василівна | N23: 46037 | O23: №1946 | P23: 46049 | Q23: №499 | R23: 46057 | S23: №812/5133
A24: 23 | B24: солдат ЯНУКЬЯН Олег Павлович | C24: 1 | D24: А2900 | E24: 46034 | F24: ЛЗ | I24: 46035 | J24: №395 | K24: 46045 | L24: старший сержант Василюк Андрій Васильович | M24: старший лейтенант Демянчук Наталія Василівна | N24: 46039 | O24: №2190 | P24: 46053 | Q24: №729 | R24: 46057 | S24: №812/5130
A25: 24 | B25: солдат САМБОРСЬКИЙ Василь Олександрович | C25: 1 | D25: А2900 | E25: 46035 | F25: табір | I25: 46035 | J25: №389 | K25: 46045 | L25: сержант Коваальчук Андрій Леонідович | M25: старший лейтенант Демянчук Наталія Василівна | N25: 46039 | O25: №2191 | P25: 46053 | Q25: №706 | R25: 46057 | S25: №812/5135
A26: 25 | B26: сержант ГАРКУША Юрій Володимирович | C26: 4 | D26: А2900 | E26: 46036 | F26: табір | I26: 46036 | J26: №432 | K26: 46046 | L26: молодший лейтенант Гайдук Андрій Анатолійович | M26: молодший лейтенант Гайдук Андрій Анатолійович | N26: 46042 | O26: №2453 | P26: 46053 | Q26: №723 | R26: 46064 | S26: №812/6196
A27: 26 | B27: солдат ГЄНО Владислав Олегович | C27: 2 | D27: А0224 | E27: 46036 | F27: ЛЗ | I27: 46036 | J27: №434 | K27: 46046 | L27: старший лейтенант Бартко Сергій Сергійович | M27: старший лейтенант Бартко Сергій Сергійович | N27: 46045 | O27: №2918 | P27: 46049 | Q27: №483 | R27: 46051 | S27: №812/4053 | T27: 46059 | U27: №812/5548
A28: 27 | B28: солдат КЛАБУКОВ Анатолій Анатолійович | C28: 3 | D28: А2900 | E28: 46036 | F28: ЛЗ | I28: 46036 | J28: №475 | K28: 46046 | L28: старший лейтенант Степанський Анатолій Анатолійович | M28: старший лейтенант Степанський Анатолій Анатолійович | N28: 46043 | O28: №2590 | P28: 46053 | Q28: №722 | R28: 46057 | S28: №812/5004
A29: 28 | B29: солдат ВОРОНА Валерій Павлович | C29: 1 | D29: А2900 | E29: 46036 | F29: табір | I29: 46037 | J29: №481 | K29: 46047 | L29: молодший лейтенант Бородавкін Микола Михайлович | M29: старший лейтенант Демянчук Наталія Василівна | N29: 46042 | O29: №2403 | P29: 46060 | Q29: №883 | R29: 46062 | S29: №812/5767
A30: 29 | B30: солдат ГЛУЩАК Ігор Васильович | C30: 1 | D30: А2900 | E30: 46036 | F30: табір | I30: 46037 | J30: №482 | K30: 46047 | L30: молодший лейтенант Бородавкін Микола Михайлович | M30: старший лейтенант Демянчук Наталія Василівна | N30: 46042 | O30: №2402 | P30: 46053 | Q30: №719 | R30: 46057 | S30: №812/5147
A31: 30 | B31: солдат БОТУХ Олександр Ігорович | C31: 3 | D31: А2900 | E31: 46037 | F31: з консультації лікаря | I31: 46037 | J31: №527 | K31: 46047 | L31: старший лейтенант Степанський Анатолій Анатолійович | M31: старший лейтенант Степанський Анатолій Анатолійович | N31: 46044 | O31: №2729 | P31: 46053 | Q31: №724 | R31: 46057 | S31: №812/5006
A32: 31 | B32: солдат ОСАДЧУК Леонід Анатолійович | C32: 3 | D32: А2900 | E32: 46037 | F32: табір | G32: 46079 | H32: табір | I32: 46038 | J32: №532 | K32: 46048 | L32: старший лейтенант Степанський Анатолій Анатолійович | M32: старший лейтенант Степанський Анатолій Анатолійович | N32: 46043 | O32: №2591 | P32: 46053 | Q32: №721 | R32: 46057 | S32: №812/5003
A33: 32 | B33: солдат МАРУСИЧ Денис Леонідович | C33: 1 | D33: А2900 | E33: 46038 | F33: табір | I33: 46038 | J33: №545 | K33: 46048 | L33: старший сержант Дідовець Дмитро Юрійович | M33: старший лейтенант Демянчук Наталія Василівна | N33: 46043 | O33: №2582 | P33: 46060 | Q33: №885 | R33: 46062 | S33: №812/5763
A34: 33 | B34: солдат ПРИТУЛА Олександр Віталійович | C34: 1 | D34: А2900 | E34: 46038 | F34: табір | I34: 46038 | J34: №546 | K34: 46048 | L34: старший сержант Дідовець Дмитро Юрійович | M34: старший лейтенант Демянчук Наталія Василівна | N34: 46043 | O34: №2585 | P34: 46060 | Q34: №880 | R34: 46062 | S34: №812/5759
A35: 34 | B35: солдат МЕЛЬНИК Сергій Вікторович | C35: 1 | D35: А2900 | E35: 46038 | F35: табір | I35: 46038 | J35: №547 | K35: 46048 | L35: старший сержант Дідовець Дмитро Юрійович | M35: старший лейтенант Демянчук Наталія Василівна | N35: 46043 | O35: №2583 | P35: 46060 | Q35: №879 | R35: 46062 | S35: №812/5762
A36: 35 | B36: солдат ТЕЛЕГІЙ Руслан Михайлович | C36: 2 | D36: А0284 | E36: 46038 | F36: табір | I36: 46038 | J36: №578 | K36: 46048 | L36: старший лейтенант Бартко Сергій Сергійович | M36: старший лейтенант Бартко Сергій Сергійович | N36: 46046 | O36: №3035 | P36: 46049 | Q36: №521 | R36: 46051 | S36: №812/4054 | T36: 46059 | U36: №812/5543
A37: 36 | B37: солдат СИВИЙ Олег Вікторович | C37: 4 | D37: А4350 | E37: 46039 | F37: табір | I37: 46039 | J37: №592 | K37: 46049 | L37: молодший лейтенант Гайдук Андрій Анатолійович | M37: молодший лейтенант Гайдук Андрій Анатолійович | N37: 46043 | O37: №2633 | P37: 46058 | Q37: №823 | R37: 46070 | S37: №812/7074 | T37: 46072 | U37: №812/7319
A38: 37 | B38: солдат ВИННИК Олег Олександрович | C38: 2 | D38: А0284 | E38: 46039 | F38: табір | I38: 46040 | J38: №601 | K38: 46050 | L38: старший лейтенант Бартко Сергій Сергійович | M38: старший лейтенант Бартко Сергій Сергійович | N38: 46048 | O38: №3235 | P38: 46052 | Q38: №666 | R38: 46055 | S38: №812/4497 | T38: 46059 | U38: №812/5543
A39: 38 | B39: солдат ЯХІН Олександр Геннадійович | C39: 2 | D39: А4350 | E39: 46040 | F39: табір | I39: 46041 | J39: №623 | K39: 46051 | L39: старший лейтенант Бартко Сергій Сергійович | M39: старший лейтенант Бартко Сергій Сергійович | N39: 46046 | O39: №3036 | P39: 46049 | Q39: №519 | R39: 46051 | S39: №812/4055 | T39: 46057 | U39: №812/5197
A40: 39 | B40: солдат ЧМІЛЕНКО Юрій Романович | C40: 2 | D40: А4350 | E40: 46040 | F40: табір | I40: 46041 | J40: №624 | K40: 46051 | L40: старший лейтенант Бартко Сергій Сергійович | M40: старший лейтенант Бартко Сергій Сергійович | N40: 46046 | O40: №3034 | P40: 46049 | Q40: №520 | R40: 46051 | S40: №812/4056 | T40: 46057 | U40: №812/5197
...

Sheet Статистика
A1: місяць 2026 | B1: СЗЧ | C1: З них ЛЗ | D1: повернулося
A2: Січень | B2: =COUNTIFS('Облік СЗЧ'!E:E,">="&DATE(2026,1,1),'Облік СЗЧ'!E:E,"<"&DATE(2026,2,1)) -> 75 | C2: =COUNTIFS('Облік СЗЧ'!E:E,">="&DATE(2026,1,1),'Облік СЗЧ'!E:E,"<"&DATE(2026,2,1),'Облік СЗЧ'!F:F,"ЛЗ") -> 34 | D2: =COUNTIFS('Облік СЗЧ'!E:E,">="&DATE(2026,1,1),'Облік СЗЧ'!E:E,"<"&DATE(2026,2,1),'Облік СЗЧ'!G:G,"<>") -> 1
A3: Лютий | B3: =COUNTIFS('Облік СЗЧ'!E:E,">="&DATE(2026,2,1),'Облік СЗЧ'!E:E,"<"&DATE(2026,3,1)) -> 33 | C3: =COUNTIFS('Облік СЗЧ'!E:E,">="&DATE(2026,2,1),'Облік СЗЧ'!E:E,"<"&DATE(2026,3,1),'Облік СЗЧ'!F:F,"ЛЗ") -> 22 | D3: =COUNTIFS('Облік СЗЧ'!E:E,">="&DATE(2026,2,1),'Облік СЗЧ'!E:E,"<"&DATE(2026,3,1),'Облік СЗЧ'!G:G,"<>") -> 2
A4: Березень | B4: =COUNTIFS('Облік СЗЧ'!E:E,">="&DATE(2026,3,1),'Облік СЗЧ'!E:E,"<"&DATE(2026,4,1)) -> 52 | C4: =COUNTIFS('Облік СЗЧ'!E:E,">="&DATE(2026,3,1),'Облік СЗЧ'!E:E,"<"&DATE(2026,4,1),'Облік СЗЧ'!F:F,"ЛЗ") -> 35 | D4: =COUNTIFS('Облік СЗЧ'!E:E,">="&DATE(2026,3,1),'Облік СЗЧ'!E:E,"<"&DATE(2026,4,1),'Облік СЗЧ'!G:G,"<>") -> 0
A5: Квітень | B5: =COUNTIFS('Облік СЗЧ'!E:E,">="&DATE(2026,4,1),'Облік СЗЧ'!E:E,"<"&DATE(2026,5,1)) -> 35 | C5: =COUNTIFS('Облік СЗЧ'!E:E,">="&DATE(2026,4,1),'Облік СЗЧ'!E:E,"<"&DATE(2026,5,1),'Облік СЗЧ'!F:F,"ЛЗ") -> 13 | D5: =COUNTIFS('Облік СЗЧ'!E:E,">="&DATE(2026,4,1),'Облік СЗЧ'!E:E,"<"&DATE(2026,5,1),'Облік СЗЧ'!G:G,"<>") -> 2
A6: травень | B6: =COUNTIFS('Облік СЗЧ'!E:E,">="&DATE(2026,5,1),'Облік СЗЧ'!E:E,"<"&DATE(2026,6,1)) -> 26 | C6: =COUNTIFS('Облік СЗЧ'!E:E,">="&DATE(2026,5,1),'Облік СЗЧ'!E:E,"<"&DATE(2026,6,1),'Облік СЗЧ'!F:F,"ЛЗ") -> 8 | D6: =COUNTIFS('Облік СЗЧ'!E:E,">="&DATE(2026,5,1),'Облік СЗЧ'!E:E,"<"&DATE(2026,6,1),'Облік СЗЧ'!G:G,"<>") -> 0
A7: червень | B7: =COUNTIFS('Облік СЗЧ'!E:E,">="&DATE(2026,6,1),'Облік СЗЧ'!E:E,"<"&DATE(2026,7,1)) -> 0 | C7: =COUNTIFS('Облік СЗЧ'!E:E,">="&DATE(2026,6,1),'Облік СЗЧ'!E:E,"<"&DATE(2026,7,1),'Облік СЗЧ'!F:F,"ЛЗ") -> 0 | D7: =COUNTIFS('Облік СЗЧ'!E:E,">="&DATE(2026,6,1),'Облік СЗЧ'!E:E,"<"&DATE(2026,7,1),'Облік СЗЧ'!G:G,"<>") -> 0
A8: липень | B8: =COUNTIFS('Облік СЗЧ'!E:E,">="&DATE(2026,7,1),'Облік СЗЧ'!E:E,"<"&DATE(2026,8,1)) -> 0 | C8: =COUNTIFS('Облік СЗЧ'!E:E,">="&DATE(2026,7,1),'Облік СЗЧ'!E:E,"<"&DATE(2026,8,1),'Облік СЗЧ'!F:F,"ЛЗ") -> 0 | D8: =COUNTIFS('Облік СЗЧ'!E:E,">="&DATE(2026,7,1),'Облік СЗЧ'!E:E,"<"&DATE(2026,8,1),'Облік СЗЧ'!G:G,"<>") -> 0
A9: серпень | B9: =COUNTIFS('Облік СЗЧ'!E:E,">="&DATE(2026,8,1),'Облік СЗЧ'!E:E,"<"&DATE(2026,9,1)) -> 0 | C9: =COUNTIFS('Облік СЗЧ'!E:E,">="&DATE(2026,8,1),'Облік СЗЧ'!E:E,"<"&DATE(2026,9,1),'Облік СЗЧ'!F:F,"ЛЗ") -> 0 | D9: =COUNTIFS('Облік СЗЧ'!E:E,">="&DATE(2026,8,1),'Облік СЗЧ'!E:E,"<"&DATE(2026,9,1),'Облік СЗЧ'!G:G,"<>") -> 0
A10: вересень | B10: =COUNTIFS('Облік СЗЧ'!E:E,">="&DATE(2026,9,1),'Облік СЗЧ'!E:E,"<"&DATE(2026,10,1)) -> 0 | C10: =COUNTIFS('Облік СЗЧ'!E:E,">="&DATE(2026,9,1),'Облік СЗЧ'!E:E,"<"&DATE(2026,10,1),'Облік СЗЧ'!F:F,"ЛЗ") -> 0 | D10: =COUNTIFS('Облік СЗЧ'!E:E,">="&DATE(2026,9,1),'Облік СЗЧ'!E:E,"<"&DATE(2026,10,1),'Облік СЗЧ'!G:G,"<>") -> 0
A11: жовтень | B11: =COUNTIFS('Облік СЗЧ'!E:E,">="&DATE(2026,10,1),'Облік СЗЧ'!E:E,"<"&DATE(2026,11,1)) -> 0 | C11: =COUNTIFS('Облік СЗЧ'!E:E,">="&DATE(2026,10,1),'Облік СЗЧ'!E:E,"<"&DATE(2026,11,1),'Облік СЗЧ'!F:F,"ЛЗ") -> 0 | D11: =COUNTIFS('Облік СЗЧ'!E:E,">="&DATE(2026,10,1),'Облік СЗЧ'!E:E,"<"&DATE(2026,11,1),'Облік СЗЧ'!G:G,"<>") -> 0
A12: листопад | B12: =COUNTIFS('Облік СЗЧ'!E:E,">="&DATE(2026,11,1),'Облік СЗЧ'!E:E,"<"&DATE(2026,12,1)) -> 0 | C12: =COUNTIFS('Облік СЗЧ'!E:E,">="&DATE(2026,11,1),'Облік СЗЧ'!E:E,"<"&DATE(2026,12,1),'Облік СЗЧ'!F:F,"ЛЗ") -> 0 | D12: =COUNTIFS('Облік СЗЧ'!E:E,">="&DATE(2026,11,1),'Облік СЗЧ'!E:E,"<"&DATE(2026,12,1),'Облік СЗЧ'!G:G,"<>") -> 0
A13: грудень | B13: =COUNTIFS('Облік СЗЧ'!E:E,">="&DATE(2026,12,1),'Облік СЗЧ'!E:E,"<"&DATE(2027,1,1)) -> 0 | C13: =COUNTIFS('Облік СЗЧ'!E:E,">="&DATE(2026,12,1),'Облік СЗЧ'!E:E,"<"&DATE(2027,1,1),'Облік СЗЧ'!F:F,"ЛЗ") -> 0 | D13: =COUNTIFS('Облік СЗЧ'!E:E,">="&DATE(2026,12,1),'Облік СЗЧ'!E:E,"<"&DATE(2027,1,1),'Облік СЗЧ'!G:G,"<>") -> 0
A14: Всього | B14: =SUM(B2:B13) -> 221 | C14: =SUM(C2:C13) -> 112 | D14: =SUM(D2:D13) -> 5

Sheet Інструкція
