Workbook

Sheet Облік СЗЧ
A1: =SUBTOTAL(103,B:B)-1 -> 223 | B1: Звання та ПІБ в/с, який СЗЧ | C1: Навчальна рота (якщо є) | D1: В/ч | E1: Дата події | F1: Місце СЗЧ | G1: Дата повернення з СЗЧ | H1: Місце поверненя або частина до якої поверувся | I1: Дата наказу на призначення службового розслідування | J1: Номер наказу на призначення службового розслідування | K1: Термін проведення службового розслідування | L1: Виконавець, звання ПІБ | M1: Виконавець по факту, званая ПІБ | N1: Дата акту службового розслідування | O1: Номер акту службового розслідування | P1: Дата наказу про результат службового розслідування | Q1: Номер наказу про результат службового розслідування | R1: Дата повідомлення на ДБР про направлення матеріалів службового розслідування | S1: Номер повідомлення на ДБР про направлення матеріалів службового розслідування | T1: Дата повідомлення на в/ч про результати службового розслідування (якщо в/с з іншої в/ч) | U1: Номер повідомлення на в/ч про результати службового розслідування (якщо в/с з іншої в/ч)
A2: 1 | B2: солдат ЄРОХАНОВ Олександр Михайлович | C2: 3 | D2: А2900 | E2: 46023 | F2: ЛЗ | I2: 46023 | J2: №37 | K2: 46033 | L2: капітан Шеремета Олег Андрійович | M2: старший лейтенант Степанський Анатолій Анатолійович | N2: 46034 | O2: №1384 | P2: 46051 | Q2: №615 | R2: 46057 | S2: №812/5111
A3: 2 | B3: солдат ЛИСАК Віталій Васильович | C3: 3 | D3: А2900 | E3: 46025 | F3: ЛЗ | I3: 46025 | J3: №94 | K3: 46035 | L3: старший лейтенант Степанський Анатолій Анатолійович | M3: старший лейтенант Степанський Анатолій Анатолійович | N3: 46034 | O3: №1383 | P3: 46045 | Q3: №418 | R3: 46049 | S3: №812/3580
A4: 3 | B4: солдат ГАВРОШ Василь Васильович | C4: 3 | D4: А2900 | E4: 46025 | F4: табір | I4: 46026 | J4: №100 | K4: 46036 | L4: старший лейтенант Степанський Анатолій Анатолійович | M4: старший лейтенант Степанський Анатолій Анатолійович | N4: 46034 | O4: №1385 | P4: 46045 | Q4: №415 | R4: 46049 | S4: №812/3583
A5: 4 | B5: солдат ЛЕШАН Микола Борисович | C5: 3 | D5: А2900 | E5: 46026 | F5: з відпустки за станом здоров'я | I5: 46026 | J5: №105 | K5: 46036 | L5: старший лейтенант Степанський Анатолій Анатолійович | M5: старший лейтенант Степанський Анатолій Анатолійович | N5: 46034 | O5: №1381 | P5: 46051 | Q5: №597 | R5: 46055 | S5: №812/4657
A6: 5 | B6: солдат НЕБЕЛИЦЯ Роман Віталійович | C6: 1 | D6: А2900 | E6: 46027 | F6: табір | I6: 46027 | J6: №117 | K6: 46037 | L6: сержант Казаков Євген Іванович | M6: старший лейтенант Демянчук Наталія Василівна | N6: 46034 | O6: №1393 | P6: 46045 | Q6: №416 | R6: 46057 | S6: №812/5137
A7: 6 | B7: солдат КУКУРУЗА Сергій Петрович | C7: 1 | D7: А2900 | E7: 46027 | F7: ЛЗ | I7: 46027 | J7: №147 | K7: 46037 | L7: молодший сержант Минайлюк Ігор Миколайович | M7: старший лейтенант Демянчук Наталія Василівна | N7: 46034 | O7: №1365 | P7: 46045 | Q7: №420 | R7: 46057 | S7: №812/5139
A8: 7 | B8: солдат СОЛОДУНОВ Максим Михайлович | C8: 1 | D8: А2900 | E8: 46027 | F8: ЛЗ | I8: 46027 | J8: №148 | K8: 46037 | L8: сержант Казаков Євген Іванович | M8: старший лейтенант Демянчук Наталія Василівна | N8: 46034 | O8: №1364 | P8: 46053 | Q8: №745 | R8: 46057 | S8: №812/5134
A9: 8 | B9: старший сержант МАЛЕНКО Володимир Вікторович | C9: 3 | D9: А2900 | E9: 46027 | F9: ЛЗ | I9: 46027 | J9: №149 | K9: 46037 | L9: старший лейтенант Степанський Анатолій Анатолійович | M9: старший лейтенант Степанський Анатолій Анатолійович | N9: 46034 | O9: №1382 | P9: 46060 | Q9: №862 | R9: 46062 | S9: №812/5842
A10: 9 | B10: солдат ЧЕРНЕЦЬКИЙ Владислав Олегович | C10: 1 | D10: А2900 | E10: 46028 | F10: ЛЗ | I10: 46028 | J10: №184 | K10: 46038 | L10: старший сержант Василюк Андрій Васильович | M10: старший лейтенант Демянчук Наталія Василівна | N10: 46034 | O10: №1392 | P10: 46045 | Q10: №423 | R10: 46057 | S10: №812/5132
A11: 10 | B11: солдат МОРГУНОВ Ігор Петрович | C11: 2 | D11: А7788 | E11: 46029 | F11: табір | I11: 46029 | J11: №201 | K11: 46039 | L11: старший лейтенант Бартко Сергій Сергійович | M11: старший лейтенант Бартко Сергій Сергійович | N11: 46039 | O11: №2189 | P11: 46046 | Q11: №443 | R11: 46051 | S11: №812/4051 | T11: 46057 | U11: №812/5235
A12: 11 | B12: старший сержант ШИМАНСЬКИЙ Володимир Володимирович | C12: 1 | D12: А2900 | E12: 46029 | F12: ЛЗ | I12: 46029 | J12: №226 | K12: 46039 | L12: старший сержант Василюк Андрій Васильович | M12: старший лейтенант Демянчук Наталія Василівна | N12: 46035 | O12: №1544 | P12: 46053 | Q12: №728 | R12: 46057 | S12: №812/5131
A13: 12 | B13: солдат МОРЯ Сергій Анатолійович | C13: 1 | D13: А2900 | E13: 46030 | F13: табір | I13: 46030 | J13: №240 | K13: 46040 | L13: старший сержант Дідовець Дмитро Юрійович | M13: старший лейтенант Демянчук Наталія Василівна | N13: 46035 | O13: №1541 | P13: 46053 | Q13: №730 | R13: 46057 | S13: №812/5138
A14: 13 | B14: солдат ОМЕЛЬЧЕНКО Микола Миколайович | C14: 1 | D14: А2900 | E14: 46030 | F14: табір | I14: 46030 | J14: №239 | K14: 46040 | L14: старший сержант Дідовець Дмитро Юрійович | M14: старший лейтенант Демянчук Наталія Василівна | N14: 46035 | O14: №1549 | P14: 46053 | Q14: №707 | R14: 46057 | S14: №812/5136
A15: 14 | B15: солдат ВДОВИЧЕНКО Дмитро Васильович | C15: 1 | D15: А2900 | E15: 46030 | F15: ЛЗ | I15: 46030 | J15: №261 | K15: 46040 | L15: молодший лейтенант Бородавкін Микола Михайлович | M15: старший лейтенант Демянчук Наталія Василівна | N15: 46035 | O15: №1609 | P15: 46053 | Q15: №709 | R15: 46057 | S15: №812/5149
A16: 15 | B16: солдат ЧЕПУР Дмитро Андрійович | C16: 2 | D16: А0224 | E16: 46032 | F16: табір | I16: 46032 | J16: №325 | K16: 46042 | L16: старший лейтенант Бартко Сергій Сергійович | M16: старший лейтенант Бартко Сергій Сергійович | N16: 46041 | O16: №2297 | P16: 46045 | Q16: №414 | R16: 46051 | S16: №812/4052 | T16: 46059 | U16: №812/5548
A17: 16 | B17: солдат СУПРУНЧУК Юрій Юрійович | C17: 3 | D17: А2900 | E17: 46032 | F17: з відпустки за станом здоров'я | I17: 46032 | J17: №337 | K17: 46042 | L17: старший лейтенант Степанський Анатолій Анатолійович | M17: старший лейтенант Степанський Анатолій Анатолійович | N17: 46037 | O17: №1951 | P17: 46051 | Q17: №599 | R17: 46055 | S17: №812/4632
A18: 17 | B18: солдат БУЛИЧ Микола Сергійович | C18: 3 | D18: А2900 | E18: 46033 | F18: з відпустки за сімейними обставинами | I18: 46033 | J18: №348 | K18: 46043 | L18: старший лейтенант Степанський Анатолій Анатолійович | M18: старший лейтенант Степанський Анатолій Анатолійович | N18: 46037 | O18: №1950 | P18: 46049 | Q18: №515 | R18: 46051 | S18: №812/4130
A19: 18 | B19: солдат ПОХИЛЬЧЕНКО Іван Володимирович | C19: 3 | D19: А2900 | E19: 46033 | F19: табір | I19: 46033 | J19: №352 | K19: 46043 | L19: старший лейтенант Степанський Анатолій Анатолійович | M19: старший лейтенант Степанський Анатолій Анатолійович | N19: 46037 | O19: №1948 | P19: 46050 | Q19: №532 | R19: 46051 | S19: №812/4127
A20: 19 | B20: солдат КАРТАШОВ Вячеслав Васильович | C20: 1 | D20: А2900 | E20: 46034 | F20: табір | I20: 46034 | J20: №353 | K20: 46044 | L20: молодший сержант Черненко Андрій Юрійович | M20: старший лейтенант Демянчук Наталія Василівна | N20: 46037 | O20: №1947 | P20: 46049 | Q20: №508 | R20: 46057 | S20: №812/5141
A21: 20 | B21: солдат ДОМБРОВА Володимир Ярославович | C21: 1 | D21: А2900 | E21: 46034 | F21: табір | I21: 46034 | J21: №354 | K21: 46044 | L21: молодший сержант Черненко Андрій Юрійович | M21: старший лейтенант Демянчук Наталія Василівна | N21: 46039 | O21: №2192 | P21: 46053 | Q21: №705 | R21: 46057 | S21: №812/5146
A22: 21 | B22: солдат ВЕРЖАНСЬКИЙ Віталій Анатолійович | C22: 1 | D22: А2900 | E22: 46034 | F22: ЛЗ | I22: 46034 | J22: №388 | K22: 46044 | L22: молодший лейтенант Бородавкін Микола Михайлович | M22: старший лейтенант Демянчук Наталія Василівна | N22: 46037 | O22: №1944 | P22: 46053 | Q22: №726 | R22: 46057 | S22: №812/5148
A23: 22 | B23: солдат СТЕФАНІВ Олег Володимирович | C23: 1 | D23: А2900 | E23: 46034 | F23: ЛЗ | I23: 46034 | J23: №390 | K23: 46044 | L23: сержант Коваальчук Андрій Леонідович | M23: старший лейтенант Демянчук Наталія Василівна | N23: 46037 | O23: №1946 | P23: 46049 | Q23: №499 | R23: 46057 | S23: №812/5133
A24: 23 | B24: солдат ЯНУКЬЯН Олег Павлович | C24: 1 | D24: А2900 | E24: 46034 | F24: ЛЗ | I24: 46035 | J24: №395 | K24: 46045 | L24: старший сержант Василюк Андрій Васильович | M24: старший лейтенант Демянчук Наталія Василівна | N24: 46039 | O24: №2190 | P24: 46053 | Q24: №729 | R24: 46057 | S24: №812/5130
A25: 24 | B25: солдат САМБОРСЬКИЙ Василь Олександрович | C25: 1 | D25: А2900 | E25: 46035 | F25: табір | I25: 46035 | J25: №389 | K25: 46045 | L25: сержант Коваальчук Андрій Леонідович | M25: старший лейтенант Демянчук Наталія Василівна | N25: 46039 | O25: №2191 | P25: 46053 | Q25: №706 | R25: 46057 | S25: №812/5135
A26: 25 | B26: сержант ГАРКУША Юрій Володимирович | C26: 4 | D26: А2900 | E26: 46036 | F26: табір | I26: 46036 | J26: №432 | K26: 46046 | L26: молодший лейтенант Гайдук Андрій Анатолійович | M26: молодший лейтенант Гайдук Андрій Анатолійович | N26: 46042 | O26: №2453 | P26: 46053 | Q26: №723 | R26: 46064 | S26: №812/6196
A27: 26 | B27: солдат ГЄНО Владислав Олегович | C27: 2 | D27: А0224 | E27: 46036 | F27: ЛЗ | I27: 46036 | J27: №434 | K27: 46046 | L27: старший лейтенант Бартко Сергій Сергійович | M27: старший лейтенант Бартко Сергій Сергійович | N27: 46045 | O27: №2918 | P27: 46049 | Q27: №483 | R27: 46051 | S27: №812/4053 | T27: 46059 | U27: №812/5548
A28: 27 | B28: солдат КЛАБУКОВ Анатолій Анатолійович | C28: 3 | D28: А2900 | E28: 46036 | F28: ЛЗ | I28: 46036 | J28: №475 | K28: 46046 | L28: старший лейтенант Степанський Анатолій Анатолійович | M28: старший лейтенант Степанський Анатолій Анатолійович | N28: 46043 | O28: №2590 | P28: 46053 | Q28: №722 | R28: 46057 | S28: №812/5004
A29: 28 | B29: солдат ВОРОНА Валерій Павлович | C29: 1 | D29: А2900 | E29: 46036 | F29: табір | I29: 46037 | J29: №481 | K29: 46047 | L29: молодший лейтенант Бородавкін Микола Михайлович | M29: старший лейтенант Демянчук Наталія Василівна | N29: 46042 | O29: №2403 | P29: 46060 | Q29: №883 | R29: 46062 | S29: №812/5767
A30: 29 | B30: солдат ГЛУЩАК Ігор Васильович | C30: 1 | D30: А2900 | E30: 46036 | F30: табір | I30: 46037 | J30: №482 | K30: 46047 | L30: молодший лейтенант Бородавкін Микола Михайлович | M30: старший лейтенант Демянчук Наталія Василівна | N30: 46042 | O30: №2402 | P30: 46053 | Q30: №719 | R30: 46057 | S30: №812/5147
A31: 30 | B31: солдат БОТУХ Олександр Ігорович | C31: 3 | D31: А2900 | E31: 46037 | F31: з консультації лікаря | I31: 46037 | J31: №527 | K31: 46047 | L31: старший лейтенант Степанський Анатолій Анатолійович | M31: старший лейтенант Степанський Анатолій Анатолійович | N31: 46044 | O31: №2729 | P31: 46053 | Q31: №724 | R31: 46057 | S31: №812/5006
A32: 31 | B32: солдат ОСАДЧУК Леонід Анатолійович | C32: 3 | D32: А2900 | E32: 46037 | F32: табір | G32: 46079 | H32: табір | I32: 46038 | J32: №532 | K32: 46048 | L32: старший лейтенант Степанський Анатолій Анатолійович | M32: старший лейтенант Степанський Анатолій Анатолійович | N32: 46043 | O32: №2591 | P32: 46053 | Q32: №721 | R32: 46057 | S32: №812/5003
A33: 32 | B33: солдат МАРУСИЧ Денис Леонідович | C33: 1 | D33: А2900 | E33: 46038 | F33: табір | I33: 46038 | J33: №545 | K33: 46048 | L33: старший сержант Дідовець Дмитро Юрійович | M33: старший лейтенант Демянчук Наталія Василівна | N33: 46043 | O33: №2582 | P33: 46060 | Q33: №885 | R33: 46062 | S33: №812/5763
A34: 33 | B34: солдат ПРИТУЛА Олександр Віталійович | C34: 1 | D34: А2900 | E34: 46038 | F34: табір | I34: 46038 | J34: №546 | K34: 46048 | L34: старший сержант Дідовець Дмитро Юрійович | M34: старший лейтенант Демянчук Наталія Василівна | N34: 46043 | O34: №2585 | P34: 46060 | Q34: №880 | R34: 46062 | S34: №812/5759
A35: 34 | B35: солдат МЕЛЬНИК Сергій Вікторович | C35: 1 | D35: А2900 | E35: 46038 | F35: табір | I35: 46038 | J35: №547 | K35: 46048 | L35: старший сержант Дідовець Дмитро Юрійович | M35: старший лейтенант Демянчук Наталія Василівна | N35: 46043 | O35: №2583 | P35: 46060 | Q35: №879 | R35: 46062 | S35: №812/5762
A36: 35 | B36: солдат ТЕЛЕГІЙ Руслан Михайлович | C36: 2 | D36: А0284 | E36: 46038 | F36: табір | I36: 46038 | J36: №578 | K36: 46048 | L36: старший лейтенант Бартко Сергій Сергійович | M36: старший лейтенант Бартко Сергій Сергійович | N36: 46046 | O36: №3035 | P36: 46049 | Q36: №521 | R36: 46051 | S36: №812/4054 | T36: 46059 | U36: №812/5543
A37: 36 | B37: солдат СИВИЙ Олег Вікторович | C37: 4 | D37: А4350 | E37: 46039 | F37: табір | I37: 46039 | J37: №592 | K37: 46049 | L37: молодший лейтенант Гайдук Андрій Анатолійович | M37: молодший лейтенант Гайдук Андрій Анатолійович | N37: 46043 | O37: №2633 | P37: 46058 | Q37: №823 | R37: 46070 | S37: №812/7074 | T37: 46072 | U37: №812/7319
A38: 37 | B38: солдат ВИННИК Олег Олександрович | C38: 2 | D38: А0284 | E38: 46039 | F38: табір | I38: 46040 | J38: №601 | K38: 46050 | L38: старший лейтенант Бартко Сергій Сергійович | M38: старший лейтенант Бартко Сергій Сергійович | N38: 46048 | O38: №3235 | P38: 46052 | Q38: №666 | R38: 46055 | S38: №812/4497 | T38: 46059 | U38: №812/5543
A39: 38 | B39: солдат ЯХІН Олександр Геннадійович | C39: 2 | D39: А4350 | E39: 46040 | F39: табір | I39: 46041 | J39: №623 | K39: 46051 | L39: старший лейтенант Бартко Сергій Сергійович | M39: старший лейтенант Бартко Сергій Сергійович | N39: 46046 | O39: №3036 | P39: 46049 | Q39: №519 | R39: 46051 | S39: №812/4055 | T39: 46057 | U39: №812/5197
A40: 39 | B40: солдат ЧМІЛЕНКО Юрій Романович | C40: 2 | D40: А4350 | E40: 46040 | F40: табір | I40: 46041 | J40: №624 | K40: 46051 | L40: старший лейтенант Бартко Сергій Сергійович | M40: старший лейтенант Бартко Сергій Сергійович | N40: 46046 | O40: №3034 | P40: 46049 | Q40: №520 | R40: 46051 | S40: №812/4056 | T40: 46057 | U40: №812/5197
A41: 40 | B41: солдат ШПИЦЯ Віталій Олександрович | C41: 1 | D41: А2900 | E41: 46041 | F41: ЛЗ | I41: 46041 | J41: №674 | K41: 46051 | L41: старший сержант Василюк Андрій Васильович | M41: старший лейтенант Демянчук Наталія Василівна | N41: 46045 | O41: №2901 | P41: 46060 | Q41: №876 | R41: 46062 | S41: №812/5756
A42: 41 | B42: солдат КУЧУК Вадим Володимирович | C42: 1 | D42: А2900 | E42: 46041 | F42: ЛЗ | I42: 46041 | J42: №675 | K42: 46051 | L42: молодший сержант Минайлюк Ігор Миколайович | M42: старший лейтенант Демянчук Наталія Василівна | N42: 46045 | O42: №2903 | P42: 46060 | Q42: №888 | R42: 46062 | S42: №812/5765
A43: 42 | B43: солдат ОСЕЦЬКИЙ Олександр Мичеславович | C43: 1 | D43: А2900 | E43: 46041 | F43: ЛЗ | I43: 46041 | J43: №676 | K43: 46051 | L43: старший сержант Дідовець Дмитро Юрійович | M43: старший лейтенант Демянчук Наталія Василівна | N43: 46045 | O43: №2906 | P43: 46060 | Q43: №874 | R43: 46062 | S43: №812/5760
A44: 43 | B44: солдат КОШКА Олександр Михайлович | C44: 3 | D44: А2900 | E44: 46041 | F44: табір | I44: 46042 | J44: №680 | K44: 46051 | L44: старший лейтенант Степанський Анатолій Анатолійович | M44: старший лейтенант Степанський Анатолій Анатолійович | N44: 46045 | O44: №2923 | P44: 46060 | Q44: №887 | R44: 46062 | S44: №812/5844
A45: 44 | B45: солдат ЛІРНИК Юрій Миколайович | C45: 3 | D45: А2900 | E45: 46042 | F45: табір | I45: 46043 | J45: №706 | K45: 46053 | L45: старший лейтенант Степанський Анатолій Анатолійович | M45: старший лейтенант Степанський Анатолій Анатолійович | N45: 46049 | O45: №3391 | P45: 46060 | Q45: №884 | R45: 46062 | S45: №812/5843
A46: 45 | B46: солдат БРИЖ Михайло Кузьмович | C46: 3 | D46: А2900 | E46: 46042 | F46: табір | I46: 46043 | J46: №705 | K46: 46053 | L46: старший лейтенант Степанський Анатолій Анатолійович | M46: старший лейтенант Степанський Анатолій Анатолійович | N46: 46049 | O46: №3390 | P46: 46060 | Q46: №882 | R46: 46062 | S46: №812/5846
A47: 46 | B47: солдат БЛИНДЮК Микола Петрович | C47: 3 | D47: А2900 | E47: 46043 | F47: табір | I47: 46043 | J47: №716 | K47: 46053 | L47: старший лейтенант Степанський Анатолій Анатолійович | M47: старший лейтенант Степанський Анатолій Анатолійович | N47: 46049 | O47: №3389 | P47: 46060 | Q47: №881 | R47: 46062 | S47: №812/5847
A48: 47 | B48: солдат АЛЕКСЕЄНКО Сергій В’ячеславович | C48: 3 | D48: А2900 | E48: 46043 | F48: з відпустки за станом здоров'я | I48: 46043 | J48: №731 | K48: 46053 | L48: старший лейтенант Степанський Анатолій Анатолійович | M48: старший лейтенант Степанський Анатолій Анатолійович | N48: 46049 | O48: №3388 | P48: 46060 | Q48: №819 | R48: 46062 | S48: №812/5848
A49: 48 | B49: солдат МИНЕНКО Іван Миколайович | C49: 1 | D49: А2900 | E49: 46043 | F49: ЛЗ | I49: 46043 | J49: №733 | K49: 46053 | L49: старший лейтенант Демянчук Наталія Василівна | M49: старший лейтенант Демянчук Наталія Василівна | N49: 46048 | O49: №3244 | P49: 46060 | Q49: №873 | R49: 46062 | S49: №812/5761
A50: 49 | B50: сержант СЛОБОДЯН Андрій Васильович | C50: 2 | D50: А4350 | E50: 46043 | F50: з консультації лікаря | I50: 46043 | J50: №736 | K50: 46053 | L50: старший лейтенант Бартко Сергій Сергійович | M50: старший лейтенант Бартко Сергій Сергійович | N50: 46051 | O50: №3670 | P50: 46055 | Q50: №759 | R50: 46056 | S50: №812/4791 | T50: 46057 | U50: №812/5197
A51: 50 | B51: солдат КОНОЗ Владислав Олександрович | C51: 2 | D51: А2900 | E51: 46043 | F51: ЛЗ | I51: 46043 | J51: №741 | K51: 46053 | L51: старший лейтенант Бартко Сергій Сергійович | M51: старший лейтенант Бартко Сергій Сергійович | N51: 46051 | O51: №3668 | P51: 46056 | Q51: №788 | R51: 46057 | S51: №812/5058
A52: 51 | B52: солдат ЧЕХ Павло Петрович | C52: 1 | D52: А2900 | E52: 46045 | F52: табір | I52: 46045 | J52: №804 | K52: 46055 | L52: старший лейтенант Демянчук Наталія Василівна | M52: старший лейтенант Демянчук Наталія Василівна | N52: 46049 | O52: №3385 | P52: 46060 | Q52: №875 | R52: 46062 | S52: №812/5758
A53: 52 | B53: солдат ЧУДАК Руслан Володимирович | C53: 1 | D53: А2900 | E53: 46045 | F53: табір | I53: 46045 | J53: №805 | K53: 46055 | L53: старший лейтенант Демянчук Наталія Василівна | M53: старший лейтенант Демянчук Наталія Василівна | N53: 46049 | O53: №3384 | P53: 46060 | Q53: №877 | R53: 46062 | S53: №812/5757
A54: 53 | B54: солдат ПАУК Віктор Миколайович | C54: 2 | D54: А2582 | E54: 46045 | F54: ЛЗ | I54: 46045 | J54: №829 | K54: 46055 | L54: старший лейтенант Бартко Сергій Сергійович | M54: старший лейтенант Бартко Сергій Сергійович | N54: 46051 | O54: №3664 | P54: 46055 | Q54: №781 | R54: 46056 | S54: №812/4790 | T54: 46065 | U54: №812/6304
A55: 54 | B55: солдат ЛІПАТОВ Андрій Андрійович | C55: 3 | D55: А2900 | E55: 46045 | F55: ЛЗ | I55: 46045 | J55: №856 | K55: 46055 | L55: старший лейтенант Степанський Анатолій Анатолійович | M55: старший лейтенант Степанський Анатолій Анатолійович | N55: 46052 | O55: №3797 | P55: 46064 | Q55: №949 | R55: 46070 | S55: №812/6966
A56: 55 | B56: солдат ПАНЬКІВ Роман Станіславович | C56: 2 | D56: А0284 | E56: 46047 | F56: табір | I56: 46047 | J56: №887 | K56: 46057 | L56: старший лейтенант Бартко Сергій Сергійович | M56: старший лейтенант Бартко Сергій Сергійович | N56: 46051 | O56: №3659 | P56: 46055 | Q56: №783 | R56: 46056 | S56: №812/4789 | T56: 46059 | U56: №№812/5543
A57: 56 | B57: солдат ЄРШОВ Микола Миколайович | C57: 2 | D57: А0284 | E57: 46047 | F57: табір | I57: 46047 | J57: №888 | K57: 46057 | L57: старший лейтенант Бартко Сергій Сергійович | M57: старший лейтенант Бартко Сергій Сергійович | N57: 46051 | O57: №3658 | P57: 46055 | Q57: №782 | R57: 46056 | S57: №812/4788 | T57: 46059 | U57: №812/5543
A58: 57 | B58: солдат ЄШМАНСЬКИЙ Олександр Петрович | C58: 3 | D58: А2900 | E58: 46048 | F58: з відпустки за сімейними обставинами | I58: 46048 | J58: №919 | K58: 46058 | L58: старший лейтенант Степанський Анатолій Анатолійович | M58: старший лейтенант Степанський Анатолій Анатолійович | N58: 46052 | O58: №3799 | P58: 46066 | Q58: №1057 | R58: 46069 | S58: №812/6946
A59: 58 | B59: солдат ШАЛЕНИК Михайло Михайлович | C59: 2 | D59: А0284 | E59: 46048 | F59: табір | I59: 46048 | J59: №934 | K59: 46058 | L59: старший лейтенант Бартко Сергій Сергійович | M59: старший лейтенант Бартко Сергій Сергійович | N59: 46056 | O59: №4400 | P59: 46058 | Q59: №824 | R59: 46059 | S59: №812/5476 | T59: 46072 | U59: №812/7434
A60: 59 | B60: солдат ЧЕКІН Іван Васильович | C60: 3 | D60: А2900 | E60: 46048 | F60: ЛЗ | I60: 46049 | J60: №955 | K60: 46058 | L60: старший лейтенант Степанський Анатолій Анатолійович | M60: старший лейтенант Степанський Анатолій Анатолійович | N60: 46052 | O60: №3798 | P60: 46060 | Q60: №878 | R60: 46062 | S60: №812/5840
A61: 60 | B61: солдат МАЗУРЕК Сергій Карпович | C61: 1 | D61: А2900 | E61: 46048 | F61: табір | I61: 46049 | J61: №956 | K61: 46058 | L61: старший лейтенант Демянчук Наталія Василівна | M61: старший лейтенант Демянчук Наталія Василівна | N61: 46052 | O61: №3816 | P61: 46060 | Q61: №872 | R61: 46062 | S61: №812/5764
A62: 61 | B62: солдат НЕДБАЛЬСЬКИЙ Дмитро Анатолійович | C62: 1 | D62: А2900 | E62: 46048 | F62: табір | I62: 46049 | J62: №957 | K62: 46058 | L62: старший лейтенант Демянчук Наталія Василівна | M62: старший лейтенант Демянчук Наталія Василівна | N62: 46055 | O62: №4212 | P62: 46064 | Q62: №945 | R62: 46066 | S62: №812/6522
A63: 62 | B63: солдат РУДНИЦЬКИЙ Юліан Станіславович | C63: 1 | D63: А2900 | E63: 46049 | F63: ЛЗ | I63: 46049 | J63: №996 | K63: 46059 | L63: старший лейтенант Демянчук Наталія Василівна | M63: старший лейтенант Демянчук Наталія Василівна | N63: 46053 | O63: №4043 | P63: 46066 | Q63: №1065 | R63: 46069 | S63: №812/6824
A64: 63 | B64: солдат МАКАРОВ Дмитро Валерійович | C64: 2 | D64: А0284 | E64: 46049 | F64: ЛЗ | I64: 46050 | J64: №1020 | K64: 46059 | L64: старший лейтенант Бартко Сергій Сергійович | M64: старший лейтенант Бартко Сергій Сергійович | N64: 46055 | O64: №4238 | P64: 46058 | Q64: №821 | R64: 46059 | S64: №812/5475 | T64: 46072 | U64: №812/7434
A65: 64 | B65: солдат ДОРОЖОН Дмитро Олександрович | C65: 2 | D65: А2582 | E65: 46050 | F65: ЛЗ | I65: 46050 | J65: №1025 | K65: 46060 | L65: старший лейтенант Бартко Сергій Сергійович | M65: старший лейтенант Бартко Сергій Сергійович | N65: 46056 | O65: №4399 | P65: 46058 | Q65: №825 | R65: 46059 | S65: №812/5474 | T65: 46064 | U65: №812/6203
A66: 65 | B66: солдат КОЗАК Василь Дмитрович | C66: 2 | D66: А0284 | E66: 46050 | F66: ЛЗ | I66: 46050 | J66: №1023 | K66: 46060 | L66: старший лейтенант Бартко Сергій Сергійович | M66: старший лейтенант Бартко Сергій Сергійович | N66: 46056 | O66: №4464 | P66: 46058 | Q66: №827 | R66: 46059 | S66: №812/5473 | T66: 46072 | U66: №812/7434
A67: 66 | B67: солдат ЗЕЛЕНЮК Віталій Юрійович | C67: 2 | D67: А4350 | E67: 46050 | F67: ЛЗ | I67: 46050 | J67: №1024 | K67: 46060 | L67: старший лейтенант Бартко Сергій Сергійович | M67: старший лейтенант Бартко Сергій Сергійович | N67: 46056 | O67: №4466 | P67: 46058 | Q67: №826 | R67: 46059 | S67: №812/5472 | T67: 46072 | U67: №812/7319
A68: 67 | B68: солдат ШПАГІН Микола Володимирович | C68: 1 | D68: А2900 | E68: 46051 | F68: ЛЗ | I68: 46051 | J68: №1063 | K68: 46061 | L68: старший лейтенант Демянчук Наталія Василівна | M68: старший лейтенант Демянчук Наталія Василівна | N68: 46056 | O68: №4404 | P68: 46066 | Q68: №1061 | R68: 46069 | S68: №812/6825
A69: 68 | B69: солдат ДАЦКО Євген Володимирович | C69: 2 | D69: А2582 | E69: 46051 | F69: ЛЗ | I69: 46051 | J69: №1101 | K69: 46061 | L69: старший лейтенант Бартко Сергій Сергійович | M69: старший лейтенант Бартко Сергій Сергійович | N69: 46057 | O69: №4569 | P69: 46063 | Q69: №912 | R69: 46064 | S69: №812/6211 | T69: 46064 | U69: №812/6203
A70: 69 | B70: солдат УНГУРЯН Іван Георгійович | C70: 2 | D70: А2582 | E70: 46051 | F70: ЛЗ | I70: 46051 | J70: №1102 | K70: 46061 | L70: старший лейтенант Бартко Сергій Сергійович | M70: старший лейтенант Бартко Сергій Сергійович | N70: 46057 | O70: №4568 | P70: 46063 | Q70: №909 | R70: 46064 | S70: №812/6120 | T70: 46064 | U70: №812/6203
A71: 70 | B71: солдат САУХ Богдан Васильович | C71: 3 | D71: А2900 | E71: 46051 | F71: табір | I71: 46051 | J71: №1103 | K71: 46061 | L71: старший лейтенант Степанський Анатолій Анатолійович | M71: старший лейтенант Степанський Анатолій Анатолійович | N71: 46056 | O71: №4459 | P71: 46066 | Q71: №1062 | R71: 46069 | S71: №812/6944
A72: 71 | B72: солдат ДЯЧЕНКО Денис Валерійович | C72: 3 | D72: А2900 | E72: 46053 | F72: ЛЗ | I72: 46053 | J72: №1161 | K72: 46063 | L72: старший лейтенант Степанський Анатолій Анатолійович | M72: старший лейтенант Степанський Анатолій Анатолійович | N72: 46057 | O72: №4521 | P72: 46066 | Q72: №1040 | R72: 46069 | S72: №812/6947
A73: 72 | B73: солдат ЩЕРБАЧЕНКО Віталій Миколайович | C73: 1 | D73: А2900 | E73: 46053 | F73: ЛЗ | I73: 46053 | J73: №1163 | K73: 46063 | L73: старший лейтенант Демянчук Наталія Василівна | M73: старший лейтенант Демянчук Наталія Василівна | N73: 46059 | O73: №4920 | P73: 46080 | Q73: №1292 | R73: 46099 | S73: №812/11178
A74: 73 | B74: солдат НІКІТІН Юрій Володимирович | C74: 2 | D74: А4350 | E74: 46053 | F74: ЛЗ | I74: 46053 | J74: №1164 | K74: 46063 | L74: старший лейтенант Бартко Сергій Сергійович | M74: старший лейтенант Бартко Сергій Сергійович | N74: 46063 | O74: №5395 | P74: 46076 | Q74: №1218 | R74: 46077 | S74: №812/7917 | T74: 46092 | U74: №812/10122
A75: 74 | B75: солдат ТИЩЕНКО Микита Денисович | C75: 2 | D75: А4350 | E75: 46053 | F75: ЛЗ | I75: 46053 | J75: №1162 | K75: 46063 | L75: старший лейтенант Бартко Сергій Сергійович | M75: старший лейтенант Бартко Сергій Сергійович | N75: 46058 | O75: №4684 | P75: 46063 | Q75: №914 | R75: 46064 | S75: №812/6119 | T75: 46072 | U75: №812/7319
A76: 75 | B76: солдат ПОНИЧ Олександр Сергійович | C76: 2 | D76: А2582 | E76: 46053 | F76: ЛЗ | I76: 46053 | J76: №1165 | K76: 46063 | L76: старший лейтенант Бартко Сергій Сергійович | M76: старший лейтенант Бартко Сергій Сергійович | N76: 46058 | O76: №4686 | P76: 46063 | Q76: №913 | R76: 46064 | S76: №812/6121 | T76: 46064 | U76: №812/6203
A77: 76 | B77: солдат МАРТИНЮК Павло Володимирович | C77: 2 | D77: А0284 | E77: 46054 | F77: ЛЗ | I77: 46054 | J77: №1169 | K77: 46063 | L77: старший лейтенант Бартко Сергій Сергійович | M77: старший лейтенант Бартко Сергій Сергійович | N77: 46063 | O77: №5505 | P77: 46076 | Q77: №1217 | R77: 46077 | S77: №812/7918 | T77: 46081 | U77: №812/8673
A78: 77 | B78: солдат СКРИПНИК Станіслав Сергійович | C78: 2 | D78: А2900 | E78: 46054 | F78: ЛЗ | I78: 46054 | J78: №1173 | K78: 46063 | L78: старший лейтенант Бартко Сергій Сергійович | M78: старший лейтенант Бартко Сергій Сергійович | N78: 46065 | O78: №5730 | P78: 46071 | Q78: №1102 | R78: 46073 | S78: №812/7529
A79: 78 | B79: солдат ЄРЬОМІН Станіслав Валерійович | C79: 2 | D79: А0284 | E79: 46056 | F79: ЛЗ | I79: 46056 | J79: №1234 | K79: 46066 | L79: старший лейтенант Бартко Сергій Сергійович | M79: старший лейтенант Бартко Сергій Сергійович | N79: 46065 | O79: №5731 | P79: 46072 | Q79: №1152 | R79: 46074 | S79: №812/7599 | T79: 46081 | U79: №812/8673
A80: 79 | B80: солдат МАРЧУК Едуард Вікторович | C80: 2 | D80: А2582 | E80: 46056 | F80: табір | I80: 46057 | J80: №1255 | K80: 46066 | L80: старший лейтенант Бартко Сергій Сергійович | M80: старший лейтенант Бартко Сергій Сергійович | N80: 46065 | O80: №5732 | P80: 46077 | Q80: №1234 | R80: 46079 | S80: №812/8224 | T80: 46102 | U80: №812/11578
A81: 80 | B81: солдат АРТЕМЕНКО Олександр Анатолійович | C81: 2 | D81: А2582 | E81: 46057 | F81: ЛЗ | I81: 46058 | J81: №1295 | K81: 46067 | L81: старший лейтенант Бартко Сергій Сергійович | M81: старший лейтенант Бартко Сергій Сергійович | N81: 46066 | O81: №5858 | P81: 46077 | Q81: №1236 | R81: 46081 | S81: №812/8604 | T81: 46102 | U81: №812/11578
A82: 81 | B82: солдат ПАРХОМЕНКО Олександр Олександрович | C82: 2 | D82: А4350 | E82: 46058 | F82: ЛЗ | I82: 46058 | J82: №1331 | K82: 46068 | L82: старший лейтенант Бартко Сергій Сергійович | M82: старший лейтенант Бартко Сергій Сергійович | N82: 46073 | O82: №6817 | P82: 46078 | Q82: №1244 | R82: 46081 | S82: №812/8595 | T82: 46085 | U82: №812/9248
A83: 82 | B83: солдат ВОЛОДІН Владислав Віталійович | C83: 2 | D83: А4350 | E83: 46058 | F83: ЛЗ | I83: 46058 | J83: №1330 | K83: 46068 | L83: старший лейтенант Бартко Сергій Сергійович | M83: старший лейтенант Бартко Сергій Сергійович | N83: 46073 | O83: №6804 | P83: 46078 | Q83: №1247 | R83: 46081 | S83: №812/8599 | T83: 46085 | U83: №812/9248
A84: 83 | B84: солдат НЕДОГАРОВ Юрій Олександрович | C84: 2 | D84: А4350 | E84: 46058 | F84: ЛЗ | I84: 46058 | J84: №1332 | K84: 46068 | L84: старший лейтенант Бартко Сергій Сергійович | M84: старший лейтенант Бартко Сергій Сергійович | N84: 46073 | O84: №6813 | P84: 46078 | Q84: №1248 | R84: 46081 | S84: №812/8596 | T84: 46085 | U84: №812/9248
A85: 84 | B85: солдат ШУТЯК Орест Юрійович | C85: 2 | D85: А0284 | E85: 46060 | F85: ЛЗ | I85: 46060 | J85: №1366 | K85: 46070 | L85: старший лейтенант Бартко Сергій Сергійович | M85: старший лейтенант Бартко Сергій Сергійович | N85: 46071 | O85: №6523 | P85: 46077 | Q85: №1235 | R85: 46079 | S85: №812/8225 | T85: 46102 | U85: №812/11585
A86: 85 | B86: солдат МЕЛЬНИК Сергій Миколайович | C86: 2 | D86: А4350 | E86: 46062 | F86: ЛЗ | I86: 46062 | J86: №1401 | K86: 46072 | L86: старший лейтенант Бартко Сергій Сергійович | M86: старший лейтенант Бартко Сергій Сергійович | N86: 46076 | O86: №7032 | P86: 46078 | Q86: №1246 | R86: 46081 | S86: №812/8598 | T86: 46085 | U86: №812/9248
A87: 86 | B87: солдат РУСНЯК Денис Олександрович | C87: 1 | D87: А2900 | E87: 46064 | F87: ЛЗ | G87: 46079 | H87: табір | I87: 46064 | J87: №1480 | K87: 46074 | L87: старший лейтенант Демянчук Наталія Василівна | M87: старший лейтенант Демянчук Наталія Василівна | N87: 46069 | O87: №6120 | P87: 46079 | Q87: №1263 | R87: 46099 | S87: №812/11179
A88: 87 | B88: солдат ШОЛУДЬКО Микола Миколайович | C88: 2 | D88: А4350 | E88: 46064 | F88: ЛЗ | I88: 46064 | J88: №1482 | K88: 46074 | L88: старший лейтенант Бартко Сергій Сергійович | M88: старший лейтенант Бартко Сергій Сергійович | N88: 46080 | O88: №7696 | P88: 46085 | Q88: №1394 | R88: 46086 | S88: №812/9306 | T88: 46092 | U88: №812/10122
A89: 88 | B89: солдат БЄДНИЙ Ігор Миколайович | C89: 2 | D89: А2582 | E89: 46064 | F89: ЛЗ | I89: 46064 | J89: №1484 | K89: 46074 | L89: старший лейтенант Бартко Сергій Сергійович | M89: старший лейтенант Бартко Сергій Сергійович | N89: 46076 | O89: №7036 | P89: 46078 | Q89: №1252 | R89: 46081 | S89: №812/8603 | T89: 46085 | U89: №812/9249
A90: 89 | B90: солдат РУКАВИЦЯ Віталій Сергійович | C90: 2 | D90: А4350 | E90: 46064 | F90: ЛЗ | I90: 46064 | J90: №1487 | K90: 46074 | L90: старший лейтенант Бартко Сергій Сергійович | M90: старший лейтенант Бартко Сергій Сергійович | N90: 46076 | O90: №7033 | P90: 46078 | Q90: №1243 | R90: 46081 | S90: №812/8592 | T90: 46085 | U90: №812/9248
A91: 90 | B91: солдат СЕНЬКОВ Богдан Олегович | C91: 2 | D91: А4350 | E91: 46064 | F91: ЛЗ | I91: 46064 | J91: №1486 | K91: 46074 | L91: старший лейтенант Бартко Сергій Сергійович | M91: старший лейтенант Бартко Сергій Сергійович | N91: 46076 | O91: №7034 | P91: 46078 | Q91: №1250 | R91: 46081 | S91: №812/8590 | T91: 46085 | U91: №812/9248
A92: 91 | B92: солдат ГРИГОР'ЄВ Олексій Олександрович | C92: 2 | D92: А0284 | E92: 46064 | F92: ЛЗ | I92: 46064 | J92: №1485 | K92: 46074 | L92: старший лейтенант Бартко Сергій Сергійович | M92: старший лейтенант Бартко Сергій Сергійович | N92: 46080 | O92: №7697 | P92: 46084 | Q92: №1383 | R92: 46085 | S92: №812/9123 | T92: 46092 | U92: №812/10137
A93: 92 | B93: солдат ПОГОРІЛИЙ Володимир Михайлович | C93: 2 | D93: А4350 | E93: 46066 | F93: табір | I93: 46066 | J93: №1543 | K93: 46076 | L93: старший лейтенант Бартко Сергій Сергійович | M93: старший лейтенант Бартко Сергій Сергійович | N93: 46076 | O93: №7082 | P93: 46078 | Q93: №1245 | R93: 46081 | S93: №812/8593 | T93: 46085 | U93: №812/9248
A94: 93 | B94: солдат МИХАЙЛОВ Дмитро Олексійович | C94: 2 | D94: А4350 | E94: 46066 | F94: ЛЗ | I94: 46067 | J94: №1594 | K94: 46076 | L94: старший лейтенант Бартко Сергій Сергійович | M94: старший лейтенант Бартко Сергій Сергійович | N94: 46076 | O94: №7035 | P94: 46078 | Q94: №1251 | R94: 46081 | S94: №812/8597 | T94: 46085 | U94: №812/9248
A95: 94 | B95: солдат МЕЛЬНИЧЕНКО Віктор Миколайович | C95: 3 | D95: А2900 | E95: 14 02.2026 | F95: табір | I95: 46067 | J95: №1603 | K95: 46077 | L95: старший лейтенант Степанський Анатолій Анатолійович | M95: старший лейтенант Степанський Анатолій Анатолійович | N95: 46076 | O95: №7037 | P95: 46083 | Q95: №1364 | R95: 46086 | S95: №812/9321
A96: 95 | B96: солдат КАРЛАШ Артем Едуардович | C96: 2 | D96: А4350 | E96: 14 02.2026 | F96: ЛЗ | I96: 46067 | J96: №1625 | K96: 46077 | L96: старший лейтенант Бартко Сергій Сергійович | M96: старший лейтенант Бартко Сергій Сергійович | N96: 46080 | O96: №7694 | P96: 46085 | Q96: №1393 | R96: 46086 | S96: №812/9308 | T96: 46092 | U96: №812/10122
A97: 96 | B97: солдат БОНДАРЕНКО Богдан Володимирович | C97: 3 | D97: А2900 | E97: 46067 | F97: з консультації лікаря | I97: 46068 | J97: №1635 | K97: 46077 | L97: старший лейтенант Степанський Анатолій Анатолійович | M97: старший лейтенант Степанський Анатолій Анатолійович | N97: 46079 | O97: №7571 | P97: 46083 | Q97: №1361 | R97: 46086 | S97: №812/9324
A98: 97 | B98: солдат ЧІБОТА Едуард Олегович | C98: 4 | D98: А4355 | E98: 46068 | F98: табір | I98: 46068 | J98: №1640 | K98: 46078 | L98: капітан Фотій Ярослав Сидорович | M98: капітан Фотій Ярослав Сидорович | N98: 46080 | O98: №7698 | P98: 46087 | Q98: №1452 | R98: 46094 | S98: №812/10598 | T98: 46092 | U98: №10128
A99: 98 | B99: солдат ЛУПУ Марін Аврелович | C99: 2 | D99: А2582 | E99: 46069 | F99: табір | I99: 46069 | J99: №1647 | K99: 46079 | L99: старший лейтенант Бартко Сергій Сергійович | M99: старший лейтенант Бартко Сергій Сергійович | N99: 46076 | O99: №7081 | P99: 46078 | Q99: №1249 | R99: 46081 | S99: №812/8601 | T99: 46092 | U99: №812/10125
A100: 99 | B100: солдат ГАВРИЛИШИН Віталій Олегович | C100: 2 | D100: А4350 | E100: 46069 | F100: ЛЗ | I100: 46069 | J100: №1673 | K100: 46079 | L100: старший лейтенант Бартко Сергій Сергійович | M100: старший лейтенант Бартко Сергій Сергійович | N100: 46080 | O100: №7816 | P100: 46086 | Q100: №1410 | R100: 46090 | S100: №812/9722 | T100: 46092 | U100: №812/10122
...

Sheet Статистика
A1: місяць 2026 | B1: СЗЧ | C1: З них ЛЗ | D1: повернулося
A2: Січень | B2: =COUNTIFS('Облік СЗЧ'!E:E,">="&DATE(2026,1,1),'Облік СЗЧ'!E:E,"<"&DATE(2026,2,1)) -> 75 | C2: =COUNTIFS('Облік СЗЧ'!E:E,">="&DATE(2026,1,1),'Облік СЗЧ'!E:E,"<"&DATE(2026,2,1),'Облік СЗЧ'!F:F,"ЛЗ") -> 34 | D2: =COUNTIFS('Облік СЗЧ'!E:E,">="&DATE(2026,1,1),'Облік СЗЧ'!E:E,"<"&DATE(2026,2,1),'Облік СЗЧ'!G:G,"<>") -> 1
A3: Лютий | B3: =COUNTIFS('Облік СЗЧ'!E:E,">="&DATE(2026,2,1),'Облік СЗЧ'!E:E,"<"&DATE(2026,3,1)) -> 33 | C3: =COUNTIFS('Облік СЗЧ'!E:E,">="&DATE(2026,2,1),'Облік СЗЧ'!E:E,"<"&DATE(2026,3,1),'Облік СЗЧ'!F:F,"ЛЗ") -> 22 | D3: =COUNTIFS('Облік СЗЧ'!E:E,">="&DATE(2026,2,1),'Облік СЗЧ'!E:E,"<"&DATE(2026,3,1),'Облік СЗЧ'!G:G,"<>") -> 2
A4: Березень | B4: =COUNTIFS('Облік СЗЧ'!E:E,">="&DATE(2026,3,1),'Облік СЗЧ'!E:E,"<"&DATE(2026,4,1)) -> 52 | C4: =COUNTIFS('Облік СЗЧ'!E:E,">="&DATE(2026,3,1),'Облік СЗЧ'!E:E,"<"&DATE(2026,4,1),'Облік СЗЧ'!F:F,"ЛЗ") -> 35 | D4: =COUNTIFS('Облік СЗЧ'!E:E,">="&DATE(2026,3,1),'Облік СЗЧ'!E:E,"<"&DATE(2026,4,1),'Облік СЗЧ'!G:G,"<>") -> 0
A5: Квітень | B5: =COUNTIFS('Облік СЗЧ'!E:E,">="&DATE(2026,4,1),'Облік СЗЧ'!E:E,"<"&DATE(2026,5,1)) -> 35 | C5: =COUNTIFS('Облік СЗЧ'!E:E,">="&DATE(2026,4,1),'Облік СЗЧ'!E:E,"<"&DATE(2026,5,1),'Облік СЗЧ'!F:F,"ЛЗ") -> 13 | D5: =COUNTIFS('Облік СЗЧ'!E:E,">="&DATE(2026,4,1),'Облік СЗЧ'!E:E,"<"&DATE(2026,5,1),'Облік СЗЧ'!G:G,"<>") -> 2
A6: травень | B6: =COUNTIFS('Облік СЗЧ'!E:E,">="&DATE(2026,5,1),'Облік СЗЧ'!E:E,"<"&DATE(2026,6,1)) -> 26 | C6: =COUNTIFS('Облік СЗЧ'!E:E,">="&DATE(2026,5,1),'Облік СЗЧ'!E:E,"<"&DATE(2026,6,1),'Облік СЗЧ'!F:F,"ЛЗ") -> 8 | D6: =COUNTIFS('Облік СЗЧ'!E:E,">="&DATE(2026,5,1),'Облік СЗЧ'!E:E,"<"&DATE(2026,6,1),'Облік СЗЧ'!G:G,"<>") -> 0
A7: червень | B7: =COUNTIFS('Облік СЗЧ'!E:E,">="&DATE(2026,6,1),'Облік СЗЧ'!E:E,"<"&DATE(2026,7,1)) -> 0 | C7: =COUNTIFS('Облік СЗЧ'!E:E,">="&DATE(2026,6,1),'Облік СЗЧ'!E:E,"<"&DATE(2026,7,1),'Облік СЗЧ'!F:F,"ЛЗ") -> 0 | D7: =COUNTIFS('Облік СЗЧ'!E:E,">="&DATE(2026,6,1),'Облік СЗЧ'!E:E,"<"&DATE(2026,7,1),'Облік СЗЧ'!G:G,"<>") -> 0
A8: липень | B8: =COUNTIFS('Облік СЗЧ'!E:E,">="&DATE(2026,7,1),'Облік СЗЧ'!E:E,"<"&DATE(2026,8,1)) -> 0 | C8: =COUNTIFS('Облік СЗЧ'!E:E,">="&DATE(2026,7,1),'Облік СЗЧ'!E:E,"<"&DATE(2026,8,1),'Облік СЗЧ'!F:F,"ЛЗ") -> 0 | D8: =COUNTIFS('Облік СЗЧ'!E:E,">="&DATE(2026,7,1),'Облік СЗЧ'!E:E,"<"&DATE(2026,8,1),'Облік СЗЧ'!G:G,"<>") -> 0
A9: серпень | B9: =COUNTIFS('Облік СЗЧ'!E:E,">="&DATE(2026,8,1),'Облік СЗЧ'!E:E,"<"&DATE(2026,9,1)) -> 0 | C9: =COUNTIFS('Облік СЗЧ'!E:E,">="&DATE(2026,8,1),'Облік СЗЧ'!E:E,"<"&DATE(2026,9,1),'Облік СЗЧ'!F:F,"ЛЗ") -> 0 | D9: =COUNTIFS('Облік СЗЧ'!E:E,">="&DATE(2026,8,1),'Облік СЗЧ'!E:E,"<"&DATE(2026,9,1),'Облік СЗЧ'!G:G,"<>") -> 0
A10: вересень | B10: =COUNTIFS('Облік СЗЧ'!E:E,">="&DATE(2026,9,1),'Облік СЗЧ'!E:E,"<"&DATE(2026,10,1)) -> 0 | C10: =COUNTIFS('Облік СЗЧ'!E:E,">="&DATE(2026,9,1),'Облік СЗЧ'!E:E,"<"&DATE(2026,10,1),'Облік СЗЧ'!F:F,"ЛЗ") -> 0 | D10: =COUNTIFS('Облік СЗЧ'!E:E,">="&DATE(2026,9,1),'Облік СЗЧ'!E:E,"<"&DATE(2026,10,1),'Облік СЗЧ'!G:G,"<>") -> 0
A11: жовтень | B11: =COUNTIFS('Облік СЗЧ'!E:E,">="&DATE(2026,10,1),'Облік СЗЧ'!E:E,"<"&DATE(2026,11,1)) -> 0 | C11: =COUNTIFS('Облік СЗЧ'!E:E,">="&DATE(2026,10,1),'Облік СЗЧ'!E:E,"<"&DATE(2026,11,1),'Облік СЗЧ'!F:F,"ЛЗ") -> 0 | D11: =COUNTIFS('Облік СЗЧ'!E:E,">="&DATE(2026,10,1),'Облік СЗЧ'!E:E,"<"&DATE(2026,11,1),'Облік СЗЧ'!G:G,"<>") -> 0
A12: листопад | B12: =COUNTIFS('Облік СЗЧ'!E:E,">="&DATE(2026,11,1),'Облік СЗЧ'!E:E,"<"&DATE(2026,12,1)) -> 0 | C12: =COUNTIFS('Облік СЗЧ'!E:E,">="&DATE(2026,11,1),'Облік СЗЧ'!E:E,"<"&DATE(2026,12,1),'Облік СЗЧ'!F:F,"ЛЗ") -> 0 | D12: =COUNTIFS('Облік СЗЧ'!E:E,">="&DATE(2026,11,1),'Облік СЗЧ'!E:E,"<"&DATE(2026,12,1),'Облік СЗЧ'!G:G,"<>") -> 0
A13: грудень | B13: =COUNTIFS('Облік СЗЧ'!E:E,">="&DATE(2026,12,1),'Облік СЗЧ'!E:E,"<"&DATE(2027,1,1)) -> 0 | C13: =COUNTIFS('Облік СЗЧ'!E:E,">="&DATE(2026,12,1),'Облік СЗЧ'!E:E,"<"&DATE(2027,1,1),'Облік СЗЧ'!F:F,"ЛЗ") -> 0 | D13: =COUNTIFS('Облік СЗЧ'!E:E,">="&DATE(2026,12,1),'Облік СЗЧ'!E:E,"<"&DATE(2027,1,1),'Облік СЗЧ'!G:G,"<>") -> 0
A14: Всього | B14: =SUM(B2:B13) -> 221 | C14: =SUM(C2:C13) -> 112 | D14: =SUM(D2:D13) -> 5

Sheet Інструкція
