Workbook

Sheet Основний
Z2: Додаток
Z3: (Форма 5.10. ОС)
A4: ДОНЕСЕННЯ
A5: про зарахування військовослужбовців військової служби за контрактом на навчання до навчального центру (ВВНЗ, ВНП ЗВО)
A6: військова частина А2900
A7: найменування навчального центру (ВВНЗ, ВНЗ ЗВО)
A9: 1. Список військовослужбовців військової служби за контрактом, які зараховані на навчання
A10: № з/п | B10: Військове звання | C10: {=SUMPRODUCT(--(TRIM(C12:C996)<>""))} -> 46 | D10: Військова частина, ТЦК та СП | E10: Місто | F10: Область | G10: Дата народження | H10: ідентифікаційний код | I10: Тип документа (військовий квиток, приписне, тимчасове посвідчення) | J10: Номер додумента (військовий квиток, приписне, тимчасове посвідчення) | K10: Паспорт, ким і коли виданий | L10: Місце народження | M10: адреса (фактична) | N10: Рівень освіти | O10: Заклад який закінчив Рік закінчення Професія | P10: Професійний досвід Права | Q10: склад сім’ї | R10: № телефону | S10: ВОС (попередній) | T10: Спеціальність, за якою зарахований на навчання | W10: Найменування підготовки (курсу) | X10: Термін підготовки | Y10: Дата та № наказу про зарахування | Z10: присяга | AA10: Довідка про відсунтість вагітності (для жінок) | AB10: Дата висновку ВЛК | AC10: Придатність | AD10: Група крові | AE10: Примітка | AF10: =COUNT(AF12:AF9958) -> 8 | AG10: =COUNT(AG12:AG9958) -> 8 | AH10: =COUNT(AH12:AH9958) -> 10 | AI10: =COUNT(AI12:AI9958) -> 11 | AJ10: =IFERROR(AVERAGE(AF12:AI9958),0) -> 36.081081
T11: посада | U11: ВОС | V11: код посади | AF11: до 30 | AG11: 31-35 | AH11: 36-40 | AI11: 41-45 | AJ11: Середній вік
A12: 1 | B12: солдат | C12: Давиденко Богдан Миколайович | D12: Роменським РТЦК та СП Сумської обл. 22.02.2026 | F12: Сумська | G12: 35179 | H12: 3517807937 | I12: військовий квиток | J12: АВ 949426 | K12: 006233429 Виданий 5930 16.06.2021 | L12: м. Суми | M12: м. Суми, вул. ЗСУ, буд. 65а, кв. 92 | N12: вища | O12: НТУ ХПІ, 2018, механік-технолог | P12: QA-middle тімлід, 4 роки монтажник, 10 років Права - | Q12: не одружений, мати: Давиденко Олена Василівна, 1974, м. Суми, вул. ЗСУ, буд. 65а, кв. 92, 0956851446 | R12: 0999604676 | AE12: Резерв КДШВ | AF12: =IF(INT(YEARFRAC(G12,TODAY()))<=30,INT(YEARFRAC(G12,TODAY())),"") -> 29 | AG12: =IF(AND(INT(YEARFRAC(G12,TODAY()))>=31,INT(YEARFRAC(G12,TODAY()))<=35),INT(YEARFRAC(G12,TODAY())),"") | AH12: =IF(AND(INT(YEARFRAC(G12,TODAY()))>=36,INT(YEARFRAC(G12,TODAY()))<=40),INT(YEARFRAC(G12,TODAY())),"") | AI12: =IF(AND(INT(YEARFRAC(G12,TODAY()))>=41,INT(YEARFRAC(G12,TODAY()))<=45),INT(YEARFRAC(G12,TODAY())),"")
A13: 2 | B13: старший солдат | C13: Петраш Віктор Володимирович | D13: Сумським МТЦК та СП 23.02.2026 | F13: Сумська | G13: 30929 | H13: 3092805058 | I13: військовий квиток | J13: АВ 704155 | K13: МА 942892 Лебединським МРВУМВС України в Сумській обл., 27.02.2002 | L13: Магаданський край, с. Ягідне | M13: Сумська обл, Сумський р-н., с. Коршачина, вул. Шкільна, буд. 52 | N13: професійно- технічна | O13: Маловисторопський державний аграрний коледж СНАУ, 2004, фельдшер ветеринарної медицини | P13: ветеринар, 4 роки Вальцювальник гумових сумішей, 10 років, Бруківник, 7 років Права В | Q13: не одружений, мати: Петраш Віра Юріївна, 1961, Сумська обл, Сумський р-н., с. Коршачина, вул. Шкільна, буд. 56, 0997604401 | R13: 0953467547 | Z13: =IF(C13="","",IF(S13="","ні","так")) -> ні | AA13: =IF(C13="","",IF(S13="","ні","так")) -> ні | AD13: IV Rh + | AE13: Резерв КДШВ | AF13: =IF(INT(YEARFRAC(G13,TODAY()))<=30,INT(YEARFRAC(G13,TODAY())),"") | AG13: =IF(AND(INT(YEARFRAC(G13,TODAY()))>=31,INT(YEARFRAC(G13,TODAY()))<=35),INT(YEARFRAC(G13,TODAY())),"") | AH13: =IF(AND(INT(YEARFRAC(G13,TODAY()))>=36,INT(YEARFRAC(G13,TODAY()))<=40),INT(YEARFRAC(G13,TODAY())),"") | AI13: =IF(AND(INT(YEARFRAC(G13,TODAY()))>=41,INT(YEARFRAC(G13,TODAY()))<=45),INT(YEARFRAC(G13,TODAY())),"") -> 41
A14: 3 | B14: солдат | C14: Литвинко Олександр Сергійович | D14: Роменським РТЦК та СП Сумської обл. 21.02.26 | F14: Сумська | G14: 36728 | H14: 3672709816 | I14: військовий квиток | J14: АВ 949425 | K14: 006384474 Виданий 5924 19.07.2021 | L14: Сумська обл., Роменський р-н., с Перекопівка | M14: Сумська обл., Роменський р-н., с Перекопівка, вул. Космонавтів, буд. 107 | N14: професійно- технічна | O14: Глинський ПТАЛ, 2019, водій-тракторист, слюсар з ремонту с\г машин, Путивльський ветеринарний коледж, 2023, ветеринарна медицина | P14: тракторист, 7 років Права А, В, С, тракторні | Q14: одружений, дружина: Литвинко Катерина Олександрівна, 2004, Сумська обл., Роменський р-н., с Перекопівка, вул. Космонавтів, буд. 107, 0993483660 | R14: не надано | Z14: =IF(C14="","",IF(S14="","ні","так")) -> ні | AA14: =IF(C14="","",IF(S14="","ні","так")) -> ні | AE14: Резерв КДШВ | AF14: =IF(INT(YEARFRAC(G14,TODAY()))<=30,INT(YEARFRAC(G14,TODAY())),"") -> 25 | AG14: =IF(AND(INT(YEARFRAC(G14,TODAY()))>=31,INT(YEARFRAC(G14,TODAY()))<=35),INT(YEARFRAC(G14,TODAY())),"") | AH14: =IF(AND(INT(YEARFRAC(G14,TODAY()))>=36,INT(YEARFRAC(G14,TODAY()))<=40),INT(YEARFRAC(G14,TODAY())),"") | AI14: =IF(AND(INT(YEARFRAC(G14,TODAY()))>=41,INT(YEARFRAC(G14,TODAY()))<=45),INT(YEARFRAC(G14,TODAY())),"")
A15: 4 | B15: солдат | C15: Верба Володимир Олександрович | D15: Конотопським РТЦК та СП, 27.02.2026 | F15: Сумська | G15: 34939 | H15: 3493804851 | I15: військовий квиток | J15: АВ 552749 | L15: Миколаївська обл., м. Баштанка | M15: Сумська обл., м. Конотоп, вул. Успенсько-Троїцька, буд. 13, кв. 28 | N15: професійно- технічна | O15: ПТУ, м. Кременчук, 2013, маляр-штукатур | P15: будівельник, 6 років Права - | Q15: одружений, дружина: Верба Марія Сергіївна, 1997, Сумська обл., м. Конотоп, вул. Успенсько-Троїцька, буд. 13, кв. 28, 0977738011 | R15: 0685689787 | Z15: =IF(C15="","",IF(S15="","ні","так")) -> ні | AA15: =IF(C15="","",IF(S15="","ні","так")) -> ні | AD15: II Rh + | AE15: Резерв КДШВ | AF15: =IF(INT(YEARFRAC(G15,TODAY()))<=30,INT(YEARFRAC(G15,TODAY())),"") -> 30 | AG15: =IF(AND(INT(YEARFRAC(G15,TODAY()))>=31,INT(YEARFRAC(G15,TODAY()))<=35),INT(YEARFRAC(G15,TODAY())),"") | AH15: =IF(AND(INT(YEARFRAC(G15,TODAY()))>=36,INT(YEARFRAC(G15,TODAY()))<=40),INT(YEARFRAC(G15,TODAY())),"") | AI15: =IF(AND(INT(YEARFRAC(G15,TODAY()))>=41,INT(YEARFRAC(G15,TODAY()))<=45),INT(YEARFRAC(G15,TODAY())),"")
A16: 5 | B16: солдат | C16: Васильченко Сергій Анатолійович | D16: Роменським РТЦК та СП Сумської обл., 26.02.2026 | F16: Сумська | G16: 34290 | H16: 3428909730 | I16: військовий квиток | J16: АВ 949433 | K16: 002997059 виданий 5924 20.02.2019 | L16: Сумська обл., Роменський р-н., с Пустовойтівка | M16: Сумська обл., Роменський р-н., с Пустовойтівка, вул. 5 пер. Берегова, буд. 9 | N16: базова загальна середня | O16: Пустовійтівська ЗОШ | P16: вантажник, 3 роки Права - | Q16: не одружений, мати: Вовк Світлана Григорівна, 1970, Сумська обл., Роменський р-н., с Пустовойтівка, вул. 5 пер. Берегова, буд. 9, 0685482470 | R16: не надано | Z16: =IF(C16="","",IF(S16="","ні","так")) -> ні | AA16: =IF(C16="","",IF(S16="","ні","так")) -> ні | AD16: I Rh + | AE16: Резерв КДШВ | AF16: =IF(INT(YEARFRAC(G16,TODAY()))<=30,INT(YEARFRAC(G16,TODAY())),"") | AG16: =IF(AND(INT(YEARFRAC(G16,TODAY()))>=31,INT(YEARFRAC(G16,TODAY()))<=35),INT(YEARFRAC(G16,TODAY())),"") -> 32 | AH16: =IF(AND(INT(YEARFRAC(G16,TODAY()))>=36,INT(YEARFRAC(G16,TODAY()))<=40),INT(YEARFRAC(G16,TODAY())),"") | AI16: =IF(AND(INT(YEARFRAC(G16,TODAY()))>=41,INT(YEARFRAC(G16,TODAY()))<=45),INT(YEARFRAC(G16,TODAY())),"")
A17: 6 | B17: солдат | C17: Сукрут Олександр Миколайович | D17: Сумським МТЦК та СП 24.02.2026 | F17: Сумська | G17: 29960 | H17: 2995917310 | I17: військовий квиток | J17: АВ 949489 | K17: МА 500267 Зарічним РВСМУУМВС України в Сумській обл., 23.06.1998 | L17: м. Суми | M17: м. Суми, вул. УНР, буд. 1, кв. 37 | N17: професійно- технічна | O17: Бурса №6 м. Суми, 2000, тесля | P17: тесля, мебляр, 26 років Права В | Q17: одружений, дружина: Сукрут Владислава Сергіївна, 1994, м. Суми, вул. УНР, буд. 1, кв. 37, 0666856406 | R17: 0666649007 | Z17: =IF(C17="","",IF(S17="","ні","так")) -> ні | AA17: =IF(C17="","",IF(S17="","ні","так")) -> ні | AE17: Резерв КДШВ | AF17: =IF(INT(YEARFRAC(G17,TODAY()))<=30,INT(YEARFRAC(G17,TODAY())),"") | AG17: =IF(AND(INT(YEARFRAC(G17,TODAY()))>=31,INT(YEARFRAC(G17,TODAY()))<=35),INT(YEARFRAC(G17,TODAY())),"") | AH17: =IF(AND(INT(YEARFRAC(G17,TODAY()))>=36,INT(YEARFRAC(G17,TODAY()))<=40),INT(YEARFRAC(G17,TODAY())),"") | AI17: =IF(AND(INT(YEARFRAC(G17,TODAY()))>=41,INT(YEARFRAC(G17,TODAY()))<=45),INT(YEARFRAC(G17,TODAY())),"") -> 44
A18: 7 | B18: солдат | C18: Косьмін Юрій Віталійович | D18: Конотопським РТЦК та СП 24.02.2026 | F18: Сумська | G18: 29414 | H18: 2941315057 | I18: військовий квиток | J18: АВ 967804 | L18: Сумська обл., м. Путивль | M18: Сумська обл., м. Путивль, вул. І. Путивльського, буд. 7 | N18: базова загальна середня | O18: Бурса №9, м. Путивль | P18: будівельник, 20 років Права - | Q18: не одружений, батько: Косьмін Віталій | R18: 0662402865 | Z18: =IF(C18="","",IF(S18="","ні","так")) -> ні | AA18: =IF(C18="","",IF(S18="","ні","так")) -> ні | AD18: II Rh + | AE18: Резерв КДШВ | AF18: =IF(INT(YEARFRAC(G18,TODAY()))<=30,INT(YEARFRAC(G18,TODAY())),"") | AG18: =IF(AND(INT(YEARFRAC(G18,TODAY()))>=31,INT(YEARFRAC(G18,TODAY()))<=35),INT(YEARFRAC(G18,TODAY())),"") | AH18: =IF(AND(INT(YEARFRAC(G18,TODAY()))>=36,INT(YEARFRAC(G18,TODAY()))<=40),INT(YEARFRAC(G18,TODAY())),"") | AI18: =IF(AND(INT(YEARFRAC(G18,TODAY()))>=41,INT(YEARFRAC(G18,TODAY()))<=45),INT(YEARFRAC(G18,TODAY())),"") -> 45
A19: 8 | B19: солдат | C19: Денисенко Артем Олегович | D19: Сумським МТЦК та СП 23.02.2026 | F19: Сумська | G19: 33271 | H19: 3327015430 | I19: військовий квиток | J19: АВ 949485 | K19: МВ 340950 Зарічним ВМ СМВ УМВС України в Сумській обл. 27.03.2007 | L19: м. Суми | M19: м. Суми, вул. Друга Замостянська, буд. 82 | N19: повна загальна середня | O19: ПТУ №11, м. Суми, столяр | P19: оператор відеонагляду, 7 років Права - | Q19: одружений, дружина: Денисенко Людмила Сергіївна, 1992, м. Суми, вул. Друга Замостянська, буд. 82, 0953130945 | R19: 0508008954 | Z19: =IF(C19="","",IF(S19="","ні","так")) -> ні | AA19: =IF(C19="","",IF(S19="","ні","так")) -> ні | AD19: II Rh + | AE19: Резерв КДШВ | AF19: =IF(INT(YEARFRAC(G19,TODAY()))<=30,INT(YEARFRAC(G19,TODAY())),"") | AG19: =IF(AND(INT(YEARFRAC(G19,TODAY()))>=31,INT(YEARFRAC(G19,TODAY()))<=35),INT(YEARFRAC(G19,TODAY())),"") -> 35 | AH19: =IF(AND(INT(YEARFRAC(G19,TODAY()))>=36,INT(YEARFRAC(G19,TODAY()))<=40),INT(YEARFRAC(G19,TODAY())),"") | AI19: =IF(AND(INT(YEARFRAC(G19,TODAY()))>=41,INT(YEARFRAC(G19,TODAY()))<=45),INT(YEARFRAC(G19,TODAY())),"")
A20: 9 | B20: солдат | C20: Нєжнов Сергій Миколайович | D20: Харківським РТЦК та СП 20.02.2026 | F20: Харківська | G20: 28136 | H20: 2813500653 | I20: військовий квиток | J20: АГ 594862 | K20: МН 840776 Червонозаводським РВХМУУМВС України в Харківській обл., 25.04.2006 | L20: м. Харків | M20: м. Харків, вул. Заводська, буд. 114 | N20: професійно- технічна | O20: СПТУ №9 м. Харків, 1995, електрогазозварювальник | P20: водій, 30 років Права: В, С, Д | Q20: одружений, дружина: Нєжнова Надія Іванівна, 1979, м. Харків, вул. Заводська, буд. 114, 0671567613 | R20: 0962762720 | Z20: =IF(C20="","",IF(S20="","ні","так")) -> ні | AA20: =IF(C20="","",IF(S20="","ні","так")) -> ні | AD20: I Rh - | AE20: Резерв КДШВ | AF20: =IF(INT(YEARFRAC(G20,TODAY()))<=30,INT(YEARFRAC(G20,TODAY())),"") | AG20: =IF(AND(INT(YEARFRAC(G20,TODAY()))>=31,INT(YEARFRAC(G20,TODAY()))<=35),INT(YEARFRAC(G20,TODAY())),"") | AH20: =IF(AND(INT(YEARFRAC(G20,TODAY()))>=36,INT(YEARFRAC(G20,TODAY()))<=40),INT(YEARFRAC(G20,TODAY())),"") | AI20: =IF(AND(INT(YEARFRAC(G20,TODAY()))>=41,INT(YEARFRAC(G20,TODAY()))<=45),INT(YEARFRAC(G20,TODAY())),"")
A21: 10 | B21: солдат | C21: Тимченко Олександр Олександрович | D21: Сумським МТЦК та СП 25.02.2026 | F21: Сумська | G21: 30309 | H21: 3030807437 | I21: військовий квиток | J21: АВ 967906 | K21: МА 844687 Ковпаківським РВСМУУМВС України в Сумській обл., 12.07.2000 | L21: м. Суми | M21: м. Суми, вул. Металургів, буд. 13, кв. 96 | N21: професійно- технічна | O21: ПТУ №12, м. Суми, 2001, столяр | P21: мебляр, 6 років Права - | Q21: одружений, дружина: Тимченко Олена Миколаївна, 1983, Іспанія | R21: 0689541469 | Z21: =IF(C21="","",IF(S21="","ні","так")) -> ні | AA21: =IF(C21="","",IF(S21="","ні","так")) -> ні | AD21: II Rh + | AE21: Резерв КДШВ | AF21: =IF(INT(YEARFRAC(G21,TODAY()))<=30,INT(YEARFRAC(G21,TODAY())),"") | AG21: =IF(AND(INT(YEARFRAC(G21,TODAY()))>=31,INT(YEARFRAC(G21,TODAY()))<=35),INT(YEARFRAC(G21,TODAY())),"") | AH21: =IF(AND(INT(YEARFRAC(G21,TODAY()))>=36,INT(YEARFRAC(G21,TODAY()))<=40),INT(YEARFRAC(G21,TODAY())),"") | AI21: =IF(AND(INT(YEARFRAC(G21,TODAY()))>=41,INT(YEARFRAC(G21,TODAY()))<=45),INT(YEARFRAC(G21,TODAY())),"") -> 43
A22: 11 | B22: солдат | C22: Соловйов Роман Ленідович | F22: Сумська | G22: 30120 | I22: військовий квиток | L22: Сумска обл., Путивльський р-н., с. Спадщина | M22: Сумська обл., Конотопський р-н., м. Путивль, пров. М. Маклакова, буд. 4, кв. 6 | N22: вища | O22: Сумський національний аграрний університет, 2007, менеджмент організації | P22: спеціаліст управління продажу та розвитку бізнесу, 1 рік, головний ветеринарний лікар господартва, 1 рік заступник директора, 8 міс, Права В | Q22: не одружений, мати: Соловйова Наталія Миколаївна, 1955, Сумська обл., Конотопський р-н., м. Путивль, пров. М. Маклакова, буд. 4, кв. 6, 0959328680 | R22: 0978561214 | Z22: =IF(C22="","",IF(S22="","ні","так")) -> ні | AA22: =IF(C22="","",IF(S22="","ні","так")) -> ні | AD22: II Rh + | AE22: Резерв КДШВ | AF22: =IF(INT(YEARFRAC(G22,TODAY()))<=30,INT(YEARFRAC(G22,TODAY())),"") | AG22: =IF(AND(INT(YEARFRAC(G22,TODAY()))>=31,INT(YEARFRAC(G22,TODAY()))<=35),INT(YEARFRAC(G22,TODAY())),"") | AH22: =IF(AND(INT(YEARFRAC(G22,TODAY()))>=36,INT(YEARFRAC(G22,TODAY()))<=40),INT(YEARFRAC(G22,TODAY())),"") | AI22: =IF(AND(INT(YEARFRAC(G22,TODAY()))>=41,INT(YEARFRAC(G22,TODAY()))<=45),INT(YEARFRAC(G22,TODAY())),"") -> 43
A23: 12 | B23: солдат | C23: Федчун Віктор Миколайович | D23: Роменським РТЦК та СП Сумської обл. 24.02.2026 | F23: Сумська | G23: 34105 | H23: 3410314912 | I23: військовий квиток | J23: АВ 949428 | L23: Сумська обл., Роменський р-н., смт. Липова Долина | M23: Сумська обл., Роменський р-н., смт. Липова Долина, вул. Коцюбинського, вул. 54 | N23: професійно- технічна | O23: Лебединський вище ПТУ, лісоруб 6 розряду | P23: лісоруб, 4 роки будівельник, 4 роки Права В, С | Q23: не одружений, брат: Федчун Сергій Миколайович, 1991, Сумська обл., Роменський р-н., смт. Липова Долина, вул. Коцюбинського, вул. 54, 0683750094 | R23: 0970428254 | Z23: =IF(C23="","",IF(S23="","ні","так")) -> ні | AA23: =IF(C23="","",IF(S23="","ні","так")) -> ні | AE23: Резерв КДШВ | AF23: =IF(INT(YEARFRAC(G23,TODAY()))<=30,INT(YEARFRAC(G23,TODAY())),"") | AG23: =IF(AND(INT(YEARFRAC(G23,TODAY()))>=31,INT(YEARFRAC(G23,TODAY()))<=35),INT(YEARFRAC(G23,TODAY())),"") -> 32 | AH23: =IF(AND(INT(YEARFRAC(G23,TODAY()))>=36,INT(YEARFRAC(G23,TODAY()))<=40),INT(YEARFRAC(G23,TODAY())),"") | AI23: =IF(AND(INT(YEARFRAC(G23,TODAY()))>=41,INT(YEARFRAC(G23,TODAY()))<=45),INT(YEARFRAC(G23,TODAY())),"")
A24: 13 | B24: солдат | C24: Сомок Олег Михайлович | F24: Сумська | G24: 29565 | H24: 2956415491 | I24: військовий квиток | J24: №260420231352231200025/1 Від 25.02.2026 | K24: МА 348221 Конотопським МВУМВС України в Сумській обл., 16.12.1997 | L24: Сумська обл., м. Конотоп | M24: Сумська обл., м. Конотоп, вул. Весняна, буд. 38 | N24: професійно- технічна | O24: Конотопське СПУ №33, 1999, електрик | P24: слюсар, 20 років, Права - | Q24: не одружений, мати: Сомок Ганна Іванівна, 1954, Сумська обл., м. Конотоп, вул. Весняна, буд. 38, 0960747545 | R24: 0985882439 | Z24: =IF(C24="","",IF(S24="","ні","так")) -> ні | AA24: =IF(C24="","",IF(S24="","ні","так")) -> ні | AE24: Резерв КДШВ | AF24: =IF(INT(YEARFRAC(G24,TODAY()))<=30,INT(YEARFRAC(G24,TODAY())),"") | AG24: =IF(AND(INT(YEARFRAC(G24,TODAY()))>=31,INT(YEARFRAC(G24,TODAY()))<=35),INT(YEARFRAC(G24,TODAY())),"") | AH24: =IF(AND(INT(YEARFRAC(G24,TODAY()))>=36,INT(YEARFRAC(G24,TODAY()))<=40),INT(YEARFRAC(G24,TODAY())),"") | AI24: =IF(AND(INT(YEARFRAC(G24,TODAY()))>=41,INT(YEARFRAC(G24,TODAY()))<=45),INT(YEARFRAC(G24,TODAY())),"") -> 45
A25: 14 | B25: солдат | C25: Стожок Єгор Сергійович | D25: Конотопським РТЦК та СП 23.02.2026 | F25: Сумська | G25: 32750 | H25: 3274916995 | I25: військовий квиток | J25: АВ 967825 | L25: м. Чернігів | M25: Сумська обл., Конотопський р-н., м. Кровелець, 2 пров. Ялинівський, буд. 35 | N25: вища | O25: Глуховський педагогічний інститут, 2012, фіз. Виховання | P25: слюсар з ремонту колісних ТЗ, 8 років Права В, С | Q25: одружений, дружина Стожок Вікторія Вікторівна, Київська обл., м. Бровари, 0969150964 | R25: не надано | Z25: =IF(C25="","",IF(S25="","ні","так")) -> ні | AA25: =IF(C25="","",IF(S25="","ні","так")) -> ні | AD25: III Rh + | AE25: Резерв КДШВ | AF25: =IF(INT(YEARFRAC(G25,TODAY()))<=30,INT(YEARFRAC(G25,TODAY())),"") | AG25: =IF(AND(INT(YEARFRAC(G25,TODAY()))>=31,INT(YEARFRAC(G25,TODAY()))<=35),INT(YEARFRAC(G25,TODAY())),"") | AH25: =IF(AND(INT(YEARFRAC(G25,TODAY()))>=36,INT(YEARFRAC(G25,TODAY()))<=40),INT(YEARFRAC(G25,TODAY())),"") -> 36 | AI25: =IF(AND(INT(YEARFRAC(G25,TODAY()))>=41,INT(YEARFRAC(G25,TODAY()))<=45),INT(YEARFRAC(G25,TODAY())),"")
A26: 15 | B26: старший солдат | C26: Тернюк Андрій Олексійович | D26: Сумським МТЦК та СП 22.02.2026 | F26: Сумська | G26: 34749 | H26: 3474808514 | I26: військовий квиток | J26: АВ 218937 | K26: 004849962 виданий 5920 16.06.2020 | L26: Сумська обл., м. Лебедин | M26: Сумська обл., м. Лебедин, вул. Охтирська, буд. 61 | N26: професійно- технічна | O26: Маловисторопський державний аграрний коледж СНАУ, агроном | P26: водій, 2 роки Права В, С | Q26: не одружений, брат: Тернюк Микола Олексійович, Сумська обл., м. Лебедин, вул. Охтирська, буд. 61, 0660299100 | R26: 0664628112 | Z26: =IF(C26="","",IF(S26="","ні","так")) -> ні | AA26: =IF(C26="","",IF(S26="","ні","так")) -> ні | AD26: II Rh + | AE26: Резерв КДШВ | AF26: =IF(INT(YEARFRAC(G26,TODAY()))<=30,INT(YEARFRAC(G26,TODAY())),"") | AG26: =IF(AND(INT(YEARFRAC(G26,TODAY()))>=31,INT(YEARFRAC(G26,TODAY()))<=35),INT(YEARFRAC(G26,TODAY())),"") -> 31 | AH26: =IF(AND(INT(YEARFRAC(G26,TODAY()))>=36,INT(YEARFRAC(G26,TODAY()))<=40),INT(YEARFRAC(G26,TODAY())),"") | AI26: =IF(AND(INT(YEARFRAC(G26,TODAY()))>=41,INT(YEARFRAC(G26,TODAY()))<=45),INT(YEARFRAC(G26,TODAY())),"")
A27: 16 | B27: солдат | C27: Кальченко Олександр Іванович | D27: Сумським МТЦК та СП 23.02.26 | F27: Сумська | G27: 29245 | H27: 2924420790 | I27: військовий квиток | J27: АВ 967887 | L27: Сумська обл., м. Білопілля | M27: м. Суми, вул. Харківська, буд. 28/1, кв. 46 | N27: вища | O27: АМСУ, м. Дніпро, 2009, облік, аудит, правознавство | P27: інспектор митниці, 14 років ФОП, 8 років Права В | Q27: одружений, дружина: Кальченко Вікторія Володимирівна, м. Суми, пр. Перемоги, буд. 51, кв. 132, 0958425595 | R27: 0675997775 | Z27: =IF(C27="","",IF(S27="","ні","так")) -> ні | AA27: =IF(C27="","",IF(S27="","ні","так")) -> ні | AD27: II Rh + | AE27: Резерв КДШВ | AF27: =IF(INT(YEARFRAC(G27,TODAY()))<=30,INT(YEARFRAC(G27,TODAY())),"") | AG27: =IF(AND(INT(YEARFRAC(G27,TODAY()))>=31,INT(YEARFRAC(G27,TODAY()))<=35),INT(YEARFRAC(G27,TODAY())),"") | AH27: =IF(AND(INT(YEARFRAC(G27,TODAY()))>=36,INT(YEARFRAC(G27,TODAY()))<=40),INT(YEARFRAC(G27,TODAY())),"") | AI27: =IF(AND(INT(YEARFRAC(G27,TODAY()))>=41,INT(YEARFRAC(G27,TODAY()))<=45),INT(YEARFRAC(G27,TODAY())),"")
A28: 17 | B28: солдат | C28: Пашков Денис Геннадійович | D28: Слобідським РТЦК та СП м. Харків 27.02.2026 | F28: Харківська | G28: 32540 | H28: 3253904779 | I28: військовий квиток | J28: СО 316222 | K28: МН773485 Орджонікідзевським РВХМУУМВС України в Харківській обл. 16.06.2005 | L28: м. Харків | M28: м. Харків, просп. Індустріальний, буд. 31, кв. 28 | N28: вища | O28: Академія НГУ, 2008, командник, менеджер організації | P28: реабілітолог, 15 років, Права - | Q28: не одружений, мати: Пашкова Ніна Опанасівна, 1954, м. Харків, просп. Індустріальний, буд. 31, кв. 28, 0661600161 | R28: 0669166227 | Z28: =IF(C28="","",IF(S28="","ні","так")) -> ні | AA28: =IF(C28="","",IF(S28="","ні","так")) -> ні | AD28: I Rh + | AE28: Резерв КДШВ | AF28: =IF(INT(YEARFRAC(G28,TODAY()))<=30,INT(YEARFRAC(G28,TODAY())),"") | AG28: =IF(AND(INT(YEARFRAC(G28,TODAY()))>=31,INT(YEARFRAC(G28,TODAY()))<=35),INT(YEARFRAC(G28,TODAY())),"") | AH28: =IF(AND(INT(YEARFRAC(G28,TODAY()))>=36,INT(YEARFRAC(G28,TODAY()))<=40),INT(YEARFRAC(G28,TODAY())),"") -> 37 | AI28: =IF(AND(INT(YEARFRAC(G28,TODAY()))>=41,INT(YEARFRAC(G28,TODAY()))<=45),INT(YEARFRAC(G28,TODAY())),"")
A29: 18 | B29: солдат | C29: Бойко Геннадій Володимирович | F29: Сумська | G29: 29909 | H29: 2990807554 | I29: військовий квиток | J29: №250220261352624000001/2 Від 25.02.2026 | K29: МА 583941 Охтирським МРВУМВС України в Сумській обл., 04.01.1999 | L29: Сумська обл., м. Охтирка, пров. Весняний, буд. 15а | M29: Сумська обл., м. Охтирка, вул. Київська, буд. 107, кв. 57 | N29: професійно- технічна | O29: ПТУ №7, м. Охтирка, 1999, маляр-штукатур | P29: будівельник, 20 років Права В, С | Q29: не одружений, мати: Бойко Алла Миколаївна, 1960, Сумська обл., м. Охтирка, пров. Весняний, буд. 15а | R29: 0665156739 | Z29: =IF(C29="","",IF(S29="","ні","так")) -> ні | AA29: =IF(C29="","",IF(S29="","ні","так")) -> ні | AD29: II Rh + | AE29: Резерв КДШВ | AF29: =IF(INT(YEARFRAC(G29,TODAY()))<=30,INT(YEARFRAC(G29,TODAY())),"") | AG29: =IF(AND(INT(YEARFRAC(G29,TODAY()))>=31,INT(YEARFRAC(G29,TODAY()))<=35),INT(YEARFRAC(G29,TODAY())),"") | AH29: =IF(AND(INT(YEARFRAC(G29,TODAY()))>=36,INT(YEARFRAC(G29,TODAY()))<=40),INT(YEARFRAC(G29,TODAY())),"") | AI29: =IF(AND(INT(YEARFRAC(G29,TODAY()))>=41,INT(YEARFRAC(G29,TODAY()))<=45),INT(YEARFRAC(G29,TODAY())),"") -> 44
A30: 19 | B30: солдат | C30: Шевченко Роман Сергійович | D30: Сумським МТЦК та СП 24.02.2026 | F30: Сумська | G30: 34916 | H30: 3491510514 | I30: військовий квиток | J30: АВ 967903 | L30: м. Суми | M30: м. Суми, вул. Р. Отаманюка, буд. 57, кв. 1 | N30: професійно- технічна | O30: ПТУ №2 м. Суми, 2011, модельєр | P30: різноробочий, 7 років Права - | Q30: не одружений, батько: Шевченко Сергій Григорович, м. Суми, вул. Р. Отаманюка, буд. 57, кв. 1, 0667980740 | R30: не надано | Z30: =IF(C30="","",IF(S30="","ні","так")) -> ні | AA30: =IF(C30="","",IF(S30="","ні","так")) -> ні | AD30: III Rh + | AE30: Резерв КДШВ | AF30: =IF(INT(YEARFRAC(G30,TODAY()))<=30,INT(YEARFRAC(G30,TODAY())),"") -> 30 | AG30: =IF(AND(INT(YEARFRAC(G30,TODAY()))>=31,INT(YEARFRAC(G30,TODAY()))<=35),INT(YEARFRAC(G30,TODAY())),"") | AH30: =IF(AND(INT(YEARFRAC(G30,TODAY()))>=36,INT(YEARFRAC(G30,TODAY()))<=40),INT(YEARFRAC(G30,TODAY())),"") | AI30: =IF(AND(INT(YEARFRAC(G30,TODAY()))>=41,INT(YEARFRAC(G30,TODAY()))<=45),INT(YEARFRAC(G30,TODAY())),"")
A31: 20 | B31: солдат | C31: Кваша Сергій Анатолійович | D31: Роменським РТЦК та СП Сумської обл. 27.02.2026 | F31: Сумська | G31: 32935 | H31: 3293410951 | I31: військовий квиток | J31: СО 728605 | K31: МВ 341636 Роменським МРВУМВС України в Сумській обл., 10.01.2007 | L31: Сумська обл., Роменський р-н., с. Анастасівка | M31: Сумська обл., Роменський р-н., с. Анастасівка, вул. Паркова, буд. 6 | N31: професійно- технічна | O31: Глинське ПТУ, 2009, слюсар, зварювальник | P31: доглядач за тваринами, 6 років Права - | Q31: не одружений, мати: Кваша Надія Іванівна, 1964, Сумська обл., Роменський р-н., с. Анастасівка, вул. Паркова, буд. 6, 0987449092 | R31: 0686718122 | Z31: =IF(C31="","",IF(S31="","ні","так")) -> ні | AA31: =IF(C31="","",IF(S31="","ні","так")) -> ні | AD31: II Rh + | AE31: Резерв КДШВ | AF31: =IF(INT(YEARFRAC(G31,TODAY()))<=30,INT(YEARFRAC(G31,TODAY())),"") | AG31: =IF(AND(INT(YEARFRAC(G31,TODAY()))>=31,INT(YEARFRAC(G31,TODAY()))<=35),INT(YEARFRAC(G31,TODAY())),"") | AH31: =IF(AND(INT(YEARFRAC(G31,TODAY()))>=36,INT(YEARFRAC(G31,TODAY()))<=40),INT(YEARFRAC(G31,TODAY())),"") -> 36 | AI31: =IF(AND(INT(YEARFRAC(G31,TODAY()))>=41,INT(YEARFRAC(G31,TODAY()))<=45),INT(YEARFRAC(G31,TODAY())),"")
A32: 21 | B32: солдат | C32: Пархоменко Володимир Анатолійович | D32: Конотопським РТЦК та СП 21.02.2026 | F32: Сумська | G32: 31410 | H32: 3140913593 | I32: військовий квиток | J32: АВ 967840 | K32: МВ 078689 Крокевецьким РВ УМВС України в Сумській обл 22.10.2002 | L32: Сумська обл., Конотопський р-н., м. Кролевець | M32: Сумська обл., Конотопський р-н., с. Зазірки, вул. Маричанівка, буд. 12 | N32: професійно- технічна | O32: ПТУ №23 м. Київ, муляр-штукатур | P32: будівельник, 20 років, Права - | Q32: не одружений, брат: Пархоменко Юрій Анатолійович, 1988, м. Кролевець | R32: 0685057883 | Z32: =IF(C32="","",IF(S32="","ні","так")) -> ні | AA32: =IF(C32="","",IF(S32="","ні","так")) -> ні | AE32: Резерв КДШВ | AF32: =IF(INT(YEARFRAC(G32,TODAY()))<=30,INT(YEARFRAC(G32,TODAY())),"") | AG32: =IF(AND(INT(YEARFRAC(G32,TODAY()))>=31,INT(YEARFRAC(G32,TODAY()))<=35),INT(YEARFRAC(G32,TODAY())),"") | AH32: =IF(AND(INT(YEARFRAC(G32,TODAY()))>=36,INT(YEARFRAC(G32,TODAY()))<=40),INT(YEARFRAC(G32,TODAY())),"") -> 40 | AI32: =IF(AND(INT(YEARFRAC(G32,TODAY()))>=41,INT(YEARFRAC(G32,TODAY()))<=45),INT(YEARFRAC(G32,TODAY())),"")
A33: 22 | B33: солдат | C33: Войку Олег Георгійович | D33: Новобоварським РТЦК та СП 20.02.2026 | F33: Харківська | G33: 32488 | H33: 3248704812 | I33: військовий квиток | J33: АГ 330242 | K33: МН 730517 Московським РВ ХМУ УМВС України в Харківській обл. 03.03.2005 | L33: м. Харків | M33: м. Харків, просп. Ювілейний, буд. 72, кв. 107 | N33: вища | O33: ХНАМГ, 2004, менеджер організації міського господарства | P33: голова правління ОСББ, 2 роки, менеджер з продажів, 7 років Права, В | Q33: одружений, дружина: Бондаренко Наталія Володимирівна, 1980, Харківська обл., м. Чугуїв, вул. Харківська, буд. 105, кв. 112 | R33: 0957796772 | Z33: =IF(C33="","",IF(S33="","ні","так")) -> ні | AA33: =IF(C33="","",IF(S33="","ні","так")) -> ні | AE33: Резерв КДШВ | AF33: =IF(INT(YEARFRAC(G33,TODAY()))<=30,INT(YEARFRAC(G33,TODAY())),"") | AG33: =IF(AND(INT(YEARFRAC(G33,TODAY()))>=31,INT(YEARFRAC(G33,TODAY()))<=35),INT(YEARFRAC(G33,TODAY())),"") | AH33: =IF(AND(INT(YEARFRAC(G33,TODAY()))>=36,INT(YEARFRAC(G33,TODAY()))<=40),INT(YEARFRAC(G33,TODAY())),"") -> 37 | AI33: =IF(AND(INT(YEARFRAC(G33,TODAY()))>=41,INT(YEARFRAC(G33,TODAY()))<=45),INT(YEARFRAC(G33,TODAY())),"")
A34: 23 | B34: солдат | C34: Бруяка Максим Юрійович | D34: Сумським МТЦК та СП 25.12.2025 | F34: Сумська | G34: 35366 | H34: 3536512192 | I34: військовий квиток | J34: АВ 960514 | K34: МВ 516155 Ковпаківським РВ м.Суми УДМС України в Сумській обл. 18.12.2012 | L34: Р | M34: м. Суми, вул. Засумська буд. 16, кв. 45 | N34: базова загальна середня | O34: Школа №12, м. Суми | P34: різноробочий, 1 рік Права - | Q34: не одружений, мати: Бруяка Наталія Володимирівна, 1976, м. Суми, вул. Засумська буд. 16, кв. 45, 0664739829 | R34: 0502773062 | Z34: =IF(C34="","",IF(S34="","ні","так")) -> ні | AA34: =IF(C34="","",IF(S34="","ні","так")) -> ні | AD34: II Rh - | AE34: Резерв КДШВ | AF34: =IF(INT(YEARFRAC(G34,TODAY()))<=30,INT(YEARFRAC(G34,TODAY())),"") -> 29 | AG34: =IF(AND(INT(YEARFRAC(G34,TODAY()))>=31,INT(YEARFRAC(G34,TODAY()))<=35),INT(YEARFRAC(G34,TODAY())),"") | AH34: =IF(AND(INT(YEARFRAC(G34,TODAY()))>=36,INT(YEARFRAC(G34,TODAY()))<=40),INT(YEARFRAC(G34,TODAY())),"") | AI34: =IF(AND(INT(YEARFRAC(G34,TODAY()))>=41,INT(YEARFRAC(G34,TODAY()))<=45),INT(YEARFRAC(G34,TODAY())),"")
A35: 24 | B35: солдат | C35: Коренєв Віталій Віталійович | D35: Конотопським РТЦК та СП, 24.02.2026 | F35: Сумська | G35: 32563 | H35: 3256220573 | I35: військовий квиток | J35: АВ 949492 | K35: закордоний паспорт FM731032 виданий 5901 05.04.2018 | L35: м. Суми | M35: м. Суми, вул. Роменська, буд. 98, кв. 48 | N35: базова загальна середня | O35: Школа №1, м. Суми | P35: муляр, 19 років Права В | Q35: не одружений, батько: Коренєв Віталій Олексійович, 1962, м. Суми, вул. Роменська, буд. 98, кв. 48, 0507243078 | R35: 0661495776 | Z35: =IF(C35="","",IF(S35="","ні","так")) -> ні | AA35: =IF(C35="","",IF(S35="","ні","так")) -> ні | AD35: IV Rh - | AE35: Резерв КДШВ | AF35: =IF(INT(YEARFRAC(G35,TODAY()))<=30,INT(YEARFRAC(G35,TODAY())),"") | AG35: =IF(AND(INT(YEARFRAC(G35,TODAY()))>=31,INT(YEARFRAC(G35,TODAY()))<=35),INT(YEARFRAC(G35,TODAY())),"") | AH35: =IF(AND(INT(YEARFRAC(G35,TODAY()))>=36,INT(YEARFRAC(G35,TODAY()))<=40),INT(YEARFRAC(G35,TODAY())),"") -> 37 | AI35: =IF(AND(INT(YEARFRAC(G35,TODAY()))>=41,INT(YEARFRAC(G35,TODAY()))<=45),INT(YEARFRAC(G35,TODAY())),"")
A36: 25 | B36: солдат | C36: Штиб Олександр Вʼячеславович | D36: Сумським МТЦК та СП м.Суми 25.02.2026 | F36: Сумська | G36: 33287 | H36: 3328601274 | I36: військовий квиток | J36: АГ 021601 | K36: МВ 340682 Ковпаківським ВМСМВУМВС України в Сумській обл. 03.04.2007 | L36: м. Суми | M36: м. Суми, вул. Засумська буд. 12а, кв. 4 | N36: базова загальна середня | O36: Школа №16, м. Суми | P36: листоноша, 4 роки Права - | Q36: не одружений, мати: Коновал Ольга Миколаївна, 1972, м. Суми, вул. Засумська буд. 12а, кв. 4 | R36: не надано | Z36: =IF(C36="","",IF(S36="","ні","так")) -> ні | AA36: =IF(C36="","",IF(S36="","ні","так")) -> ні | AE36: Резерв КДШВ | AF36: =IF(INT(YEARFRAC(G36,TODAY()))<=30,INT(YEARFRAC(G36,TODAY())),"") | AG36: =IF(AND(INT(YEARFRAC(G36,TODAY()))>=31,INT(YEARFRAC(G36,TODAY()))<=35),INT(YEARFRAC(G36,TODAY())),"") -> 35 | AH36: =IF(AND(INT(YEARFRAC(G36,TODAY()))>=36,INT(YEARFRAC(G36,TODAY()))<=40),INT(YEARFRAC(G36,TODAY())),"") | AI36: =IF(AND(INT(YEARFRAC(G36,TODAY()))>=41,INT(YEARFRAC(G36,TODAY()))<=45),INT(YEARFRAC(G36,TODAY())),"")
A37: 26 | B37: солдат | C37: Клименченко Максим Анатолійович | D37: Шосткинським РТЦК та СП 24.02.2026 | F37: Сумська | G37: 32877 | H37: 3287611732 | I37: військовий квиток | J37: АВ 967980 | K37: МВ 302722 Глухівським МРВ УМВС України в Сумській обл. 07.07.2006 | L37: Сумська обл., м. Глухів | M37: Сумська обл., м. Глухів.ю вул. Франка, буд. 39 | N37: професійно- технічна | O37: ПТУ, м. Глухів, муляр, печник, штукатур | P37: слюсар, 9 років Права - | Q37: не одружений, мати: Клименченко Інна Петрівна, 1972, Сумська обл., м. Глухів.ю вул. Франка, буд. 39, 0956028336 | R37: 0667570803 | Z37: =IF(C37="","",IF(S37="","ні","так")) -> ні | AA37: =IF(C37="","",IF(S37="","ні","так")) -> ні | AD37: I Rh + | AE37: Резерв КДШВ | AF37: =IF(INT(YEARFRAC(G37,TODAY()))<=30,INT(YEARFRAC(G37,TODAY())),"") | AG37: =IF(AND(INT(YEARFRAC(G37,TODAY()))>=31,INT(YEARFRAC(G37,TODAY()))<=35),INT(YEARFRAC(G37,TODAY())),"") | AH37: =IF(AND(INT(YEARFRAC(G37,TODAY()))>=36,INT(YEARFRAC(G37,TODAY()))<=40),INT(YEARFRAC(G37,TODAY())),"") -> 36 | AI37: =IF(AND(INT(YEARFRAC(G37,TODAY()))>=41,INT(YEARFRAC(G37,TODAY()))<=45),INT(YEARFRAC(G37,TODAY())),"")
A38: 27 | B38: солдат | C38: Сорокін Олег Павлович | D38: Новобаварським РТЦК та СП 20.02.2026 | E38: міста Харкова | F38: Харківська | G38: 25732 | H38: 2573101897 | I38: військовий квиток | J38: АГ 330243 | K38: МК 604189 Фрунзенським РВХМУУМВС України в Харківській обл. 24.09.1997 | L38: Харків, Харківська обл., | M38: Харків, Харківська обл., вул. Гіївська,б.7.кв.2 | N38: професійно- технічна | O38: Харківський Електромеханічний технікум, 1988, технік-електрик | P38: ЧП,ковіст(соміл'є). Глава відділу цивільного захисту Церкунівської сількської військової адмінімтрації, прав ні | Q38: одружений Варнавська Людмила Іванівна - 1976 - 0505088438 | R38: 0966052073 | AE38: Резерв КДШВ | AF38: =IF(INT(YEARFRAC(G38,TODAY()))<=30,INT(YEARFRAC(G38,TODAY())),"") | AG38: =IF(AND(INT(YEARFRAC(G38,TODAY()))>=31,INT(YEARFRAC(G38,TODAY()))<=35),INT(YEARFRAC(G38,TODAY())),"") | AH38: =IF(AND(INT(YEARFRAC(G38,TODAY()))>=36,INT(YEARFRAC(G38,TODAY()))<=40),INT(YEARFRAC(G38,TODAY())),"") | AI38: =IF(AND(INT(YEARFRAC(G38,TODAY()))>=41,INT(YEARFRAC(G38,TODAY()))<=45),INT(YEARFRAC(G38,TODAY())),"")
A39: 28 | B39: солдат | C39: Князєв Олексадр Олексійович | D39: Сумським РтЦК та СП Сумської обл., 24.02.2026 | F39: Сумська | G39: 30691 | H39: 3069007313 | I39: військовий квиток | J39: МО 533842 | K39: МВ 580136 Лебединським МСУДМС України в Сумській обл., 18.03.2015 | L39: Сумська обл., Сумський р-й, с.Першотравневе | M39: м. Лебедин, вул. Капранів б.24, Сумська обл. | N39: професійно- технічна | O39: ПТУ34, 2002, будівельник | P39: будівельник, кат.В | Q39: одружений Дружина Князєва Анна Миколаївна - 1990 - 0988266864 | R39: 0984312805 | Z39: =IF(C39="","",IF(S39="","ні","так")) -> ні | AA39: =IF(C39="","",IF(S39="","ні","так")) -> ні | AD39: I Rh + | AE39: Резерв КДШВ | AF39: =IF(INT(YEARFRAC(G39,TODAY()))<=30,INT(YEARFRAC(G39,TODAY())),"") | AG39: =IF(AND(INT(YEARFRAC(G39,TODAY()))>=31,INT(YEARFRAC(G39,TODAY()))<=35),INT(YEARFRAC(G39,TODAY())),"") | AH39: =IF(AND(INT(YEARFRAC(G39,TODAY()))>=36,INT(YEARFRAC(G39,TODAY()))<=40),INT(YEARFRAC(G39,TODAY())),"") | AI39: =IF(AND(INT(YEARFRAC(G39,TODAY()))>=41,INT(YEARFRAC(G39,TODAY()))<=45),INT(YEARFRAC(G39,TODAY())),"") -> 42
A40: 29 | B40: сержант | C40: Кущ Андрій Петрович | D40: Сумським МТЦК та СП 24.02.2026 | F40: Сумська | G40: 28934 | H40: 2893300213 | I40: військовий квиток | J40: УН 0497799 | K40: МВ 429139 Буринським РВГУМВС України в Сумській обл., 28.01.2010 | L40: Сумська обл., Буринськийр-н, с. Михайлівка, вул. Лесі Українки 33 | M40: м. Суми, вул. Ковпака, б. 85, кв.52 | N40: повна загальна середня | O40: Михайлівська ЗОШ Сумська обл. | P40: електрогазозварник | Q40: одружений Кущ Світлана Олександрівна - 1987 - 0990357418 | R40: 0669213337 | Z40: =IF(C40="","",IF(S40="","ні","так")) -> ні | AA40: =IF(C40="","",IF(S40="","ні","так")) -> ні | AD40: II Rh + | AE40: Резерв КДШВ | AF40: =IF(INT(YEARFRAC(G40,TODAY()))<=30,INT(YEARFRAC(G40,TODAY())),"") | AG40: =IF(AND(INT(YEARFRAC(G40,TODAY()))>=31,INT(YEARFRAC(G40,TODAY()))<=35),INT(YEARFRAC(G40,TODAY())),"") | AH40: =IF(AND(INT(YEARFRAC(G40,TODAY()))>=36,INT(YEARFRAC(G40,TODAY()))<=40),INT(YEARFRAC(G40,TODAY())),"") | AI40: =IF(AND(INT(YEARFRAC(G40,TODAY()))>=41,INT(YEARFRAC(G40,TODAY()))<=45),INT(YEARFRAC(G40,TODAY())),"")
A41: 30 | B41: старший сержант | C41: Колодченко Олег Григорович | D41: Індустріальним РТЦК та СП 20.02.2026 | E41: міста Харкова | F41: Харківська | G41: 32942 | H41: 3294101893 | I41: військовий квиток | J41: СО 621238 | K41: МВ 321644 Великописарівським РВУМВС України в Сумській обл. 25.07.2006 | L41: Сумська обл., Ахтирський р-н, с. Попівка | M41: м. Чугуїв, вул. Піщана 48 | N41: професійно- технічна | O41: Велекописерівська філія Ахтирскього профліцею, Сумська обл., смт.Велика Писарівка 2008 | P41: війсковий трахторист В,С,С1 | Q41: одружений Комодченко Єлена Ігорівна - 1989 - 0980437691 - м. Одеса | R41: 0950483028 | Z41: =IF(C41="","",IF(S41="","ні","так")) -> ні | AA41: =IF(C41="","",IF(S41="","ні","так")) -> ні | AD41: III Rh + | AE41: Резерв КДШВ | AF41: =IF(INT(YEARFRAC(G41,TODAY()))<=30,INT(YEARFRAC(G41,TODAY())),"") | AG41: =IF(AND(INT(YEARFRAC(G41,TODAY()))>=31,INT(YEARFRAC(G41,TODAY()))<=35),INT(YEARFRAC(G41,TODAY())),"") -> 35 | AH41: =IF(AND(INT(YEARFRAC(G41,TODAY()))>=36,INT(YEARFRAC(G41,TODAY()))<=40),INT(YEARFRAC(G41,TODAY())),"") | AI41: =IF(AND(INT(YEARFRAC(G41,TODAY()))>=41,INT(YEARFRAC(G41,TODAY()))<=45),INT(YEARFRAC(G41,TODAY())),"")
A42: 31 | B42: солдат | C42: Забайрачний Антон Валерійович | D42: Сумським МТЦК та СП 22.02.2026 | F42: Сумська | G42: 32647 | H42: 3264613873 | I42: військовий квиток | J42: АВ 949421 | K42: ЕН 435216 Северодонецьким МВУМВС України в Луганській обл. 23.07.2005 | L42: м. Суми | M42: м. Суми, площа Пришибська б.16, кв.8а | N42: повна загальна середня | O42: МВК №7 м. Суми 2004 | P42: бізнесмен | Q42: не одружений мати Забайрачна Ольга Анатоліївна - 1965 - Чехія | R42: 0994827403 | Z42: =IF(C42="","",IF(S42="","ні","так")) -> ні | AA42: =IF(C42="","",IF(S42="","ні","так")) -> ні | AD42: II Rh + | AE42: Резерв КДШВ | AF42: =IF(INT(YEARFRAC(G42,TODAY()))<=30,INT(YEARFRAC(G42,TODAY())),"") | AG42: =IF(AND(INT(YEARFRAC(G42,TODAY()))>=31,INT(YEARFRAC(G42,TODAY()))<=35),INT(YEARFRAC(G42,TODAY())),"") | AH42: =IF(AND(INT(YEARFRAC(G42,TODAY()))>=36,INT(YEARFRAC(G42,TODAY()))<=40),INT(YEARFRAC(G42,TODAY())),"") -> 36 | AI42: =IF(AND(INT(YEARFRAC(G42,TODAY()))>=41,INT(YEARFRAC(G42,TODAY()))<=45),INT(YEARFRAC(G42,TODAY())),"")
...

Sheet Settings
A1: базова загальна середня | C1: Придатний до військової служби за контрактом. Придатний до служби на підводних човнах, на надводних кораблях, у морській піхоті, Десантно-штурмових військах, спеціальних спорудах, підрозділах спеціального призначення | J1: Вінницька | K1: солдат | L1: Військово-обліковий документ | M1: I Rh -
A2: повна загальна середня | C2: Придатний до військової служби за контрактом у військових частинах забезпечення ТЦК та СП, ВВНЗ, навчальних центрах, закладах (установах), медичних підрозділах логістики, зв'язку, оперативного забезпечення, охорони | E2: Вінниця | F2: 1 відділ Хмільницький РТЦК | G2: першого відділу Хмільницького районного | H2: Вінницька | I2: Вінницького ОТЦК та СП | J2: Волинь | K2: старший солдат | L2: Військовий квиток | M2: I Rh +
A3: професійно- технічна | C3: Придатний до військової служби в ДШВ | E3: Вінниця | F3: 2 відділ Хмільницький РТЦК | G3: другого відділу Хмільницького районного | H3: Вінницька | I3: Вінницького ОТЦК та СП | J3: Дніпро | K3: молодший сержант | L3: Посвідчення про приписку до призовної дільниці | M3: II Rh -
A4: вища | C4: Придатний до військової служби за контрактом | E4: Вінниця | F4: 7 відділ Вінницький РТЦК | G4: сьомого відділу Вінницького районного | H4: Вінницька | I4: Вінницького ОТЦК та СП | J4: Донецьк | K4: сержант | L4: Обліково-Послужна Картка | M4: II Rh +
C5: Придатний до військової служби | E5: Вінниця | F5: Вінницький ОМТЦК | G5: Вінницького об'єднаного міського | H5: Вінницька | I5: Вінницького ОТЦК та СП | J5: Житомир | K5: старший сержант | L5: Тимчасове посвідчення військовозобов'язаного | M5: III Rh -
E6: Вінниця | F6: 1 відділ Вінницький РТЦК | G6: першого відділу Вінницького районного | H6: Вінницька | I6: Вінницького ОТЦК та СП | J6: Закарпаття | K6: штаб-сержант | L6: припис | M6: III Rh +
E7: Вінниця | F7: 1 відділ Жмеринський РТЦК | G7: першого відділу Жмеринського районного | H7: Вінницька | I7: Вінницького ОТЦК та СП | J7: Запоріжжя | K7: матрос | M7: IV Rh -
E8: Вінниця | F8: Тульчинський РТЦК | G8: Тульчинського районного | H8: Вінницька | I8: Вінницького ОТЦК та СП | J8: Івано-Франківськ | K8: старший матрос | M8: IV Rh +
E9: Вінниця | F9: Хмільницький РТЦК | G9: Хмільницького районного | H9: Вінницька | I9: Вінницького ОТЦК та СП | J9: Київ місто | K9: старшина
E10: Вінниця | F10: 1 відділ Могилів-Подільський РТЦК | G10: першого відділу Могилів-Подільського районного | H10: Вінницька | I10: Вінницького ОТЦК та СП | J10: Київ обл | K10: старшина I статті
E11: Вінниця | F11: 1 відділ Тульчинський РТЦК | G11: першого відділу Тульчинського районного | H11: Вінницька | I11: Вінницького ОТЦК та СП | J11: Кропивницький | K11: головний старшина
E12: Вінниця | F12: 2 відділ Вінницький РТЦК | G12: другого відділу Вінницького районного | H12: Вінницька | I12: Вінницького ОТЦК та СП | J12: Луганськ | K12: прапорщик
E13: Вінниця | F13: 2 відділ Жмеринський РТЦК | G13: другого відділу Жмеринського районного | H13: Вінницька | I13: Вінницького ОТЦК та СП | J13: Львів
E14: Вінниця | F14: 2 відділ Могилів-Подільський РТЦК | G14: другого відділу Могилів-Подільського районного | H14: Вінницька | I14: Вінницького ОТЦК та СП | J14: Миколаїв
E15: Вінниця | F15: 2 відділ Тульчинський РТЦК | G15: другого відділу Тульчинського районного | H15: Вінницька | I15: Вінницького ОТЦК та СП | J15: Одеса
E16: Вінниця | F16: 3 відділ Вінницький РТЦК | G16: третього відділу Вінницького районного | H16: Вінницька | I16: Вінницького ОТЦК та СП | J16: Полтава
E17: Вінниця | F17: 3 відділ Могилів-Подільський РТЦК | G17: третього відділу Могилів-Подільського районного | H17: Вінницька | I17: Вінницького ОТЦК та СП | J17: Рівне
E18: Вінниця | F18: 3 відділ Тульчинський РТЦК | G18: третього відділу Тульчинського районного | H18: Вінницька | I18: Вінницького ОТЦК та СП | J18: Суми
E19: Вінниця | F19: 4 відділ Вінницький РТЦК | G19: четвертого відділу Вінницького районного | H19: Вінницька | I19: Вінницького ОТЦК та СП | J19: Тернопіль
E20: Вінниця | F20: 5 відділ Вінницький РТЦК | G20: п'ятого відділу Вінницького районного | H20: Вінницька | I20: Вінницького ОТЦК та СП | J20: Харків
E21: Вінниця | F21: 6 відділ Вінницький РТЦК | G21: шостого відділу Вінницького районного | H21: Вінницька | I21: Вінницького ОТЦК та СП | J21: Херсон
E22: Вінниця | F22: Вінницький РТЦК | G22: Вінницького районного | H22: Вінницька | I22: Вінницького ОТЦК та СП | J22: Хмельницький
E23: Вінниця | F23: Гайсинський РТЦК | G23: Гайсинського районного | H23: Вінницька | I23: Вінницького ОТЦК та СП | J23: Черкаси
E24: Вінниця | F24: 2 відділ Гайсинський РТЦК | G24: другого відділу Гайсинського районного | H24: Вінницька | I24: Вінницького ОТЦК та СП | J24: Чернівці
E25: Вінниця | F25: Жмеринський РТЦК | G25: Жмеринського районного | H25: Вінницька | I25: Вінницького ОТЦК та СП | J25: Чернігів
E26: Вінниця | F26: Могилів-Подільський РТЦК | G26: Могилів-Подільського районного | H26: Вінницька | I26: Вінницького ОТЦК та СП
E27: Волинь | F27: 1 відділ Камінь-Каширський РТЦК | G27: першого відділу Камінь-Каширського районного | H27: Волинська | I27: Волинського ОТЦК та СП
E28: Волинь | F28: 1 відділ Ковельський РТЦК | G28: першого відділу Ковельського районного | H28: Волинська | I28: Волинського ОТЦК та СП
E29: Волинь | F29: 2 відділ Ковельський РТЦК | G29: другого відділу Ковельського районного | H29: Волинська | I29: Волинського ОТЦК та СП
E30: Волинь | F30: 4 відділ Ковельський РТЦК | G30: четвертого відділу Ковельського районного | H30: Волинська | I30: Волинського ОТЦК та СП
E31: Волинь | F31: 3 відділ Ковельський РТЦК | G31: третього відділу Ковельського районного | H31: Волинська | I31: Волинського ОТЦК та СП
E32: Волинь | F32: Луцький ОМТЦК | G32: Луцького об'єднаного міського | H32: Волинська | I32: Волинського ОТЦК та СП
E33: Волинь | F33: 2 відділ Камінь-Каширський РТЦК | G33: другого відділу Камінь-Каширського районного | H33: Волинська | I33: Волинського ОТЦК та СП
E34: Волинь | F34: 1 відділ Луцький РТЦК | G34: першого відділу Луцького районного | H34: Волинська | I34: Волинського ОТЦК та СП
E35: Волинь | F35: 2 відділ Луцький РТЦК | G35: другого відділу Луцького районного | H35: Волинська | I35: Волинського ОТЦК та СП
E36: Волинь | F36: Волинський ОТЦК | G36: Волинського обласного | H36: Волинська | I36: Волинського ОТЦК та СП
E37: Волинь | F37: 2 відділ Володимир-Волинський РТЦК | G37: другого відділу Володимир-Волинського районного | H37: Волинська | I37: Волинського ОТЦК та СП
... E53: Дніпро | F53: 2 відділ Дніпровського РТЦК та СП | G53: другого відділу Дніпровського районного | H53: Дніпропетровська | I53: Дніпропетровського ОТЦК та СП
D54: міста Дніпра | E54: Дніпро | F54: Дніпровський РТЦК та СП | G54: Дніпровського районного | H54: Дніпропетровська | I54: Дніпропетровського ОТЦК та СП
D55: міста Дніпра | E55: Дніпро | F55: Індустріальний РТЦК та СП | G55: Індустріального районного | H55: Дніпропетровська | I55: Дніпропетровського ОТЦК та СП
...

Sheet перевірки
A2: Ахоян Артур Вазирович | C2: =основний!#REF! -> #VALUE! | E2: =C2=G2 -> #VALUE!
A3: Байрактар Василь Романович | C3: =основний!#REF! -> #VALUE! | E3: =C3=G3 -> #VALUE!
A4: Берлев Юлій Денисович | C4: =основний!#REF! -> #VALUE! | E4: =C4=G4 -> #VALUE!
A5: Біндіч Ігор Євгенійович | C5: =Основний!C12 -> Давиденко Богдан Миколайович | E5: =C5=G5 -> FALSE
A6: Борщ Іван Вікторович | C6: =Основний!C13 -> Петраш Віктор Володимирович | E6: =C6=G6 -> FALSE
A7: Бурачковський Максим Олегович | C7: =Основний!C14 -> Литвинко Олександр Сергійович | E7: =C7=G7 -> FALSE
A8: Бургела Олександр Олександрович | C8: =Основний!C15 -> Верба Володимир Олександрович | E8: =C8=G8 -> FALSE
A9: Войцишин Володимир Іванович | C9: =Основний!C16 -> Васильченко Сергій Анатолійович | E9: =C9=G9 -> FALSE
A10: Воложанінов Дмитро Юрійович | C10: =Основний!C17 -> Сукрут Олександр Миколайович | E10: =C10=G10 -> FALSE
A11: Гавучак Петро Петрович | C11: =Основний!C18 -> Косьмін Юрій Віталійович | E11: =C11=G11 -> FALSE
A12: Ган Іван Петрович | C12: =Основний!C19 -> Денисенко Артем Олегович | E12: =C12=G12 -> FALSE
A13: Григоренко Артур Юрійович | C13: =Основний!C20 -> Нєжнов Сергій Миколайович | E13: =C13=G13 -> FALSE
A14: Грицаєнко Роман Вікторович | C14: =Основний!C21 -> Тимченко Олександр Олександрович | E14: =C14=G14 -> FALSE
A15: Гурецький Данило Андрійович | C15: =Основний!C22 -> Соловйов Роман Ленідович | E15: =C15=G15 -> FALSE
A16: Гуртовенко Богдан Нодарович | C16: =Основний!C23 -> Федчун Віктор Миколайович | E16: =C16=G16 -> FALSE
... A34: Мясніков Костянтин Анатолійович | C34: =Основний!C41 -> Колодченко Олег Григорович | E34: =C34=G34 -> FALSE
A35: Паливода Олександр Романович | C35: =основний!#REF! -> #VALUE! | E35: =C35=G35 -> #VALUE!
A36: Петровський Сергій Миколайович | C36: =Основний!C42 -> Забайрачний Антон Валерійович | E36: =C36=G36 -> FALSE
A37: Плеханов Віктор Васильович | C37: =Основний!C43 -> Терешин Сергій Валерійович | E37: =C37=G37 -> FALSE
A38: Приходько Євгеній Леонідович | C38: =Основний!C44 -> Левчич Олександр Миколайович | E38: =C38=G38 -> FALSE
A39: Пятковський Анатолій Григорович | C39: =Основний!C45 -> Скандаков Віталій Олександрович | E39: =C39=G39 -> FALSE
A40: Самусь Олександр Володимирович | C40: =Основний!C46 -> Косенко Віталій Якович | E40: =C40=G40 -> FALSE
A41: Сеніч Артем Миколайович | C41: =Основний!C47 -> Різничок Ігор Миколайович | E41: =C41=G41 -> FALSE
A42: Сергін Антон Вячеславович | C42: =Основний!C48 -> Шевченко Павло Миколайович | E42: =C42=G42 -> FALSE
A43: Сибір Антон Євгенович | C43: =Основний!C49 -> Бурковцов Андрій Юрійович | E43: =C43=G43 -> FALSE
A44: Сіленко Тимур Олександрович | C44: =Основний!C50 -> Сударенко Владислав Володимирович | E44: =C44=G44 -> FALSE
A45: Слінько Антон Петрович | C45: =Основний!C51 -> Звада Микита Іванович | E45: =C45=G45 -> FALSE
A46: Сліпак Тарас Петрович | C46: =Основний!C52 -> Грабко Андрій Іванович | E46: =C46=G46 -> FALSE
A47: Тарасюк Сергій Валерійович | C47: =Основний!C53 -> Меньшиков Олексій Єгорович | E47: =C47=G47 -> FALSE
... A54: Штереверя Сергій Анатолійович | C54: =Основний!C60 -> 0 | E54: =C54=G54 -> TRUE
C55: =Основний!C61 -> 0 | E55: =C55=G55 -> TRUE
C56: =Основний!C62 -> 0 | E56: =C56=G56 -> TRUE
C57: =Основний!C63 -> 0 | E57: =C57=G57 -> TRUE
C58: =Основний!C64 -> 0 | E58: =C58=G58 -> TRUE
C59: =Основний!C65 -> 0 | E59: =C59=G59 -> TRUE
C60: =Основний!C66 -> 0 | E60: =C60=G60 -> TRUE
C61: =Основний!C67 -> 0 | E61: =C61=G61 -> TRUE
C62: =Основний!C68 -> 0 | E62: =C62=G62 -> TRUE
C63: =Основний!C69 -> 0 | E63: =C63=G63 -> TRUE
C64: =Основний!C70 -> 0 | E64: =C64=G64 -> TRUE
...

Sheet Перевірка
A1: {=Основний!A10:A177} -> № з/п | B1: {=CONCATENATE("", Основний!C10:C177)} -> 46 | C1: {=CONCATENATE("", TEXT(Основний!G10:G177,"dd.mm.yyyy"))} -> Дата народження | D1: {=CONCATENATE("", Основний!H10:H177)} -> ідентифікаційний код | E1: Перевірка | F1: {=CONCATENATE("", Основний!J10:J177)} -> Номер додумента (військовий квиток, приписне, тимчасове посвідчення) | G1: Перевірка | H1: {=CONCATENATE("", Основний!K10:K177)} -> Паспорт, ким і коли виданий | I1: Перевірка | J1: Алфавітка | K1: Д = А | L1: Поіменний Список | M1: Д = ПС | N1: А = ПС
A2: 0 | C2: 30.12.1899 | J2: - | K2: - | L2: - | M2: - | N2: - | O2: =DATEVALUE(C2) <> INT(LEFT(D2,5)) +1 -> #VALUE!
A3: 1 | B3: Давиденко Богдан Миколайович | C3: 24.04.1996 | D3: 3517807937 | E3: =IF(D3="", "", LEN(D3)) -> 10 | F3: АВ 949426 | G3: =IF(F3="", "", LEN(F3)) -> 9 | H3: 006233429 Виданий 5930 16.06.2021 | I3: =IF(H3="", "", LEN(H3)) -> 33 | J3: Антоненко Руслан Олександрович | K3: =IF(J3="", "", B3=J3) -> FALSE | M3: =IF(L3="", "", B3=L3) | N3: =IF(L3="", "", J3=L3) | O3: =DATEVALUE(C3) <> INT(LEFT(D3,5)) +1 -> FALSE | P3: =DATEVALUE(C3) -> 35179
A4: 2 | B4: Петраш Віктор Володимирович | C4: 04.09.1984 | D4: 3092805058 | E4: =IF(D4="", "", LEN(D4)) -> 10 | F4: АВ 704155 | G4: =IF(F4="", "", LEN(F4)) -> 9 | H4: МА 942892 Лебединським МРВУМВС України в Сумській обл., 27.02.2002 | I4: =IF(H4="", "", LEN(H4)) -> 66 | J4: Баранов Дмитро Геннадійович | K4: =IF(J4="", "", B4=J4) -> FALSE | M4: =IF(L4="", "", B4=L4) | N4: =IF(L4="", "", J4=L4) | O4: =DATEVALUE(C4) <> INT(LEFT(D4,5)) +1 -> FALSE
A5: 3 | B5: Литвинко Олександр Сергійович | C5: 21.07.2000 | D5: 3672709816 | E5: =IF(D5="", "", LEN(D5)) -> 10 | F5: АВ 949425 | G5: =IF(F5="", "", LEN(F5)) -> 9 | H5: 006384474 Виданий 5924 19.07.2021 | I5: =IF(H5="", "", LEN(H5)) -> 33 | J5: Боровик Юрій Володимирович | K5: =IF(J5="", "", B5=J5) -> FALSE | M5: =IF(L5="", "", B5=L5) | N5: =IF(L5="", "", J5=L5) | O5: =DATEVALUE(C5) <> INT(LEFT(D5,5)) +1 -> FALSE
A6: 4 | B6: Верба Володимир Олександрович | C6: 28.08.1995 | D6: 3493804851 | E6: =IF(D6="", "", LEN(D6)) -> 10 | F6: АВ 552749 | G6: =IF(F6="", "", LEN(F6)) -> 9 | I6: =IF(H6="", "", LEN(H6)) | J6: Горбатенко Олександр Олегович | K6: =IF(J6="", "", B6=J6) -> FALSE | M6: =IF(L6="", "", B6=L6) | N6: =IF(L6="", "", J6=L6)
A7: 5 | B7: Васильченко Сергій Анатолійович | C7: 17.11.1993 | D7: 3428909730 | E7: =IF(D7="", "", LEN(D7)) -> 10 | F7: АВ 949433 | G7: =IF(F7="", "", LEN(F7)) -> 9 | H7: 002997059 виданий 5924 20.02.2019 | I7: =IF(H7="", "", LEN(H7)) -> 33 | J7: Жестовський Сергій Сергійович | K7: =IF(J7="", "", B7=J7) -> FALSE | M7: =IF(L7="", "", B7=L7) | N7: =IF(L7="", "", J7=L7)
A8: 6 | B8: Сукрут Олександр Миколайович | C8: 09.01.1982 | D8: 2995917310 | E8: =IF(D8="", "", LEN(D8)) -> 10 | F8: АВ 949489 | G8: =IF(F8="", "", LEN(F8)) -> 9 | H8: МА 500267 Зарічним РВСМУУМВС України в Сумській обл., 23.06.1998 | I8: =IF(H8="", "", LEN(H8)) -> 64 | J8: Ісаков Олександр Сергійович | K8: =IF(J8="", "", B8=J8) -> FALSE | M8: =IF(L8="", "", B8=L8) | N8: =IF(L8="", "", J8=L8)
A9: 7 | B9: Косьмін Юрій Віталійович | C9: 12.07.1980 | D9: 2941315057 | E9: =IF(D9="", "", LEN(D9)) -> 10 | F9: АВ 967804 | G9: =IF(F9="", "", LEN(F9)) -> 9 | I9: =IF(H9="", "", LEN(H9)) | J9: Клімчук Олександр Олександрович | K9: =IF(J9="", "", B9=J9) -> FALSE | M9: =IF(L9="", "", B9=L9) | N9: =IF(L9="", "", J9=L9)
A10: 8 | B10: Денисенко Артем Олегович | C10: 02.02.1991 | D10: 3327015430 | E10: =IF(D10="", "", LEN(D10)) -> 10 | F10: АВ 949485 | G10: =IF(F10="", "", LEN(F10)) -> 9 | H10: МВ 340950 Зарічним ВМ СМВ УМВС України в Сумській обл. 27.03.2007 | I10: =IF(H10="", "", LEN(H10)) -> 65 | J10: Колесніков Сергій Сергійович | K10: =IF(J10="", "", B10=J10) -> FALSE | M10: =IF(L10="", "", B10=L10) | N10: =IF(L10="", "", J10=L10)
A11: 9 | B11: Нєжнов Сергій Миколайович | C11: 11.01.1977 | D11: 2813500653 | E11: =IF(D11="", "", LEN(D11)) -> 10 | F11: АГ 594862 | G11: =IF(F11="", "", LEN(F11)) -> 9 | H11: МН 840776 Червонозаводським РВХМУУМВС України в Харківській обл., 25.04.2006 | I11: =IF(H11="", "", LEN(H11)) -> 76 | J11: Опанасюк Ігор Петрович | K11: =IF(J11="", "", B11=J11) -> FALSE | M11: =IF(L11="", "", B11=L11) | N11: =IF(L11="", "", J11=L11)
A12: 10 | B12: Тимченко Олександр Олександрович | C12: 24.12.1982 | D12: 3030807437 | E12: =IF(D12="", "", LEN(D12)) -> 10 | F12: АВ 967906 | G12: =IF(F12="", "", LEN(F12)) -> 9 | H12: МА 844687 Ковпаківським РВСМУУМВС України в Сумській обл., 12.07.2000 | I12: =IF(H12="", "", LEN(H12)) -> 69 | J12: Ручин Дмитро Вікторович | K12: =IF(J12="", "", B12=J12) -> FALSE | M12: =IF(L12="", "", B12=L12) | N12: =IF(L12="", "", J12=L12)
A13: 11 | B13: Соловйов Роман Ленідович | C13: 18.06.1982 | E13: =IF(D13="", "", LEN(D13)) | G13: =IF(F13="", "", LEN(F13)) | I13: =IF(H13="", "", LEN(H13)) | J13: Солоденко Анатолій Сергійович | K13: =IF(J13="", "", B13=J13) -> FALSE | M13: =IF(L13="", "", B13=L13) | N13: =IF(L13="", "", J13=L13)
A14: 12 | B14: Федчун Віктор Миколайович | C14: 16.05.1993 | D14: 3410314912 | E14: =IF(D14="", "", LEN(D14)) -> 10 | F14: АВ 949428 | G14: =IF(F14="", "", LEN(F14)) -> 9 | I14: =IF(H14="", "", LEN(H14)) | J14: Фістікан Василь Петрович | K14: =IF(J14="", "", B14=J14) -> FALSE | M14: =IF(L14="", "", B14=L14) | N14: =IF(L14="", "", J14=L14)
A15: 13 | B15: Сомок Олег Михайлович | C15: 10.12.1980 | D15: 2956415491 | E15: =IF(D15="", "", LEN(D15)) -> 10 | F15: №260420231352231200025/1 Від 25.02.2026 | G15: =IF(F15="", "", LEN(F15)) -> 39 | H15: МА 348221 Конотопським МВУМВС України в Сумській обл., 16.12.1997 | I15: =IF(H15="", "", LEN(H15)) -> 65 | J15: Чабан Михайло Григорович | K15: =IF(J15="", "", B15=J15) -> FALSE | M15: =IF(L15="", "", B15=L15) | N15: =IF(L15="", "", J15=L15)
A16: 14 | B16: Стожок Єгор Сергійович | C16: 30.08.1989 | D16: 3274916995 | E16: =IF(D16="", "", LEN(D16)) -> 10 | F16: АВ 967825 | G16: =IF(F16="", "", LEN(F16)) -> 9 | I16: =IF(H16="", "", LEN(H16)) | K16: =IF(J16="", "", B16=J16) | M16: =IF(L16="", "", B16=L16) | N16: =IF(L16="", "", J16=L16)
A17: 15 | B17: Тернюк Андрій Олексійович | C17: 19.02.1995 | D17: 3474808514 | E17: =IF(D17="", "", LEN(D17)) -> 10 | F17: АВ 218937 | G17: =IF(F17="", "", LEN(F17)) -> 9 | H17: 004849962 виданий 5920 16.06.2020 | I17: =IF(H17="", "", LEN(H17)) -> 33 | K17: =IF(J17="", "", B17=J17) | M17: =IF(L17="", "", B17=L17) | N17: =IF(L17="", "", J17=L17)
A18: 16 | B18: Кальченко Олександр Іванович | C18: 25.01.1980 | D18: 2924420790 | E18: =IF(D18="", "", LEN(D18)) -> 10 | F18: АВ 967887 | G18: =IF(F18="", "", LEN(F18)) -> 9 | I18: =IF(H18="", "", LEN(H18)) | K18: =IF(J18="", "", B18=J18) | M18: =IF(L18="", "", B18=L18) | N18: =IF(L18="", "", J18=L18)
A19: 17 | B19: Пашков Денис Геннадійович | C19: 01.02.1989 | D19: 3253904779 | E19: =IF(D19="", "", LEN(D19)) -> 10 | F19: СО 316222 | G19: =IF(F19="", "", LEN(F19)) -> 9 | H19: МН773485 Орджонікідзевським РВХМУУМВС України в Харківській обл. 16.06.2005 | I19: =IF(H19="", "", LEN(H19)) -> 75 | K19: =IF(J19="", "", B19=J19) | M19: =IF(L19="", "", B19=L19) | N19: =IF(L19="", "", J19=L19)
A20: 18 | B20: Бойко Геннадій Володимирович | C20: 19.11.1981 | D20: 2990807554 | E20: =IF(D20="", "", LEN(D20)) -> 10 | F20: №250220261352624000001/2 Від 25.02.2026 | G20: =IF(F20="", "", LEN(F20)) -> 39 | H20: МА 583941 Охтирським МРВУМВС України в Сумській обл., 04.01.1999 | I20: =IF(H20="", "", LEN(H20)) -> 64 | K20: =IF(J20="", "", B20=J20) | M20: =IF(L20="", "", B20=L20) | N20: =IF(L20="", "", J20=L20)
A21: 19 | B21: Шевченко Роман Сергійович | C21: 05.08.1995 | D21: 3491510514 | E21: =IF(D21="", "", LEN(D21)) -> 10 | F21: АВ 967903 | G21: =IF(F21="", "", LEN(F21)) -> 9 | I21: =IF(H21="", "", LEN(H21)) | K21: =IF(J21="", "", B21=J21) | M21: =IF(L21="", "", B21=L21) | N21: =IF(L21="", "", J21=L21)
A22: 20 | B22: Кваша Сергій Анатолійович | C22: 03.03.1990 | D22: 3293410951 | E22: =IF(D22="", "", LEN(D22)) -> 10 | F22: СО 728605 | G22: =IF(F22="", "", LEN(F22)) -> 9 | H22: МВ 341636 Роменським МРВУМВС України в Сумській обл., 10.01.2007 | I22: =IF(H22="", "", LEN(H22)) -> 64 | K22: =IF(J22="", "", B22=J22) | M22: =IF(L22="", "", B22=L22) | N22: =IF(L22="", "", J22=L22)
A23: 21 | B23: Пархоменко Володимир Анатолійович | C23: 29.12.1985 | D23: 3140913593 | E23: =IF(D23="", "", LEN(D23)) -> 10 | F23: АВ 967840 | G23: =IF(F23="", "", LEN(F23)) -> 9 | H23: МВ 078689 Крокевецьким РВ УМВС України в Сумській обл 22.10.2002 | I23: =IF(H23="", "", LEN(H23)) -> 64 | K23: =IF(J23="", "", B23=J23) | M23: =IF(L23="", "", B23=L23) | N23: =IF(L23="", "", J23=L23)
A24: 22 | B24: Войку Олег Георгійович | C24: 11.12.1988 | D24: 3248704812 | E24: =IF(D24="", "", LEN(D24)) -> 10 | F24: АГ 330242 | G24: =IF(F24="", "", LEN(F24)) -> 9 | H24: МН 730517 Московським РВ ХМУ УМВС України в Харківській обл. 03.03.2005 | I24: =IF(H24="", "", LEN(H24)) -> 71 | K24: =IF(J24="", "", B24=J24) | M24: =IF(L24="", "", B24=L24) | N24: =IF(L24="", "", J24=L24)
A25: 23 | B25: Бруяка Максим Юрійович | C25: 28.10.1996 | D25: 3536512192 | E25: =IF(D25="", "", LEN(D25)) -> 10 | F25: АВ 960514 | G25: =IF(F25="", "", LEN(F25)) -> 9 | H25: МВ 516155 Ковпаківським РВ м.Суми УДМС України в Сумській обл. 18.12.2012 | I25: =IF(H25="", "", LEN(H25)) -> 73 | K25: =IF(J25="", "", B25=J25) | M25: =IF(L25="", "", B25=L25) | N25: =IF(L25="", "", J25=L25)
A26: 24 | B26: Коренєв Віталій Віталійович | C26: 24.02.1989 | D26: 3256220573 | E26: =IF(D26="", "", LEN(D26)) -> 10 | F26: АВ 949492 | G26: =IF(F26="", "", LEN(F26)) -> 9 | H26: закордоний паспорт FM731032 виданий 5901 05.04.2018 | I26: =IF(H26="", "", LEN(H26)) -> 51 | K26: =IF(J26="", "", B26=J26) | M26: =IF(L26="", "", B26=L26) | N26: =IF(L26="", "", J26=L26)
A27: 25 | B27: Штиб Олександр Вʼячеславович | C27: 18.02.1991 | D27: 3328601274 | E27: =IF(D27="", "", LEN(D27)) -> 10 | F27: АГ 021601 | G27: =IF(F27="", "", LEN(F27)) -> 9 | H27: МВ 340682 Ковпаківським ВМСМВУМВС України в Сумській обл. 03.04.2007 | I27: =IF(H27="", "", LEN(H27)) -> 68 | K27: =IF(J27="", "", B27=J27) | M27: =IF(L27="", "", B27=L27) | N27: =IF(L27="", "", J27=L27)
A28: 26 | B28: Клименченко Максим Анатолійович | C28: 04.01.1990 | D28: 3287611732 | E28: =IF(D28="", "", LEN(D28)) -> 10 | F28: АВ 967980 | G28: =IF(F28="", "", LEN(F28)) -> 9 | H28: МВ 302722 Глухівським МРВ УМВС України в Сумській обл. 07.07.2006 | I28: =IF(H28="", "", LEN(H28)) -> 65 | K28: =IF(J28="", "", B28=J28) | M28: =IF(L28="", "", B28=L28) | N28: =IF(L28="", "", J28=L28)
A29: 27 | B29: Сорокін Олег Павлович | C29: 13.06.1970 | D29: 2573101897 | E29: =IF(D29="", "", LEN(D29)) -> 10 | F29: АГ 330243 | G29: =IF(F29="", "", LEN(F29)) -> 9 | H29: МК 604189 Фрунзенським РВХМУУМВС України в Харківській обл. 24.09.1997 | I29: =IF(H29="", "", LEN(H29)) -> 70 | K29: =IF(J29="", "", B29=J29) | M29: =IF(L29="", "", B29=L29) | N29: =IF(L29="", "", J29=L29)
A30: 28 | B30: Князєв Олексадр Олексійович | C30: 10.01.1984 | D30: 3069007313 | E30: =IF(D30="", "", LEN(D30)) -> 10 | F30: МО 533842 | G30: =IF(F30="", "", LEN(F30)) -> 10 | H30: МВ 580136 Лебединським МСУДМС України в Сумській обл., 18.03.2015 | I30: =IF(H30="", "", LEN(H30)) -> 65 | K30: =IF(J30="", "", B30=J30) | M30: =IF(L30="", "", B30=L30) | N30: =IF(L30="", "", J30=L30)
A31: 29 | B31: Кущ Андрій Петрович | C31: 20.03.1979 | D31: 2893300213 | E31: =IF(D31="", "", LEN(D31)) -> 10 | F31: УН 0497799 | G31: =IF(F31="", "", LEN(F31)) -> 10 | H31: МВ 429139 Буринським РВГУМВС України в Сумській обл., 28.01.2010 | I31: =IF(H31="", "", LEN(H31)) -> 64 | K31: =IF(J31="", "", B31=J31) | M31: =IF(L31="", "", B31=L31) | N31: =IF(L31="", "", J31=L31)
A32: 30 | B32: Колодченко Олег Григорович | C32: 10.03.1990 | D32: 3294101893 | E32: =IF(D32="", "", LEN(D32)) -> 10 | F32: СО 621238 | G32: =IF(F32="", "", LEN(F32)) -> 9 | H32: МВ 321644 Великописарівським РВУМВС України в Сумській обл. 25.07.2006 | I32: =IF(H32="", "", LEN(H32)) -> 70 | K32: =IF(J32="", "", B32=J32) | M32: =IF(L32="", "", B32=L32) | N32: =IF(L32="", "", J32=L32)
A33: 31 | B33: Забайрачний Антон Валерійович | C33: 19.05.1989 | D33: 3264613873 | E33: =IF(D33="", "", LEN(D33)) -> 10 | F33: АВ 949421 | G33: =IF(F33="", "", LEN(F33)) -> 9 | H33: ЕН 435216 Северодонецьким МВУМВС України в Луганській обл. 23.07.2005 | I33: =IF(H33="", "", LEN(H33)) -> 69 | K33: =IF(J33="", "", B33=J33) | M33: =IF(L33="", "", B33=L33) | N33: =IF(L33="", "", J33=L33)
... A38: 36 | B38: Різничок Ігор Миколайович | C38: 28.08.1990 | D38: 3311204310 | E38: =IF(D38="", "", LEN(D38)) -> 10 | F38: АВ 967827 | G38: =IF(F38="", "", LEN(F38)) -> 9 | H38: 007897814 Виданий 5920 12.07.2022 | I38: =IF(H38="", "", LEN(H38)) -> 33 | K38: =IF(J38="", "", B38=J38) | M38: =IF(L38="", "", B38=L38) | N38: =IF(L38="", "", J38=L38)
A39: 37 | B39: Шевченко Павло Миколайович | C39: 23.01.1979 | D39: 2887718013 | E39: =IF(D39="", "", LEN(D39)) -> 10 | G39: =IF(F39="", "", LEN(F39)) | H39: МА 064014 Конотопським МВУМВС України в Сумській обл., 07.02.1996 | I39: =IF(H39="", "", LEN(H39)) -> 65 | K39: =IF(J39="", "", B39=J39) | M39: =IF(L39="", "", B39=L39) | N39: =IF(L39="", "", J39=L39)
