Workbook

Sheet Основний
Y2: Додаток
Y3: (Форма 5.10. ОС)
C4: ДОНЕСЕННЯ
C5: про зарахування військовослужбовців військової служби за контрактом на навчання до навчального центру (ВВНЗ, ВНП ЗВО)
C6: військова частина А2900
C7: найменування навчального центру (ВВНЗ, ВНЗ ЗВО)
C9: 1. Список військовослужбовців військової служби за контрактом, які зараховані на навчання
A10: №ПС | B10: Дата ПС | C10: № з/п | D10: Військове звання | E10: {=SUMPRODUCT(--(TRIM(E12:E993)<>""))} -> 141 | F10: Військова частина, ТЦК та СП | G10: Місто | H10: Область | I10: Дата народження | J10: ідентифікаційний код | K10: військовий квиток | L10: Паспорт, ким і коли виданий | M10: Місце народження | N10: адреса (фактична) | O10: Рівень освіти | P10: Заклад який закінчив Рік закінчення Професія | Q10: Професійний досвід Права | R10: склад сім’ї | S10: № телефону | T10: ВОС (попередній) | U10: Спеціальність, за якою зарахований на навчання | X10: Дата зарахування | Y10: № наказу про зарахування | Z10: присяга | AA10: Дата висновку ВЛК | AB10: Придатність | AC10: Група крові | AD10: Примітка | AE10: =COUNT(AE12:AE9955) -> 0 | AF10: =COUNT(AF12:AF9955) -> 0 | AG10: =COUNT(AG12:AG9955) -> 0 | AH10: =IFERROR(AVERAGE(AE12:AG9955),0) -> 0
U11: посада | V11: ВОС | W11: код посади | AE11: 25-35 | AF11: 36-45 | AG11: 46-50 | AH11: Середній вік
A12: 614 | B12: 46079 | C12: 1 | D12: солдат | E12: АБРАМЯН Артур Маратович | F12: Дарницьким РТЦК та СП у Київській області | I12: 21.10.1998 | J12: 3608804152 | K12: 040520251458450705269/1 | L12: ВТ 101396 Приморським РС у м. Маріуполі ГУ ДМС України в Донецькій області 12.06.2015 | M12: м. Донецьк | N12: м. Київ, вул. Бориспільська, буд. 9, кв. 16 | O12: базова загальна середня | P12: Школа №62,м. Донецьк,2014 | Q12: водій таксі - 5 керівник закладу харчування - 1р Права B | R12: не одружений, брат: Губаян Давид Арсенович - 1997 - 0979699989, м. Київ | S12: 0633131383 | U12: курсант | V12: 100 | X12: 46079 | Y12: № 60 | Z12: так | AA12: 46079 | AB12: Придатний до військової служби
A13: 4/1868 | B13: 46077 | C13: 2 | D13: солдат | E13: АВРАМЕНКО Андрій Миколайович | F13: Чернігівським РТЦК та СП у Чернігівській області | I13: 18.06.1984 | J13: 3085003094 | M13: Чернігівська обл., м. Городня | N13: Чернігівська обл., м. Городня, вул. Чернігівська, буд. 86, кв 1. | O13: Вища | P13: ХНУРЕ, 2006, радіотехніка | Q13: Програміст, 12 років Права B | R13: не одружений, мати: Авраменко Людмила Михайлівна, 1955, Чернігівська обл., м. Городня, вул. Чернігівська, буд. 86, кв 1, | S13: 0671971309 | U13: курсант | V13: 100 | X13: 46077 | Y13: № 58 | Z13: ні | AA13: 46077 | AB13: Придатний до військової служби
A14: 1/2363 | B14: 46076 | C14: 2 | D14: солдат | E14: АЛЕКСЕНКО Іван Миколайович | F14: Ніжинським РТЦК та СП у Чернігівській області | I14: 23.06.1997 | J14: 3560301717 | M14: Чернігівська обл., Карюківський р-н., с. Бондарівка | N14: Чернігівська обл. м. Бахмач, вул. Олени Теліги, буд. 36 | O14: середня спеціальна | P14: Конотопський аграрний ліцей, 2017, слюсар-механік | Q14: Водій, 4 роки Слюсар-механік, 4 роки Права: В, С | R14: одружений, дружина: Алексенко Катерина Анатоліївна, 1994, Чернігівська обл. м. Бахмач, вул. Олени Теліги, буд. 36 | S14: 0632905799 | U14: курсант | V14: 100 | X14: 46076 | Y14: № 57 | Z14: ні | AA14: 46076 | AB14: Придатний до військової служби | AC14: I Rh +
A15: 260223-9 | B15: 46076 | C15: 3 | D15: солдат | E15: АЛІЄВ Парвіз Натікбєкович | F15: Солом'янським РТЦК та СП у Київській області | I15: 07.05.1983 | J15: 3044204097 | K15: АГ 629818 | L15: КС 160333 Київським РВ ДМУ УДМС УКР в Донецькій обл 09.08.2002 | M15: Азербайджан, м. Баку | N15: м. Київ, вул. Копилівська, буд. 30, кв. 54 | O15: вища | P15: Київський політехнічний Інститут, 2005,Київський економічний Інститут, 2002,електотехнік, економіка | Q15: інженер систем безпеки, 25 років Права: Б | R15: не одружений, мати: Лал Різа Заде, 1956, м. Баку, Азербайджан | S15: 0663135516 | U15: курсант | V15: 100 | X15: 46076 | Y15: № 57 | Z15: ні | AA15: 46076 | AB15: Придатний до військової служби | AC15: I Rh +
A16: 2580 | B16: 46080 | C16: 1 | D16: солдат | E16: АНДРУШКО Вадим Валентинович | F16: Житомирським РТЦК та СП у Житомирській області | I16: 02.11.1991 | J16: 3354308835 | K16: АГ 603287 | L16: ВН 424127 Вололдарсько-Волинським РВ УМВС в Житомирській області 20.05.2008 | M16: Житомирська обл., Житомирський р-н., смт. Нова Борова | N16: Житомирська обл., Житомирський р-н., смт. Нова Борова, вул. Незалежності, буд. 57 | O16: професійно- технічна | P16: Житомирське ПТУ №5, 2013, маляр-штукатур | Q16: будівельник, 10 років Права В | R16: одружений, дружина: Андрушко Юлія Анатоліївна, 1994, Житомирська обл., Житомирський р-н., смт. Нова Борова, вул. Незалежності, буд. 57 | S16: 0982607646 | U16: курсант | V16: 100 | X16: 46080 | Y16: № 61 | Z16: ні | AA16: 46080 | AB16: Придатний до служби на підводних човнох, на надводних кораблях, у морській піхоті, Десантно-штурмових військах, спеціальних спорудах, підрозділах спеціального призначення
A17: 1/2342 | B17: 46075 | C17: 5 | D17: солдат | E17: АНІСІМОВ Сергій Леонідович | F17: Ніжинським РТЦК та СП у Чернігівській області | I17: 18.10.1989 | J17: 3279802570 | K17: АГ 633795 | L17: АМ 247948 | M17: Чернігівська обл., м. Ніжин | N17: Чернігівська обл., Ніжинський р-н., с. Велика Кошелівка, вул. Веринарна, буд. 5 | O17: середня спеціальна | P17: Ніжинське ПТУ №35, водій-механік, 2008 | Q17: Тракторист, 10 років Права AB (трактор), B, C | R17: не одружений, мати: Куліш Наталія Василівна, 1960, Чернігівська обл., м. Ніжин, вул. Богуна, буд. 22, 0967676757 | S17: 0985324330 | U17: курсант | V17: 100 | X17: 46075 | Y17: № 56 | Z17: так | AA17: 46075 | AB17: Придатний до військової служби | AC17: RH 2+
A18: 1452 | B18: 46081 | C18: 1 | D18: солдат | E18: АНТОНЮК Дмитро Русланович | F18: Хмільницьким РТЦК та СП у Вінницькій області | I18: 23.03.1999 | J18: 3624109257 | K18: АГ 574988 | L18: АТ 121678 | M18: Житомирська обл. м. Радомишль | N18: м. Вінниця, вул. Генерала Григоренка, буд. 36, кв. 21 | O18: професійно- технічна | P18: Тульчинський коледж ветеринарної медецини,м. Тульчин,2018,фельдшер ветеринарної медецини | Q18: комплектувальник продуктів харчування - 4р | R18: не одружений, мати: Антонюк Оксана Вікторівна - прибл. 43р - 0673588369 - Вінницька обл, Вінницький р-н, с. Гавришівка, вул. ? | S18: 0976880495 | U18: курсант | V18: 100 | X18: 46081 | Y18: № 62 | Z18: ні | AA18: 46077 | AB18: Придатний до військової служби | AC18: I Rh +
A19: 2500 | B19: 46078 | C19: 1 | D19: солдат | E19: АНТОНЮК Олександр Леонідович | F19: Житомирським РТЦК та СП у Житомирській області | I19: 27.09.1979 | J19: 2912410393 | K19: АГ 603239 | L19: ТТ 193066 Дарнівським РО ГУ ДМС УКР в м. Києві 16.08.2013 | M19: м. Київ | N19: Житомирська обл. Попільнянський р-н., с. Романівка, вул. Миру, буд. 20 | O19: професійно- технічна | P19: Київське училище №26 | Q19: будівельник, 20 років Права- | R19: не одружений,мати: Антонюк Світлана Миколаївна, 1959, м. Київ, вул. Бажана, буд. 9, 0972926021 | S19: 0975269074 | U19: курсант | V19: 100 | X19: 46078 | Y19: № 59 | Z19: ні | AA19: 46078 | AB19: Придатний до військової служби | AC19: II Rh +
A20: 2566 | B20: 46080 | C20: 2 | D20: солдат | E20: БАБИЧ Андрій Васильович | F20: Житомирським РТЦК та СП у Житомирській області | I20: 18.04.1984 | J20: 3078922215 | K20: АГ 603272 | L20: СТ 531446 Чернігівським РС УДМС УКР в Чернігівській обл 24.02.2017 | M20: Чернігівська обл., Чернігівський р-н., с. Павлівка | N20: Житомирський р-н., с. Покостівка, вул. Квіткова, буд. 5 | O20: професійно- технічна | P20: Чернігівське ПТУ №5, 2002, черговий по станції, провідник | Q20: провідник, 8 років Права - | R20: не одружений, сестра: Винниченко Олена Василівна, 1981, м. Чернігів, 0964958186 | S20: 0989386733 | U20: курсант | V20: 100 | X20: 46080 | Y20: № 61 | Z20: ні | AA20: 46080 | AB20: Придатний до служби на підводних човнох, на надводних кораблях, у морській піхоті, Десантно-штурмових військах, спеціальних спорудах, підрозділах спеціального призначення
A21: 11/1629 | B21: 46080 | C21: 3 | D21: солдат | E21: БАСКАКОВ Павло Анатолійович | F21: Шевченківським РТЦК та СП у Київській області | I21: 02.03.1984 | J21: 3074200978 | K21: 140220221425037600020/1 | L21: АМ 064073 Заводським РВ Дніпродзержинського МУ УМВС України в Дніпропетровській області 03.10.2000 | M21: Дніпропетровська обл, м. Дніпродзержинськ | N21: м. Київ, вул. Академіка Корольова, буд. 7, кв. 46 | O21: професійно- технічна | P21: Дніпродзержинський індустріальнгий коледж,2004,електрик | Q21: власник інтернет магазину - 4р Права A, B, C | R21: не одружений, бабуся: Носуля Раїса Іванівна - 0687208035 - 85р - Дніпропетровська обл, м. Кам'янське, вул. Дніпробудівельна, буд. 27, кв. 7 | S21: 0965569916 | U21: курсант | V21: 100 | X21: 46080 | Y21: № 61 | Z21: ні | AA21: 46080 | AB21: Придатний до служби на підводних човнох, на надводних кораблях, у морській піхоті, Десантно-штурмових військах, спеціальних спорудах, підрозділах спеціального призначення | AC21: III Rh -
A22: 1537/11/2005 | B22: 46079 | C22: 2 | D22: солдат | E22: БЕРШАДСЬКИЙ Олександр Миколайович | F22: Дніпровським РТЦК та СП у Київській області | I22: 15.03.1992 | J22: 3367700733 | K22: довідка | L22: 003047716 8034 04.03.2019 | M22: Дніпропетровська обл. м. Кривий Ріг | N22: м. Київ, вул. Тичини, буд. 3а, кв. 61 | O22: вища | P22: КПІ, 2016, ІТ | Q22: програміст, 8 років Права - | R22: не одружений, мати: Бершадська Ірина Володимирівна, 1968, м. Київ, вул. Тичини, буд. 3а, кв. 61, 0957958159, 0675784797 | S22: 0934043734 | U22: курсант | V22: 100 | X22: 46079 | Y22: № 60 | Z22: ні | AA22: 46079 | AB22: Придатний до військової служби | AD22: А3316 по розподілу рекомендаційний лист
A23: 2543 | B23: 46079 | C23: 3 | D23: солдат | E23: БІЛОУСОВ Сергій Вікторович | F23: Житомирським ОМТЦК та СП у Житомирській області | I23: 04.09.1982 | J23: ВМ 632875 | K23: АГ 186080 | L23: 009302826 1836 23.06.2023 | M23: м. Житомир | N23: м. Житомир, вул. Переїзд Радомишльський, буд. 9 | O23: повна загальна середня | P23: Житомирська ЗОШ №2 | Q23: рихтувальник, 6 років Права - | R23: одружений, дружина: Білоусова Оксана Вікторівна, 1980, м. Житомир, вул. Переїзд Радомишльський, буд. 9, 0960276981 | S23: 0990907846 | U23: курсант | V23: 100 | X23: 46079 | Y23: № 60 | Z23: ні | AA23: 46079 | AB23: Придатний до військової служби
B24: 46078 | C24: 18 | D24: солдат | E24: БОЙКО Геннадій Володимирович | I24: 19.11.1981 | J24: 2990807554 | K24: 250220261352624000001/2 | L24: МА 583941 Охтирським МРВУМВС України в Сумській обл., 04.01.1999 | M24: Сумська обл., м. Охтирка, пров. Весняний, буд. 15а | N24: Сумська обл., м. Охтирка, вул. Київська, буд. 107, кв. 57 | O24: професійно- технічна | P24: ПТУ №7, м. Охтирка, 1999, маляр-штукатур | Q24: будівельник, 20 років Права В, С | R24: не одружений, мати: Бойко Алла Миколаївна, 1960, Сумська обл., м. Охтирка, пров. Весняний, буд. 15а | S24: 0665156739 | Z24: ні | AC24: II Rh + | AD24: Резерв КДШВ
A25: 1537/11/2005 | B25: 46079 | C25: 4 | D25: солдат | E25: БОЛЬШАКОВ Костянтин Євгенович | F25: Дніпровським РТЦК та СП у Київській області | I25: 02.07.1992 | J25: 3378604531 | K25: 250220261320634500007/1 | L25: ЕН 904717 Краснолуцьким МВ УДМС УКР в Луганській обл 15.11.2012 | M25: Луганська обл, м. Красний Луч | N25: м. Київ,, вул. Русанівська Набережна, буд. 6, кв. 56 | O25: професійно- технічна | P25: Краснолуцький приладобудівний технікум,м. Красний Луч,2013р,економіка підприємства | Q25: Фріланс - 2D дизайн логотипів, оточення для браузерних ігор (Photoshop, AI) - 5р портретист на пам'ятниках - 3р кухар - 1,5р | R25: не одружений, сестра: Большакова Яна Євгеновна - 1990 - 0664203975 - м. Київ, вул. Русанівська Набережна, буд. 6, кв. 56 | S25: 0995045246 | U25: курсант | V25: 100 | X25: 46079 | Y25: № 60 | Z25: ні | AA25: 46078 | AB25: Придатний до військової служби
A26: 1230 | B26: 46075 | C26: 4 | D26: солдат | E26: БОНДАР Андрій Васильович | F26: Хмільницьким РТЦК та СП у Вінницькій області | I26: 29.07.1988 | J26: 3235207996 | K26: АГ 574967 | L26: 011098716 | M26: м. Вінниця | N26: м. Вінниця, вул. Запорізька, буд. 21, кв. 124 | O26: професійно- технічна | P26: Стрижовська СВК | Q26: Будівельник, 1 рік Права - | R26: не одружений, мати: Бондар Лілія Петрівна, 1956, м. Вінниця, вул. Запорізька, буд. 21, кв. 124, 0961876495 | S26: 0970255251 | U26: курсант | V26: 100 | X26: 46076 | Y26: № 57 | Z26: ні | AA26: 46074 | AB26: Придатний до військової служби
A27: 10/584 | B27: 46075 | C27: 10 | D27: солдат | E27: БОРИСОВ Дмитро Сергійович | F27: Чернігівським МТЦК та СП у Чернігівській області | I27: 16.05.1984 | J27: 3081727094 | K27: СО 871538 | M27: м. Хабаровськ, росія | N27: м. Чернігів, вул. Мстиславська, буд. 171, кв. 9 | O27: середня спеціальна | P27: ПУ 63, станиця Денська, Денський р-н., Краснодарський край, водій-автомеханік, 2005 | Q27: Менеджер з постачання, 4 роки Права В | R27: одружений, дружина: Борисова Євгенія Вʼячеславівна, 1987, м. Чернігів, вул. Мстиславська, буд. 171, кв. 9, 0632156010 | S27: 0969311148 | U27: курсант | V27: 100 | X27: 46075 | Y27: № 56 | Z27: ні | AA27: 46075 | AB27: Придатний до військової служби | AC27: RH 2-
A28: 1/2286 | B28: 46074 | C28: 1 | D28: солдат | E28: БОРОДАВКО Віталій Михайлович | F28: Ніжинським РТЦК та СП у Чернігівській області | I28: 10.10.1989 | J28: 3279006554 | K28: АГ 633793 | L28: НМ 247947 Ніжинським МВР УМВС УКР в Чернігівській обл 24.03.2006 | M28: Чернігівська обл., м. Ніжин | N28: Чернігівська обл., м. Ніжин, вул. Станіслава Прощенко, буд. 40/б, кв. 33 | O28: повна середня освіта | P28: Ніжинська ЗОШ №7 | Q28: Торгівельний представник, 6 міс. Права - | R28: не одружений, мати: Бородавко Тетяна Андріївна, 1959, Чернігівська обл., м. Ніжин, вул. Станіслава Прощенко, буд. 40/б, кв. 33, 0682364981 | S28: ненадано | U28: курсант | V28: 100 | X28: 46074 | Y28: № 55 | Z28: ні | AA28: 46074 | AB28: Придатний до військової служби | AC28: RH 2+
A29: 1/2420 | B29: 46077 | C29: 3 | D29: солдат | E29: БРИСКІН Денис Сергійович | F29: Ніжинським РТЦК та СП у Чернігівській області | I29: 03.09.1982 | J29: 3019609990 | K29: МО 369114 | M29: м. Київ | N29: м. Чернігів, вул. Текстильників, буд. 24, кв. 42 | O29: повна загальна середня | P29: Рамаданівська ЗОШ, 2000 | Q29: Завідуючий складом, 16 років Начальник охорони, 4 роки Права - | R29: одружений, дружина: Брискіна Ірина Леонідівна, 1973, м. Чернігів, вул. Текстильників, буд. 24, кв. 42, 0992497840 | S29: 0960389583 | U29: курсант | V29: 100 | X29: 46077 | Y29: № 58 | Z29: ні | AA29: 46077 | AB29: Придатний до військової служби
A30: 2609 | B30: 46081 | C30: 2 | D30: солдат | E30: БРОДОВСЬКИЙ Вадим Феліксович | F30: Житомирським РТЦК та СП у Житомирській області | I30: 09.11.1977 | J30: 2843714031 | K30: АГ 603250 | L30: ВМ 028712 | M30: Житомирська обл., смт Полянка | N30: Житомирська обл., Житомирський р-н., с. Костянинівка, вул. Весняна, буд. 10 | O30: професійно- технічна | P30: Баранівське ПТУ №11 | Q30: Пилорамщик, 20 років Права - | R30: не одружений, сестра: Бродовська Ірина Феліксовна, 1984 | S30: не надано | U30: курсант | V30: 100 | X30: 46081 | Y30: № 62 | Z30: так | AA30: 46081 | AB30: Придатний до військової служби
B31: 46016 | C31: 23 | D31: солдат | E31: БРУЯКА Максим Юрійович | F31: Сумським МТЦК та СП у Сумській області | I31: 28.10.1996 | J31: 3536512192 | K31: АВ 960514 | L31: МВ 516155 Ковпаківським РВ м.Суми УДМС України в Сумській обл. 18.12.2012 | M31: Р | N31: м. Суми, вул. Засумська буд. 16, кв. 45 | O31: базова загальна середня | P31: Школа №12, м. Суми | Q31: різноробочий, 1 рік Права - | R31: не одружений, мати: Бруяка Наталія Володимирівна, 1976, м. Суми, вул. Засумська буд. 16, кв. 45, 0664739829 | S31: 0502773062 | Z31: ні | AC31: II Rh - | AD31: Резерв КДШВ
B32: 46080 | C32: 38 | D32: солдат | E32: БУРКОВЦОВ Андрій Юрійович | F32: Роменським ТЦК та СП у Сумській області | I32: 09.09.1988 | J32: 3239413855 | K32: АВ 949437 | L32: закордоний паспорт ЕН991201 виданий 7401 08.06.2011 | M32: м. Ніжин, Чернігівська обл. | N32: Сумська обл., Роменський р-н, с. Русанівка, вул. Русанівська 26 | O32: вища | P32: НДУ ім. Гоголя, м. Ніжин, Чернігівська обл.,спеціаліст вчитель Історії і права,ДАКККІМ м. Київ, бакалавр, дизайнер середовища,КДАІС м. Київ, бакалавр, священослужитель | Q32: священик педагог | R32: одружений, дружина Гапон Зоя Сергиіївна - 1988, Сумська обл., Роменський р-н, с. Русанівка, вул. Русанівська 26 | S32: 0973166440 | Z32: ні | AC32: III Rh + | AD32: Резерв КДШВ
A33: 614 | B33: 46079 | C33: 5 | D33: солдат | E33: БУТКО Руслан Павлович | F33: Дарницьким РТЦК та СП у Київській області | I33: 29.07.1998 | J33: 3600408276 | K33: 250620235816010600001/1 | L33: 009601452 3214 29.08.2023 | M33: Київська обл., Васильківський р-н., с. Вільшанська Новоселице | N33: м. Київ, вул. Закревського, буд. 27а, кв.38 | O33: повна загальна середня | P33: Вільшансько Новоселівська ЗОШ | Q33: Будівельник, 4 роки Права В | R33: не одружений, брат: Павленко Максим Андрійович, 1997, 0967116383 | S33: 0962685449 | U33: курсант | V33: 100 | X33: 46079 | Y33: № 60 | Z33: ні | AA33: 46079 | AB33: Придатний до військової служби | AC33: II Rh +
B34: 46079 | C34: 5 | D34: солдат | E34: ВАСИЛЬЧЕНКО Сергій Анатолійович | F34: Роменським РТЦК та СП у Сумській області | I34: 17.11.1993 | J34: 3428909730 | K34: АВ 949433 | L34: 002997059 виданий 5924 20.02.2019 | M34: Сумська обл., Роменський р-н., с Пустовойтівка | N34: Сумська обл., Роменський р-н., с Пустовойтівка, вул. 5 пер. Берегова, буд. 9 | O34: базова загальна середня | P34: Пустовійтівська ЗОШ | Q34: вантажник, 3 роки Права - | R34: не одружений, мати: Вовк Світлана Григорівна, 1970, Сумська обл., Роменський р-н., с Пустовойтівка, вул. 5 пер. Берегова, буд. 9, 0685482470 | S34: не надано | Z34: ні | AC34: I Rh + | AD34: Резерв КДШВ
B35: 46080 | C35: 4 | D35: солдат | E35: ВЕРБА Володимир Олександрович | F35: Конотопським РТЦК та СП у Сумській області | I35: 28.08.1995 | J35: 3493804851 | K35: АВ 552749 | M35: Миколаївська обл., м. Баштанка | N35: Сумська обл., м. Конотоп, вул. Успенсько-Троїцька, буд. 13, кв. 28 | O35: професійно- технічна | P35: ПТУ, м. Кременчук, 2013, маляр-штукатур | Q35: будівельник, 6 років Права - | R35: одружений, дружина: Верба Марія Сергіївна, 1997, Сумська обл., м. Конотоп, вул. Успенсько-Троїцька, буд. 13, кв. 28, 0977738011 | S35: 0685689787 | Z35: ні | AC35: II Rh + | AD35: Резерв КДШВ
B36: 46021 | C36: 43 | D36: солдат | E36: ВЕРСТЮК Євген Дмитрович | F36: Новобоварським РТЦК та СП у Харківській області | I36: 05.04.1977 | J36: 2821912276 | K36: АВ909239 | L36: МК 414303 Лозівським МРВУМВС України в Харківській обл. 15.01.1997 | M36: м.Лозова, Харківська обл. | N36: м. Харків, вул. Велика Панасівська, б. 106, кв.64 | O36: професійно- технічна | P36: Новомосковський Сільхоз технікум ,м. Новомосковськ, Дніпропетровська обл.,,1998,ветфельшер | Q36: ветеринарний санітар | R36: не одружений, тітка Носік Ганна Демидівна, м. Харків, вул. Богомольця буд.7, кв. 104 | S36: 0678946217 | Z36: ні | AD36: Резерв КДШВ
A37: 1537/11/2038 | B37: 46080 | C37: 4 | D37: солдат | E37: ВИГІВСЬКИЙ Денис Анатолійович | F37: Дніпровським РТЦК та СП у Київській області | I37: 28.09.1986 | J37: 3168215372 | K37: 070920231320634500225/1 | L37: МЕ 222316 | M37: м. Київ | N37: м. Київ, вул. Курнатовського буд. 6а, кв. 60 | O37: вища | P37: КНУ туризму економіки та права, 2009, менеджмент організації | Q37: менеджер автомийки, 9 років, будівельник, 10 років Права - В | R37: не одружений, мати: Виговська Станіслава Григорівна, 1954, м. Київ, вул. Курнатовського буд. 6а, кв. 60, 0634685200 | S37: 0983622020 | U37: курсант | V37: 100 | X37: 46080 | Y37: № 61 | Z37: ні | AA37: 46080 | AB37: Придатний до військової служби
B38: 46073 | C38: 22 | D38: солдат | E38: ВОЙКУ Олег Георгійович | F38: Новобоварським РТЦК та СП у Харківській області | I38: 11.12.1988 | J38: 3248704812 | K38: АГ 330242 | L38: МН 730517 Московським РВ ХМУ УМВС України в Харківській обл. 03.03.2005 | M38: м. Харків | N38: м. Харків, просп. Ювілейний, буд. 72, кв. 107 | O38: вища | P38: ХНАМГ, 2004, менеджер організації міського господарства | Q38: голова правління ОСББ, 2 роки, менеджер з продажів, 7 років Права, В | R38: одружений, дружина: Бондаренко Наталія Володимирівна, 1980, Харківська обл., м. Чугуїв, вул. Харківська, буд. 105, кв. 112 | S38: 0957796772 | Z38: ні | AD38: Резерв КДШВ
A39: 661 | B39: 46076 | C39: 5 | D39: солдат | E39: ГАВРИК Євген Анатолійович | F39: Білоцерківським РТЦК та СП у Київській області | I39: 27.06.1987 | J39: 3195413716 | K39: 011220221362959000010/1 | L39: СМ 568410 Фастівським МРВ ГУ МВС УКР в Київській обл 02.10.2003 | M39: Київська обл., м. Фастів | N39: Київська обл., м. Фастів, вул. Правди, буд. 105 | O39: професійно- технічна | P39: ПТУ №18, м. Фастів, 2005, столяр | Q39: Складальник-пакувальник, 6 років оператор-вантажної лінії, 2 роки Права - | R39: не одружений, батько: Гаврик Анатолій Анатолійович, 1965, Київська обл., м. Фастів, вул. Правди, буд. 105 | S39: 0632444929 | U39: курсант | V39: 100 | X39: 46076 | Y39: № 57 | Z39: ні | AA39: 46076 | AB39: Придатний до військової служби | AC39: ІІ Rh+
A40: 11/1553 | B40: 46078 | C40: 2 | D40: солдат | E40: ГОНЧАРЕНКО Вячеслав Вікторович | F40: Шевченківським РТЦК та СП у Київській області | I40: 22.02.1982 | J40: 3000315097 | K40: МО 498066 | L40: СО 062411 Ленінградським РУ ГУ МВС України в м. Києві 24.12.1998 | M40: м. Київ | N40: м. Київ, пр. Берестейський, буд. 144 кв. 8 | O40: вища | P40: Національний транспортний університет,м. Київ,2009р,вантажні перевезення та логістика | Q40: спеціаліст канцелярії в банку - 10р виготовлення вікон водій - 13р Права B, C | R40: не одружений, батько: Гончаренко Віктор Олександрович - 1959 - 0673571110, м. Київ, пр. Берестейський, буд. 144 кв. 8 | S40: 0675504137 | U40: курсант | V40: 100 | X40: 46078 | Y40: № 59 | Z40: так | AA40: 46078 | AB40: Придатний до військової служби | AC40: I Rh +
A41: 633 | B41: 46074 | C41: 4 | D41: солдат | E41: ГОНЧАРУК Владислав Миколайович | F41: Білоцерківським РТЦК та СП у Київській області | I41: 19.03.2000 | J41: 3660308950 | K41: АВ 970998 | L41: 000060180 3210 23.01.2017 | M41: Київська обл., м. Біла Церква | N41: Київська обл., м. Біла Церква, вул. Томилівська, буд. 50, кв. 40 | O41: повна середня освіта | P41: Білоцерківська ЗОШ №11 | Q41: Зварювальник, 3 роки, Права - | R41: не одружений, батько: Гончарук Микола Михайлович, 1974, Київська обл., м. Біла Церква, вул. Томилівська, буд. 50, кв. 40, 0671744505 | S41: 0977019587 | U41: курсант | V41: 100 | X41: 46075 | Y41: № 56 | Z41: ні | AA41: 46074 | AB41: Придатний до військової служби | AC41: RH 3+
A42: 11/2499 | B42: 46078 | C42: 3 | D42: солдат | E42: ГОРБАЧОВ Богдан Віталійович | F42: Святошинським РТЦК та СП у Київській області | I42: 17.09.2000 | J42: 3678507715 | K42: АГ 606223 | L42: 000176202 8032 12.10.2016 | M42: м. Київ | N42: м. Київ, вул. Жмеринська, буд. 24, кв. 279 | O42: професійно- технічна | P42: КПЛБ і КГ,м. Київ,2019,слюсар, електрик на устаткуванні електричного транспорту | Q42: Працівник пошти - 2р Пакувальник - 4р | R42: не одружений, мати: Горчабова Тетяна Василівна - 56 - 0962918854, м. Київ вул. Жмеринська, буд. 24, кв. 279 | S42: 0972308159 | U42: курсант | V42: 100 | X42: 46078 | Y42: № 59 | Z42: ні | AA42: 46077 | AB42: Придатний до військової служби
...

Sheet Settings
A1: базова загальна середня | C1: Придатний до військової служби | J1: Вінницька | K1: солдат | L1: I Rh -
A2: повна загальна середня | C2: Придатний до служби на підводних човнох, на надводних кораблях, у морській піхоті, Десантно-штурмових військах, спеціальних спорудах, підрозділах спеціального призначення | E2: Вінниця | F2: 1 відділ Хмільницький РТЦК | G2: першого відділу Хмільницького районного | H2: Вінницька | I2: Вінницького ОТЦК та СП | J2: Волинь | K2: старший солдат | L2: I Rh +
A3: професійно- технічна | C3: Придатний до служби у військових частинах забезпечення, ТЦК та СП, ВВНЗ, навчальних центрах, закладах (установах), медичних підрозділах, підрозділах логістики, зв'язку, оперативного забезпечення, охорони | E3: Вінниця | F3: 2 відділ Хмільницький РТЦК | G3: другого відділу Хмільницького районного | H3: Вінницька | I3: Вінницького ОТЦК та СП | J3: Дніпро | K3: молодший сержант | L3: II Rh -
A4: вища | E4: Вінниця | F4: 7 відділ Вінницький РТЦК | G4: сьомого відділу Вінницького районного | H4: Вінницька | I4: Вінницького ОТЦК та СП | J4: Донецьк | K4: сержант | L4: II Rh +
E5: Вінниця | F5: Вінницький ОМТЦК | G5: Вінницького об'єднаного міського | H5: Вінницька | I5: Вінницького ОТЦК та СП | J5: Житомир | K5: старший сержант | L5: III Rh -
E6: Вінниця | F6: 1 відділ Вінницький РТЦК | G6: першого відділу Вінницького районного | H6: Вінницька | I6: Вінницького ОТЦК та СП | J6: Закарпаття | K6: штаб-сержант | L6: III Rh +
E7: Вінниця | F7: 1 відділ Жмеринський РТЦК | G7: першого відділу Жмеринського районного | H7: Вінницька | I7: Вінницького ОТЦК та СП | J7: Запоріжжя | K7: матрос | L7: IV Rh -
E8: Вінниця | F8: Тульчинський РТЦК | G8: Тульчинського районного | H8: Вінницька | I8: Вінницького ОТЦК та СП | J8: Івано-Франківськ | K8: старший матрос | L8: IV Rh +
E9: Вінниця | F9: Хмільницький РТЦК | G9: Хмільницького районного | H9: Вінницька | I9: Вінницького ОТЦК та СП | J9: Київ місто | K9: старшина
E10: Вінниця | F10: 1 відділ Могилів-Подільський РТЦК | G10: першого відділу Могилів-Подільського районного | H10: Вінницька | I10: Вінницького ОТЦК та СП | J10: Київ обл | K10: старшина I статті
E11: Вінниця | F11: 1 відділ Тульчинський РТЦК | G11: першого відділу Тульчинського районного | H11: Вінницька | I11: Вінницького ОТЦК та СП | J11: Кропивницький | K11: головний старшина
E12: Вінниця | F12: 2 відділ Вінницький РТЦК | G12: другого відділу Вінницького районного | H12: Вінницька | I12: Вінницького ОТЦК та СП | J12: Луганськ | K12: прапорщик
E13: Вінниця | F13: 2 відділ Жмеринський РТЦК | G13: другого відділу Жмеринського районного | H13: Вінницька | I13: Вінницького ОТЦК та СП | J13: Львів
E14: Вінниця | F14: 2 відділ Могилів-Подільський РТЦК | G14: другого відділу Могилів-Подільського районного | H14: Вінницька | I14: Вінницького ОТЦК та СП | J14: Миколаїв
E15: Вінниця | F15: 2 відділ Тульчинський РТЦК | G15: другого відділу Тульчинського районного | H15: Вінницька | I15: Вінницького ОТЦК та СП | J15: Одеса
E16: Вінниця | F16: 3 відділ Вінницький РТЦК | G16: третього відділу Вінницького районного | H16: Вінницька | I16: Вінницького ОТЦК та СП | J16: Полтава
E17: Вінниця | F17: 3 відділ Могилів-Подільський РТЦК | G17: третього відділу Могилів-Подільського районного | H17: Вінницька | I17: Вінницького ОТЦК та СП | J17: Рівне
E18: Вінниця | F18: 3 відділ Тульчинський РТЦК | G18: третього відділу Тульчинського районного | H18: Вінницька | I18: Вінницького ОТЦК та СП | J18: Суми
E19: Вінниця | F19: 4 відділ Вінницький РТЦК | G19: четвертого відділу Вінницького районного | H19: Вінницька | I19: Вінницького ОТЦК та СП | J19: Тернопіль
E20: Вінниця | F20: 5 відділ Вінницький РТЦК | G20: п'ятого відділу Вінницького районного | H20: Вінницька | I20: Вінницького ОТЦК та СП | J20: Харків
E21: Вінниця | F21: 6 відділ Вінницький РТЦК | G21: шостого відділу Вінницького районного | H21: Вінницька | I21: Вінницького ОТЦК та СП | J21: Херсон
E22: Вінниця | F22: Вінницький РТЦК | G22: Вінницького районного | H22: Вінницька | I22: Вінницького ОТЦК та СП | J22: Хмельницький
E23: Вінниця | F23: Гайсинський РТЦК | G23: Гайсинського районного | H23: Вінницька | I23: Вінницького ОТЦК та СП | J23: Черкаси
E24: Вінниця | F24: 1 відділ Гайсинський РТЦК | G24: першого відділу Гайсинського районного | H24: Вінницька | I24: Вінницького ОТЦК та СП | J24: Чернівці
E25: Вінниця | F25: 2 відділ Гайсинський РТЦК | G25: другого відділу Гайсинського районного | H25: Вінницька | I25: Вінницького ОТЦК та СП | J25: Чернігів
E26: Вінниця | F26: Жмеринський РТЦК | G26: Жмеринського районного | H26: Вінницька | I26: Вінницького ОТЦК та СП
E27: Вінниця | F27: Могилів-Подільський РТЦК | G27: Могилів-Подільського районного | H27: Вінницька | I27: Вінницького ОТЦК та СП
E28: Волинь | F28: 1 відділ Камінь-Каширський РТЦК | G28: першого відділу Камінь-Каширського районного | H28: Волинська | I28: Волинського ОТЦК та СП
E29: Волинь | F29: 1 відділ Ковельський РТЦК | G29: першого відділу Ковельського районного | H29: Волинська | I29: Волинського ОТЦК та СП
E30: Волинь | F30: 2 відділ Ковельський РТЦК | G30: другого відділу Ковельського районного | H30: Волинська | I30: Волинського ОТЦК та СП
E31: Волинь | F31: 4 відділ Ковельський РТЦК | G31: четвертого відділу Ковельського районного | H31: Волинська | I31: Волинського ОТЦК та СП
E32: Волинь | F32: 3 відділ Ковельський РТЦК | G32: третього відділу Ковельського районного | H32: Волинська | I32: Волинського ОТЦК та СП
E33: Волинь | F33: 5 відділ Ковельський РТЦК | G33: п'ятого відділу Ковельського районного | H33: Волинська | I33: Волинського ОТЦК та СП
E34: Волинь | F34: Луцький ОМТЦК | G34: Луцького об'єднаного міського | H34: Волинська | I34: Волинського ОТЦК та СП
E35: Волинь | F35: 2 відділ Камінь-Каширський РТЦК | G35: другого відділу Камінь-Каширського районного | H35: Волинська | I35: Волинського ОТЦК та СП
E36: Волинь | F36: 1 відділ Луцький РТЦК | G36: першого відділу Луцького районного | H36: Волинська | I36: Волинського ОТЦК та СП
E37: Волинь | F37: 2 відділ Луцький РТЦК | G37: другого відділу Луцького районного | H37: Волинська | I37: Волинського ОТЦК та СП
... E56: Дніпро | F56: 2 відділ Дніпровського РТЦК та СП | G56: другого відділу Дніпровського районного | H56: Дніпропетровська | I56: Дніпропетровського ОТЦК та СП
D57: міста Дніпра | E57: Дніпро | F57: Дніпровський РТЦК та СП | G57: Дніпровського районного | H57: Дніпропетровська | I57: Дніпропетровського ОТЦК та СП
D58: міста Дніпра | E58: Дніпро | F58: Індустріальний РТЦК та СП | G58: Індустріального районного | H58: Дніпропетровська | I58: Дніпропетровського ОТЦК та СП
...

Sheet перевірки
C1: =Основний!E11 -> 0
A2: Андрюшенко Василь Миколайович | C2: =Основний!E12 -> АБРАМЯН Артур Маратович | E2: =C2=G2 -> FALSE | G2: Андрюшенко Василь Миколайович | H2: Донецька обл. м. Маріуполь | I2: м. Київ просп. Червоної Калини, буд. 20б, кв. 84 | J2: базова загальна середня | K2: Толоковська школа №58 Донецька обл, Маріупольський р-н, с. Толоківка 1997 | L2: будівельник - 20р Права B (вилучені) | M2: не одружений сестра: Овчаренко Антоніна Миколаївна - 1970 - 0965389892 - м. Київ, просп. Червоної Калини, буд. 20б, кв. 84 | N2: 973503571
A3: Білий Георгій Єдуардович | C3: =Основний!E13 -> АВРАМЕНКО Андрій Миколайович | E3: =C3=G3 -> FALSE | G3: Білий Георгій Єдуардович | H3: м.Дніпропетровськ | I3: м. Дніпро вул Янтарна буд 73 кв 58 | J3: вища | K3: м.Запоріжжя запорізький приватний інститут 2022 тренер | L3: кухар 6 років Права Б | M3: дружина: Біла Ірина Олександрівна -1995- 0685321494 м. Дніпро вул Янтарна буд 73 кв 58 мати: Біла Світлана Антатолівна -1970- 0503614252 м. Дніпро вул Дімітрова 26 | N3: 669998078
A4: Бондаренко Олександр Андрійович | C4: =Основний!E14 -> АЛЕКСЕНКО Іван Миколайович | E4: =C4=G4 -> FALSE | G4: Бондаренко Олександр Андрійович | H4: Херсонська обл. Бориславський р-н. с. Львове | I4: м. Київ вул. Хорива, буд. 50, кв. 2 | J4: професійно- технічна | K4: ВПУ №25 м. Київ 2017 маляр | L4: оператор на овочерізці менеджер в офісі мерчендайзер | M4: не одружений мати: Бондаренко Інна Миколаївна - 1988 - 0997760649 - м. Київ вул. Хорива, буд. 50, кв. 2 тітка: Слинько Тетяна Миколаївна - прибл. 52р - 0683704157 - м. Київ | N4: 961339708
A5: Голуб Сергій Вячеславович | C5: =Основний!E15 -> АЛІЄВ Парвіз Натікбєкович | E5: =C5=G5 -> FALSE | G5: Голуб Сергій Вячеславович | H5: Житомирський р-н м.Бердичів | I5: Житомирська обл м.Бердичів вул. Зоряна буд 26б кв 17 | J5: вища | K5: м.Київ МТУ національно-транспортний Університет 2010 Інженер Будівельник | L5: Конструктор меблів 1 рік права А Б Ц | M5: дружина: Голуб Світлана Василівна -1984- 0677092054 Житомирський р-н м.Бердичів вул Зоряна буд 26б кв 17 мати :Голуб Валентина Григорівна 1957- 0964531651 - м. Бердичив вул Чернишевського буд 4 | N5: 730671787
A6: Десик Олександр Васильович | C6: =Основний!E16 -> АНДРУШКО Вадим Валентинович | E6: =C6=G6 -> FALSE | G6: Десик Олександр Васильович | H6: Київська обл. Броварський р-н с. Троєщина | I6: м. Київ вул. Лесі Українки, буд. 9а (Троєщина) | J6: вища | K6: НУХТ (Національний університет харчових технологій) м. Київ 2005р Технолог консервних виробів | L6: проектування та виробництво корпусних меблів - 15р Права B | M6: одружени дружина: Десик Ольга Василівна - 1984 - 0666138779, м. Київ вул. Лесі Українки, буд. 9а (Троєщина) батько: Десик Василь Михайлович - 78р - 0677236600, м. Київ вул. Лесі Українки, буд. 9а (Троєщина) | N6: 502182233
A7: Катасонов Віталій Володимирович | C7: =Основний!E17 -> АНІСІМОВ Сергій Леонідович | E7: =C7=G7 -> FALSE | G7: Катасонов Віталій Володимирович | H7: м.Київ | I7: м.Київ вул О.теліги 37а кв 55 | J7: вища | K7: м.Київ КНУ ім.Тараса Григоровича Шевченка 2010 Юрист | L7: Юрист 10 років | M7: брат: Вітько Олександр Григорович -1985- 0937863669 м.Київ вуб Буслівська 20 | N7: 937863819
A8: Кліпін Дмитро Анатолійович | C8: =Основний!E18 -> АНТОНЮК Дмитро Русланович | E8: =C8=G8 -> FALSE | G8: Кліпін Дмитро Анатолійович | H8: Луганська обл с. Білокуракине | I8: м. Київ вул Червоної Калини буд 81 кв61 | J8: професійно- технічна | K8: ПТУ№117 с.Панківка 1996 Тракторист-механік | L8: Плиточник 5р Права Б | M8: брат:Роман Автонділович 0507323605 | N8: 976197747
A9: Кудаєв Сергій Олександрович | C9: =Основний!E19 -> АНТОНЮК Олександр Леонідович | E9: =C9=G9 -> FALSE | G9: Кудаєв Сергій Олександрович | H9: Вінницька обл м. Козятин | I9: Вінницька обл Мельницький р-н м. Козятин вул. Вінниченка буд 38 | J9: професійно- технічна | K9: ПТУ№17 м.Козятин 2016 технік-будівельник | L9: стриптизер (не надав Інформацію) 5 років Права Б | M9: батько:Кудаєв Борис Павлович-1971-093445116 (не надав Інформацію) мати:Кудаєво Ольга Іванівна -1976- 0632472245 (не надав Інформацію) | N9: 981227910
A10: Литовченко Ігор Станіславович | C10: =Основний!E20 -> БАБИЧ Андрій Васильович | E10: =C10=G10 -> FALSE | G10: Литовченко Ігор Станіславович
A11: Перехрестенко Всеслав Вячеславович | C11: =Основний!E21 -> БАСКАКОВ Павло Анатолійович | E11: =C11=G11 -> FALSE | G11: Перехрестенко Всеслав Вячеславович | H11: Київська обл. м. Біла церка | I11: м. київ вул. Провулок Кустанайський 7 | J11: вища | K11: НУФВСУ м. Київ 2015 рік, реабілітолог | L11: реабілітолог 15 років | M11: не одружений, мати Перехрестенко Віталіна Олегівна 1978, 0969665077, м. Біла церква, вул. курсовий пеевулок 19 кв 47, друг, Семченко Владислав Юрійович 1993, 0637836184, м. Біла церква, вул. Фастівська 28 | N11: 631212814
A12: Снісаренко Данило Григорович | C12: =Основний!E22 -> БЕРШАДСЬКИЙ Олександр Миколайович | E12: =C12=G12 -> FALSE | G12: Снісаренко Данило Григорович | H12: Кіровоградська обл. м. Кіровоград | I12: м. Київ вул. Костанайська, буд. 1, кв. 2 | J12: повна загальна середня | K12: Гімназі ім. Т. Шевченка м. Кропивницький 2017 | L12: продавець-консультант - 6р Права B | M12: одружений дружина: Снісаренко Марія Артемівна - 2003 - 0635379329, м. Київ вул. Костанайська, буд. 1, кв. 2 мати: Снісаренко Ірина Вікторівна - прибл. 45 - 0950559737 - м. Кропивницький, вул. Полтавська, буд. 81, кв 103 | N12: 660219439
A13: Соколенко Олег Віталійович | C13: =Основний!E23 -> БІЛОУСОВ Сергій Вікторович | E13: =C13=G13 -> FALSE | G13: Соколенко Олег Віталійович | H13: Херсонська обл. Великоолександрівський р-н с. Новополтавка | I13: м. Київ вул. Професора Педвисоцького, буд. 18, кв. 48 | J13: професійно- технічна | K13: Херсонське ВПУ 2015 ресторанне господарство | L13: держ. прикордонна служба - 3,5р | M13: не одружений мати: Луппа Оксана Іванівна - 1975 - 0685983229 - м. Київ вул. Професора Педвисоцького, буд. 18, кв. 48 сестра: Абуністрович Олена Іванівна - прибл. 1970- 0677170896 - Херсонська обл., Бериславський р-н, смт. Великоолександрівка, вул. Вільна, буд. 51 | N13: 685114674
A14: Сурда Ігор Юрійович | C14: =Основний!E24 -> БОЙКО Геннадій Володимирович | E14: =C14=G14 -> FALSE | G14: Сурда Ігор Юрійович | H14: Житомирська обл. Житомирський р-н. с. Кодня | I14: Житомирська обл. Житомирський р-н. с. Двірець, вул. Петровського 45 | J14: повна загальна середня | K14: ПТУ №1 м. Житомир 2008 рік, маляр штукатур плиточник | L14: банщик 5 років | M14: не одружений, брат Сурда Олег Юрійович 1991 року, 0982169574, Житомирська обл. Житомирський р-н. с. Кодня вул. Кооперативна 72,мати Сурда Валентина Леонідівна 1967, немає номера телефону, Житомирська обл. Житомирський р-н. с. Двірець, вул. Петровського 45 | N14: не має телефона
A15: Устенко Олександр Сергійович | C15: =Основний!E25 -> БОЛЬШАКОВ Костянтин Євгенович | E15: =C15=G15 -> FALSE | G15: Устенко Олександр Сергійович | H15: м. Київ | I15: м. Київ вул. Акедеміка Корольва 3а кв1 | J15: професійно- технічна | K15: Коледж від НУХТ м.Київ 2010 рік Технолог повар | L15: менеджер по продажу 3 роки ,права Б | M15: не одружений. Батько Устенко Сергійович 1965 року, 0675955058, м. Київ вул. Акедеміка Корольва 3а кв1, мати Устенко Лариса Миколаївна 1967 року 0671320066 м. Київ вул. Акедеміка Корольва 3а кв1 | N15: 932796505
A16: Хлупін Денис Володимирович | C16: =Основний!E26 -> БОНДАР Андрій Васильович | E16: =C16=G16 -> FALSE | G16: Хлупін Денис Володимирович | H16: м. Дніпро | I16: м. Дніпро вул. Робітнича буд 63 кв. 84 | J16: вища | K16: ДГУ м. Дніпро 2012 рік, юрист-спеціаліст( правознавство) | L16: ремонт побутової техніки та електроники 2 роки права Б | M16: цивілний дружина Кравченко Юлія Володимирівна 1976 року, 0678407373, м. Київ вул. Перова буд 16 кв3. друж Ігорь Піскіжов Валерійович 1964, 0962134218. м. Київ вул. Центральна буд 43 кв8 | N16: 957284727
A17: Цесько Євген Іванович | C17: =Основний!E27 -> БОРИСОВ Дмитро Сергійович | E17: =C17=G17 -> FALSE | G17: Цесько Євген Іванович | H17: Херсонська обл с. Степанівка | I17: м.Херсон вул Весела буд 41 | J17: професійно- технічна | K17: м.Херсон ВПУ№2 Столяр 2005 | L17: Криптовалюта 7 роквв | M17: сестра: Цесько Інна Іванівна -1990- 0957168028 м.Херсон вул Весела буд 41 | N17: 735006969
C18: =Основний!E28 -> БОРОДАВКО Віталій Михайлович | E18: =C18=G18 -> FALSE
C19: =Основний!E29 -> БРИСКІН Денис Сергійович | E19: =C19=G19 -> FALSE
C20: =Основний!E30 -> БРОДОВСЬКИЙ Вадим Феліксович | E20: =C20=G20 -> FALSE
C21: =Основний!E31 -> БРУЯКА Максим Юрійович | E21: =C21=G21 -> FALSE
C22: =Основний!E32 -> БУРКОВЦОВ Андрій Юрійович | E22: =C22=G22 -> FALSE
C23: =Основний!E33 -> БУТКО Руслан Павлович | E23: =C23=G23 -> FALSE
C24: =Основний!E34 -> ВАСИЛЬЧЕНКО Сергій Анатолійович | E24: =C24=G24 -> FALSE
C25: =Основний!E35 -> ВЕРБА Володимир Олександрович | E25: =C25=G25 -> FALSE
C26: =Основний!E36 -> ВЕРСТЮК Євген Дмитрович | E26: =C26=G26 -> FALSE
C27: =Основний!E37 -> ВИГІВСЬКИЙ Денис Анатолійович | E27: =C27=G27 -> FALSE
C28: =Основний!E38 -> ВОЙКУ Олег Георгійович | E28: =C28=G28 -> FALSE
C29: =Основний!E39 -> ГАВРИК Євген Анатолійович | E29: =C29=G29 -> FALSE
... C93: =Основний!E103 -> ПОЛІЩЕНКО Олександр Петрович | E93: =C93=G93 -> FALSE
C94: =Основний!E104 -> ПОЛТОРАЦЬКИЙ Сергій Олександрович
C95: =Основний!E105 -> ПОНОМАРЕНКО Володимир Миколайович
C96: =Основний!E106 -> ПРИЩЕПЧУК Андрій Олександрович
C97: =Основний!E107 -> ПРОКОПЧУК Євген Антонович
C98: =Основний!E108 -> ПЯТНІКОВ Анатолій Вікторович
C99: =Основний!E109 -> РЕДЬКО Вадим Юрійович
C100: =Основний!E110 -> РІЗНИЧОК Ігор Миколайович
C101: =Основний!E111 -> РОМАНЦОВ Ілля Андрійович
C102: =Основний!E112 -> САВИЦЬКИЙ Олексій Васильович
C103: =Основний!E113 -> САДИКА Роман Олександрович
...

Sheet Перевірка
A1: {=Основний!C10:C174} -> № з/п | B1: {=CONCATENATE("", Основний!E10:E174)} -> 141 | C1: {=CONCATENATE("", TEXT(Основний!I10:I174,"dd.mm.yyyy"))} -> Дата народження | D1: {=CONCATENATE("", Основний!J10:J174)} -> ідентифікаційний код | E1: Перевірка | F1: {=CONCATENATE("", Основний!K10:K174)} -> військовий квиток | G1: Перевірка | H1: {=CONCATENATE("", Основний!L10:L174)} -> Паспорт, ким і коли виданий | I1: Перевірка | J1: Алфавітка | K1: Д = А | L1: Поіменний Список | M1: Д = ПС | N1: А = ПС
A2: 0 | C2: 00.01.1900 | J2: - | K2: - | L2: - | M2: - | N2: - | O2: =DATEVALUE(C2) <> INT(LEFT(D2,5)) +1 -> #VALUE!
A3: 1 | B3: АБРАМЯН Артур Маратович | C3: 21.10.1998 | D3: 3608804152 | E3: =IF(D3="", "", LEN(D3)) -> 10 | F3: 040520251458450705269/1 | G3: =IF(F3="", "", LEN(F3)) -> 23 | H3: ВТ 101396 Приморським РС у м. Маріуполі ГУ ДМС України в Донецькій області 12.06.2015 | I3: =IF(H3="", "", LEN(H3)) -> 85 | J3: Антоненко Руслан Олександрович | K3: =IF(J3="", "", B3=J3) -> FALSE | M3: =IF(L3="", "", B3=L3) | N3: =IF(L3="", "", J3=L3) | O3: =DATEVALUE(C3) <> INT(LEFT(D3,5)) +1 -> FALSE | P3: =DATEVALUE(C3) -> 36089
A4: 2 | B4: АВРАМЕНКО Андрій Миколайович | C4: 18.06.1984 | D4: 3085003094 | E4: =IF(D4="", "", LEN(D4)) -> 10 | G4: =IF(F4="", "", LEN(F4)) | I4: =IF(H4="", "", LEN(H4)) | J4: Баранов Дмитро Геннадійович | K4: =IF(J4="", "", B4=J4) -> FALSE | M4: =IF(L4="", "", B4=L4) | N4: =IF(L4="", "", J4=L4) | O4: =DATEVALUE(C4) <> INT(LEFT(D4,5)) +1 -> FALSE
A5: 2 | B5: АЛЕКСЕНКО Іван Миколайович | C5: 23.06.1997 | D5: 3560301717 | E5: =IF(D5="", "", LEN(D5)) -> 10 | G5: =IF(F5="", "", LEN(F5)) | I5: =IF(H5="", "", LEN(H5)) | J5: Боровик Юрій Володимирович | K5: =IF(J5="", "", B5=J5) -> FALSE | M5: =IF(L5="", "", B5=L5) | N5: =IF(L5="", "", J5=L5) | O5: =DATEVALUE(C5) <> INT(LEFT(D5,5)) +1 -> FALSE
A6: 3 | B6: АЛІЄВ Парвіз Натікбєкович | C6: 07.05.1983 | D6: 3044204097 | E6: =IF(D6="", "", LEN(D6)) -> 10 | F6: АГ 629818 | G6: =IF(F6="", "", LEN(F6)) -> 9 | H6: КС 160333 Київським РВ ДМУ УДМС УКР в Донецькій обл 09.08.2002 | I6: =IF(H6="", "", LEN(H6)) -> 62 | J6: Горбатенко Олександр Олегович | K6: =IF(J6="", "", B6=J6) -> FALSE | M6: =IF(L6="", "", B6=L6) | N6: =IF(L6="", "", J6=L6)
A7: 1 | B7: АНДРУШКО Вадим Валентинович | C7: 02.11.1991 | D7: 3354308835 | E7: =IF(D7="", "", LEN(D7)) -> 10 | F7: АГ 603287 | G7: =IF(F7="", "", LEN(F7)) -> 9 | H7: ВН 424127 Вололдарсько-Волинським РВ УМВС в Житомирській області 20.05.2008 | I7: =IF(H7="", "", LEN(H7)) -> 75 | J7: Жестовський Сергій Сергійович | K7: =IF(J7="", "", B7=J7) -> FALSE | M7: =IF(L7="", "", B7=L7) | N7: =IF(L7="", "", J7=L7)
A8: 5 | B8: АНІСІМОВ Сергій Леонідович | C8: 18.10.1989 | D8: 3279802570 | E8: =IF(D8="", "", LEN(D8)) -> 10 | F8: АГ 633795 | G8: =IF(F8="", "", LEN(F8)) -> 9 | H8: АМ 247948 | I8: =IF(H8="", "", LEN(H8)) -> 9 | J8: Ісаков Олександр Сергійович | K8: =IF(J8="", "", B8=J8) -> FALSE | M8: =IF(L8="", "", B8=L8) | N8: =IF(L8="", "", J8=L8)
A9: 1 | B9: АНТОНЮК Дмитро Русланович | C9: 23.03.1999 | D9: 3624109257 | E9: =IF(D9="", "", LEN(D9)) -> 10 | F9: АГ 574988 | G9: =IF(F9="", "", LEN(F9)) -> 9 | H9: АТ 121678 | I9: =IF(H9="", "", LEN(H9)) -> 9 | J9: Клімчук Олександр Олександрович | K9: =IF(J9="", "", B9=J9) -> FALSE | M9: =IF(L9="", "", B9=L9) | N9: =IF(L9="", "", J9=L9)
A10: 1 | B10: АНТОНЮК Олександр Леонідович | C10: 27.09.1979 | D10: 2912410393 | E10: =IF(D10="", "", LEN(D10)) -> 10 | F10: АГ 603239 | G10: =IF(F10="", "", LEN(F10)) -> 9 | H10: ТТ 193066 Дарнівським РО ГУ ДМС УКР в м. Києві 16.08.2013 | I10: =IF(H10="", "", LEN(H10)) -> 57 | J10: Колесніков Сергій Сергійович | K10: =IF(J10="", "", B10=J10) -> FALSE | M10: =IF(L10="", "", B10=L10) | N10: =IF(L10="", "", J10=L10)
A11: 2 | B11: БАБИЧ Андрій Васильович | C11: 18.04.1984 | D11: 3078922215 | E11: =IF(D11="", "", LEN(D11)) -> 10 | F11: АГ 603272 | G11: =IF(F11="", "", LEN(F11)) -> 9 | H11: СТ 531446 Чернігівським РС УДМС УКР в Чернігівській обл 24.02.2017 | I11: =IF(H11="", "", LEN(H11)) -> 67 | J11: Опанасюк Ігор Петрович | K11: =IF(J11="", "", B11=J11) -> FALSE | M11: =IF(L11="", "", B11=L11) | N11: =IF(L11="", "", J11=L11)
A12: 3 | B12: БАСКАКОВ Павло Анатолійович | C12: 02.03.1984 | D12: 3074200978 | E12: =IF(D12="", "", LEN(D12)) -> 10 | F12: 140220221425037600020/1 | G12: =IF(F12="", "", LEN(F12)) -> 23 | H12: АМ 064073 Заводським РВ Дніпродзержинського МУ УМВС України в Дніпропетровській області 03.10.2000 | I12: =IF(H12="", "", LEN(H12)) -> 98 | J12: Ручин Дмитро Вікторович | K12: =IF(J12="", "", B12=J12) -> FALSE | M12: =IF(L12="", "", B12=L12) | N12: =IF(L12="", "", J12=L12)
A13: 2 | B13: БЕРШАДСЬКИЙ Олександр Миколайович | C13: 15.03.1992 | D13: 3367700733 | E13: =IF(D13="", "", LEN(D13)) -> 10 | F13: довідка | G13: =IF(F13="", "", LEN(F13)) -> 7 | H13: 003047716 8034 04.03.2019 | I13: =IF(H13="", "", LEN(H13)) -> 25 | J13: Солоденко Анатолій Сергійович | K13: =IF(J13="", "", B13=J13) -> FALSE | M13: =IF(L13="", "", B13=L13) | N13: =IF(L13="", "", J13=L13)
A14: 3 | B14: БІЛОУСОВ Сергій Вікторович | C14: 04.09.1982 | D14: ВМ 632875 | E14: =IF(D14="", "", LEN(D14)) -> 9 | F14: АГ 186080 | G14: =IF(F14="", "", LEN(F14)) -> 9 | H14: 009302826 1836 23.06.2023 | I14: =IF(H14="", "", LEN(H14)) -> 25 | J14: Фістікан Василь Петрович | K14: =IF(J14="", "", B14=J14) -> FALSE | M14: =IF(L14="", "", B14=L14) | N14: =IF(L14="", "", J14=L14)
A15: 18 | B15: БОЙКО Геннадій Володимирович | C15: 19.11.1981 | D15: 2990807554 | E15: =IF(D15="", "", LEN(D15)) -> 10 | F15: 250220261352624000001/2 | G15: =IF(F15="", "", LEN(F15)) -> 23 | H15: МА 583941 Охтирським МРВУМВС України в Сумській обл., 04.01.1999 | I15: =IF(H15="", "", LEN(H15)) -> 64 | J15: Чабан Михайло Григорович | K15: =IF(J15="", "", B15=J15) -> FALSE | M15: =IF(L15="", "", B15=L15) | N15: =IF(L15="", "", J15=L15)
A16: 4 | B16: БОЛЬШАКОВ Костянтин Євгенович | C16: 02.07.1992 | D16: 3378604531 | E16: =IF(D16="", "", LEN(D16)) -> 10 | F16: 250220261320634500007/1 | G16: =IF(F16="", "", LEN(F16)) -> 23 | H16: ЕН 904717 Краснолуцьким МВ УДМС УКР в Луганській обл 15.11.2012 | I16: =IF(H16="", "", LEN(H16)) -> 63 | K16: =IF(J16="", "", B16=J16) | M16: =IF(L16="", "", B16=L16) | N16: =IF(L16="", "", J16=L16)
A17: 4 | B17: БОНДАР Андрій Васильович | C17: 29.07.1988 | D17: 3235207996 | E17: =IF(D17="", "", LEN(D17)) -> 10 | F17: АГ 574967 | G17: =IF(F17="", "", LEN(F17)) -> 9 | H17: 011098716 | I17: =IF(H17="", "", LEN(H17)) -> 9 | K17: =IF(J17="", "", B17=J17) | M17: =IF(L17="", "", B17=L17) | N17: =IF(L17="", "", J17=L17)
A18: 10 | B18: БОРИСОВ Дмитро Сергійович | C18: 16.05.1984 | D18: 3081727094 | E18: =IF(D18="", "", LEN(D18)) -> 10 | F18: СО 871538 | G18: =IF(F18="", "", LEN(F18)) -> 9 | I18: =IF(H18="", "", LEN(H18)) | K18: =IF(J18="", "", B18=J18) | M18: =IF(L18="", "", B18=L18) | N18: =IF(L18="", "", J18=L18)
A19: 1 | B19: БОРОДАВКО Віталій Михайлович | C19: 10.10.1989 | D19: 3279006554 | E19: =IF(D19="", "", LEN(D19)) -> 10 | F19: АГ 633793 | G19: =IF(F19="", "", LEN(F19)) -> 9 | H19: НМ 247947 Ніжинським МВР УМВС УКР в Чернігівській обл 24.03.2006 | I19: =IF(H19="", "", LEN(H19)) -> 64 | K19: =IF(J19="", "", B19=J19) | M19: =IF(L19="", "", B19=L19) | N19: =IF(L19="", "", J19=L19)
A20: 3 | B20: БРИСКІН Денис Сергійович | C20: 03.09.1982 | D20: 3019609990 | E20: =IF(D20="", "", LEN(D20)) -> 10 | F20: МО 369114 | G20: =IF(F20="", "", LEN(F20)) -> 9 | I20: =IF(H20="", "", LEN(H20)) | K20: =IF(J20="", "", B20=J20) | M20: =IF(L20="", "", B20=L20) | N20: =IF(L20="", "", J20=L20)
A21: 2 | B21: БРОДОВСЬКИЙ Вадим Феліксович | C21: 09.11.1977 | D21: 2843714031 | E21: =IF(D21="", "", LEN(D21)) -> 10 | F21: АГ 603250 | G21: =IF(F21="", "", LEN(F21)) -> 9 | H21: ВМ 028712 | I21: =IF(H21="", "", LEN(H21)) -> 9 | K21: =IF(J21="", "", B21=J21) | M21: =IF(L21="", "", B21=L21) | N21: =IF(L21="", "", J21=L21)
A22: 23 | B22: БРУЯКА Максим Юрійович | C22: 28.10.1996 | D22: 3536512192 | E22: =IF(D22="", "", LEN(D22)) -> 10 | F22: АВ 960514 | G22: =IF(F22="", "", LEN(F22)) -> 9 | H22: МВ 516155 Ковпаківським РВ м.Суми УДМС України в Сумській обл. 18.12.2012 | I22: =IF(H22="", "", LEN(H22)) -> 73 | K22: =IF(J22="", "", B22=J22) | M22: =IF(L22="", "", B22=L22) | N22: =IF(L22="", "", J22=L22)
A23: 38 | B23: БУРКОВЦОВ Андрій Юрійович | C23: 09.09.1988 | D23: 3239413855 | E23: =IF(D23="", "", LEN(D23)) -> 10 | F23: АВ 949437 | G23: =IF(F23="", "", LEN(F23)) -> 9 | H23: закордоний паспорт ЕН991201 виданий 7401 08.06.2011 | I23: =IF(H23="", "", LEN(H23)) -> 51 | K23: =IF(J23="", "", B23=J23) | M23: =IF(L23="", "", B23=L23) | N23: =IF(L23="", "", J23=L23)
A24: 5 | B24: БУТКО Руслан Павлович | C24: 29.07.1998 | D24: 3600408276 | E24: =IF(D24="", "", LEN(D24)) -> 10 | F24: 250620235816010600001/1 | G24: =IF(F24="", "", LEN(F24)) -> 23 | H24: 009601452 3214 29.08.2023 | I24: =IF(H24="", "", LEN(H24)) -> 25 | K24: =IF(J24="", "", B24=J24) | M24: =IF(L24="", "", B24=L24) | N24: =IF(L24="", "", J24=L24)
A25: 5 | B25: ВАСИЛЬЧЕНКО Сергій Анатолійович | C25: 17.11.1993 | D25: 3428909730 | E25: =IF(D25="", "", LEN(D25)) -> 10 | F25: АВ 949433 | G25: =IF(F25="", "", LEN(F25)) -> 9 | H25: 002997059 виданий 5924 20.02.2019 | I25: =IF(H25="", "", LEN(H25)) -> 33 | K25: =IF(J25="", "", B25=J25) | M25: =IF(L25="", "", B25=L25) | N25: =IF(L25="", "", J25=L25)
A26: 4 | B26: ВЕРБА Володимир Олександрович | C26: 28.08.1995 | D26: 3493804851 | E26: =IF(D26="", "", LEN(D26)) -> 10 | F26: АВ 552749 | G26: =IF(F26="", "", LEN(F26)) -> 9 | I26: =IF(H26="", "", LEN(H26)) | K26: =IF(J26="", "", B26=J26) | M26: =IF(L26="", "", B26=L26) | N26: =IF(L26="", "", J26=L26)
A27: 43 | B27: ВЕРСТЮК Євген Дмитрович | C27: 05.04.1977 | D27: 2821912276 | E27: =IF(D27="", "", LEN(D27)) -> 10 | F27: АВ909239 | G27: =IF(F27="", "", LEN(F27)) -> 8 | H27: МК 414303 Лозівським МРВУМВС України в Харківській обл. 15.01.1997 | I27: =IF(H27="", "", LEN(H27)) -> 68 | K27: =IF(J27="", "", B27=J27) | M27: =IF(L27="", "", B27=L27) | N27: =IF(L27="", "", J27=L27)
A28: 4 | B28: ВИГІВСЬКИЙ Денис Анатолійович | C28: 28.09.1986 | D28: 3168215372 | E28: =IF(D28="", "", LEN(D28)) -> 10 | F28: 070920231320634500225/1 | G28: =IF(F28="", "", LEN(F28)) -> 23 | H28: МЕ 222316 | I28: =IF(H28="", "", LEN(H28)) -> 9 | K28: =IF(J28="", "", B28=J28) | M28: =IF(L28="", "", B28=L28) | N28: =IF(L28="", "", J28=L28)
A29: 22 | B29: ВОЙКУ Олег Георгійович | C29: 11.12.1988 | D29: 3248704812 | E29: =IF(D29="", "", LEN(D29)) -> 10 | F29: АГ 330242 | G29: =IF(F29="", "", LEN(F29)) -> 9 | H29: МН 730517 Московським РВ ХМУ УМВС України в Харківській обл. 03.03.2005 | I29: =IF(H29="", "", LEN(H29)) -> 71 | K29: =IF(J29="", "", B29=J29) | M29: =IF(L29="", "", B29=L29) | N29: =IF(L29="", "", J29=L29)
A30: 5 | B30: ГАВРИК Євген Анатолійович | C30: 27.06.1987 | D30: 3195413716 | E30: =IF(D30="", "", LEN(D30)) -> 10 | F30: 011220221362959000010/1 | G30: =IF(F30="", "", LEN(F30)) -> 23 | H30: СМ 568410 Фастівським МРВ ГУ МВС УКР в Київській обл 02.10.2003 | I30: =IF(H30="", "", LEN(H30)) -> 63 | K30: =IF(J30="", "", B30=J30) | M30: =IF(L30="", "", B30=L30) | N30: =IF(L30="", "", J30=L30)
A31: 2 | B31: ГОНЧАРЕНКО Вячеслав Вікторович | C31: 22.02.1982 | D31: 3000315097 | E31: =IF(D31="", "", LEN(D31)) -> 10 | F31: МО 498066 | G31: =IF(F31="", "", LEN(F31)) -> 9 | H31: СО 062411 Ленінградським РУ ГУ МВС України в м. Києві 24.12.1998 | I31: =IF(H31="", "", LEN(H31)) -> 64 | K31: =IF(J31="", "", B31=J31) | M31: =IF(L31="", "", B31=L31) | N31: =IF(L31="", "", J31=L31)
A32: 4 | B32: ГОНЧАРУК Владислав Миколайович | C32: 19.03.2000 | D32: 3660308950 | E32: =IF(D32="", "", LEN(D32)) -> 10 | F32: АВ 970998 | G32: =IF(F32="", "", LEN(F32)) -> 9 | H32: 000060180 3210 23.01.2017 | I32: =IF(H32="", "", LEN(H32)) -> 25 | K32: =IF(J32="", "", B32=J32) | M32: =IF(L32="", "", B32=L32) | N32: =IF(L32="", "", J32=L32)
A33: 3 | B33: ГОРБАЧОВ Богдан Віталійович | C33: 17.09.2000 | D33: 3678507715 | E33: =IF(D33="", "", LEN(D33)) -> 10 | F33: АГ 606223 | G33: =IF(F33="", "", LEN(F33)) -> 9 | H33: 000176202 8032 12.10.2016 | I33: =IF(H33="", "", LEN(H33)) -> 25 | K33: =IF(J33="", "", B33=J33) | M33: =IF(L33="", "", B33=L33) | N33: =IF(L33="", "", J33=L33)
A34: 41 | B34: ГРАБКО Андрій Іванович | C34: 18.09.1986 | D34: 3167201934 | E34: =IF(D34="", "", LEN(D34)) -> 10 | F34: АВ 949483 | G34: =IF(F34="", "", LEN(F34)) -> 9 | H34: МВ 173258 Л.Долинським РВУМВС України в Сумській обл., 08.02.2003 | I34: =IF(H34="", "", LEN(H34)) -> 65 | K34: =IF(J34="", "", B34=J34) | M34: =IF(L34="", "", B34=L34) | N34: =IF(L34="", "", J34=L34)
A35: 6 | B35: ГРЕЧАНЮК Денис Сергійович | C35: 07.02.1996 | D35: 3510103050 | E35: =IF(D35="", "", LEN(D35)) -> 10 | F35: АГ 629824 | G35: =IF(F35="", "", LEN(F35)) -> 9 | H35: 005780250 8034 24.02.2021 | I35: =IF(H35="", "", LEN(H35)) -> 25 | K35: =IF(J35="", "", B35=J35) | M35: =IF(L35="", "", B35=L35) | N35: =IF(L35="", "", J35=L35)
A36: 3 | B36: ГРІЩЕНКО Максим Олегович | C36: 09.12.1987 | D36: 3211914316 | E36: =IF(D36="", "", LEN(D36)) -> 10 | F36: АГ 629881 | G36: =IF(F36="", "", LEN(F36)) -> 9 | H36: МЕ 482954 | I36: =IF(H36="", "", LEN(H36)) -> 9 | K36: =IF(J36="", "", B36=J36) | M36: =IF(L36="", "", B36=L36) | N36: =IF(L36="", "", J36=L36)
A37: 2 | B37: ГРОХ Андрій Вікторович | C37: 18.07.1984 | D37: 3088000115 | E37: =IF(D37="", "", LEN(D37)) -> 10 | F37: АВ 970598 | G37: =IF(F37="", "", LEN(F37)) -> 9 | H37: СМ 236283 Міським відділом №1 Білоцерківського МУГУ МВС УКР в Київській обл 15.09.2000 | I37: =IF(H37="", "", LEN(H37)) -> 86 | K37: =IF(J37="", "", B37=J37) | M37: =IF(L37="", "", B37=L37) | N37: =IF(L37="", "", J37=L37)
A38: 4 | B38: ГРУЗИНСЬКИЙ Юрій Миколайович | C38: 12.10.1985 | D38: 3133113253 | E38: =IF(D38="", "", LEN(D38)) -> 10 | F38: АГ 629880 | G38: =IF(F38="", "", LEN(F38)) -> 9 | H38: 003604871 2315 15.07.2019 | I38: =IF(H38="", "", LEN(H38)) -> 25 | K38: =IF(J38="", "", B38=J38) | M38: =IF(L38="", "", B38=L38) | N38: =IF(L38="", "", J38=L38)
A39: 46 | B39: ГУЛЕНКО Владислав Олександрович | C39: 01.03.1998 | D39: 3585409073 | E39: =IF(D39="", "", LEN(D39)) -> 10 | F39: АВ 949486 | G39: =IF(F39="", "", LEN(F39)) -> 9 | I39: =IF(H39="", "", LEN(H39)) | K39: =IF(J39="", "", B39=J39) | M39: =IF(L39="", "", B39=L39) | N39: =IF(L39="", "", J39=L39)
A40: 5 | B40: ГУСЄВ Євгеній Олександрович | C40: 18.11.1998 | D40: 3611608372 | E40: =IF(D40="", "", LEN(D40)) -> 10 | F40: довідка | G40: =IF(F40="", "", LEN(F40)) -> 7 | H40: ТТ 264727 Деснянським РВ ГУДМС УКР в м. Києві 20.11.2014 | I40: =IF(H40="", "", LEN(H40)) -> 56 | K40: =IF(J40="", "", B40=J40) | M40: =IF(L40="", "", B40=L40) | N40: =IF(L40="", "", J40=L40)
...

Sheet Аркуш1
C2: `=MOD(MOD(-MID(D2;1;1) + MID(D2;2;1)*5 + MID(D2;3;1)*7 + MID(D2;4;1)*9 + MID(D2;5;1)*4 + MID(D2;6;1)*6 + MID(D2;7;1)*10 + MID(D2;8;1)*5 + MID(D2;9;1)*7; 11);10) <> VALUE( MID(D2;10;1))
C6: `=DATEVALUE( C2) <> INT(LEFT(D2;5)) +1

Sheet Алфавітки
A1: № з/п | B1: В/звання | D1: Місце народження | E1: адреса (фактична) | F1: Освіта | G1: склад сім’ї | H1: № телефону
A2: 1 | B2: солдат | C2: Антоненко Руслан Олександрович | D2: Миколаївська обл. Миколаївський р-н, с. Весняне | E2: м. Миколаїв вул. Айвазовського буд. 6 кв. 809-809 | F2: середня-спеціальна, ПТУ №1 м. Миколаїв 2005 судобудівельник, зварювальник (права категорії Б, ФОП Парус, будівельник 18р.) | G2: Розлучений Мати: Калага Лідія Миронівна, м. Миколаїв вул. Айвазовського буд. 6 кв. 809-809, 0663420925 | H2: 660263238
A3: 8 | B3: солдат | C3: Баранов Дмитро Генащдійович | D3: с. Кірове Базарський р-н Херсонської обл. | E3: Херсонської обл. Базарський р-н, с. Олександрівка вул. Мельнична 5 | F3: середньо-спеціальна Судобудівельний ліцей 2018р. Зварювальник Содозбірник (Категорія прав Б, С1, С, СЕ, далекобійник 4р.) | G3: неодружений Батько: Баранов Генадій Анатолійович Херсонської обл. Базарський р-н, с. Олександрівка вул. Мельнична 5, тел. 0668290286 | H3: 505059149
A4: 12 | B4: солдат | C4: Боровик Юрій Володимирович | D4: м. Миколаїв | E4: м. Миколаїв вул. Восьма Лінія буд. 68 | F4: середньо-спеціальна Теплодарський професійний ліцей 2011р. Кухар (категорія прав Б, автоелектрик 1р) | G4: цивільний шлюб Цивільна дружина: Голубченко Юлія Вадимівна, м. Миколаїв вул. Восьма Лінія буд. 68, тел. 0950975840 | H4: 993803701
A5: 7 | B5: солдат | C5: Горбатенко Олександр Олегович | D5: м. Миколаїв | E5: м. Миколаїв вул. Архітектора Староба 3 кв.1 | F5: повна середня ЗОШ № 64 2009р.(кухар 7р) | G5: неодружений Бабуся: Горбатенко Людмила Іванівна м. Миколаїв вул. Архітектора Староба 6б кв. 24, тел. 0966366295 | H5: 677153559
A6: 4 | B6: солдат | C6: Жестовський Сергій Сергійович | D6: Миколаївська обл. Первомайський р-н, с. Новопавлівка | E6: Миколаївська обл. Первомайський р-н, с. Новопавлівка вул. Роднікова 18 | F6: середньо-спеціальна Одеський професійний ліцей морського транспорту 2008р. електрозварювальник (категорія прав Б, Будівельник 2р.) | G6: Одружений Дружина: Жестовська Ірина Анатоліївна Миколаївська обл. Первомайський р-н, с. Новопавлівка вул. Роднікова 18, 0974890880 | H6: 683977036
A7: 6 | B7: солдат | C7: Ісаков Олександ Сергійович | D7: Кропивницька обл. Новоархангельський р-н с. Скалівські Хутори | E7: Миколаївська обл. Баштанський р-н с. Поляне, вул. Садова, буд. 22 | F7: середньо-спеціальна ЧПБЛ №4 2013р. Маляр-штукатур (Фермерське господарство немировський) | G7: Одружений Дружина: Ісакова Оксана Миколаївна, Миколаївська обл. Баштанський р-н с. Поляне, вул. Садова, буд. 22, тел. 0988180989 | H7: 682269805
A8: 13 | B8: солдат | C8: Клімчкук Олександ Олександрович | D8: Вінницька обл. Хмільницький р-н, смт Бродецьке | E8: Вінницька обл. Хмільницький р-н, смт Бродецьке вул. Першотравнева 72 | F8: повна середня ЗОШ смт. Бродецьке 2007р. (Мясний мультикомплекс транспортувальник 1р.) | G8: одружений Дружина: Клімчук Алла Вадимівна, Вінницька обл. Хмільницький р-н, смт Бродецьке вул. Першотравнева 72, тел. 0631960845 | H8: 990631915
A9: 9 | B9: солдат | C9: Колесніков Сергій Сергійович | D9: с. Балтазарівка Чуплинський р-н, Херсонської обл. | E9: Микорлаївська обл. м. Первомайськ вул. Марія Демченка 33 | F9: середньо-спеціальна Електротехнічний ліцей №7 2013р.електрогазозварювальник (пожежний рятувальник 3р.) | G9: одружений Дружина: Колеснікова Ганна Миколаївна, Микорлаївська обл. м. Первомайськ вул. Марія Демченка 33, тел. 0683767312 | H9: 956741071
A10: 3 | B10: солдат | C10: Опанасюк Ігор Перрович | D10: Миколаївська обл. м. Новий Буг | E10: Миколаївська обл. Новобузький р-н с. Нова Хрестофорівка буд. 65 | F10: середньо-спеціальна Новобузький аграрний професійний ліцей 2013р. (права категорії Б, С, СЕ, Фермерське господарство Орбіта Водій) | G10: Розлучений Мати: Опанасюк Валентина Ігорівна, Миколаївська обл. Новобузький р-н с. Нова Хрестофорівка буд. 65, тел. 0508511843 | H10: 934248356
A11: 11 | B11: солдат | C11: Ручин Дмитро Вікторович | D11: Миколаївська обл. м. Баштанка | E11: Миколаївська обл. м. Баштанка вул. Грушевського 46 | F11: середньо-спеціальна ПТУ №9 м. Баштанка 2015р. Кухар (пекарня 1р) | G11: неодружений Мати: Дмитренко Алла Петрівна, Миколаївська обл. м. Баштанка вул. Грушевського 46, тел, 0636322801 | H11: 983438936
A12: 5 | B12: солдат | C12: Солоденко Анатолій Сергійович | D12: Миколаївська обл. Вознесенський р-н, с. Яструбинове | E12: Миколаївська обл. Вознесенський р-н, с. Яструбинове вул. Першотравнева 20 | F12: середньо-спеціальна ПТУ №18 2016р. будівельник (Гружчик 1р.) | G12: неодружений Сестрат: Черемуха Анастасія Сергіївна, тел. 0985362292 | H12: 938839470
A13: 2 | B13: солдат | C13: Фістікан Василь Петрович | D13: Миколаївська обл. Первомайський р-н, с. Софіївка | E13: Миколаївська обл. Первомайський р-н, с. Синюшин Брід, вул. Перемоги 38 | F13: середньо-спеціальна ПТУ №22 м. Первомайськ 2018р. Маляр-Штукатур (Сканувальник на новій пошті) | G13: Неодружений Мати: Фістікан Марія Вікторівна, Миколаївська обл. Первомайський р-н, с. Синюшин Брід, вул. Молодіжна 8, тел. 0967926486 | H13: 967927329
A14: 10 | B14: солдат | C14: Чабан Михайло Григорович | D14: Миколаївська обл. Березанського р-н, с. Новоподілля | E14: м. Миколаїв, 12 Повздовжня 47а, кв. 59 | F14: середньо-спеціальна ліцей №13 2012р. Автослюсар (СТО 9р) | G14: одружений Дружина: Чабан Влада Владиславівна, м. Миколаїв, 12 Повздовжня 47а, кв. 59, тел. 0971910656 | H14: 967953093
A15: 14 | B15: солдат
A16: 15 | B16: солдат
