Workbook

Sheet Основний
Y2: Додаток
Y3: (Форма 5.10. ОС)
C4: ДОНЕСЕННЯ
C5: про зарахування військовослужбовців військової служби за контрактом на навчання до навчального центру (ВВНЗ, ВНП ЗВО)
C6: військова частина А2900
C7: найменування навчального центру (ВВНЗ, ВНЗ ЗВО)
C9: 1. Список військовослужбовців військової служби за контрактом, які зараховані на навчання
A10: №ПС | B10: Дата ПС | C10: № з/п | D10: Військове звання | E10: {=SUMPRODUCT(--(TRIM(E12:E993)<>""))} -> 141 | F10: Військова частина, ТЦК та СП | G10: Місто | H10: Область | I10: Дата народження | J10: ідентифікаційний код | K10: військовий квиток | L10: Паспорт, ким і коли виданий | M10: Місце народження | N10: адреса (фактична) | O10: Рівень освіти | P10: Заклад який закінчив Рік закінчення Професія | Q10: Професійний досвід Права | R10: склад сім’ї | S10: № телефону | T10: ВОС (попередній) | U10: Спеціальність, за якою зарахований на навчання | X10: Дата зарахування | Y10: № наказу про зарахування | Z10: присяга | AA10: Дата висновку ВЛК | AB10: Придатність | AC10: Група крові | AD10: Примітка | AE10: =COUNT(AE12:AE9955) -> 0 | AF10: =COUNT(AF12:AF9955) -> 0 | AG10: =COUNT(AG12:AG9955) -> 0 | AH10: =IFERROR(AVERAGE(AE12:AG9955),0) -> 0
U11: посада | V11: ВОС | W11: код посади | AE11: 25-35 | AF11: 36-45 | AG11: 46-50 | AH11: Середній вік
A12: 614 | B12: 46079 | C12: 1 | D12: солдат | E12: АБРАМЯН Артур Маратович | F12: Дарницьким РТЦК та СП у Київській області | I12: 21.10.1998 | J12: 3608804152 | K12: 040520251458450705269/1 | L12: ВТ 101396 Приморським РС у м. Маріуполі ГУ ДМС України в Донецькій області 12.06.2015 | M12: м. Донецьк | N12: м. Київ, вул. Бориспільська, буд. 9, кв. 16 | O12: базова загальна середня | P12: Школа №62,м. Донецьк,2014 | Q12: водій таксі - 5 керівник закладу харчування - 1р Права B | R12: не одружений, брат: Губаян Давид Арсенович - 1997 - 0979699989, м. Київ | S12: 0633131383 | U12: курсант | V12: 100 | X12: 46079 | Y12: № 60 | Z12: так | AA12: 46079 | AB12: Придатний до військової служби
A13: 4/1868 | B13: 46077 | C13: 2 | D13: солдат | E13: АВРАМЕНКО Андрій Миколайович | F13: Чернігівським РТЦК та СП у Чернігівській області | I13: 18.06.1984 | J13: 3085003094 | M13: Чернігівська обл., м. Городня | N13: Чернігівська обл., м. Городня, вул. Чернігівська, буд. 86, кв 1. | O13: Вища | P13: ХНУРЕ, 2006, радіотехніка | Q13: Програміст, 12 років Права B | R13: не одружений, мати: Авраменко Людмила Михайлівна, 1955, Чернігівська обл., м. Городня, вул. Чернігівська, буд. 86, кв 1, | S13: 0671971309 | U13: курсант | V13: 100 | X13: 46077 | Y13: № 58 | Z13: ні | AA13: 46077 | AB13: Придатний до військової служби
A14: 1/2363 | B14: 46076 | C14: 2 | D14: солдат | E14: АЛЕКСЕНКО Іван Миколайович | F14: Ніжинським РТЦК та СП у Чернігівській області | I14: 23.06.1997 | J14: 3560301717 | M14: Чернігівська обл., Карюківський р-н., с. Бондарівка | N14: Чернігівська обл. м. Бахмач, вул. Олени Теліги, буд. 36 | O14: середня спеціальна | P14: Конотопський аграрний ліцей, 2017, слюсар-механік | Q14: Водій, 4 роки Слюсар-механік, 4 роки Права: В, С | R14: одружений, дружина: Алексенко Катерина Анатоліївна, 1994, Чернігівська обл. м. Бахмач, вул. Олени Теліги, буд. 36 | S14: 0632905799 | U14: курсант | V14: 100 | X14: 46076 | Y14: № 57 | Z14: ні | AA14: 46076 | AB14: Придатний до військової служби | AC14: I Rh +
A15: 260223-9 | B15: 46076 | C15: 3 | D15: солдат | E15: АЛІЄВ Парвіз Натікбєкович | F15: Солом'янським РТЦК та СП у Київській області | I15: 07.05.1983 | J15: 3044204097 | K15: АГ 629818 | L15: КС 160333 Київським РВ ДМУ УДМС УКР в Донецькій обл 09.08.2002 | M15: Азербайджан, м. Баку | N15: м. Київ, вул. Копилівська, буд. 30, кв. 54 | O15: вища | P15: Київський політехнічний Інститут, 2005,Київський економічний Інститут, 2002,електотехнік, економіка | Q15: інженер систем безпеки, 25 років Права: Б | R15: не одружений, мати: Лал Різа Заде, 1956, м. Баку, Азербайджан | S15: 0663135516 | U15: курсант | V15: 100 | X15: 46076 | Y15: № 57 | Z15: ні | AA15: 46076 | AB15: Придатний до військової служби | AC15: I Rh +
A16: 2580 | B16: 46080 | C16: 1 | D16: солдат | E16: АНДРУШКО Вадим Валентинович | F16: Житомирським РТЦК та СП у Житомирській області | I16: 02.11.1991 | J16: 3354308835 | K16: АГ 603287 | L16: ВН 424127 Вололдарсько-Волинським РВ УМВС в Житомирській області 20.05.2008 | M16: Житомирська обл., Житомирський р-н., смт. Нова Борова | N16: Житомирська обл., Житомирський р-н., смт. Нова Борова, вул. Незалежності, буд. 57 | O16: професійно- технічна | P16: Житомирське ПТУ №5, 2013, маляр-штукатур | Q16: будівельник, 10 років Права В | R16: одружений, дружина: Андрушко Юлія Анатоліївна, 1994, Житомирська обл., Житомирський р-н., смт. Нова Борова, вул. Незалежності, буд. 57 | S16: 0982607646 | U16: курсант | V16: 100 | X16: 46080 | Y16: № 61 | Z16: ні | AA16: 46080 | AB16: Придатний до служби на підводних човнох, на надводних кораблях, у морській піхоті, Десантно-штурмових військах, спеціальних спорудах, підрозділах спеціального призначення
A17: 1/2342 | B17: 46075 | C17: 5 | D17: солдат | E17: АНІСІМОВ Сергій Леонідович | F17: Ніжинським РТЦК та СП у Чернігівській області | I17: 18.10.1989 | J17: 3279802570 | K17: АГ 633795 | L17: АМ 247948 | M17: Чернігівська обл., м. Ніжин | N17: Чернігівська обл., Ніжинський р-н., с. Велика Кошелівка, вул. Веринарна, буд. 5 | O17: середня спеціальна | P17: Ніжинське ПТУ №35, водій-механік, 2008 | Q17: Тракторист, 10 років Права AB (трактор), B, C | R17: не одружений, мати: Куліш Наталія Василівна, 1960, Чернігівська обл., м. Ніжин, вул. Богуна, буд. 22, 0967676757 | S17: 0985324330 | U17: курсант | V17: 100 | X17: 46075 | Y17: № 56 | Z17: так | AA17: 46075 | AB17: Придатний до військової служби | AC17: RH 2+
A18: 1452 | B18: 46081 | C18: 1 | D18: солдат | E18: АНТОНЮК Дмитро Русланович | F18: Хмільницьким РТЦК та СП у Вінницькій області | I18: 23.03.1999 | J18: 3624109257 | K18: АГ 574988 | L18: АТ 121678 | M18: Житомирська обл. м. Радомишль | N18: м. Вінниця, вул. Генерала Григоренка, буд. 36, кв. 21 | O18: професійно- технічна | P18: Тульчинський коледж ветеринарної медецини,м. Тульчин,2018,фельдшер ветеринарної медецини | Q18: комплектувальник продуктів харчування - 4р | R18: не одружений, мати: Антонюк Оксана Вікторівна - прибл. 43р - 0673588369 - Вінницька обл, Вінницький р-н, с. Гавришівка, вул. ? | S18: 0976880495 | U18: курсант | V18: 100 | X18: 46081 | Y18: № 62 | Z18: ні | AA18: 46077 | AB18: Придатний до військової служби | AC18: I Rh +
A19: 2500 | B19: 46078 | C19: 1 | D19: солдат | E19: АНТОНЮК Олександр Леонідович | F19: Житомирським РТЦК та СП у Житомирській області | I19: 27.09.1979 | J19: 2912410393 | K19: АГ 603239 | L19: ТТ 193066 Дарнівським РО ГУ ДМС УКР в м. Києві 16.08.2013 | M19: м. Київ | N19: Житомирська обл. Попільнянський р-н., с. Романівка, вул. Миру, буд. 20 | O19: професійно- технічна | P19: Київське училище №26 | Q19: будівельник, 20 років Права- | R19: не одружений,мати: Антонюк Світлана Миколаївна, 1959, м. Київ, вул. Бажана, буд. 9, 0972926021 | S19: 0975269074 | U19: курсант | V19: 100 | X19: 46078 | Y19: № 59 | Z19: ні | AA19: 46078 | AB19: Придатний до військової служби | AC19: II Rh +
A20: 2566 | B20: 46080 | C20: 2 | D20: солдат | E20: БАБИЧ Андрій Васильович | F20: Житомирським РТЦК та СП у Житомирській області | I20: 18.04.1984 | J20: 3078922215 | K20: АГ 603272 | L20: СТ 531446 Чернігівським РС УДМС УКР в Чернігівській обл 24.02.2017 | M20: Чернігівська обл., Чернігівський р-н., с. Павлівка | N20: Житомирський р-н., с. Покостівка, вул. Квіткова, буд. 5 | O20: професійно- технічна | P20: Чернігівське ПТУ №5, 2002, черговий по станції, провідник | Q20: провідник, 8 років Права - | R20: не одружений, сестра: Винниченко Олена Василівна, 1981, м. Чернігів, 0964958186 | S20: 0989386733 | U20: курсант | V20: 100 | X20: 46080 | Y20: № 61 | Z20: ні | AA20: 46080 | AB20: Придатний до служби на підводних човнох, на надводних кораблях, у морській піхоті, Десантно-штурмових військах, спеціальних спорудах, підрозділах спеціального призначення
A21: 11/1629 | B21: 46080 | C21: 3 | D21: солдат | E21: БАСКАКОВ Павло Анатолійович | F21: Шевченківським РТЦК та СП у Київській області | I21: 02.03.1984 | J21: 3074200978 | K21: 140220221425037600020/1 | L21: АМ 064073 Заводським РВ Дніпродзержинського МУ УМВС України в Дніпропетровській області 03.10.2000 | M21: Дніпропетровська обл, м. Дніпродзержинськ | N21: м. Київ, вул. Академіка Корольова, буд. 7, кв. 46 | O21: професійно- технічна | P21: Дніпродзержинський індустріальнгий коледж,2004,електрик | Q21: власник інтернет магазину - 4р Права A, B, C | R21: не одружений, бабуся: Носуля Раїса Іванівна - 0687208035 - 85р - Дніпропетровська обл, м. Кам'янське, вул. Дніпробудівельна, буд. 27, кв. 7 | S21: 0965569916 | U21: курсант | V21: 100 | X21: 46080 | Y21: № 61 | Z21: ні | AA21: 46080 | AB21: Придатний до служби на підводних човнох, на надводних кораблях, у морській піхоті, Десантно-штурмових військах, спеціальних спорудах, підрозділах спеціального призначення | AC21: III Rh -
A22: 1537/11/2005 | B22: 46079 | C22: 2 | D22: солдат | E22: БЕРШАДСЬКИЙ Олександр Миколайович | F22: Дніпровським РТЦК та СП у Київській області | I22: 15.03.1992 | J22: 3367700733 | K22: довідка | L22: 003047716 8034 04.03.2019 | M22: Дніпропетровська обл. м. Кривий Ріг | N22: м. Київ, вул. Тичини, буд. 3а, кв. 61 | O22: вища | P22: КПІ, 2016, ІТ | Q22: програміст, 8 років Права - | R22: не одружений, мати: Бершадська Ірина Володимирівна, 1968, м. Київ, вул. Тичини, буд. 3а, кв. 61, 0957958159, 0675784797 | S22: 0934043734 | U22: курсант | V22: 100 | X22: 46079 | Y22: № 60 | Z22: ні | AA22: 46079 | AB22: Придатний до військової служби | AD22: А3316 по розподілу рекомендаційний лист
A23: 2543 | B23: 46079 | C23: 3 | D23: солдат | E23: БІЛОУСОВ Сергій Вікторович | F23: Житомирським ОМТЦК та СП у Житомирській області | I23: 04.09.1982 | J23: ВМ 632875 | K23: АГ 186080 | L23: 009302826 1836 23.06.2023 | M23: м. Житомир | N23: м. Житомир, вул. Переїзд Радомишльський, буд. 9 | O23: повна загальна середня | P23: Житомирська ЗОШ №2 | Q23: рихтувальник, 6 років Права - | R23: одружений, дружина: Білоусова Оксана Вікторівна, 1980, м. Житомир, вул. Переїзд Радомишльський, буд. 9, 0960276981 | S23: 0990907846 | U23: курсант | V23: 100 | X23: 46079 | Y23: № 60 | Z23: ні | AA23: 46079 | AB23: Придатний до військової служби
B24: 46078 | C24: 18 | D24: солдат | E24: БОЙКО Геннадій Володимирович | I24: 19.11.1981 | J24: 2990807554 | K24: 250220261352624000001/2 | L24: МА 583941 Охтирським МРВУМВС України в Сумській обл., 04.01.1999 | M24: Сумська обл., м. Охтирка, пров. Весняний, буд. 15а | N24: Сумська обл., м. Охтирка, вул. Київська, буд. 107, кв. 57 | O24: професійно- технічна | P24: ПТУ №7, м. Охтирка, 1999, маляр-штукатур | Q24: будівельник, 20 років Права В, С | R24: не одружений, мати: Бойко Алла Миколаївна, 1960, Сумська обл., м. Охтирка, пров. Весняний, буд. 15а | S24: 0665156739 | Z24: ні | AC24: II Rh + | AD24: Резерв КДШВ
A25: 1537/11/2005 | B25: 46079 | C25: 4 | D25: солдат | E25: БОЛЬШАКОВ Костянтин Євгенович | F25: Дніпровським РТЦК та СП у Київській області | I25: 02.07.1992 | J25: 3378604531 | K25: 250220261320634500007/1 | L25: ЕН 904717 Краснолуцьким МВ УДМС УКР в Луганській обл 15.11.2012 | M25: Луганська обл, м. Красний Луч | N25: м. Київ,, вул. Русанівська Набережна, буд. 6, кв. 56 | O25: професійно- технічна | P25: Краснолуцький приладобудівний технікум,м. Красний Луч,2013р,економіка підприємства | Q25: Фріланс - 2D дизайн логотипів, оточення для браузерних ігор (Photoshop, AI) - 5р портретист на пам'ятниках - 3р кухар - 1,5р | R25: не одружений, сестра: Большакова Яна Євгеновна - 1990 - 0664203975 - м. Київ, вул. Русанівська Набережна, буд. 6, кв. 56 | S25: 0995045246 | U25: курсант | V25: 100 | X25: 46079 | Y25: № 60 | Z25: ні | AA25: 46078 | AB25: Придатний до військової служби
A26: 1230 | B26: 46075 | C26: 4 | D26: солдат | E26: БОНДАР Андрій Васильович | F26: Хмільницьким РТЦК та СП у Вінницькій області | I26: 29.07.1988 | J26: 3235207996 | K26: АГ 574967 | L26: 011098716 | M26: м. Вінниця | N26: м. Вінниця, вул. Запорізька, буд. 21, кв. 124 | O26: професійно- технічна | P26: Стрижовська СВК | Q26: Будівельник, 1 рік Права - | R26: не одружений, мати: Бондар Лілія Петрівна, 1956, м. Вінниця, вул. Запорізька, буд. 21, кв. 124, 0961876495 | S26: 0970255251 | U26: курсант | V26: 100 | X26: 46076 | Y26: № 57 | Z26: ні | AA26: 46074 | AB26: Придатний до військової служби
A27: 10/584 | B27: 46075 | C27: 10 | D27: солдат | E27: БОРИСОВ Дмитро Сергійович | F27: Чернігівським МТЦК та СП у Чернігівській області | I27: 16.05.1984 | J27: 3081727094 | K27: СО 871538 | M27: м. Хабаровськ, росія | N27: м. Чернігів, вул. Мстиславська, буд. 171, кв. 9 | O27: середня спеціальна | P27: ПУ 63, станиця Денська, Денський р-н., Краснодарський край, водій-автомеханік, 2005 | Q27: Менеджер з постачання, 4 роки Права В | R27: одружений, дружина: Борисова Євгенія Вʼячеславівна, 1987, м. Чернігів, вул. Мстиславська, буд. 171, кв. 9, 0632156010 | S27: 0969311148 | U27: курсант | V27: 100 | X27: 46075 | Y27: № 56 | Z27: ні | AA27: 46075 | AB27: Придатний до військової служби | AC27: RH 2-
A28: 1/2286 | B28: 46074 | C28: 1 | D28: солдат | E28: БОРОДАВКО Віталій Михайлович | F28: Ніжинським РТЦК та СП у Чернігівській області | I28: 10.10.1989 | J28: 3279006554 | K28: АГ 633793 | L28: НМ 247947 Ніжинським МВР УМВС УКР в Чернігівській обл 24.03.2006 | M28: Чернігівська обл., м. Ніжин | N28: Чернігівська обл., м. Ніжин, вул. Станіслава Прощенко, буд. 40/б, кв. 33 | O28: повна середня освіта | P28: Ніжинська ЗОШ №7 | Q28: Торгівельний представник, 6 міс. Права - | R28: не одружений, мати: Бородавко Тетяна Андріївна, 1959, Чернігівська обл., м. Ніжин, вул. Станіслава Прощенко, буд. 40/б, кв. 33, 0682364981 | S28: ненадано | U28: курсант | V28: 100 | X28: 46074 | Y28: № 55 | Z28: ні | AA28: 46074 | AB28: Придатний до військової служби | AC28: RH 2+
A29: 1/2420 | B29: 46077 | C29: 3 | D29: солдат | E29: БРИСКІН Денис Сергійович | F29: Ніжинським РТЦК та СП у Чернігівській області | I29: 03.09.1982 | J29: 3019609990 | K29: МО 369114 | M29: м. Київ | N29: м. Чернігів, вул. Текстильників, буд. 24, кв. 42 | O29: повна загальна середня | P29: Рамаданівська ЗОШ, 2000 | Q29: Завідуючий складом, 16 років Начальник охорони, 4 роки Права - | R29: одружений, дружина: Брискіна Ірина Леонідівна, 1973, м. Чернігів, вул. Текстильників, буд. 24, кв. 42, 0992497840 | S29: 0960389583 | U29: курсант | V29: 100 | X29: 46077 | Y29: № 58 | Z29: ні | AA29: 46077 | AB29: Придатний до військової служби
A30: 2609 | B30: 46081 | C30: 2 | D30: солдат | E30: БРОДОВСЬКИЙ Вадим Феліксович | F30: Житомирським РТЦК та СП у Житомирській області | I30: 09.11.1977 | J30: 2843714031 | K30: АГ 603250 | L30: ВМ 028712 | M30: Житомирська обл., смт Полянка | N30: Житомирська обл., Житомирський р-н., с. Костянинівка, вул. Весняна, буд. 10 | O30: професійно- технічна | P30: Баранівське ПТУ №11 | Q30: Пилорамщик, 20 років Права - | R30: не одружений, сестра: Бродовська Ірина Феліксовна, 1984 | S30: не надано | U30: курсант | V30: 100 | X30: 46081 | Y30: № 62 | Z30: так | AA30: 46081 | AB30: Придатний до військової служби
B31: 46016 | C31: 23 | D31: солдат | E31: БРУЯКА Максим Юрійович | F31: Сумським МТЦК та СП у Сумській області | I31: 28.10.1996 | J31: 3536512192 | K31: АВ 960514 | L31: МВ 516155 Ковпаківським РВ м.Суми УДМС України в Сумській обл. 18.12.2012 | M31: Р | N31: м. Суми, вул. Засумська буд. 16, кв. 45 | O31: базова загальна середня | P31: Школа №12, м. Суми | Q31: різноробочий, 1 рік Права - | R31: не одружений, мати: Бруяка Наталія Володимирівна, 1976, м. Суми, вул. Засумська буд. 16, кв. 45, 0664739829 | S31: 0502773062 | Z31: ні | AC31: II Rh - | AD31: Резерв КДШВ
B32: 46080 | C32: 38 | D32: солдат | E32: БУРКОВЦОВ Андрій Юрійович | F32: Роменським ТЦК та СП у Сумській області | I32: 09.09.1988 | J32: 3239413855 | K32: АВ 949437 | L32: закордоний паспорт ЕН991201 виданий 7401 08.06.2011 | M32: м. Ніжин, Чернігівська обл. | N32: Сумська обл., Роменський р-н, с. Русанівка, вул. Русанівська 26 | O32: вища | P32: НДУ ім. Гоголя, м. Ніжин, Чернігівська обл.,спеціаліст вчитель Історії і права,ДАКККІМ м. Київ, бакалавр, дизайнер середовища,КДАІС м. Київ, бакалавр, священослужитель | Q32: священик педагог | R32: одружений, дружина Гапон Зоя Сергиіївна - 1988, Сумська обл., Роменський р-н, с. Русанівка, вул. Русанівська 26 | S32: 0973166440 | Z32: ні | AC32: III Rh + | AD32: Резерв КДШВ
A33: 614 | B33: 46079 | C33: 5 | D33: солдат | E33: БУТКО Руслан Павлович | F33: Дарницьким РТЦК та СП у Київській області | I33: 29.07.1998 | J33: 3600408276 | K33: 250620235816010600001/1 | L33: 009601452 3214 29.08.2023 | M33: Київська обл., Васильківський р-н., с. Вільшанська Новоселице | N33: м. Київ, вул. Закревського, буд. 27а, кв.38 | O33: повна загальна середня | P33: Вільшансько Новоселівська ЗОШ | Q33: Будівельник, 4 роки Права В | R33: не одружений, брат: Павленко Максим Андрійович, 1997, 0967116383 | S33: 0962685449 | U33: курсант | V33: 100 | X33: 46079 | Y33: № 60 | Z33: ні | AA33: 46079 | AB33: Придатний до військової служби | AC33: II Rh +
B34: 46079 | C34: 5 | D34: солдат | E34: ВАСИЛЬЧЕНКО Сергій Анатолійович | F34: Роменським РТЦК та СП у Сумській області | I34: 17.11.1993 | J34: 3428909730 | K34: АВ 949433 | L34: 002997059 виданий 5924 20.02.2019 | M34: Сумська обл., Роменський р-н., с Пустовойтівка | N34: Сумська обл., Роменський р-н., с Пустовойтівка, вул. 5 пер. Берегова, буд. 9 | O34: базова загальна середня | P34: Пустовійтівська ЗОШ | Q34: вантажник, 3 роки Права - | R34: не одружений, мати: Вовк Світлана Григорівна, 1970, Сумська обл., Роменський р-н., с Пустовойтівка, вул. 5 пер. Берегова, буд. 9, 0685482470 | S34: не надано | Z34: ні | AC34: I Rh + | AD34: Резерв КДШВ
B35: 46080 | C35: 4 | D35: солдат | E35: ВЕРБА Володимир Олександрович | F35: Конотопським РТЦК та СП у Сумській області | I35: 28.08.1995 | J35: 3493804851 | K35: АВ 552749 | M35: Миколаївська обл., м. Баштанка | N35: Сумська обл., м. Конотоп, вул. Успенсько-Троїцька, буд. 13, кв. 28 | O35: професійно- технічна | P35: ПТУ, м. Кременчук, 2013, маляр-штукатур | Q35: будівельник, 6 років Права - | R35: одружений, дружина: Верба Марія Сергіївна, 1997, Сумська обл., м. Конотоп, вул. Успенсько-Троїцька, буд. 13, кв. 28, 0977738011 | S35: 0685689787 | Z35: ні | AC35: II Rh + | AD35: Резерв КДШВ
B36: 46021 | C36: 43 | D36: солдат | E36: ВЕРСТЮК Євген Дмитрович | F36: Новобоварським РТЦК та СП у Харківській області | I36: 05.04.1977 | J36: 2821912276 | K36: АВ909239 | L36: МК 414303 Лозівським МРВУМВС України в Харківській обл. 15.01.1997 | M36: м.Лозова, Харківська обл. | N36: м. Харків, вул. Велика Панасівська, б. 106, кв.64 | O36: професійно- технічна | P36: Новомосковський Сільхоз технікум ,м. Новомосковськ, Дніпропетровська обл.,,1998,ветфельшер | Q36: ветеринарний санітар | R36: не одружений, тітка Носік Ганна Демидівна, м. Харків, вул. Богомольця буд.7, кв. 104 | S36: 0678946217 | Z36: ні | AD36: Резерв КДШВ
A37: 1537/11/2038 | B37: 46080 | C37: 4 | D37: солдат | E37: ВИГІВСЬКИЙ Денис Анатолійович | F37: Дніпровським РТЦК та СП у Київській області | I37: 28.09.1986 | J37: 3168215372 | K37: 070920231320634500225/1 | L37: МЕ 222316 | M37: м. Київ | N37: м. Київ, вул. Курнатовського буд. 6а, кв. 60 | O37: вища | P37: КНУ туризму економіки та права, 2009, менеджмент організації | Q37: менеджер автомийки, 9 років, будівельник, 10 років Права - В | R37: не одружений, мати: Виговська Станіслава Григорівна, 1954, м. Київ, вул. Курнатовського буд. 6а, кв. 60, 0634685200 | S37: 0983622020 | U37: курсант | V37: 100 | X37: 46080 | Y37: № 61 | Z37: ні | AA37: 46080 | AB37: Придатний до військової служби
B38: 46073 | C38: 22 | D38: солдат | E38: ВОЙКУ Олег Георгійович | F38: Новобоварським РТЦК та СП у Харківській області | I38: 11.12.1988 | J38: 3248704812 | K38: АГ 330242 | L38: МН 730517 Московським РВ ХМУ УМВС України в Харківській обл. 03.03.2005 | M38: м. Харків | N38: м. Харків, просп. Ювілейний, буд. 72, кв. 107 | O38: вища | P38: ХНАМГ, 2004, менеджер організації міського господарства | Q38: голова правління ОСББ, 2 роки, менеджер з продажів, 7 років Права, В | R38: одружений, дружина: Бондаренко Наталія Володимирівна, 1980, Харківська обл., м. Чугуїв, вул. Харківська, буд. 105, кв. 112 | S38: 0957796772 | Z38: ні | AD38: Резерв КДШВ
A39: 661 | B39: 46076 | C39: 5 | D39: солдат | E39: ГАВРИК Євген Анатолійович | F39: Білоцерківським РТЦК та СП у Київській області | I39: 27.06.1987 | J39: 3195413716 | K39: 011220221362959000010/1 | L39: СМ 568410 Фастівським МРВ ГУ МВС УКР в Київській обл 02.10.2003 | M39: Київська обл., м. Фастів | N39: Київська обл., м. Фастів, вул. Правди, буд. 105 | O39: професійно- технічна | P39: ПТУ №18, м. Фастів, 2005, столяр | Q39: Складальник-пакувальник, 6 років оператор-вантажної лінії, 2 роки Права - | R39: не одружений, батько: Гаврик Анатолій Анатолійович, 1965, Київська обл., м. Фастів, вул. Правди, буд. 105 | S39: 0632444929 | U39: курсант | V39: 100 | X39: 46076 | Y39: № 57 | Z39: ні | AA39: 46076 | AB39: Придатний до військової служби | AC39: ІІ Rh+
A40: 11/1553 | B40: 46078 | C40: 2 | D40: солдат | E40: ГОНЧАРЕНКО Вячеслав Вікторович | F40: Шевченківським РТЦК та СП у Київській області | I40: 22.02.1982 | J40: 3000315097 | K40: МО 498066 | L40: СО 062411 Ленінградським РУ ГУ МВС України в м. Києві 24.12.1998 | M40: м. Київ | N40: м. Київ, пр. Берестейський, буд. 144 кв. 8 | O40: вища | P40: Національний транспортний університет,м. Київ,2009р,вантажні перевезення та логістика | Q40: спеціаліст канцелярії в банку - 10р виготовлення вікон водій - 13р Права B, C | R40: не одружений, батько: Гончаренко Віктор Олександрович - 1959 - 0673571110, м. Київ, пр. Берестейський, буд. 144 кв. 8 | S40: 0675504137 | U40: курсант | V40: 100 | X40: 46078 | Y40: № 59 | Z40: так | AA40: 46078 | AB40: Придатний до військової служби | AC40: I Rh +
A41: 633 | B41: 46074 | C41: 4 | D41: солдат | E41: ГОНЧАРУК Владислав Миколайович | F41: Білоцерківським РТЦК та СП у Київській області | I41: 19.03.2000 | J41: 3660308950 | K41: АВ 970998 | L41: 000060180 3210 23.01.2017 | M41: Київська обл., м. Біла Церква | N41: Київська обл., м. Біла Церква, вул. Томилівська, буд. 50, кв. 40 | O41: повна середня освіта | P41: Білоцерківська ЗОШ №11 | Q41: Зварювальник, 3 роки, Права - | R41: не одружений, батько: Гончарук Микола Михайлович, 1974, Київська обл., м. Біла Церква, вул. Томилівська, буд. 50, кв. 40, 0671744505 | S41: 0977019587 | U41: курсант | V41: 100 | X41: 46075 | Y41: № 56 | Z41: ні | AA41: 46074 | AB41: Придатний до військової служби | AC41: RH 3+
A42: 11/2499 | B42: 46078 | C42: 3 | D42: солдат | E42: ГОРБАЧОВ Богдан Віталійович | F42: Святошинським РТЦК та СП у Київській області | I42: 17.09.2000 | J42: 3678507715 | K42: АГ 606223 | L42: 000176202 8032 12.10.2016 | M42: м. Київ | N42: м. Київ, вул. Жмеринська, буд. 24, кв. 279 | O42: професійно- технічна | P42: КПЛБ і КГ,м. Київ,2019,слюсар, електрик на устаткуванні електричного транспорту | Q42: Працівник пошти - 2р Пакувальник - 4р | R42: не одружений, мати: Горчабова Тетяна Василівна - 56 - 0962918854, м. Київ вул. Жмеринська, буд. 24, кв. 279 | S42: 0972308159 | U42: курсант | V42: 100 | X42: 46078 | Y42: № 59 | Z42: ні | AA42: 46077 | AB42: Придатний до військової служби
B43: 46076 | C43: 41 | D43: солдат | E43: ГРАБКО Андрій Іванович | F43: Сумським МТЦК та СП у Сумській області | I43: 18.09.1986 | J43: 3167201934 | K43: АВ 949483 | L43: МВ 173258 Л.Долинським РВУМВС України в Сумській обл., 08.02.2003 | M43: Сумська обл., Л. Долинський р-н, с.Колядиниць | N43: м. Суми, вул. Черепіна, б.47, кв. 117 | O43: вища | P43: СНАУ ,м. Суми,2010,магістр, | Q43: зоотехнік кат. В,С1,С | R43: не одружений, мати: Грабко Ганна Дмитриївна - 1959 - 0968446207, Сумська обл., Л. Долинський р-н, с.Колядиниць, вул. Щастя 30 | S43: 0671979898 | Z43: ні | AD43: Резерв КДШВ
A44: 260223-9 | B44: 46076 | C44: 6 | D44: солдат | E44: ГРЕЧАНЮК Денис Сергійович | F44: Солом'янським РТЦК та СП у Київській області | I44: 07.02.1996 | J44: 3510103050 | K44: АГ 629824 | L44: 005780250 8034 24.02.2021 | M44: м. Київ | N44: м. Київ, вул. Пилипа Козицького, буд. 3, кв. 32 | O44: вища | P44: КНАУ, 2016, економіст-кібернетик | Q44: Продавець, 6 років Права - | R44: не одружений, мати: Гречанюк Ірина Олександрівна, 1978, м. Київ, 0674088553 | S44: 0505278293 | U44: курсант | V44: 100 | X44: 46076 | Y44: № 57 | Z44: ні | AA44: 46076 | AB44: Придатний до військової служби | AC44: IV Rh -
A45: 260228-7 | B45: 46081 | C45: 3 | D45: солдат | E45: ГРІЩЕНКО Максим Олегович | F45: Солом'янським РТЦК та СП у Київській області | I45: 09.12.1987 | J45: 3211914316 | K45: АГ 629881 | L45: МЕ 482954 | M45: м. Київ | N45: м. Київ, вул. Митрополита Василя Липківського, буд. 30, кв. 122 | O45: вища | P45: ДУІТ, м. Київ, 2012 | Q45: Продажі, менеджер, 3 роки | R45: одружений, дружина: Макєєва Ганна Миколаївна, 1989, м. Київ, вул. Митрополита Василя Липківського, буд. 30, кв. 122, 0987000360 | S45: 0976009086 | U45: курсант | V45: 100 | X45: 46081 | Y45: № 62 | Z45: ні | AA45: 46081 | AB45: Придатний до військової служби | AC45: III Rh +
A46: 628 | B46: 46074 | C46: 2 | D46: солдат | E46: ГРОХ Андрій Вікторович | F46: Білоцерківським РТЦК та СП у Київській області | I46: 18.07.1984 | J46: 3088000115 | K46: АВ 970598 | L46: СМ 236283 Міським відділом №1 Білоцерківського МУГУ МВС УКР в Київській обл 15.09.2000 | M46: Київська обл., м. Припʼять | N46: Київська обл., м. Біла Церква, вул. Луки Долинського, буд. 107, кв. 6 | O46: середня спеціальна | P46: Білоцерківське ПТУ №5, електрогазозварювальник, 2002 | Q46: електрогазозварювальник, рихтувальнк автомобілів, 15 років, Права BC | R46: одружений, дружина: Грох Людмила Іванівна, 1986, Київська обл., м. Біла Церква, вул. Луки Долинського, буд. 107, кв. 6, 0986174303 | S46: 0966363660 | U46: курсант | V46: 100 | X46: 46074 | Y46: № 55 | Z46: ні | AA46: 46074 | AB46: Придатний до військової служби | AC46: RH 4+
A47: 260228-7 | B47: 46081 | C47: 4 | D47: солдат | E47: ГРУЗИНСЬКИЙ Юрій Миколайович | F47: Солом'янським РТЦК та СП у Київській області | I47: 12.10.1985 | J47: 3133113253 | K47: АГ 629880 | L47: 003604871 2315 15.07.2019 | M47: м. Запоріжжя | N47: м. Київ, вул. Філіпа Козицького, буд. 7, кв. 3 | O47: професійно- технічна | P47: ПТУ №1,м. Запоріжжя,2003,зварювальник контролер АТК | Q47: Працівник СТО/шиномонтаж - 23р Права B (вилучені) | R47: не одружений, цивільна дуржина: Янченюк Олена Михайлівна - 0960956996, м. Київ вул. Філіпа Козицького, буд. 7, кв. 3 | S47: 0688144881 | U47: курсант | V47: 100 | X47: 46081 | Y47: № 62 | Z47: ні | AA47: 46081 | AB47: Придатний до військової служби | AC47: II Rh +
B48: 46076 | C48: 46 | D48: солдат | E48: ГУЛЕНКО Владислав Олександрович | F48: Сумським РТЦК та СП у Сумській області | I48: 01.03.1998 | J48: 3585409073 | K48: АВ 949486 | M48: м. Суми | N48: м. Суми, вул. Ковпака, б. 4а | O48: професійно- технічна | P48: ПТУ №43,м. Краснопілля, Сумська обл., Сумський р-н,кухар-кондитер 5кат,2018 | Q48: вантажник | R48: не одружений, батько: Гуленко Олександр Миколайович - 1970 - 0663936035, Сумська обл., Краснопільський р-н, с. Самотоївка, вул. Калініна 170 | S48: не надано | Z48: ні | AD48: Резерв КДШВ
A49: 621/МВ | B49: 46081 | C49: 5 | D49: солдат | E49: ГУСЄВ Євгеній Олександрович | F49: Оболонським РТЦК та СП у Київській області | I49: 18.11.1998 | J49: 3611608372 | K49: довідка | L49: ТТ 264727 Деснянським РВ ГУДМС УКР в м. Києві 20.11.2014 | M49: м. Київ | N49: м. Київ, вул. Мільчакова, буд. 3а | O49: професійно- технічна | P49: Київське ВПУ, деревообробка | Q49: Встановлення кондиціонерів, 4 роки, Права В | R49: не одружений, мати: Зубарєва Катерина Сергвіївна, 1980, м. Київ, вул. Мільчакова, буд. 3а, 0502642717 | S49: 0955390619 | U49: курсант | V49: 100 | X49: 46081 | Y49: № 62 | Z49: ні | AA49: 46081 | AB49: Придатний до військової служби
B50: 46075 | C50: 1 | D50: солдат | E50: ДАВИДЕНКО Богдан Миколайович | F50: Роменським РТЦК та СП у Сумській області | I50: 24.04.1996 | J50: 3517807937 | K50: АВ 949426 | L50: 006233429 Виданий 5930 16.06.2021 | M50: м. Суми | N50: м. Суми, вул. ЗСУ, буд. 65а, кв. 92 | O50: вища | P50: НТУ ХПІ, 2018, механік-технолог | Q50: QA-middle тімлід, 4 роки монтажник, 10 років Права - | R50: не одружений, мати: Давиденко Олена Василівна, 1974, м. Суми, вул. ЗСУ, буд. 65а, кв. 92, 0956851446 | S50: 0999604676 | Z50: ні | AD50: Резерв КДШВ
A51: 2581 | B51: 46080 | C51: 5 | D51: старший солдат | E51: ДАЦЮК Вячеслав Іванович | F51: Житомирського ОМТЦК та СП у Житомирській області | I51: 31.05.1981 | J51: 2973607431 | K51: МО 300213 | L51: ВМ 546751 Богунським РВ УМВС України в Житомирській області 30.05.1998 | M51: м. Житомир | N51: м. Житомир, вул. Бориса Тена, буд. 96, кв. 72 | O51: професійно- технічна | P51: СПТУ №1,м. Житомир,1998,муляр, штукатур | Q51: будівельник (бетонні роботи, дах, цегляна кладка) - 23р Права B | R51: одружений, дружина: Дацюк Наталія Анатоліївна - 1980 - 0686362312 - м. Житомир вул. Бориса Тена, буд. 96, кв. 72 | S51: 0961552828 | U51: курсант | V51: 100 | X51: 46080 | Y51: № 61 | Z51: так | AA51: 46080 | AB51: Придатний до військової служби | AC51: II Rh -
B52: 46076 | C52: 8 | D52: солдат | E52: ДЕНИСЕНКО Артем Олегович | F52: Сумським МТЦК та СП у Сумській області | I52: 02.02.1991 | J52: 3327015430 | K52: АВ 949485 | L52: МВ 340950 Зарічним ВМ СМВ УМВС України в Сумській обл. 27.03.2007 | M52: м. Суми | N52: м. Суми, вул. Друга Замостянська, буд. 82 | O52: повна загальна середня | P52: ПТУ №11, м. Суми, столяр | Q52: оператор відеонагляду, 7 років Права - | R52: одружений, дружина: Денисенко Людмила Сергіївна, 1992, м. Суми, вул. Друга Замостянська, буд. 82, 0953130945 | S52: 0508008954 | Z52: ні | AC52: II Rh + | AD52: Резерв КДШВ
A53: 466 | B53: 46079 | C53: 6 | D53: солдат | E53: ДЕРЕВЛЮК Сергій Степанович | F53: Деснянським РТЦК та СП у Київській області | I53: 09.10.1975 | J53: 2767516699 | K53: АГ 606569 | L53: 009085361 8029 01.05.2023 | M53: Київська обл., Васильківський р-н., с. Барахти | N53: м. Київ, Бережанська, буд. 12, кв. 46 | O53: базова загальна середня | P53: Київська ЗОШ №74 | Q53: склопакети, 3 роки Права - | R53: не одружений, брат: Деревлюк Віктор Степанович, 1982, м. Київ, Бережанська, буд. 12, кв. 46, 0734737591 | S53: 0731557234 | U53: курсант | V53: 100 | X53: 46079 | Y53: № 60 | Z53: так | AA53: 46077 | AB53: Придатний до військової служби
A54: 239 | B54: 46077 | C54: 5 | D54: солдат | E54: ДЕРКАЧ Антон Олександрович | F54: Прилуцьким РТЦК та СП у Чернігівській області | I54: 20.04.1988 | J54: 3225211077 | K54: АГ 634946 | M54: Чернігівська обл., Прилуки | N54: Чернігівська обл., Прилуки, вул. Переяслівська, буд. 10, кв. 9 | O54: середня спеціальна | P54: ПТУ, Прилуки, 2007, електрогазозварювальник | Q54: водій електронавантажувач, 14 років, комірник, 14 років Права - | R54: одружений, мати: Деркач Любов Борисівна, 1962, м. Київ | S54: 0668325680 | U54: курсант | V54: 100 | X54: 46077 | Y54: № 58 | Z54: ні | AA54: 46077 | AB54: Придатний до військової служби
A55: 1/2421 | B55: 46077 | C55: 1 | D55: солдат | E55: ДРИГА Сергій Олександрович | F55: Ніжинським РТЦК та СП у Чернігівській області | I55: 08.12.1986 | J55: 3175313158 | M55: Полтавська обл. Кобилянський р-н., с. Бутенки | N55: Полтавська обл. Кобилянський р-н., с. Вишневе, вул. Гоголя, буд. 10 | O55: повна загальна середня | P55: Бутенська ЗОШ | Q55: Дорожний робітник, 4 роки Права - | R55: не одружений, мати: Дрига Марія Олексіївна, 1961, Полтавська обл. Кобилянський р-н., с. Бутенки, вул. Набережна, буд. 45, 0994590369 | S55: 0997810722 | U55: курсант | V55: 100 | X55: 46077 | Y55: № 58 | Z55: ні | AA55: 46077 | AB55: Придатний до військової служби | AC55: I Rh +
D56: солдат | E56: ЄРМАКОВ Дмитро Олександрович | F56: Дніпровським РТЦК та СП у Дніпропетровській області | I56: 26.12.1976 | M56: м. Дніпро | N56: Дніпропетровська обл. смт. Підгороднє, вул. Залізнична, буд. 8 | O56: повна загальна середня | P56: ПСШ №2, Підгороднє | Q56: Міліція, 3 роки Водій, 15 років Права A, B,C, D, E | R56: одружений, дружина: Волошко Надія Миколаївна, 1978, Дніпропетровська обл. смт. Підгороднє, вул. Залізнична, буд. 8 | S56: 0989854651 | Z56: ні | AC56: I Rh +
A57: 2584 | B57: 46080 | C57: 6 | D57: старший солдат | E57: ЖЕРЕБЦОВ Данило Вадимович | F57: Житомирського ОМТЦК та СП у Житомирській області | I57: 26.11.1997 | J57: 3575904092 | K57: АВ 381840 | L57: 009028574 1237 17.04.2023 | M57: Дніпропетровська обл., м. Тернівка | N57: м. Житомир, вул. Ю. Вороного, буд. 5, кв. 58 | O57: професійно- технічна | P57: Тернівський проф. гірничий ліцей, 2017, електрослсар-підземний | Q57: Електрослсар-підземний, 9 років, Права: А, В | R57: одружений, дружина: Жеребцова Евеліна Олександрівна, м. Житомир, вул. Ю. Вороного, буд. 5, кв. 58, 0505033165 | S57: 0999402691 | U57: курсант | V57: 100 | X57: 46080 | Y57: № 61 | Z57: так | AA57: 46080 | AB57: Придатний до служби у військових частинах забезпечення, ТЦК та СП, ВВНЗ, навчальних центрах, закладах (установах), медичних підрозділах, підрозділах логістики, зв'язку, оперативного забезпечення, охорони | AC57: II Rh - | AD57: А2900 по розподілу 1НБ діловод
B58: 46075 | C58: 31 | D58: солдат | E58: ЗАБАЙРАЧНИЙ Антон Валерійович | F58: Сумським МТЦК та СП у Сумській області | I58: 19.05.1989 | J58: 3264613873 | K58: АВ 949421 | L58: ЕН 435216 Северодонецьким МВУМВС України в Луганській обл. 23.07.2005 | M58: м. Суми | N58: м. Суми, площа Пришибська б.16, кв.8а | O58: повна загальна середня | P58: МВК №7,м. Суми,2004, | Q58: бізнесмен | R58: не одружений, мати: Забайрачна Ольга Анатоліївна - 1965 - Чехія | S58: 0994827403 | Z58: ні | AC58: II Rh + | AD58: Резерв КДШВ
A59: 1/2364 | B59: 46076 | C59: 1 | D59: солдат | E59: ЗАЇКА Віталій Олександрович | F59: Ніжинським РТЦК та СП у Чернігівській області | I59: 05.07.1980 | J59: 2940603255 | K59: АВ 883684 | M59: Чернігівська обл., Бахмацький р-н., с. Щуча-Гребля | N59: Чернігівська обл., Ніжинський р-н., м. Бобровиця, вул. Святкова, буд. 6 | O59: професійно- технічна | P59: Бобровицький ДСГТ, 2000, агроном | Q59: слюсар, 2 роки оператор крупʼяного виробництва, 10 років Технік склада, 6 років Права - | R59: не одружений, мати: Заїка Валентина Миколаївна, 1960, Чернігівська обл., Ніжинський р-н., м. Бобровиця, вул. Чергігівська, буд. 9а, кв. 10 | S59: 0681939861 | U59: курсант | V59: 100 | X59: 46076 | Y59: № 57 | Z59: ні | AA59: 46076 | AB59: Придатний до військової служби | AC59: I Rh +
B60: 46074 | C60: 40 | D60: солдат | E60: ЗВАДА Микита Іванович | F60: Сумським МТЦК та СП у Сумській області | I60: 15.01.2001 | J60: 3690507477 | K60: АВ 949418 | L60: 006012577 виданий 5922 23.04.2021 | M60: м. Санкт- Петербург | N60: Сумська обл., Роменський р-н, с Вільшана, вул. Озерна 55 | O60: повна загальна середня | P60: Вільшанська ЗОШ,Сумська обл., с.Вільшана,2017 | Q60: водій кат В,С | R60: не одружений, батько: Звада Іван Михайлович - 1968 - 0500662946, Сумська обл., Роменський р-н, с Вільшана, вул. Озерна 55 | S60: 0683586538 | Z60: ні | AC60: I Rh + | AD60: Резерв КДШВ
A61: 11/3193 | B61: 46078 | C61: 4 | D61: солдат | E61: ЗВЯГІНЦЕВ Вадим Сергійович | F61: Подільським РТЦК та СП у Київській області | I61: 19.05.1990 | J61: 3301112235 | K61: АГ 605685 | L61: СМ 828673 | M61: Київська обл. Бучанський р-н., смт. Коцюбинське | N61: Київська обл. Бучанський р-н., смт. Коцюбинське, вул. Пономарьова, кв. 78 | O61: професійно- технічна | P61: Київський проф. коледж ім. А. Макаренка, 2010, правознавство | Q61: водій, 10 років, кладовщик, 6 років Права В | R61: одружений, дружина: Звягінцева Катерина Сергіївна, 1992, Київська обл. Бучанський р-н., смт. Коцюбинське, вул. Пономарьова, кв. 78, 0684331879 | S61: 0636364510 | U61: курсант | V61: 100 | X61: 46078 | Y61: № 59 | Z61: ні | AA61: 46078 | AB61: Придатний до військової служби
A62: 260228-7 | B62: 46081 | C62: 6 | D62: солдат | E62: ЗУБКО Андрій Валерійович | F62: Солом'янським РТЦК та СП у Київській області | I62: 17.11.2000 | J62: 3684602658 | K62: АГ 629882 | L62: СЮ 439586 | M62: Запорізька обл. Кам'янсько-Дніпровський р-н, с. Водяне | N62: м. Київ, вул. Залізнична, буд. 34, кв. 112 | O62: вища | P62: ХАІ, 2022, авіаційна та ракетна проекційна техніка | Q62: інженер з міцності, 4 роки Права В | R62: одружений, Тітка: Уварова Людмила Григорівна, 0675255951 | S62: 0687091749 | U62: курсант | V62: 100 | X62: 46081 | Y62: № 62 | Z62: ні | AA62: 46081 | AB62: Придатний до військової служби | AC62: II Rh + | AD62: А3316 по розподілу рекомендаційний лист
B63: 46076 | C63: 16 | D63: солдат | E63: КАЛЬЧЕНКО Олександр Іванович | F63: Сумським МТЦК та СП у Сумській області | I63: 25.01.1980 | J63: 2924420790 | K63: АВ 967887 | M63: Сумська обл., м. Білопілля | N63: м. Суми, вул. Харківська, буд. 28/1, кв. 46 | O63: вища | P63: АМСУ, м. Дніпро, 2009, облік, аудит, правознавство | Q63: інспектор митниці, 14 років ФОП, 8 років Права В | R63: одружений, дружина: Кальченко Вікторія Володимирівна, м. Суми, пр. Перемоги, буд. 51, кв. 132, 0958425595 | S63: 0675997775 | Z63: ні | AC63: II Rh + | AD63: Резерв КДШВ
A64: 1376 | B64: 46079 | C64: 7 | D64: солдат | E64: КАМІНСЬКИЙ Андрій Михайлович | F64: Хмільницьким РТЦК та СП у Вінницькій області | I64: 17.12.1996 | J64: 3541511375 | K64: АГ 574999 | L64: АТ 021347 Ленінським РВ УПМС України у Вінницькій області 17.01.2013 | M64: Вінницька обл., Вінницький р-н., с. Пултівці | N64: м. Вінниця, вул. Пирогова, буд. 103а, кв. 157 | O64: повна загальна середня | P64: Гімназія №1, Медичний коледж ім. Д.К. Заболотного, м. Вінниця, 2016 | Q64: комплектувальник, 3 роки, Права - | R64: одружений, дружина: Камінська Валентина Петрівна, 1998, м. Вінниця, вул. Пирогова, буд. 103а, кв. 157, 0501442286 | S64: 0933511962 | U64: курсант | V64: 100 | X64: 46079 | Y64: № 60 | Z64: ні | AA64: 46079 | AB64: Придатний до військової служби | AC64: III Rh +
A65: 11/1553 | B65: 46078 | C65: 5 | D65: солдат | E65: КАТЕРУША Ярослав Ігорович | F65: Шевченківським РТЦК та СП у Київській області | I65: 06.07.1996 | J65: 3525107076 | K65: довідка | L65: НЕ 670190 Городищенським РС УДМС УКР в Черкаській обл 12.09.2012 | M65: Черкаська обл., Черкаський р-н, м. Городище | N65: Черкаська обл., Черкаський р-н, м. Городище, вул. Миру, буд. 56, кв. 10 | O65: вища | P65: Київський національний лінгвістичний університет, 2018, філологія (мова та література англійська) | Q65: менеджер з продажів, 3 роки перекладач, 8 років Права В | R65: не одружений, мати: Яременко Ольга Вікторівна, 1973, Черкаська обл., Черкаський р-н, м. Городище, вул. Миру, буд. 56, кв. 10, 0983966889 | S65: 0733474748 | U65: курсант | V65: 100 | X65: 46078 | Y65: № 59 | Z65: ні | AA65: 46078 | AB65: Придатний до військової служби | AD65: А3316 по розподілу рекомендаційний лист!!!
A66: 10/590 | B66: 46076 | C66: 7 | D66: солдат | E66: КАЧУРА Олексій Олександрович | F66: Чернігівським МТЦК та СП у Чернігівській області | I66: 01.03.1998 | J66: 3585404453 | K66: 011220221358641100104/1 | M66: м. Чернігів | N66: м. Чернігів, просп. Миру, буд. 201б, кв. 20 | O66: вища | P66: Чернігівський педагогічний університет, 2021, фізичне виховання, хореографія | Q66: Тренер із спортивних бальних танців, 22 роки Права - | R66: не одружений, мати: Качура Оксана Валеріївна, 1974, м. Чернігів, просп. Миру, буд. 201б, кв. 20, 0509957275 | S66: 0664746771 | U66: курсант | V66: 100 | X66: 46076 | Y66: № 57 | Z66: ні | AA66: 46076 | AB66: Придатний до військової служби
B67: 46080 | C67: 20 | D67: солдат | E67: КВАША Сергій Анатолійович | F67: Роменським РТЦК та СП у Сумської області | I67: 03.03.1990 | J67: 3293410951 | K67: СО 728605 | L67: МВ 341636 Роменським МРВУМВС України в Сумській обл., 10.01.2007 | M67: Сумська обл., Роменський р-н., с. Анастасівка | N67: Сумська обл., Роменський р-н., с. Анастасівка, вул. Паркова, буд. 6 | O67: професійно- технічна | P67: Глинське ПТУ, 2009, слюсар, зварювальник | Q67: доглядач за тваринами, 6 років Права - | R67: не одружений, мати: Кваша Надія Іванівна, 1964, Сумська обл., Роменський р-н., с. Анастасівка, вул. Паркова, буд. 6, 0987449092 | S67: 0686718122 | Z67: ні | AC67: II Rh + | AD67: Резерв КДШВ
B68: 46077 | C68: 26 | D68: солдат | E68: КЛИМЕНЧЕНКО Максим Анатолійович | F68: Шосткинським РТЦК та СП у Сумській області | I68: 04.01.1990 | J68: 3287611732 | K68: АВ 967980 | L68: МВ 302722 Глухівським МРВ УМВС України в Сумській обл. 07.07.2006 | M68: Сумська обл., м. Глухів | N68: Сумська обл., м. Глухів.ю вул. Франка, буд. 39 | O68: професійно- технічна | P68: ПТУ, м. Глухів, муляр, печник, штукатур | Q68: слюсар, 9 років Права - | R68: не одружений, мати: Клименченко Інна Петрівна, 1972, Сумська обл., м. Глухів.ю вул. Франка, буд. 39, 0956028336 | S68: 0667570803 | Z68: ні | AC68: I Rh + | AD68: Резерв КДШВ
B69: 46077 | C69: 28 | D69: солдат | E69: КНЯЗЄВ Олексадр Олексійович | F69: Сумським РтЦК та СП у Сумській області | I69: 10.01.1984 | J69: 3069007313 | K69: МО 533842 | L69: МВ 580136 Лебединським МСУДМС України в Сумській обл., 18.03.2015 | M69: Сумська обл., Сумський р-й, с.Першотравневе | N69: м. Лебедин, вул. Капранів б.24, Сумська обл. | O69: професійно- технічна | P69: ПТУ34, 2002, будівельник | Q69: будівельник, кат.В | R69: одружений, дружина Князєва Анна Миколаївна - 1990 - 0988266864 | S69: 0984312805 | Z69: ні | AC69: I Rh + | AD69: Резерв КДШВ
A70: 2611 | B70: 46081 | C70: 7 | D70: солдат | E70: КОВАЛЕНКО Анатолій Григорович | F70: Житомирським РТЦК та СП у Житомирській області | I70: 21.12.1980 | J70: 2957514658 | K70: АВ 960033 | L70: ВМ 531816 Корольовським РВ УМВС України в Житомирській області 04.04.1998 | M70: м. Житомир | N70: м. Житомир, вул. Володимира Гнатюка, буд. 30, кв. 309 | O70: професійно- технічна | P70: ПТУ №17,м. Житомир,1999,автослюсар-водій | Q70: слюсар - 20р Права B, C | R70: одружений, дружина: Коваленко Оксана Вікторівна - 1982 - 0963146316 - м. Житомир, пров. Соломії Крушельницької, буд. 6 | S70: 0963148587 | U70: курсант | V70: 100 | X70: 46081 | Y70: № 62 | Z70: ні | AA70: 46081 | AB70: Придатний до військової служби | AC70: II Rh +
A71: 260228-7 | B71: 46081 | C71: 8 | D71: солдат | E71: КОВАЛЕНКО Дмитро Валентинович | F71: Солом'янським РТЦК та СП у Київській області | I71: 29.10.1984 | J71: 3098314219 | K71: АГ 629884 | L71: 004120993 8026 28.10.2019 | M71: м. Київ | N71: м. Київ, просп. Червоної Калини, буд. 22а, кв. 114 | O71: повна загальна середня | P71: ЗОШ №238,м. Київ,2001 | Q71: бухгалтер - 6р промоутер реклами - 10р | R71: не одружений, мати: Коваленко Лариса Євгеновна - 1960 - 0630463778, м. Київ просп. Червоної Калини, буд. 22а, кв. 114 | S71: 0930344674 | U71: курсант | V71: 100 | X71: 46081 | Y71: № 62 | Z71: ні | AA71: 46081 | AB71: Придатний до військової служби | AC71: IV Rh +
A72: 620/МВ | B72: 46081 | C72: 9 | D72: солдат | E72: КОВАЛЕНКО Олег Андрійович | F72: Оболонським РТЦК та СП у Київській області | I72: 17.05.1993 | J72: 3410506256 | K72: 040520250688132901083/1 | L72: МР 295449 | M72: м. Херсон | N72: м. Київ, просп. Оболонський, буд. 28б | O72: вища | P72: ХДПУ, 2019, тренер | Q72: менеджер басейну, тренер з плавання, 15 років Права - | R72: одружений, дружина: Коваленко Катерина Андріївна, 1994, м. Київ, просп. Оболонський, буд. 28б, 0508486881 | S72: 0990928972 | U72: курсант | V72: 100 | X72: 46081 | Y72: № 62 | Z72: ні | AA72: 46081 | AB72: Придатний до військової служби | AC72: II Rh -
A73: 1379 | B73: 46079 | C73: 8 | D73: солдат | E73: КОВАЛЬ Сергій Степанович | F73: Хмільницьким РТЦК та СП у Вінницькій області | I73: 09.09.1982 | J73: 3020225699 | K73: АГ 574997 | L73: АТ 170876 Хмільницьким РС УДМС УКР в Вінницькій обл 27.10.2016 | M73: Вінницька обл., Хмільницький р-н., с. Вербівка | N73: Вінницька обл., Хмільницький р-н., с. Вербівка, вул. Космонавтів, буд. 48 | O73: базова загальна середня | P73: Хмільницька ЗОШ №4 | Q73: автослюсар, 12 років | R73: не одружений, сестра: Коваль Леся Степанівна, 1978, Вінницька обл., Хмільницький р-н., с. Вербівка, вул. Космонавтів, буд. 48, 0682159607 | S73: 0681797617 | U73: курсант | V73: 100 | X73: 46079 | Y73: № 60 | Z73: ні | AA73: 46078 | AB73: Придатний до військової служби
B74: 46084 | C74: 16 | D74: солдат | E74: КОВАЛЬОВ Владислав Віталійович | F74: Кам'янським РТЦК та СП у Дніпропетровскій області | I74: 16.04.2001 | M74: Дніпровська обл. Дніпропетровський р-н,с. Партизанське | N74: Дніпропетровська обл., Дніпропетровський р-н, с. Балівка, вул. Калинова, буд. 55 | O74: повна загальна середня учіліще | P74: Професійне технічне учіліще №79 м. Дніпро, 2019, водій сільско-господарських, лісо-господарських машин, слюсар ремонтник 3 разряду | Q74: водій, 3,5 року, Права В | R74: не одружений,мати: Головата Юлія Василівна, 13.01.1983, Дніпропетровська обл., Дніпроперовський р-н, с. Балівка, вул. Калинова, буд. 55. | S74: 0664717290 | U74: курсант | V74: 100 | Z74: ні | AA74: 46080 | AB74: Придатний до військової служби | AC74: I Rh + | AD74: А5242 відношення РОТА ОХОРОНИ стрілець зенітник 4 ст., контракт
B75: 46073 | C75: 30 | D75: старший сержант | E75: КОЛОДЧЕНКО Олег Григорович | F75: Індустріальним РТЦК та СП 20.02.2026 | I75: 10.03.1990 | J75: 3294101893 | K75: СО 621238 | L75: МВ 321644 Великописарівським РВУМВС України в Сумській обл. 25.07.2006 | M75: Сумська обл., Ахтирський р-н, с. Попівка | N75: м. Чугуїв, вул. Піщана 48 | O75: професійно- технічна | P75: Велекописерівська філія Ахтирскього профліцею, Сумська обл., смт.Велика Писарівка,2008 | Q75: війсковий трахторист В,С,С1 | R75: одружений, дружина: Колодченко Єлена Ігорівна - 1989 - 0980437691 - м. Одеса | S75: 0950483028 | Z75: ні | AC75: III Rh + | AD75: Резерв КДШВ
A76: 4/1847/1 | B76: 46076 | C76: 8 | D76: солдат | E76: КОНОВАЛ Євгеній Миколайович | F76: Чернігівським РТЦК та СП у Чернігівській області | I76: 01.06.1984 | J76: 3083303814 | K76: АГ 633620 | M76: Дніппопетровська обл., м. Новомосковськ | N76: Чернігівська обл., Чернігівський р-н., с. Десна, вул. Захисників України, буд. 3, кв. 38 | O76: вища | P76: Чернігівський інститут економіки та управління, 2007, маркетолог | Q76: системний адміністратор, 18 років Права: С | R76: не одружений, батько: Коновал Микола Сергійович, 1953, Чернігівська обл., Чернігівський р-н., с. Десна, вул. Захисників України, буд. 3, кв. 38, 0931987601 | S76: 0937859535 | U76: курсант | V76: 100 | X76: 46076 | Y76: № 57 | Z76: ні | AA76: 46076 | AB76: Придатний до військової служби | AC76: І RH +
B77: 46077 | C77: 24 | D77: солдат | E77: КОРЕНЄВ Віталій Віталійович | F77: Конотопським РТЦК та СП у Сумській області | I77: 24.02.1989 | J77: 3256220573 | K77: АВ 949492 | L77: закордоний паспорт FM731032 виданий 5901 05.04.2018 | M77: м. Суми | N77: м. Суми, вул. Роменська, буд. 98, кв. 48 | O77: базова загальна середня | P77: Школа №1, м. Суми | Q77: муляр, 19 років Права В | R77: не одружений, батько: Коренєв Віталій Олексійович, 1962, м. Суми, вул. Роменська, буд. 98, кв. 48, 0507243078 | S77: 0661495776 | Z77: ні | AC77: IV Rh - | AD77: Резерв КДШВ
B78: 46080 | C78: 35 | D78: солдат | E78: КОСЕНКО Віталій Якович | F78: Сумським МТЦК та СП у Сумській області | I78: 25.10.1994 | J78: 3463112994 | K78: АВ 949438 | L78: 008368296 виданий 5922 21.10.2022 | M78: с. Немудруї, Сумська обл., Роменський р-н | N78: Сумська обл, с. Недригалів, вул. Заболотівка 80 | O78: повна загальна середня | P78: ПТУ №41,с. Недригалів, Сумська обл.,2013 | Q78: водій кат В,С трахторист кат. А1, А2 | R78: не одружений, батько: Косенко Яків Петрович - 1964 - 0500535095, Сумська обл, с. Недригалів, вул. Заболотівка 80 | S78: 0991610466 | Z78: ні | AC78: IV Rh - | AD78: Резерв КДШВ
A79: 466 | B79: 46079 | C79: 9 | D79: солдат | E79: КОСЕНЮК Валерій Анатолійович | F79: Деснянським РТЦК та СП у Київській області | I79: 23.07.1975 | J79: 2759713830 | K79: АГ 606584 | L79: СН 289053 | M79: м. Київ | N79: м. Київ, вул. Кіото, буд. 5, кв. 117 | O79: вища | P79: КДАККМ, 2005, звукорежисура, театральне мистецтво | Q79: музикант, 35 років Права: - | R79: одружений, дружина: Щипан-Косенюк Олександра Олегівна, 1981, м. Київ, вул. Кіото, буд. 5, кв. 117, 0503803966 | S79: 0503803960 | U79: курсант | V79: 100 | X79: 46079 | Y79: № 60 | Z79: ні | AA79: 46079 | AB79: Придатний до служби у військових частинах забезпечення, ТЦК та СП, ВВНЗ, навчальних центрах, закладах (установах), медичних підрозділах, підрозділах логістики, зв'язку, оперативного забезпечення, охорони | AD79: А2900 по розподілу Біліченко Руслан Петрович оркестр
B80: 46077 | C80: 7 | D80: солдат | E80: КОСЬМІН Юрій Віталійович | F80: Конотопським РТЦК та СП у Сумській області | I80: 12.07.1980 | J80: 2941315057 | K80: АВ 967804 | M80: Сумська обл., м. Путивль | N80: Сумська обл., м. Путивль, вул. І. Путивльського, буд. 7 | O80: базова загальна середня | P80: Бурса №9, м. Путивль | Q80: будівельник, 20 років Права - | R80: не одружений, батько: Косьмін Віталій | S80: 0662402865 | Z80: ні | AC80: II Rh + | AD80: Резерв КДШВ
A81: 2504 | B81: 46078 | C81: 6 | D81: солдат | E81: КРЕЙДИЧ Жан Віталійович | F81: Житомирського ОМТЦК та СП у Житомирській області | I81: 11.03.1985 | J81: 3111620917 | K81: АГ 186074 | L81: ВН 498883 Корольовським РВ УМВС України в Житомирській області 17.08.2010 | M81: м. Житомир | N81: м. Житомир, вул. Вітрука, буд. 27, кв. 53 | R81: одружений, дружина: Шмідт Ірина Володимирівна, 1988 | S81: не надано | U81: курсант | V81: 100 | X81: 46078 | Y81: № 59 | Z81: ні | AA81: 46078 | AB81: Придатний до військової служби
B82: 46074 | C82: 44 | D82: солдат | E82: КРИВОГУЗ Віталій Олександович | F82: Сумським МТЦК та СП у Сумській області | I82: 01.03.1980 | J82: 2928021037 | K82: СО 431160 | L82: МА 314704, Буринським РВУМВС України в Сумський обл., 04.08.1997 | M82: м. Ромни, Сумска обл. | N82: Сумська обл., м. Буринь, вул. Пірогова, б.1б/2 | O82: вища | P82: ПУСК м. Полтава,бакалавр,товарознавство і комерційна діяльність,2003 | Q82: ФОП кат. В | R82: не одружений, мати: Дзюба Євгенія Миколайвна - 1957, Сумська обл., м. Буринь, вул. 121 Стрілецької Дивізії, буд. 13, кв.2 | S82: 0994461246 | Z82: ні | AD82: Резерв КДШВ
A83: 2612 | B83: 46081 | C83: 10 | D83: солдат | E83: КУЗЬМИШИН Юрій Миколайович | F83: Житомирським РТЦК та СП у Київській області | I83: 07.05.1989 | J83: 3263419370 | K83: АГ 603381 | L83: 012496201 1819 27.10.2025 | M83: Житомирська обл. Житомирський р-н. с. Висока Піч | N83: Житомирська обл., Житомирський р-н., с. Висока Піч, вул. Воронкіна, буд. 1, кв. 38 | O83: професійно- технічна | P83: Турчинівка (училище),Житомирська обл, м. Чуднів,2007,електрогазозварювальник, водій | Q83: водій (грузова) - 10р Права B, C, CE | R83: не одружений, тітка: Бондарчук Антоніна Анатоліївна - 42р - 0688241992, Житомирська обл, Житомирський р-н, с. Нова Рудня, вул. Шевченка, буд. ? | S83: 0673197537 | U83: курсант | V83: 100 | X83: 46081 | Y83: № 62 | Z83: ні | AA83: 46081 | AB83: Придатний до військової служби | AC83: III Rh +
A84: 11/2499 | B84: 46078 | C84: 7 | D84: солдат | E84: КУЧЕРЕНКО Анатолій Михайлович | F84: Святошинським РТЦК та СП у Київській області | I84: 22.12.1992 | J84: 3395907198 | K84: АГ 606238 | L84: 005837755 5926 11.03.2021 | M84: Сумська обл, Сумський р-н, с. Нижня Сироватка | N84: м. Київ,, просп. Академіка Корольова, буд. 6, кв 245 | O84: професійно- технічна | P84: ПТУ №16,м. Суми,2012,охоронник | Q84: робітник на складі | R84: не одружений, мати: Кучеренко Любов Іванівна - 1961 - 0992350554 - Сумська обл, Сумський р-н, с. Нижня Сироватка, пров. Перемоги, буд. 6 | S84: 0668498110 | U84: курсант | V84: 100 | X84: 46078 | Y84: № 59 | Z84: ні | AA84: 46078 | AB84: Придатний до військової служби
A85: 470 | B85: 46080 | C85: 7 | D85: солдат | E85: КУЧУРА Андрій Віталійович | F85: Деснянським РТЦК та СП у Київській області | I85: 08.02.1988 | J85: 3218006254 | K85: АГ 606587 | L85: НМ 474141 | M85: Чернігівська обл., м. Борзна | N85: Чернігівська обл., м. Борзна, вул. Олійника, буд. 41 | O85: повна загальна середня | P85: Борзнівська ЗОШ | Q85: будівельник, 10 років Права - | R85: не одружений, мати: Кучура Тетяна Іванівна, Чернігівська обл., м. Борзна, вул. Олійника, буд. 41, 0639370324 | S85: 0937290800 | U85: курсант | V85: 100 | X85: 46080 | Y85: № 61 | Z85: ні | AA85: 46079 | AB85: Придатний до військової служби | AC85: I Rh +
B86: 46077 | C86: 29 | D86: сержант | E86: КУЩ Андрій Петрович | F86: Сумським МТЦК та СП у Сумській області | I86: 20.03.1979 | J86: 2893300213 | K86: УН 0497799 | L86: МВ 429139 Буринським РВГУМВС України в Сумській обл., 28.01.2010 | M86: Сумська обл., Буринськийр-н, с. Михайлівка, вул. Лесі Українки 33 | N86: м. Суми, вул. Ковпака, б. 85, кв.52 | O86: повна загальна середня | P86: Михайлівська ЗОШ Сумська обл., | Q86: електрогазозварник | R86: одружений,дружина: Кущ Світлана Олександрівна - 1987 - 0990357418 | S86: 0669213337 | Z86: ні | AC86: II Rh + | AD86: Резерв КДШВ
A87: 260223-9 | B87: 46076 | C87: 9 | D87: солдат | E87: ЛЕВЕНЕЦЬ Максим Дмитрович | F87: Солом'янським РТЦК та СП у Київській області | I87: 01.08.1988 | J87: 3235521550 | K87: АГ 629816 | L87: МЕ 490408 Шевченківського РУ ГУ МВС УКР в м. Києві 28.04.2005 | M87: м. Київ | N87: м. Київ, вул. Дмитрицька, буд. 82, кв. 16 | O87: вища | P87: Київський бізнес коледж | Q87: ІТ-фахівець, 20 років Права - | R87: не одружений,не вказано | S87: 0930007874 | U87: курсант | V87: 100 | X87: 46076 | Y87: № 57 | Z87: ні | AA87: 46076 | AB87: Придатний до військової служби | AD87: А3316 по розподілу рекомендаційний лист
B88: 46077 | C88: 33 | D88: солдат | E88: ЛЕВЧИЧ Олександр Миколайович | F88: Сумським МТЦК та СП у Сумській області | I88: 17.06.1978 | J88: 2865716296 | K88: АВ 949490 | L88: 010064683 Виданий 5930 21.12.2023 | M88: м. Суми | N88: м. Суми, вул. ЗСУ , буд.6, кв 119 | O88: повна загальна середня | P88: СВШ №2,м. Суми,1996 | Q88: В | R88: не одружений,брат: Левчич Володимир Миколайович - 1971 - 0503074035, м. Суми | S88: 0501372378 | Z88: ні | AC88: I Rh + | AD88: Резерв КДШВ
B89: 46077 | C89: 3 | D89: солдат | E89: ЛИТВИНКО Олександр Сергійович | F89: Роменським РТЦК та СП у Сумській області | I89: 21.07.2000 | J89: 3672709816 | K89: АВ 949425 | L89: 006384474 Виданий 5924 19.07.2021 | M89: Сумська обл., Роменський р-н., с Перекопівка | N89: Сумська обл., Роменський р-н., с Перекопівка, вул. Космонавтів, буд. 107 | O89: професійно- технічна | P89: Глинський ПТАЛ, 2019, водій-тракторист, слюсар з ремонту с\г машин, ,Путивльський ветеринарний коледж, 2023, ветеринарна медицина | Q89: тракторист, 7 років Права А, В, С, тракторні | R89: одружений, дружина: Литвинко Катерина Олександрівна, 2004, Сумська обл., Роменський р-н., с Перекопівка, вул. Космонавтів, буд. 107, 0993483660 | S89: не надано | Z89: ні | AD89: Резерв КДШВ
A90: 2581 | B90: 46080 | C90: 8 | D90: солдат | E90: ЛЮЛЕВИЧ Віталій Михайлович | F90: Житомирського ОМТЦК та СП у Житомирській області | I90: 21.08.1989 | J90: 3274005414 | K90: АВ 960028 | L90: ВН 610181 Корольовським РВ у м. Житомирі УДМС УКР в Житомирській обл 07.09.2013 | M90: м. Житомир | N90: м. Житомир, Огієнко, буд. 1/34, кв. 71 | O90: повна загальна середня | P90: Житомирська ЗОШ №14 | Q90: водій, 20 років Права: всі окрім D, небезпечні вантажі | R90: не одружений, батько: Люлевич Михайло Йосипович 0679593591 | S90: 0973712130 | U90: курсант | V90: 100 | X90: 46080 | Y90: № 61 | Z90: так | AA90: 46080 | AB90: Придатний до служби на підводних човнох, на надводних кораблях, у морській піхоті, Десантно-штурмових військах, спеціальних спорудах, підрозділах спеціального призначення
B91: 46072 | D91: солдат | E91: МАЗУРКЕВИЧ Віталій Петрович | F91: Подільський РТЦК та СП 19.02.2026 | I91: 29.03.1993 | J91: 3405600870 | K91: АГ 605625 | M91: Вінницька обл., Літинський р-н., с. Громадське | N91: м. Київ, вул. В. Липківського, буд. 13, кв. 27 | O91: повна загальна середня | P91: Громадська ЗОШ, 2008, | Q91: автомеханік, 12 років Права: В, С | R91: одружений, дружина: Мазуркевич Марина Анатоліївна, 1991, м. Київ, вул. В. Липківського, буд. 13, кв. 27, 0631378707 | S91: 0638014463 | AD91: Резерв КДШВ
A92: 2501 | B92: 46078 | C92: 8 | D92: солдат | E92: МАТЮНІН Іван Леонідович | F92: Житомирського ОМТЦК та СП у Житомирській області | I92: 09.10.1984 | J92: 3096315737 | K92: АГ 186071 | L92: ВН 566980 Корольовським РВ УМВС України в Житомирській області 01.01.2000 | M92: м. Житомир | N92: м. Житомир,, вул. Короленка, буд. 52, кв. 2 | O92: повна загальна середня | P92: Вечірня школа №1,м. Житомир,2005 | Q92: Стропольщик башеного крану - 6р | R92: не одружений, мати: Матюніна Наталія Сергіївна - 1960 - 0977692131, м. Житомир, вул. Короленка, буд. 52, кв. 2 | S92: 0975383164 | U92: курсант | V92: 100 | X92: 46078 | Y92: № 59 | Z92: ні | AA92: 46078 | AB92: Придатний до військової служби
B93: 46016 | C93: 42 | D93: солдат | E93: МЕНЬШИКОВ Олексій Єгорович | F93: Харківським ТЦК та СП у Харківській області | I93: 30.03.1980 | J93: 2930900615 | K93: АВ 909203 | L93: МК 119294, Пісочинським ВМ Харківського РВУМВС України 09.04.1996 | M93: м. Харків | N93: Харківська обл., Харківський р-н, смт. Пісочин, пров. Лісовий 20 | O93: базова загальна середня | P93: Пісочинська ЗОШ,Харківська обл., смт. Пісочин,1995 | Q93: сантехнік | R93: одружений, дружина Меньшикова Маргарита Сергиївна - 1989, Харківська обл., Харківський р-н, с. Санжари, вул. Майська 1 | S93: 0669377797 | Z93: ні | AC93: III Rh + | AD93: Резерв КДШВ
B94: 46073 | C94: 9 | D94: солдат | E94: НЄЖНОВ Сергій Миколайович | F94: Харківським РТЦК та СП у Сумській області | I94: 11.01.1977 | J94: 2813500653 | K94: АГ 594862 | L94: МН 840776 Червонозаводським РВХМУУМВС України в Харківській обл., 25.04.2006 | M94: м. Харків | N94: м. Харків, вул. Заводська, буд. 114 | O94: професійно- технічна | P94: СПТУ №9 м. Харків, 1995, електрогазозварювальник | Q94: водій, 30 років Права: В, С, Д | R94: одружений, дружина: Нєжнова Надія Іванівна, 1979, м. Харків, вул. Заводська, буд. 114, 0671567613 | S94: 0962762720 | Z94: ні | AC94: I Rh - | AD94: Резерв КДШВ
A95: 2505 | B95: 46079 | C95: 10 | D95: солдат | E95: ОСАДЧУК Олександр Олександрович | F95: Житомирським РТЦК та СП у Житомирській області | I95: 06.04.1988 | J95: 3223818474 | K95: АГ 603361 | L95: ВН 554655 Корольовським РВ УМВС УКР в Житомирській обл 17.04.2012 | M95: м. Житомир | N95: Житомирська обл., Пулинський р-н., с.Бабичівка, вул. Польова, 1 | O95: базова загальна середня | P95: Мартинівська ЗОШ | Q95: Різноробочий, 4 роки, Права - | R95: не одружений, мати: Осадчук Альвіна Зиновіївна, 1963, Житомирська обл., Пулинський р-н., с.Бабичівка, вул. Польова, 1 | S95: не надано | U95: курсант | V95: 100 | X95: 46079 | Y95: № 60 | Z95: ні | AA95: 46078 | AB95: Придатний до військової служби | AC95: II Rh +
B96: 46076 | C96: 45 | D96: солдат | E96: ПАНЧЕНКО Олексадр Валерійович | F96: Конотопським РТЦК та СП у Сумській області | I96: 13.12.1982 | J96: 3029719656 | K96: АВ 967839 | L96: 005500019 | M96: Конотопський р-н, с. Підлипне | N96: Сумська обл., Конотопський р-н, м. Кролевец, вул. Зелинського, буд. 1, кв. 4 | O96: базова загальна середня | P96: Грузківська ЗОШ ,Сумська обл., Кроливецький р-н, с. Грузків, | Q96: будівельник | R96: одружений, дружина Панченко Оксана Володимирівна - 1987 - 0960923346, Сумська обл., Конотопський р-н, м. Кролевец, вул. Зелинського, буд. 1, кв. 4 | S96: не надано | Z96: ні | AC96: III Rh + | AD96: Резерв КДШВ
B97: 46074 | C97: 21 | D97: солдат | E97: ПАРХОМЕНКО Володимир Анатолійович | F97: Конотопським РТЦК та СП у Сумській області | I97: 29.12.1985 | J97: 3140913593 | K97: АВ 967840 | L97: МВ 078689 Крокевецьким РВ УМВС України в Сумській обл 22.10.2002 | M97: Сумська обл., Конотопський р-н., м. Кролевець | N97: Сумська обл., Конотопський р-н., с. Зазірки, вул. Маричанівка, буд. 12 | O97: професійно- технічна | P97: ПТУ №23 м. Київ, муляр-штукатур | Q97: будівельник, 20 років, Права - | R97: не одружений, брат: Пархоменко Юрій Анатолійович, 1988, м. Кролевець | S97: 0685057883 | Z97: ні | AD97: Резерв КДШВ
A98: 1/2870 | B98: 46079 | C98: 11 | D98: солдат | E98: ПАРШИКОВ Артем Вадимович | F98: Кропивницьким РТЦК та СП у Кіровоградській області | I98: 15.09.1998 | J98: 3605210974 | K98: АГ 471494 | L98: ЕВ 370186 Кіровським РВ у м. Кіровограді УДМС УКР в Кіровоградській обл 12.09.2014 | M98: Кіровоградсбка обл. Бобрунецький р-н., с. Кохана | N98: м. Кропивницький, вул. Павла Сніцера, буд. 1 | O98: вища | P98: Кропвницький інстинут державного та муніципального управління, 2022, право | Q98: Кухар, 3 роки Права: - | R98: не одружений, батько: Паршиков Вадим Миколайович, 1976, Кіровоградсбка обл. Бобрунецький р-н., с. Кохана,вул. Степова, буд. 5, 0970189569 | S98: 0961367161 | U98: курсант | V98: 100 | X98: 46079 | Y98: № 60 | Z98: ні | AA98: 46079 | AB98: Придатний до військової служби
B99: 46080 | C99: 17 | D99: солдат | E99: ПАШКОВ Денис Геннадійович | F99: Слобідським РТЦК та СП м. Харків 27.02.2026 | I99: 01.02.1989 | J99: 3253904779 | K99: СО 316222 | L99: МН773485 Орджонікідзевським РВХМУУМВС України в Харківській обл. 16.06.2005 | M99: м. Харків | N99: м. Харків, просп. Індустріальний, буд. 31, кв. 28 | O99: вища | P99: Академія НГУ, 2008, командник, менеджер організації | Q99: реабілітолог, 15 років, Права - | R99: не одружений, мати: Пашкова Ніна Опанасівна, 1954, м. Харків, просп. Індустріальний, буд. 31, кв. 28, 0661600161 | S99: 0669166227 | Z99: ні | AC99: I Rh + | AD99: Резерв КДШВ
B100: 46076 | C100: 2 | D100: старший солдат | E100: ПЕТРАШ Віктор Володимирович | F100: Сумським МТЦК та СП у Сумській області | I100: 04.09.1984 | J100: 3092805058 | K100: АВ 704155 | L100: МА 942892 Лебединським МРВУМВС України в Сумській обл., 27.02.2002 | M100: Магаданський край, с. Ягідне | N100: Сумська обл, Сумський р-н., с. Коршачина, вул. Шкільна, буд. 52 | O100: професійно- технічна | P100: Маловисторопський державний аграрний коледж СНАУ, 2004, фельдшер ветеринарної медицини | Q100: ветеринар, 4 роки Вальцювальник гумових сумішей, 10 років, Бруківник, 7 років Права В | R100: не одружений, мати: Петраш Віра Юріївна, 1961, Сумська обл, Сумський р-н., с. Коршачина, вул. Шкільна, буд. 56, 0997604401 | S100: 0953467547 | Z100: ні | AC100: IV Rh + | AD100: Резерв КДШВ
A101: 1/2345 | B101: 46075 | C101: 8 | D101: солдат | E101: ПИРОГАНИЧ Ігор Ігорович | F101: Ніжинським РТЦК та СП у Чернігівській області | I101: 05.03.1991 | J101: 3330114316 | K101: АГ 633796 | L101: 006435172 5124 27.07.2021 | M101: Одеська обл. м. Арциз | N101: Чернігівська обл., Ніжинський р-н., с. Крути, вул. Ніжинського полку, буд. 5 | O101: базова середня | P101: ЗОШ с. Черниш, 2006 | Q101: Вантажник кар, 3 роки Права - | R101: не одружений, мати: Пироганич Любов Миколаївна, 1973, Чернігівська обл., Ніжинський р-н., с. Крути, вул. Ніжинського полку, буд. 5, 0972447274 | S101: 0663157097 | U101: курсант | V101: 100 | X101: 46075 | Y101: № 56 | Z101: ні | AA101: 46075 | AB101: Придатний до військової служби
A102: 1454 | B102: 46081 | C102: 11 | D102: солдат | E102: ПЛАТКІВСЬКИЙ Олександр Анатолійович | F102: Хмільницьким РТЦК та СП у Вінницькій області | I102: 21.04.1985 | J102: 3115715211 | K102: АГ 641907 | L102: ВН 355573 | M102: м. Житомир | N102: м. Житомир, вул. Захисників України буд. 12, кв. 28 | O102: професійно- технічна | P102: Сільхозтехнікум,м. Житомир,2005р,механізація | Q102: водій таксі - 15р Права B | R102: не одружений, цивільна дружина: Куницька Вікторія Русланівна - 2001 - 0632966285 - м. Житомир вул. Захисників України буд. 12, кв. 28 | S102: 0969999707 | U102: курсант | V102: 100 | X102: 46081 | Y102: № 62 | Z102: ні | AA102: 46081 | AB102: Придатний до військової служби
...

Sheet Settings
A1: базова загальна середня | C1: Придатний до військової служби | J1: Вінницька | K1: солдат | L1: I Rh -
A2: повна загальна середня | C2: Придатний до служби на підводних човнох, на надводних кораблях, у морській піхоті, Десантно-штурмових військах, спеціальних спорудах, підрозділах спеціального призначення | E2: Вінниця | F2: 1 відділ Хмільницький РТЦК | G2: першого відділу Хмільницького районного | H2: Вінницька | I2: Вінницького ОТЦК та СП | J2: Волинь | K2: старший солдат | L2: I Rh +
A3: професійно- технічна | C3: Придатний до служби у військових частинах забезпечення, ТЦК та СП, ВВНЗ, навчальних центрах, закладах (установах), медичних підрозділах, підрозділах логістики, зв'язку, оперативного забезпечення, охорони | E3: Вінниця | F3: 2 відділ Хмільницький РТЦК | G3: другого відділу Хмільницького районного | H3: Вінницька | I3: Вінницького ОТЦК та СП | J3: Дніпро | K3: молодший сержант | L3: II Rh -
A4: вища | E4: Вінниця | F4: 7 відділ Вінницький РТЦК | G4: сьомого відділу Вінницького районного | H4: Вінницька | I4: Вінницького ОТЦК та СП | J4: Донецьк | K4: сержант | L4: II Rh +
E5: Вінниця | F5: Вінницький ОМТЦК | G5: Вінницького об'єднаного міського | H5: Вінницька | I5: Вінницького ОТЦК та СП | J5: Житомир | K5: старший сержант | L5: III Rh -
E6: Вінниця | F6: 1 відділ Вінницький РТЦК | G6: першого відділу Вінницького районного | H6: Вінницька | I6: Вінницького ОТЦК та СП | J6: Закарпаття | K6: штаб-сержант | L6: III Rh +
E7: Вінниця | F7: 1 відділ Жмеринський РТЦК | G7: першого відділу Жмеринського районного | H7: Вінницька | I7: Вінницького ОТЦК та СП | J7: Запоріжжя | K7: матрос | L7: IV Rh -
E8: Вінниця | F8: Тульчинський РТЦК | G8: Тульчинського районного | H8: Вінницька | I8: Вінницького ОТЦК та СП | J8: Івано-Франківськ | K8: старший матрос | L8: IV Rh +
E9: Вінниця | F9: Хмільницький РТЦК | G9: Хмільницького районного | H9: Вінницька | I9: Вінницького ОТЦК та СП | J9: Київ місто | K9: старшина
E10: Вінниця | F10: 1 відділ Могилів-Подільський РТЦК | G10: першого відділу Могилів-Подільського районного | H10: Вінницька | I10: Вінницького ОТЦК та СП | J10: Київ обл | K10: старшина I статті
E11: Вінниця | F11: 1 відділ Тульчинський РТЦК | G11: першого відділу Тульчинського районного | H11: Вінницька | I11: Вінницького ОТЦК та СП | J11: Кропивницький | K11: головний старшина
E12: Вінниця | F12: 2 відділ Вінницький РТЦК | G12: другого відділу Вінницького районного | H12: Вінницька | I12: Вінницького ОТЦК та СП | J12: Луганськ | K12: прапорщик
E13: Вінниця | F13: 2 відділ Жмеринський РТЦК | G13: другого відділу Жмеринського районного | H13: Вінницька | I13: Вінницького ОТЦК та СП | J13: Львів
E14: Вінниця | F14: 2 відділ Могилів-Подільський РТЦК | G14: другого відділу Могилів-Подільського районного | H14: Вінницька | I14: Вінницького ОТЦК та СП | J14: Миколаїв
E15: Вінниця | F15: 2 відділ Тульчинський РТЦК | G15: другого відділу Тульчинського районного | H15: Вінницька | I15: Вінницького ОТЦК та СП | J15: Одеса
E16: Вінниця | F16: 3 відділ Вінницький РТЦК | G16: третього відділу Вінницького районного | H16: Вінницька | I16: Вінницького ОТЦК та СП | J16: Полтава
E17: Вінниця | F17: 3 відділ Могилів-Подільський РТЦК | G17: третього відділу Могилів-Подільського районного | H17: Вінницька | I17: Вінницького ОТЦК та СП | J17: Рівне
E18: Вінниця | F18: 3 відділ Тульчинський РТЦК | G18: третього відділу Тульчинського районного | H18: Вінницька | I18: Вінницького ОТЦК та СП | J18: Суми
E19: Вінниця | F19: 4 відділ Вінницький РТЦК | G19: четвертого відділу Вінницького районного | H19: Вінницька | I19: Вінницького ОТЦК та СП | J19: Тернопіль
E20: Вінниця | F20: 5 відділ Вінницький РТЦК | G20: п'ятого відділу Вінницького районного | H20: Вінницька | I20: Вінницького ОТЦК та СП | J20: Харків
E21: Вінниця | F21: 6 відділ Вінницький РТЦК | G21: шостого відділу Вінницького районного | H21: Вінницька | I21: Вінницького ОТЦК та СП | J21: Херсон
E22: Вінниця | F22: Вінницький РТЦК | G22: Вінницького районного | H22: Вінницька | I22: Вінницького ОТЦК та СП | J22: Хмельницький
E23: Вінниця | F23: Гайсинський РТЦК | G23: Гайсинського районного | H23: Вінницька | I23: Вінницького ОТЦК та СП | J23: Черкаси
E24: Вінниця | F24: 1 відділ Гайсинський РТЦК | G24: першого відділу Гайсинського районного | H24: Вінницька | I24: Вінницького ОТЦК та СП | J24: Чернівці
E25: Вінниця | F25: 2 відділ Гайсинський РТЦК | G25: другого відділу Гайсинського районного | H25: Вінницька | I25: Вінницького ОТЦК та СП | J25: Чернігів
E26: Вінниця | F26: Жмеринський РТЦК | G26: Жмеринського районного | H26: Вінницька | I26: Вінницького ОТЦК та СП
E27: Вінниця | F27: Могилів-Подільський РТЦК | G27: Могилів-Подільського районного | H27: Вінницька | I27: Вінницького ОТЦК та СП
E28: Волинь | F28: 1 відділ Камінь-Каширський РТЦК | G28: першого відділу Камінь-Каширського районного | H28: Волинська | I28: Волинського ОТЦК та СП
E29: Волинь | F29: 1 відділ Ковельський РТЦК | G29: першого відділу Ковельського районного | H29: Волинська | I29: Волинського ОТЦК та СП
E30: Волинь | F30: 2 відділ Ковельський РТЦК | G30: другого відділу Ковельського районного | H30: Волинська | I30: Волинського ОТЦК та СП
E31: Волинь | F31: 4 відділ Ковельський РТЦК | G31: четвертого відділу Ковельського районного | H31: Волинська | I31: Волинського ОТЦК та СП
E32: Волинь | F32: 3 відділ Ковельський РТЦК | G32: третього відділу Ковельського районного | H32: Волинська | I32: Волинського ОТЦК та СП
E33: Волинь | F33: 5 відділ Ковельський РТЦК | G33: п'ятого відділу Ковельського районного | H33: Волинська | I33: Волинського ОТЦК та СП
E34: Волинь | F34: Луцький ОМТЦК | G34: Луцького об'єднаного міського | H34: Волинська | I34: Волинського ОТЦК та СП
E35: Волинь | F35: 2 відділ Камінь-Каширський РТЦК | G35: другого відділу Камінь-Каширського районного | H35: Волинська | I35: Волинського ОТЦК та СП
E36: Волинь | F36: 1 відділ Луцький РТЦК | G36: першого відділу Луцького районного | H36: Волинська | I36: Волинського ОТЦК та СП
E37: Волинь | F37: 2 відділ Луцький РТЦК | G37: другого відділу Луцького районного | H37: Волинська | I37: Волинського ОТЦК та СП
... E56: Дніпро | F56: 2 відділ Дніпровського РТЦК та СП | G56: другого відділу Дніпровського районного | H56: Дніпропетровська | I56: Дніпропетровського ОТЦК та СП
D57: міста Дніпра | E57: Дніпро | F57: Дніпровський РТЦК та СП | G57: Дніпровського районного | H57: Дніпропетровська | I57: Дніпропетровського ОТЦК та СП
D58: міста Дніпра | E58: Дніпро | F58: Індустріальний РТЦК та СП | G58: Індустріального районного | H58: Дніпропетровська | I58: Дніпропетровського ОТЦК та СП
E59: Дніпро | F59: Кам'янського РТЦК та СП | G59: Кам'янського районного | H59: Дніпропетровська | I59: Дніпропетровського ОТЦК та СП
E60: Дніпро | F60: 2 відділ Криворізького РТЦК та СП | G60: другого відділу Криворізького районного | H60: Дніпропетровська | I60: Дніпропетровського ОТЦК та СП
E61: Дніпро | F61: Криворізький РТЦК та СП | G61: Криворізького районного | H61: Дніпропетровська | I61: Дніпропетровського ОТЦК та СП
E62: Дніпро | F62: 2 відділ Синельниківського РТЦК та СП | G62: другого відділу Синельниківського районного | H62: Дніпропетровська | I62: Дніпропетровського ОТЦК та СП
E63: Дніпро | F63: Новокодацький РТЦК та СП | G63: Новокодацького районного | H63: Дніпропетровська | I63: Дніпропетровського ОТЦК та СП
E64: Дніпро | F64: Покровсько-Тернівський РТЦК та СП | G64: Покровсько-Тернівського районного | H64: Дніпропетровська | I64: Дніпропетровського ОТЦК та СП
E65: Дніпро | F65: Самарський РТЦК та СП | G65: Самарського районного | H65: Дніпропетровська | I65: Дніпропетровського ОТЦК та СП
E66: Дніпро | F66: Соборний РТЦК та СП | G66: Соборного районного | H66: Дніпропетровська | I66: Дніпропетровського ОТЦК та СП
E67: Дніпро | F67: 3 відділ Дніпровського РТЦК та СП | G67: третього відділу Дніпровського районного | H67: Дніпропетровська | I67: Дніпропетровського ОТЦК та СП
D68: міста Дніпра | E68: Дніпро | F68: Шевченківський РТЦК та СП | G68: Шевченківського районного | H68: Дніпропетровська | I68: Дніпропетровського ОТЦК та СП
E69: Дніпро | F69: 3 відділ Криворізького РТЦК та СП | G69: третього відділу Криворізького районного | H69: Дніпропетровська | I69: Дніпропетровського ОТЦК та СП
E70: Дніпро | F70: 3 відділ Нікопольський РТЦК та СП | G70: третього відділу Нікопольського районного | H70: Дніпропетровська | I70: Дніпропетровського ОТЦК та СП
E71: Дніпро | F71: 3 відділ Нікопольського РТЦК та СП | G71: третього відділу Нікопольського районного | H71: Дніпропетровська | I71: Дніпропетровського ОТЦК та СП
E72: Дніпро | F72: 3 відділ Синельниківського РТЦК та СП | G72: третього відділу Синельниківського районного | H72: Дніпропетровська | I72: Дніпропетровського ОТЦК та СП
E73: Дніпро | F73: 4 відділ Синельниківського РТЦК та СП | G73: четвертого відділу Синельниківського районного | H73: Дніпропетровська | I73: Дніпропетровського ОТЦК та СП
E74: Дніпро | F74: 5 відділ Синельниківського РТЦК та СП | G74: п'ятого відділу Синельниківського районного | H74: Дніпропетровська | I74: Дніпропетровського ОТЦК та СП
E75: Дніпро | F75: Дніпровський ОТЦК та СП | G75: Дніпровського обласного | H75: Дніпропетровська | I75: Дніпропетровського ОТЦК та СП
E76: Дніпро | F76: Інгулецький РТЦК та СП | G76: Інгулецького районного | H76: Дніпропетровська | I76: Дніпропетровського ОТЦК та СП
E77: Дніпро | F77: Криворізький РТЦК та СП | G77: Криворізького районного | H77: Дніпропетровська | I77: Дніпропетровського ОТЦК та СП
E78: Дніпро | F78: Металургійно-Довгинцівський ОРТЦК та СП | G78: Металургійно-Довгинцівського об'єднаного районного | H78: Дніпропетровська | I78: Дніпропетровського ОТЦК та СП
E79: Дніпро | F79: Нікопольський РТЦК та СП | G79: Нікопольського районного | H79: Дніпропетровська | I79: Дніпропетровського ОТЦК та СП
E80: Дніпро | F80: Новомосковський РТЦК та СП | G80: Новомосковського районного | H80: Дніпропетровська | I80: Дніпропетровського ОТЦК та СП
... E133: Запоріжжя | F133: Василівський РТЦК та СП | G133: Василівського районного | H133: Запорізька | I133: Запорізького ОТЦК та СП
D134: міста Запоріжжя | E134: Запоріжжя | F134: Заводський РТЦК та СП | G134: Заводського районного | H134: Запорізька | I134: Запорізького ОТЦК та СП
E135: Запоріжжя | F135: Запорізький РТЦК та СП | G135: Запорізького районного | H135: Запорізька | I135: Запорізького ОТЦК та СП
E136: Запоріжжя | F136: Комунарський РТЦК та СП | G136: Комунарського районного | H136: Запорізька | I136: Запорізького ОТЦК та СП
E137: Запоріжжя | F137: 1 відділ Мелітопольський РТЦК та СП | G137: першого відділу Мелітопольського районного | H137: Запорізька | I137: Запорізького ОТЦК та СП
E138: Запоріжжя | F138: Мелітопольський РТЦК та СП | G138: Мелітопольського районного | H138: Запорізька | I138: Запорізького ОТЦК та СП
E139: Запоріжжя | F139: Пологівський РТЦК та СП | G139: Пологівського районного | H139: Запорізька | I139: Запорізького ОТЦК та СП
E140: Запоріжжя | F140: 3 відділ Пологівського РТЦК та СП | G140: третього відділу Пологівського районного | H140: Запорізька | I140: Запорізького ОТЦК та СП
E141: Запоріжжя | F141: Хортицький РТЦК та СП | G141: Хортицького районного | H141: Запорізька | I141: Запорізького ОТЦК та СП
D142: міста Запоріжжя | E142: Запоріжжя | F142: Центральний ОРТЦК та СП | G142: Центрального об'єднаного районного | H142: Запорізька | I142: Запорізького ОТЦК та СП
D143: міста Запоріжжя | E143: Запоріжжя | F143: Шевченківський РТЦК та СП | G143: Шевченківського районного | H143: Запорізька | I143: Запорізького ОТЦК та СП
E144: Івано-Франківськ | F144: 1 відділ Івано-Франківський РТЦК | G144: першого відділу Івано-Франківського районного | H144: Івано-Франківська | I144: Івано-Франківського ОТЦК та СП
E145: Івано-Франківськ | F145: 1 відділ Калуський РТЦК | G145: першого відділу Калуського районного | H145: Івано-Франківська | I145: Івано-Франківського ОТЦК та СП
E146: Івано-Франківськ | F146: 1 відділ Коломийський РТЦК | G146: першого відділу Коломийського районного | H146: Івано-Франківська | I146: Івано-Франківського ОТЦК та СП
E147: Івано-Франківськ | F147: 2 відділ Івано-Франківський РТЦК | G147: другого відділу Івано-Франківського районного | H147: Івано-Франківська | I147: Івано-Франківського ОТЦК та СП
E148: Івано-Франківськ | F148: 2 відділ Калуський РТЦК | G148: другого відділу Калуського районного | H148: Івано-Франківська | I148: Івано-Франківського ОТЦК та СП
E149: Івано-Франківськ | F149: 2 відділ Коломийський РТЦК | G149: другого відділу Коломийського районного | H149: Івано-Франківська | I149: Івано-Франківського ОТЦК та СП
E150: Івано-Франківськ | F150: 3 відділ Івано-Франківський РТЦК | G150: третього відділу Івано-Франківського районного | H150: Івано-Франківська | I150: Івано-Франківського ОТЦК та СП
E151: Івано-Франківськ | F151: 4 відділ Івано-Франківський РТЦК | G151: четвертого відділу Івано-Франківського районного | H151: Івано-Франківська | I151: Івано-Франківського ОТЦК та СП
E152: Івано-Франківськ | F152: Верховинський РТЦК | G152: Верховинського районного | H152: Івано-Франківська | I152: Івано-Франківського ОТЦК та СП
E153: Івано-Франківськ | F153: Івано-Франківський МТЦК | G153: Івано-Франківського міського | H153: Івано-Франківська | I153: Івано-Франківського ОТЦК та СП
E154: Івано-Франківськ | F154: Івано-Франківський ОТЦК | G154: Івано-Франківського обласного | H154: Івано-Франківська | I154: Івано-Франківського ОТЦК та СП
E155: Івано-Франківськ | F155: Івано-Франківський РТЦК | G155: Івано-Франківського районного | H155: Івано-Франківська | I155: Івано-Франківського ОТЦК та СП
... E162: Київ місто | F162: Деснянський РТЦК | G162: Деснянського районного | H162: Київ місто | I162: Київського МТЦК та СП
D163: міста Києва | E163: Київ місто | F163: Дніпровський РТЦК | G163: Дніпровського районного | H163: Київ місто | I163: Київського МТЦК та СП
E164: Київ місто | F164: Оболонський РТЦК | G164: Оболонського районного | H164: Київ місто | I164: Київського МТЦК та СП
E165: Київ місто | F165: Печерський РТЦК | G165: Печерського районного | H165: Київ місто | I165: Київського МТЦК та СП
D166: міста Києва | E166: Київ місто | F166: Подільський РТЦК | G166: Подільського районного | H166: Київ місто | I166: Київського МТЦК та СП
E167: Київ місто | F167: Святошинський РТЦК | G167: Святошинського районного | H167: Київ місто | I167: Київського МТЦК та СП
E168: Київ місто | F168: Солом'янський РТЦК | G168: Солом'янського районного | H168: Київ місто | I168: Київського МТЦК та СП
D169: міста Києва | E169: Київ місто | F169: Шевченківський РТЦК | G169: Шевченківського районного | H169: Київ місто | I169: Київського МТЦК та СП
E170: Київ обл | F170: 1 відділ Бориспільський РТЦК | G170: першого відділу Бориспільського районного | H170: Київ обл | I170: Київського ОТЦК та СП
E171: Київ обл | F171: 1 відділ Бучанський РТЦК | G171: першого відділу Бучанського районного | H171: Київ обл | I171: Київського ОТЦК та СП
E172: Київ обл | F172: 1 відділ Вишгородський РТЦК | G172: першого відділу Вишгородського районного | H172: Київ обл | I172: Київського ОТЦК та СП
E173: Київ обл | F173: 1 відділ Обухівський РТЦК | G173: першого відділу Обухівського районного | H173: Київ обл | I173: Київського ОТЦК та СП
E174: Київ обл | F174: 1 відділ Білоцерківський РТЦК | G174: першого відділу Білоцерківського районного | H174: Київ обл | I174: Київського ОТЦК та СП
E175: Київ обл | F175: 2 відділ Білоцерківський РТЦК | G175: другого відділу Білоцерківського районного | H175: Київ обл | I175: Київського ОТЦК та СП
E176: Київ обл | F176: 2 відділ Бориспільський РТЦК | G176: другого відділу Бориспільського районного | H176: Київ обл | I176: Київського ОТЦК та СП
...

Sheet перевірки
C1: =Основний!E11 -> 0
A2: Андрюшенко Василь Миколайович | C2: =Основний!E12 -> АБРАМЯН Артур Маратович | E2: =C2=G2 -> FALSE | G2: Андрюшенко Василь Миколайович | H2: Донецька обл. м. Маріуполь | I2: м. Київ просп. Червоної Калини, буд. 20б, кв. 84 | J2: базова загальна середня | K2: Толоковська школа №58 Донецька обл, Маріупольський р-н, с. Толоківка 1997 | L2: будівельник - 20р Права B (вилучені) | M2: не одружений сестра: Овчаренко Антоніна Миколаївна - 1970 - 0965389892 - м. Київ, просп. Червоної Калини, буд. 20б, кв. 84 | N2: 973503571
A3: Білий Георгій Єдуардович | C3: =Основний!E13 -> АВРАМЕНКО Андрій Миколайович | E3: =C3=G3 -> FALSE | G3: Білий Георгій Єдуардович | H3: м.Дніпропетровськ | I3: м. Дніпро вул Янтарна буд 73 кв 58 | J3: вища | K3: м.Запоріжжя запорізький приватний інститут 2022 тренер | L3: кухар 6 років Права Б | M3: дружина: Біла Ірина Олександрівна -1995- 0685321494 м. Дніпро вул Янтарна буд 73 кв 58 мати: Біла Світлана Антатолівна -1970- 0503614252 м. Дніпро вул Дімітрова 26 | N3: 669998078
A4: Бондаренко Олександр Андрійович | C4: =Основний!E14 -> АЛЕКСЕНКО Іван Миколайович | E4: =C4=G4 -> FALSE | G4: Бондаренко Олександр Андрійович | H4: Херсонська обл. Бориславський р-н. с. Львове | I4: м. Київ вул. Хорива, буд. 50, кв. 2 | J4: професійно- технічна | K4: ВПУ №25 м. Київ 2017 маляр | L4: оператор на овочерізці менеджер в офісі мерчендайзер | M4: не одружений мати: Бондаренко Інна Миколаївна - 1988 - 0997760649 - м. Київ вул. Хорива, буд. 50, кв. 2 тітка: Слинько Тетяна Миколаївна - прибл. 52р - 0683704157 - м. Київ | N4: 961339708
A5: Голуб Сергій Вячеславович | C5: =Основний!E15 -> АЛІЄВ Парвіз Натікбєкович | E5: =C5=G5 -> FALSE | G5: Голуб Сергій Вячеславович | H5: Житомирський р-н м.Бердичів | I5: Житомирська обл м.Бердичів вул. Зоряна буд 26б кв 17 | J5: вища | K5: м.Київ МТУ національно-транспортний Університет 2010 Інженер Будівельник | L5: Конструктор меблів 1 рік права А Б Ц | M5: дружина: Голуб Світлана Василівна -1984- 0677092054 Житомирський р-н м.Бердичів вул Зоряна буд 26б кв 17 мати :Голуб Валентина Григорівна 1957- 0964531651 - м. Бердичив вул Чернишевського буд 4 | N5: 730671787
A6: Десик Олександр Васильович | C6: =Основний!E16 -> АНДРУШКО Вадим Валентинович | E6: =C6=G6 -> FALSE | G6: Десик Олександр Васильович | H6: Київська обл. Броварський р-н с. Троєщина | I6: м. Київ вул. Лесі Українки, буд. 9а (Троєщина) | J6: вища | K6: НУХТ (Національний університет харчових технологій) м. Київ 2005р Технолог консервних виробів | L6: проектування та виробництво корпусних меблів - 15р Права B | M6: одружени дружина: Десик Ольга Василівна - 1984 - 0666138779, м. Київ вул. Лесі Українки, буд. 9а (Троєщина) батько: Десик Василь Михайлович - 78р - 0677236600, м. Київ вул. Лесі Українки, буд. 9а (Троєщина) | N6: 502182233
A7: Катасонов Віталій Володимирович | C7: =Основний!E17 -> АНІСІМОВ Сергій Леонідович | E7: =C7=G7 -> FALSE | G7: Катасонов Віталій Володимирович | H7: м.Київ | I7: м.Київ вул О.теліги 37а кв 55 | J7: вища | K7: м.Київ КНУ ім.Тараса Григоровича Шевченка 2010 Юрист | L7: Юрист 10 років | M7: брат: Вітько Олександр Григорович -1985- 0937863669 м.Київ вуб Буслівська 20 | N7: 937863819
A8: Кліпін Дмитро Анатолійович | C8: =Основний!E18 -> АНТОНЮК Дмитро Русланович | E8: =C8=G8 -> FALSE | G8: Кліпін Дмитро Анатолійович | H8: Луганська обл с. Білокуракине | I8: м. Київ вул Червоної Калини буд 81 кв61 | J8: професійно- технічна | K8: ПТУ№117 с.Панківка 1996 Тракторист-механік | L8: Плиточник 5р Права Б | M8: брат:Роман Автонділович 0507323605 | N8: 976197747
A9: Кудаєв Сергій Олександрович | C9: =Основний!E19 -> АНТОНЮК Олександр Леонідович | E9: =C9=G9 -> FALSE | G9: Кудаєв Сергій Олександрович | H9: Вінницька обл м. Козятин | I9: Вінницька обл Мельницький р-н м. Козятин вул. Вінниченка буд 38 | J9: професійно- технічна | K9: ПТУ№17 м.Козятин 2016 технік-будівельник | L9: стриптизер (не надав Інформацію) 5 років Права Б | M9: батько:Кудаєв Борис Павлович-1971-093445116 (не надав Інформацію) мати:Кудаєво Ольга Іванівна -1976- 0632472245 (не надав Інформацію) | N9: 981227910
A10: Литовченко Ігор Станіславович | C10: =Основний!E20 -> БАБИЧ Андрій Васильович | E10: =C10=G10 -> FALSE | G10: Литовченко Ігор Станіславович
A11: Перехрестенко Всеслав Вячеславович | C11: =Основний!E21 -> БАСКАКОВ Павло Анатолійович | E11: =C11=G11 -> FALSE | G11: Перехрестенко Всеслав Вячеславович | H11: Київська обл. м. Біла церка | I11: м. київ вул. Провулок Кустанайський 7 | J11: вища | K11: НУФВСУ м. Київ 2015 рік, реабілітолог | L11: реабілітолог 15 років | M11: не одружений, мати Перехрестенко Віталіна Олегівна 1978, 0969665077, м. Біла церква, вул. курсовий пеевулок 19 кв 47, друг, Семченко Владислав Юрійович 1993, 0637836184, м. Біла церква, вул. Фастівська 28 | N11: 631212814
A12: Снісаренко Данило Григорович | C12: =Основний!E22 -> БЕРШАДСЬКИЙ Олександр Миколайович | E12: =C12=G12 -> FALSE | G12: Снісаренко Данило Григорович | H12: Кіровоградська обл. м. Кіровоград | I12: м. Київ вул. Костанайська, буд. 1, кв. 2 | J12: повна загальна середня | K12: Гімназі ім. Т. Шевченка м. Кропивницький 2017 | L12: продавець-консультант - 6р Права B | M12: одружений дружина: Снісаренко Марія Артемівна - 2003 - 0635379329, м. Київ вул. Костанайська, буд. 1, кв. 2 мати: Снісаренко Ірина Вікторівна - прибл. 45 - 0950559737 - м. Кропивницький, вул. Полтавська, буд. 81, кв 103 | N12: 660219439
A13: Соколенко Олег Віталійович | C13: =Основний!E23 -> БІЛОУСОВ Сергій Вікторович | E13: =C13=G13 -> FALSE | G13: Соколенко Олег Віталійович | H13: Херсонська обл. Великоолександрівський р-н с. Новополтавка | I13: м. Київ вул. Професора Педвисоцького, буд. 18, кв. 48 | J13: професійно- технічна | K13: Херсонське ВПУ 2015 ресторанне господарство | L13: держ. прикордонна служба - 3,5р | M13: не одружений мати: Луппа Оксана Іванівна - 1975 - 0685983229 - м. Київ вул. Професора Педвисоцького, буд. 18, кв. 48 сестра: Абуністрович Олена Іванівна - прибл. 1970- 0677170896 - Херсонська обл., Бериславський р-н, смт. Великоолександрівка, вул. Вільна, буд. 51 | N13: 685114674
A14: Сурда Ігор Юрійович | C14: =Основний!E24 -> БОЙКО Геннадій Володимирович | E14: =C14=G14 -> FALSE | G14: Сурда Ігор Юрійович | H14: Житомирська обл. Житомирський р-н. с. Кодня | I14: Житомирська обл. Житомирський р-н. с. Двірець, вул. Петровського 45 | J14: повна загальна середня | K14: ПТУ №1 м. Житомир 2008 рік, маляр штукатур плиточник | L14: банщик 5 років | M14: не одружений, брат Сурда Олег Юрійович 1991 року, 0982169574, Житомирська обл. Житомирський р-н. с. Кодня вул. Кооперативна 72,мати Сурда Валентина Леонідівна 1967, немає номера телефону, Житомирська обл. Житомирський р-н. с. Двірець, вул. Петровського 45 | N14: не має телефона
A15: Устенко Олександр Сергійович | C15: =Основний!E25 -> БОЛЬШАКОВ Костянтин Євгенович | E15: =C15=G15 -> FALSE | G15: Устенко Олександр Сергійович | H15: м. Київ | I15: м. Київ вул. Акедеміка Корольва 3а кв1 | J15: професійно- технічна | K15: Коледж від НУХТ м.Київ 2010 рік Технолог повар | L15: менеджер по продажу 3 роки ,права Б | M15: не одружений. Батько Устенко Сергійович 1965 року, 0675955058, м. Київ вул. Акедеміка Корольва 3а кв1, мати Устенко Лариса Миколаївна 1967 року 0671320066 м. Київ вул. Акедеміка Корольва 3а кв1 | N15: 932796505
A16: Хлупін Денис Володимирович | C16: =Основний!E26 -> БОНДАР Андрій Васильович | E16: =C16=G16 -> FALSE | G16: Хлупін Денис Володимирович | H16: м. Дніпро | I16: м. Дніпро вул. Робітнича буд 63 кв. 84 | J16: вища | K16: ДГУ м. Дніпро 2012 рік, юрист-спеціаліст( правознавство) | L16: ремонт побутової техніки та електроники 2 роки права Б | M16: цивілний дружина Кравченко Юлія Володимирівна 1976 року, 0678407373, м. Київ вул. Перова буд 16 кв3. друж Ігорь Піскіжов Валерійович 1964, 0962134218. м. Київ вул. Центральна буд 43 кв8 | N16: 957284727
A17: Цесько Євген Іванович | C17: =Основний!E27 -> БОРИСОВ Дмитро Сергійович | E17: =C17=G17 -> FALSE | G17: Цесько Євген Іванович | H17: Херсонська обл с. Степанівка | I17: м.Херсон вул Весела буд 41 | J17: професійно- технічна | K17: м.Херсон ВПУ№2 Столяр 2005 | L17: Криптовалюта 7 роквв | M17: сестра: Цесько Інна Іванівна -1990- 0957168028 м.Херсон вул Весела буд 41 | N17: 735006969
C18: =Основний!E28 -> БОРОДАВКО Віталій Михайлович | E18: =C18=G18 -> FALSE
C19: =Основний!E29 -> БРИСКІН Денис Сергійович | E19: =C19=G19 -> FALSE
C20: =Основний!E30 -> БРОДОВСЬКИЙ Вадим Феліксович | E20: =C20=G20 -> FALSE
C21: =Основний!E31 -> БРУЯКА Максим Юрійович | E21: =C21=G21 -> FALSE
C22: =Основний!E32 -> БУРКОВЦОВ Андрій Юрійович | E22: =C22=G22 -> FALSE
C23: =Основний!E33 -> БУТКО Руслан Павлович | E23: =C23=G23 -> FALSE
C24: =Основний!E34 -> ВАСИЛЬЧЕНКО Сергій Анатолійович | E24: =C24=G24 -> FALSE
C25: =Основний!E35 -> ВЕРБА Володимир Олександрович | E25: =C25=G25 -> FALSE
C26: =Основний!E36 -> ВЕРСТЮК Євген Дмитрович | E26: =C26=G26 -> FALSE
C27: =Основний!E37 -> ВИГІВСЬКИЙ Денис Анатолійович | E27: =C27=G27 -> FALSE
C28: =Основний!E38 -> ВОЙКУ Олег Георгійович | E28: =C28=G28 -> FALSE
C29: =Основний!E39 -> ГАВРИК Євген Анатолійович | E29: =C29=G29 -> FALSE
... C93: =Основний!E103 -> ПОЛІЩЕНКО Олександр Петрович | E93: =C93=G93 -> FALSE
C94: =Основний!E104 -> ПОЛТОРАЦЬКИЙ Сергій Олександрович
C95: =Основний!E105 -> ПОНОМАРЕНКО Володимир Миколайович
C96: =Основний!E106 -> ПРИЩЕПЧУК Андрій Олександрович
C97: =Основний!E107 -> ПРОКОПЧУК Євген Антонович
C98: =Основний!E108 -> ПЯТНІКОВ Анатолій Вікторович
C99: =Основний!E109 -> РЕДЬКО Вадим Юрійович
C100: =Основний!E110 -> РІЗНИЧОК Ігор Миколайович
C101: =Основний!E111 -> РОМАНЦОВ Ілля Андрійович
C102: =Основний!E112 -> САВИЦЬКИЙ Олексій Васильович
C103: =Основний!E113 -> САДИКА Роман Олександрович
C104: =Основний!E114 -> САРДАЧУК Олексій Вікторович
C105: =Основний!E115 -> СКАНДАКОВ Віталій Олександрович
C106: =Основний!E116 -> СКРОМІНСЬКИЙ Ярослав Вікторович

Sheet Перевірка
A1: {=Основний!C10:C174} -> № з/п | B1: {=CONCATENATE("", Основний!E10:E174)} -> 141 | C1: {=CONCATENATE("", TEXT(Основний!I10:I174,"dd.mm.yyyy"))} -> Дата народження | D1: {=CONCATENATE("", Основний!J10:J174)} -> ідентифікаційний код | E1: Перевірка | F1: {=CONCATENATE("", Основний!K10:K174)} -> військовий квиток | G1: Перевірка | H1: {=CONCATENATE("", Основний!L10:L174)} -> Паспорт, ким і коли виданий | I1: Перевірка | J1: Алфавітка | K1: Д = А | L1: Поіменний Список | M1: Д = ПС | N1: А = ПС
A2: 0 | C2: 00.01.1900 | J2: - | K2: - | L2: - | M2: - | N2: - | O2: =DATEVALUE(C2) <> INT(LEFT(D2,5)) +1 -> #VALUE!
A3: 1 | B3: АБРАМЯН Артур Маратович | C3: 21.10.1998 | D3: 3608804152 | E3: =IF(D3="", "", LEN(D3)) -> 10 | F3: 040520251458450705269/1 | G3: =IF(F3="", "", LEN(F3)) -> 23 | H3: ВТ 101396 Приморським РС у м. Маріуполі ГУ ДМС України в Донецькій області 12.06.2015 | I3: =IF(H3="", "", LEN(H3)) -> 85 | J3: Антоненко Руслан Олександрович | K3: =IF(J3="", "", B3=J3) -> FALSE | M3: =IF(L3="", "", B3=L3) | N3: =IF(L3="", "", J3=L3) | O3: =DATEVALUE(C3) <> INT(LEFT(D3,5)) +1 -> FALSE | P3: =DATEVALUE(C3) -> 36089
A4: 2 | B4: АВРАМЕНКО Андрій Миколайович | C4: 18.06.1984 | D4: 3085003094 | E4: =IF(D4="", "", LEN(D4)) -> 10 | G4: =IF(F4="", "", LEN(F4)) | I4: =IF(H4="", "", LEN(H4)) | J4: Баранов Дмитро Геннадійович | K4: =IF(J4="", "", B4=J4) -> FALSE | M4: =IF(L4="", "", B4=L4) | N4: =IF(L4="", "", J4=L4) | O4: =DATEVALUE(C4) <> INT(LEFT(D4,5)) +1 -> FALSE
A5: 2 | B5: АЛЕКСЕНКО Іван Миколайович | C5: 23.06.1997 | D5: 3560301717 | E5: =IF(D5="", "", LEN(D5)) -> 10 | G5: =IF(F5="", "", LEN(F5)) | I5: =IF(H5="", "", LEN(H5)) | J5: Боровик Юрій Володимирович | K5: =IF(J5="", "", B5=J5) -> FALSE | M5: =IF(L5="", "", B5=L5) | N5: =IF(L5="", "", J5=L5) | O5: =DATEVALUE(C5) <> INT(LEFT(D5,5)) +1 -> FALSE
A6: 3 | B6: АЛІЄВ Парвіз Натікбєкович | C6: 07.05.1983 | D6: 3044204097 | E6: =IF(D6="", "", LEN(D6)) -> 10 | F6: АГ 629818 | G6: =IF(F6="", "", LEN(F6)) -> 9 | H6: КС 160333 Київським РВ ДМУ УДМС УКР в Донецькій обл 09.08.2002 | I6: =IF(H6="", "", LEN(H6)) -> 62 | J6: Горбатенко Олександр Олегович | K6: =IF(J6="", "", B6=J6) -> FALSE | M6: =IF(L6="", "", B6=L6) | N6: =IF(L6="", "", J6=L6)
A7: 1 | B7: АНДРУШКО Вадим Валентинович | C7: 02.11.1991 | D7: 3354308835 | E7: =IF(D7="", "", LEN(D7)) -> 10 | F7: АГ 603287 | G7: =IF(F7="", "", LEN(F7)) -> 9 | H7: ВН 424127 Вололдарсько-Волинським РВ УМВС в Житомирській області 20.05.2008 | I7: =IF(H7="", "", LEN(H7)) -> 75 | J7: Жестовський Сергій Сергійович | K7: =IF(J7="", "", B7=J7) -> FALSE | M7: =IF(L7="", "", B7=L7) | N7: =IF(L7="", "", J7=L7)
A8: 5 | B8: АНІСІМОВ Сергій Леонідович | C8: 18.10.1989 | D8: 3279802570 | E8: =IF(D8="", "", LEN(D8)) -> 10 | F8: АГ 633795 | G8: =IF(F8="", "", LEN(F8)) -> 9 | H8: АМ 247948 | I8: =IF(H8="", "", LEN(H8)) -> 9 | J8: Ісаков Олександр Сергійович | K8: =IF(J8="", "", B8=J8) -> FALSE | M8: =IF(L8="", "", B8=L8) | N8: =IF(L8="", "", J8=L8)
A9: 1 | B9: АНТОНЮК Дмитро Русланович | C9: 23.03.1999 | D9: 3624109257 | E9: =IF(D9="", "", LEN(D9)) -> 10 | F9: АГ 574988 | G9: =IF(F9="", "", LEN(F9)) -> 9 | H9: АТ 121678 | I9: =IF(H9="", "", LEN(H9)) -> 9 | J9: Клімчук Олександр Олександрович | K9: =IF(J9="", "", B9=J9) -> FALSE | M9: =IF(L9="", "", B9=L9) | N9: =IF(L9="", "", J9=L9)
A10: 1 | B10: АНТОНЮК Олександр Леонідович | C10: 27.09.1979 | D10: 2912410393 | E10: =IF(D10="", "", LEN(D10)) -> 10 | F10: АГ 603239 | G10: =IF(F10="", "", LEN(F10)) -> 9 | H10: ТТ 193066 Дарнівським РО ГУ ДМС УКР в м. Києві 16.08.2013 | I10: =IF(H10="", "", LEN(H10)) -> 57 | J10: Колесніков Сергій Сергійович | K10: =IF(J10="", "", B10=J10) -> FALSE | M10: =IF(L10="", "", B10=L10) | N10: =IF(L10="", "", J10=L10)
A11: 2 | B11: БАБИЧ Андрій Васильович | C11: 18.04.1984 | D11: 3078922215 | E11: =IF(D11="", "", LEN(D11)) -> 10 | F11: АГ 603272 | G11: =IF(F11="", "", LEN(F11)) -> 9 | H11: СТ 531446 Чернігівським РС УДМС УКР в Чернігівській обл 24.02.2017 | I11: =IF(H11="", "", LEN(H11)) -> 67 | J11: Опанасюк Ігор Петрович | K11: =IF(J11="", "", B11=J11) -> FALSE | M11: =IF(L11="", "", B11=L11) | N11: =IF(L11="", "", J11=L11)
A12: 3 | B12: БАСКАКОВ Павло Анатолійович | C12: 02.03.1984 | D12: 3074200978 | E12: =IF(D12="", "", LEN(D12)) -> 10 | F12: 140220221425037600020/1 | G12: =IF(F12="", "", LEN(F12)) -> 23 | H12: АМ 064073 Заводським РВ Дніпродзержинського МУ УМВС України в Дніпропетровській області 03.10.2000 | I12: =IF(H12="", "", LEN(H12)) -> 98 | J12: Ручин Дмитро Вікторович | K12: =IF(J12="", "", B12=J12) -> FALSE | M12: =IF(L12="", "", B12=L12) | N12: =IF(L12="", "", J12=L12)
A13: 2 | B13: БЕРШАДСЬКИЙ Олександр Миколайович | C13: 15.03.1992 | D13: 3367700733 | E13: =IF(D13="", "", LEN(D13)) -> 10 | F13: довідка | G13: =IF(F13="", "", LEN(F13)) -> 7 | H13: 003047716 8034 04.03.2019 | I13: =IF(H13="", "", LEN(H13)) -> 25 | J13: Солоденко Анатолій Сергійович | K13: =IF(J13="", "", B13=J13) -> FALSE | M13: =IF(L13="", "", B13=L13) | N13: =IF(L13="", "", J13=L13)
A14: 3 | B14: БІЛОУСОВ Сергій Вікторович | C14: 04.09.1982 | D14: ВМ 632875 | E14: =IF(D14="", "", LEN(D14)) -> 9 | F14: АГ 186080 | G14: =IF(F14="", "", LEN(F14)) -> 9 | H14: 009302826 1836 23.06.2023 | I14: =IF(H14="", "", LEN(H14)) -> 25 | J14: Фістікан Василь Петрович | K14: =IF(J14="", "", B14=J14) -> FALSE | M14: =IF(L14="", "", B14=L14) | N14: =IF(L14="", "", J14=L14)
A15: 18 | B15: БОЙКО Геннадій Володимирович | C15: 19.11.1981 | D15: 2990807554 | E15: =IF(D15="", "", LEN(D15)) -> 10 | F15: 250220261352624000001/2 | G15: =IF(F15="", "", LEN(F15)) -> 23 | H15: МА 583941 Охтирським МРВУМВС України в Сумській обл., 04.01.1999 | I15: =IF(H15="", "", LEN(H15)) -> 64 | J15: Чабан Михайло Григорович | K15: =IF(J15="", "", B15=J15) -> FALSE | M15: =IF(L15="", "", B15=L15) | N15: =IF(L15="", "", J15=L15)
A16: 4 | B16: БОЛЬШАКОВ Костянтин Євгенович | C16: 02.07.1992 | D16: 3378604531 | E16: =IF(D16="", "", LEN(D16)) -> 10 | F16: 250220261320634500007/1 | G16: =IF(F16="", "", LEN(F16)) -> 23 | H16: ЕН 904717 Краснолуцьким МВ УДМС УКР в Луганській обл 15.11.2012 | I16: =IF(H16="", "", LEN(H16)) -> 63 | K16: =IF(J16="", "", B16=J16) | M16: =IF(L16="", "", B16=L16) | N16: =IF(L16="", "", J16=L16)
A17: 4 | B17: БОНДАР Андрій Васильович | C17: 29.07.1988 | D17: 3235207996 | E17: =IF(D17="", "", LEN(D17)) -> 10 | F17: АГ 574967 | G17: =IF(F17="", "", LEN(F17)) -> 9 | H17: 011098716 | I17: =IF(H17="", "", LEN(H17)) -> 9 | K17: =IF(J17="", "", B17=J17) | M17: =IF(L17="", "", B17=L17) | N17: =IF(L17="", "", J17=L17)
A18: 10 | B18: БОРИСОВ Дмитро Сергійович | C18: 16.05.1984 | D18: 3081727094 | E18: =IF(D18="", "", LEN(D18)) -> 10 | F18: СО 871538 | G18: =IF(F18="", "", LEN(F18)) -> 9 | I18: =IF(H18="", "", LEN(H18)) | K18: =IF(J18="", "", B18=J18) | M18: =IF(L18="", "", B18=L18) | N18: =IF(L18="", "", J18=L18)
A19: 1 | B19: БОРОДАВКО Віталій Михайлович | C19: 10.10.1989 | D19: 3279006554 | E19: =IF(D19="", "", LEN(D19)) -> 10 | F19: АГ 633793 | G19: =IF(F19="", "", LEN(F19)) -> 9 | H19: НМ 247947 Ніжинським МВР УМВС УКР в Чернігівській обл 24.03.2006 | I19: =IF(H19="", "", LEN(H19)) -> 64 | K19: =IF(J19="", "", B19=J19) | M19: =IF(L19="", "", B19=L19) | N19: =IF(L19="", "", J19=L19)
A20: 3 | B20: БРИСКІН Денис Сергійович | C20: 03.09.1982 | D20: 3019609990 | E20: =IF(D20="", "", LEN(D20)) -> 10 | F20: МО 369114 | G20: =IF(F20="", "", LEN(F20)) -> 9 | I20: =IF(H20="", "", LEN(H20)) | K20: =IF(J20="", "", B20=J20) | M20: =IF(L20="", "", B20=L20) | N20: =IF(L20="", "", J20=L20)
A21: 2 | B21: БРОДОВСЬКИЙ Вадим Феліксович | C21: 09.11.1977 | D21: 2843714031 | E21: =IF(D21="", "", LEN(D21)) -> 10 | F21: АГ 603250 | G21: =IF(F21="", "", LEN(F21)) -> 9 | H21: ВМ 028712 | I21: =IF(H21="", "", LEN(H21)) -> 9 | K21: =IF(J21="", "", B21=J21) | M21: =IF(L21="", "", B21=L21) | N21: =IF(L21="", "", J21=L21)
A22: 23 | B22: БРУЯКА Максим Юрійович | C22: 28.10.1996 | D22: 3536512192 | E22: =IF(D22="", "", LEN(D22)) -> 10 | F22: АВ 960514 | G22: =IF(F22="", "", LEN(F22)) -> 9 | H22: МВ 516155 Ковпаківським РВ м.Суми УДМС України в Сумській обл. 18.12.2012 | I22: =IF(H22="", "", LEN(H22)) -> 73 | K22: =IF(J22="", "", B22=J22) | M22: =IF(L22="", "", B22=L22) | N22: =IF(L22="", "", J22=L22)
A23: 38 | B23: БУРКОВЦОВ Андрій Юрійович | C23: 09.09.1988 | D23: 3239413855 | E23: =IF(D23="", "", LEN(D23)) -> 10 | F23: АВ 949437 | G23: =IF(F23="", "", LEN(F23)) -> 9 | H23: закордоний паспорт ЕН991201 виданий 7401 08.06.2011 | I23: =IF(H23="", "", LEN(H23)) -> 51 | K23: =IF(J23="", "", B23=J23) | M23: =IF(L23="", "", B23=L23) | N23: =IF(L23="", "", J23=L23)
A24: 5 | B24: БУТКО Руслан Павлович | C24: 29.07.1998 | D24: 3600408276 | E24: =IF(D24="", "", LEN(D24)) -> 10 | F24: 250620235816010600001/1 | G24: =IF(F24="", "", LEN(F24)) -> 23 | H24: 009601452 3214 29.08.2023 | I24: =IF(H24="", "", LEN(H24)) -> 25 | K24: =IF(J24="", "", B24=J24) | M24: =IF(L24="", "", B24=L24) | N24: =IF(L24="", "", J24=L24)
A25: 5 | B25: ВАСИЛЬЧЕНКО Сергій Анатолійович | C25: 17.11.1993 | D25: 3428909730 | E25: =IF(D25="", "", LEN(D25)) -> 10 | F25: АВ 949433 | G25: =IF(F25="", "", LEN(F25)) -> 9 | H25: 002997059 виданий 5924 20.02.2019 | I25: =IF(H25="", "", LEN(H25)) -> 33 | K25: =IF(J25="", "", B25=J25) | M25: =IF(L25="", "", B25=L25) | N25: =IF(L25="", "", J25=L25)
A26: 4 | B26: ВЕРБА Володимир Олександрович | C26: 28.08.1995 | D26: 3493804851 | E26: =IF(D26="", "", LEN(D26)) -> 10 | F26: АВ 552749 | G26: =IF(F26="", "", LEN(F26)) -> 9 | I26: =IF(H26="", "", LEN(H26)) | K26: =IF(J26="", "", B26=J26) | M26: =IF(L26="", "", B26=L26) | N26: =IF(L26="", "", J26=L26)
A27: 43 | B27: ВЕРСТЮК Євген Дмитрович | C27: 05.04.1977 | D27: 2821912276 | E27: =IF(D27="", "", LEN(D27)) -> 10 | F27: АВ909239 | G27: =IF(F27="", "", LEN(F27)) -> 8 | H27: МК 414303 Лозівським МРВУМВС України в Харківській обл. 15.01.1997 | I27: =IF(H27="", "", LEN(H27)) -> 68 | K27: =IF(J27="", "", B27=J27) | M27: =IF(L27="", "", B27=L27) | N27: =IF(L27="", "", J27=L27)
A28: 4 | B28: ВИГІВСЬКИЙ Денис Анатолійович | C28: 28.09.1986 | D28: 3168215372 | E28: =IF(D28="", "", LEN(D28)) -> 10 | F28: 070920231320634500225/1 | G28: =IF(F28="", "", LEN(F28)) -> 23 | H28: МЕ 222316 | I28: =IF(H28="", "", LEN(H28)) -> 9 | K28: =IF(J28="", "", B28=J28) | M28: =IF(L28="", "", B28=L28) | N28: =IF(L28="", "", J28=L28)
A29: 22 | B29: ВОЙКУ Олег Георгійович | C29: 11.12.1988 | D29: 3248704812 | E29: =IF(D29="", "", LEN(D29)) -> 10 | F29: АГ 330242 | G29: =IF(F29="", "", LEN(F29)) -> 9 | H29: МН 730517 Московським РВ ХМУ УМВС України в Харківській обл. 03.03.2005 | I29: =IF(H29="", "", LEN(H29)) -> 71 | K29: =IF(J29="", "", B29=J29) | M29: =IF(L29="", "", B29=L29) | N29: =IF(L29="", "", J29=L29)
A30: 5 | B30: ГАВРИК Євген Анатолійович | C30: 27.06.1987 | D30: 3195413716 | E30: =IF(D30="", "", LEN(D30)) -> 10 | F30: 011220221362959000010/1 | G30: =IF(F30="", "", LEN(F30)) -> 23 | H30: СМ 568410 Фастівським МРВ ГУ МВС УКР в Київській обл 02.10.2003 | I30: =IF(H30="", "", LEN(H30)) -> 63 | K30: =IF(J30="", "", B30=J30) | M30: =IF(L30="", "", B30=L30) | N30: =IF(L30="", "", J30=L30)
A31: 2 | B31: ГОНЧАРЕНКО Вячеслав Вікторович | C31: 22.02.1982 | D31: 3000315097 | E31: =IF(D31="", "", LEN(D31)) -> 10 | F31: МО 498066 | G31: =IF(F31="", "", LEN(F31)) -> 9 | H31: СО 062411 Ленінградським РУ ГУ МВС України в м. Києві 24.12.1998 | I31: =IF(H31="", "", LEN(H31)) -> 64 | K31: =IF(J31="", "", B31=J31) | M31: =IF(L31="", "", B31=L31) | N31: =IF(L31="", "", J31=L31)
A32: 4 | B32: ГОНЧАРУК Владислав Миколайович | C32: 19.03.2000 | D32: 3660308950 | E32: =IF(D32="", "", LEN(D32)) -> 10 | F32: АВ 970998 | G32: =IF(F32="", "", LEN(F32)) -> 9 | H32: 000060180 3210 23.01.2017 | I32: =IF(H32="", "", LEN(H32)) -> 25 | K32: =IF(J32="", "", B32=J32) | M32: =IF(L32="", "", B32=L32) | N32: =IF(L32="", "", J32=L32)
A33: 3 | B33: ГОРБАЧОВ Богдан Віталійович | C33: 17.09.2000 | D33: 3678507715 | E33: =IF(D33="", "", LEN(D33)) -> 10 | F33: АГ 606223 | G33: =IF(F33="", "", LEN(F33)) -> 9 | H33: 000176202 8032 12.10.2016 | I33: =IF(H33="", "", LEN(H33)) -> 25 | K33: =IF(J33="", "", B33=J33) | M33: =IF(L33="", "", B33=L33) | N33: =IF(L33="", "", J33=L33)
A34: 41 | B34: ГРАБКО Андрій Іванович | C34: 18.09.1986 | D34: 3167201934 | E34: =IF(D34="", "", LEN(D34)) -> 10 | F34: АВ 949483 | G34: =IF(F34="", "", LEN(F34)) -> 9 | H34: МВ 173258 Л.Долинським РВУМВС України в Сумській обл., 08.02.2003 | I34: =IF(H34="", "", LEN(H34)) -> 65 | K34: =IF(J34="", "", B34=J34) | M34: =IF(L34="", "", B34=L34) | N34: =IF(L34="", "", J34=L34)
A35: 6 | B35: ГРЕЧАНЮК Денис Сергійович | C35: 07.02.1996 | D35: 3510103050 | E35: =IF(D35="", "", LEN(D35)) -> 10 | F35: АГ 629824 | G35: =IF(F35="", "", LEN(F35)) -> 9 | H35: 005780250 8034 24.02.2021 | I35: =IF(H35="", "", LEN(H35)) -> 25 | K35: =IF(J35="", "", B35=J35) | M35: =IF(L35="", "", B35=L35) | N35: =IF(L35="", "", J35=L35)
A36: 3 | B36: ГРІЩЕНКО Максим Олегович | C36: 09.12.1987 | D36: 3211914316 | E36: =IF(D36="", "", LEN(D36)) -> 10 | F36: АГ 629881 | G36: =IF(F36="", "", LEN(F36)) -> 9 | H36: МЕ 482954 | I36: =IF(H36="", "", LEN(H36)) -> 9 | K36: =IF(J36="", "", B36=J36) | M36: =IF(L36="", "", B36=L36) | N36: =IF(L36="", "", J36=L36)
A37: 2 | B37: ГРОХ Андрій Вікторович | C37: 18.07.1984 | D37: 3088000115 | E37: =IF(D37="", "", LEN(D37)) -> 10 | F37: АВ 970598 | G37: =IF(F37="", "", LEN(F37)) -> 9 | H37: СМ 236283 Міським відділом №1 Білоцерківського МУГУ МВС УКР в Київській обл 15.09.2000 | I37: =IF(H37="", "", LEN(H37)) -> 86 | K37: =IF(J37="", "", B37=J37) | M37: =IF(L37="", "", B37=L37) | N37: =IF(L37="", "", J37=L37)
A38: 4 | B38: ГРУЗИНСЬКИЙ Юрій Миколайович | C38: 12.10.1985 | D38: 3133113253 | E38: =IF(D38="", "", LEN(D38)) -> 10 | F38: АГ 629880 | G38: =IF(F38="", "", LEN(F38)) -> 9 | H38: 003604871 2315 15.07.2019 | I38: =IF(H38="", "", LEN(H38)) -> 25 | K38: =IF(J38="", "", B38=J38) | M38: =IF(L38="", "", B38=L38) | N38: =IF(L38="", "", J38=L38)
A39: 46 | B39: ГУЛЕНКО Владислав Олександрович | C39: 01.03.1998 | D39: 3585409073 | E39: =IF(D39="", "", LEN(D39)) -> 10 | F39: АВ 949486 | G39: =IF(F39="", "", LEN(F39)) -> 9 | I39: =IF(H39="", "", LEN(H39)) | K39: =IF(J39="", "", B39=J39) | M39: =IF(L39="", "", B39=L39) | N39: =IF(L39="", "", J39=L39)
A40: 5 | B40: ГУСЄВ Євгеній Олександрович | C40: 18.11.1998 | D40: 3611608372 | E40: =IF(D40="", "", LEN(D40)) -> 10 | F40: довідка | G40: =IF(F40="", "", LEN(F40)) -> 7 | H40: ТТ 264727 Деснянським РВ ГУДМС УКР в м. Києві 20.11.2014 | I40: =IF(H40="", "", LEN(H40)) -> 56 | K40: =IF(J40="", "", B40=J40) | M40: =IF(L40="", "", B40=L40) | N40: =IF(L40="", "", J40=L40)
A41: 1 | B41: ДАВИДЕНКО Богдан Миколайович | C41: 24.04.1996 | D41: 3517807937 | E41: =IF(D41="", "", LEN(D41)) -> 10 | F41: АВ 949426 | G41: =IF(F41="", "", LEN(F41)) -> 9 | H41: 006233429 Виданий 5930 16.06.2021 | I41: =IF(H41="", "", LEN(H41)) -> 33 | K41: =IF(J41="", "", B41=J41) | M41: =IF(L41="", "", B41=L41) | N41: =IF(L41="", "", J41=L41)
A42: 5 | B42: ДАЦЮК Вячеслав Іванович | C42: 31.05.1981 | D42: 2973607431 | E42: =IF(D42="", "", LEN(D42)) -> 10 | F42: МО 300213 | G42: =IF(F42="", "", LEN(F42)) -> 9 | H42: ВМ 546751 Богунським РВ УМВС України в Житомирській області 30.05.1998 | I42: =IF(H42="", "", LEN(H42)) -> 70 | K42: =IF(J42="", "", B42=J42) | M42: =IF(L42="", "", B42=L42) | N42: =IF(L42="", "", J42=L42)
A43: 8 | B43: ДЕНИСЕНКО Артем Олегович | C43: 02.02.1991 | D43: 3327015430 | E43: =IF(D43="", "", LEN(D43)) -> 10 | F43: АВ 949485 | G43: =IF(F43="", "", LEN(F43)) -> 9 | H43: МВ 340950 Зарічним ВМ СМВ УМВС України в Сумській обл. 27.03.2007 | I43: =IF(H43="", "", LEN(H43)) -> 65 | K43: =IF(J43="", "", B43=J43) | M43: =IF(L43="", "", B43=L43) | N43: =IF(L43="", "", J43=L43)
A44: 6 | B44: ДЕРЕВЛЮК Сергій Степанович | C44: 09.10.1975 | D44: 2767516699 | E44: =IF(D44="", "", LEN(D44)) -> 10 | F44: АГ 606569 | G44: =IF(F44="", "", LEN(F44)) -> 9 | H44: 009085361 8029 01.05.2023 | I44: =IF(H44="", "", LEN(H44)) -> 25 | K44: =IF(J44="", "", B44=J44) | M44: =IF(L44="", "", B44=L44) | N44: =IF(L44="", "", J44=L44)
A45: 5 | B45: ДЕРКАЧ Антон Олександрович | C45: 20.04.1988 | D45: 3225211077 | E45: =IF(D45="", "", LEN(D45)) -> 10 | F45: АГ 634946 | G45: =IF(F45="", "", LEN(F45)) -> 9 | I45: =IF(H45="", "", LEN(H45)) | K45: =IF(J45="", "", B45=J45) | M45: =IF(L45="", "", B45=L45) | N45: =IF(L45="", "", J45=L45)
A46: 1 | B46: ДРИГА Сергій Олександрович | C46: 08.12.1986 | D46: 3175313158 | E46: =IF(D46="", "", LEN(D46)) -> 10 | G46: =IF(F46="", "", LEN(F46)) | I46: =IF(H46="", "", LEN(H46)) | K46: =IF(J46="", "", B46=J46) | M46: =IF(L46="", "", B46=L46) | N46: =IF(L46="", "", J46=L46)
A47: 0 | B47: ЄРМАКОВ Дмитро Олександрович | C47: 26.12.1976 | E47: =IF(D47="", "", LEN(D47)) | G47: =IF(F47="", "", LEN(F47)) | I47: =IF(H47="", "", LEN(H47)) | K47: =IF(J47="", "", B47=J47) | M47: =IF(L47="", "", B47=L47) | N47: =IF(L47="", "", J47=L47)
A48: 6 | B48: ЖЕРЕБЦОВ Данило Вадимович | C48: 26.11.1997 | D48: 3575904092 | E48: =IF(D48="", "", LEN(D48)) -> 10 | F48: АВ 381840 | G48: =IF(F48="", "", LEN(F48)) -> 9 | H48: 009028574 1237 17.04.2023 | I48: =IF(H48="", "", LEN(H48)) -> 25 | K48: =IF(J48="", "", B48=J48) | M48: =IF(L48="", "", B48=L48) | N48: =IF(L48="", "", J48=L48)
A49: 31 | B49: ЗАБАЙРАЧНИЙ Антон Валерійович | C49: 19.05.1989 | D49: 3264613873 | E49: =IF(D49="", "", LEN(D49)) -> 10 | F49: АВ 949421 | G49: =IF(F49="", "", LEN(F49)) -> 9 | H49: ЕН 435216 Северодонецьким МВУМВС України в Луганській обл. 23.07.2005 | I49: =IF(H49="", "", LEN(H49)) -> 69 | K49: =IF(J49="", "", B49=J49) | M49: =IF(L49="", "", B49=L49) | N49: =IF(L49="", "", J49=L49)
A50: 1 | B50: ЗАЇКА Віталій Олександрович | C50: 05.07.1980 | D50: 2940603255 | E50: =IF(D50="", "", LEN(D50)) -> 10 | F50: АВ 883684 | G50: =IF(F50="", "", LEN(F50)) -> 9 | I50: =IF(H50="", "", LEN(H50)) | K50: =IF(J50="", "", B50=J50) | M50: =IF(L50="", "", B50=L50) | N50: =IF(L50="", "", J50=L50)
A51: 40 | B51: ЗВАДА Микита Іванович | C51: 15.01.2001 | D51: 3690507477 | E51: =IF(D51="", "", LEN(D51)) -> 10 | F51: АВ 949418 | G51: =IF(F51="", "", LEN(F51)) -> 9 | H51: 006012577 виданий 5922 23.04.2021 | I51: =IF(H51="", "", LEN(H51)) -> 33 | K51: =IF(J51="", "", B51=J51) | M51: =IF(L51="", "", B51=L51) | N51: =IF(L51="", "", J51=L51)
A52: 4 | B52: ЗВЯГІНЦЕВ Вадим Сергійович | C52: 19.05.1990 | D52: 3301112235 | E52: =IF(D52="", "", LEN(D52)) -> 10 | F52: АГ 605685 | G52: =IF(F52="", "", LEN(F52)) -> 9 | H52: СМ 828673 | I52: =IF(H52="", "", LEN(H52)) -> 9 | K52: =IF(J52="", "", B52=J52) | M52: =IF(L52="", "", B52=L52) | N52: =IF(L52="", "", J52=L52)
A53: 6 | B53: ЗУБКО Андрій Валерійович | C53: 17.11.2000 | D53: 3684602658 | E53: =IF(D53="", "", LEN(D53)) -> 10 | F53: АГ 629882 | G53: =IF(F53="", "", LEN(F53)) -> 9 | H53: СЮ 439586 | I53: =IF(H53="", "", LEN(H53)) -> 9 | K53: =IF(J53="", "", B53=J53) | M53: =IF(L53="", "", B53=L53) | N53: =IF(L53="", "", J53=L53)
A54: 16 | B54: КАЛЬЧЕНКО Олександр Іванович | C54: 25.01.1980 | D54: 2924420790 | E54: =IF(D54="", "", LEN(D54)) -> 10 | F54: АВ 967887 | G54: =IF(F54="", "", LEN(F54)) -> 9 | I54: =IF(H54="", "", LEN(H54)) | K54: =IF(J54="", "", B54=J54) | M54: =IF(L54="", "", B54=L54) | N54: =IF(L54="", "", J54=L54)
A55: 7 | B55: КАМІНСЬКИЙ Андрій Михайлович | C55: 17.12.1996 | D55: 3541511375 | E55: =IF(D55="", "", LEN(D55)) -> 10 | F55: АГ 574999 | G55: =IF(F55="", "", LEN(F55)) -> 9 | H55: АТ 021347 Ленінським РВ УПМС України у Вінницькій області 17.01.2013 | I55: =IF(H55="", "", LEN(H55)) -> 68 | K55: =IF(J55="", "", B55=J55) | M55: =IF(L55="", "", B55=L55) | N55: =IF(L55="", "", J55=L55)
A56: 5 | B56: КАТЕРУША Ярослав Ігорович | C56: 06.07.1996 | D56: 3525107076 | E56: =IF(D56="", "", LEN(D56)) -> 10 | F56: довідка | G56: =IF(F56="", "", LEN(F56)) -> 7 | H56: НЕ 670190 Городищенським РС УДМС УКР в Черкаській обл 12.09.2012 | I56: =IF(H56="", "", LEN(H56)) -> 64 | K56: =IF(J56="", "", B56=J56) | M56: =IF(L56="", "", B56=L56) | N56: =IF(L56="", "", J56=L56)
A57: 7 | B57: КАЧУРА Олексій Олександрович | C57: 01.03.1998 | D57: 3585404453 | E57: =IF(D57="", "", LEN(D57)) -> 10 | F57: 011220221358641100104/1 | G57: =IF(F57="", "", LEN(F57)) -> 23 | I57: =IF(H57="", "", LEN(H57)) | K57: =IF(J57="", "", B57=J57) | M57: =IF(L57="", "", B57=L57) | N57: =IF(L57="", "", J57=L57)
A58: 20 | B58: КВАША Сергій Анатолійович | C58: 03.03.1990 | D58: 3293410951 | E58: =IF(D58="", "", LEN(D58)) -> 10 | F58: СО 728605 | G58: =IF(F58="", "", LEN(F58)) -> 9 | H58: МВ 341636 Роменським МРВУМВС України в Сумській обл., 10.01.2007 | I58: =IF(H58="", "", LEN(H58)) -> 64 | K58: =IF(J58="", "", B58=J58) | M58: =IF(L58="", "", B58=L58) | N58: =IF(L58="", "", J58=L58)
A59: 26 | B59: КЛИМЕНЧЕНКО Максим Анатолійович | C59: 04.01.1990 | D59: 3287611732 | E59: =IF(D59="", "", LEN(D59)) -> 10 | F59: АВ 967980 | G59: =IF(F59="", "", LEN(F59)) -> 9 | H59: МВ 302722 Глухівським МРВ УМВС України в Сумській обл. 07.07.2006 | I59: =IF(H59="", "", LEN(H59)) -> 65 | K59: =IF(J59="", "", B59=J59) | M59: =IF(L59="", "", B59=L59) | N59: =IF(L59="", "", J59=L59)
A60: 28 | B60: КНЯЗЄВ Олексадр Олексійович | C60: 10.01.1984 | D60: 3069007313 | E60: =IF(D60="", "", LEN(D60)) -> 10 | F60: МО 533842 | G60: =IF(F60="", "", LEN(F60)) -> 10 | H60: МВ 580136 Лебединським МСУДМС України в Сумській обл., 18.03.2015 | I60: =IF(H60="", "", LEN(H60)) -> 65 | K60: =IF(J60="", "", B60=J60) | M60: =IF(L60="", "", B60=L60) | N60: =IF(L60="", "", J60=L60)
A61: 7 | B61: КОВАЛЕНКО Анатолій Григорович | C61: 21.12.1980 | D61: 2957514658 | E61: =IF(D61="", "", LEN(D61)) -> 10 | F61: АВ 960033 | G61: =IF(F61="", "", LEN(F61)) -> 9 | H61: ВМ 531816 Корольовським РВ УМВС України в Житомирській області 04.04.1998 | I61: =IF(H61="", "", LEN(H61)) -> 73 | K61: =IF(J61="", "", B61=J61) | M61: =IF(L61="", "", B61=L61) | N61: =IF(L61="", "", J61=L61)
A62: 8 | B62: КОВАЛЕНКО Дмитро Валентинович | C62: 29.10.1984 | D62: 3098314219 | E62: =IF(D62="", "", LEN(D62)) -> 10 | F62: АГ 629884 | G62: =IF(F62="", "", LEN(F62)) -> 9 | H62: 004120993 8026 28.10.2019 | I62: =IF(H62="", "", LEN(H62)) -> 25 | K62: =IF(J62="", "", B62=J62) | M62: =IF(L62="", "", B62=L62) | N62: =IF(L62="", "", J62=L62)
A63: 9 | B63: КОВАЛЕНКО Олег Андрійович | C63: 17.05.1993 | D63: 3410506256 | E63: =IF(D63="", "", LEN(D63)) -> 10 | F63: 040520250688132901083/1 | G63: =IF(F63="", "", LEN(F63)) -> 23 | H63: МР 295449 | I63: =IF(H63="", "", LEN(H63)) -> 9 | K63: =IF(J63="", "", B63=J63) | M63: =IF(L63="", "", B63=L63) | N63: =IF(L63="", "", J63=L63)
A64: 8 | B64: КОВАЛЬ Сергій Степанович | C64: 09.09.1982 | D64: 3020225699 | E64: =IF(D64="", "", LEN(D64)) -> 10 | F64: АГ 574997 | G64: =IF(F64="", "", LEN(F64)) -> 9 | H64: АТ 170876 Хмільницьким РС УДМС УКР в Вінницькій обл 27.10.2016 | I64: =IF(H64="", "", LEN(H64)) -> 62 | K64: =IF(J64="", "", B64=J64) | M64: =IF(L64="", "", B64=L64) | N64: =IF(L64="", "", J64=L64)
A65: 16 | B65: КОВАЛЬОВ Владислав Віталійович | C65: 16.04.2001 | E65: =IF(D65="", "", LEN(D65)) | G65: =IF(F65="", "", LEN(F65)) | I65: =IF(H65="", "", LEN(H65)) | K65: =IF(J65="", "", B65=J65) | M65: =IF(L65="", "", B65=L65) | N65: =IF(L65="", "", J65=L65)
A66: 30 | B66: КОЛОДЧЕНКО Олег Григорович | C66: 10.03.1990 | D66: 3294101893 | E66: =IF(D66="", "", LEN(D66)) -> 10 | F66: СО 621238 | G66: =IF(F66="", "", LEN(F66)) -> 9 | H66: МВ 321644 Великописарівським РВУМВС України в Сумській обл. 25.07.2006 | I66: =IF(H66="", "", LEN(H66)) -> 70 | K66: =IF(J66="", "", B66=J66) | M66: =IF(L66="", "", B66=L66) | N66: =IF(L66="", "", J66=L66)
A67: 8 | B67: КОНОВАЛ Євгеній Миколайович | C67: 01.06.1984 | D67: 3083303814 | E67: =IF(D67="", "", LEN(D67)) -> 10 | F67: АГ 633620 | G67: =IF(F67="", "", LEN(F67)) -> 9 | I67: =IF(H67="", "", LEN(H67)) | K67: =IF(J67="", "", B67=J67) | M67: =IF(L67="", "", B67=L67) | N67: =IF(L67="", "", J67=L67)
A68: 24 | B68: КОРЕНЄВ Віталій Віталійович | C68: 24.02.1989 | D68: 3256220573 | E68: =IF(D68="", "", LEN(D68)) -> 10 | F68: АВ 949492 | G68: =IF(F68="", "", LEN(F68)) -> 9 | H68: закордоний паспорт FM731032 виданий 5901 05.04.2018 | I68: =IF(H68="", "", LEN(H68)) -> 51 | K68: =IF(J68="", "", B68=J68) | M68: =IF(L68="", "", B68=L68) | N68: =IF(L68="", "", J68=L68)
A69: 35 | B69: КОСЕНКО Віталій Якович | C69: 25.10.1994 | D69: 3463112994 | E69: =IF(D69="", "", LEN(D69)) -> 10 | F69: АВ 949438 | G69: =IF(F69="", "", LEN(F69)) -> 9 | H69: 008368296 виданий 5922 21.10.2022 | I69: =IF(H69="", "", LEN(H69)) -> 33 | K69: =IF(J69="", "", B69=J69) | M69: =IF(L69="", "", B69=L69) | N69: =IF(L69="", "", J69=L69)
A70: 9 | B70: КОСЕНЮК Валерій Анатолійович | C70: 23.07.1975 | D70: 2759713830 | E70: =IF(D70="", "", LEN(D70)) -> 10 | F70: АГ 606584 | G70: =IF(F70="", "", LEN(F70)) -> 9 | H70: СН 289053 | I70: =IF(H70="", "", LEN(H70)) -> 9 | K70: =IF(J70="", "", B70=J70) | M70: =IF(L70="", "", B70=L70) | N70: =IF(L70="", "", J70=L70)
A71: 7 | B71: КОСЬМІН Юрій Віталійович | C71: 12.07.1980 | D71: 2941315057 | E71: =IF(D71="", "", LEN(D71)) -> 10 | F71: АВ 967804 | G71: =IF(F71="", "", LEN(F71)) -> 9 | I71: =IF(H71="", "", LEN(H71)) | K71: =IF(J71="", "", B71=J71) | M71: =IF(L71="", "", B71=L71) | N71: =IF(L71="", "", J71=L71)
A72: 6 | B72: КРЕЙДИЧ Жан Віталійович | C72: 11.03.1985 | D72: 3111620917 | E72: =IF(D72="", "", LEN(D72)) -> 10 | F72: АГ 186074 | G72: =IF(F72="", "", LEN(F72)) -> 9 | H72: ВН 498883 Корольовським РВ УМВС України в Житомирській області 17.08.2010 | I72: =IF(H72="", "", LEN(H72)) -> 73 | K72: =IF(J72="", "", B72=J72) | M72: =IF(L72="", "", B72=L72) | N72: =IF(L72="", "", J72=L72)
A73: 44 | B73: КРИВОГУЗ Віталій Олександович | C73: 01.03.1980 | D73: 2928021037 | E73: =IF(D73="", "", LEN(D73)) -> 10 | F73: СО 431160 | G73: =IF(F73="", "", LEN(F73)) -> 9 | H73: МА 314704, Буринським РВУМВС України в Сумський обл., 04.08.1997 | I73: =IF(H73="", "", LEN(H73)) -> 64 | K73: =IF(J73="", "", B73=J73) | M73: =IF(L73="", "", B73=L73) | N73: =IF(L73="", "", J73=L73)
A74: 10 | B74: КУЗЬМИШИН Юрій Миколайович | C74: 07.05.1989 | D74: 3263419370 | E74: =IF(D74="", "", LEN(D74)) -> 10 | F74: АГ 603381 | G74: =IF(F74="", "", LEN(F74)) -> 9 | H74: 012496201 1819 27.10.2025 | I74: =IF(H74="", "", LEN(H74)) -> 25 | K74: =IF(J74="", "", B74=J74) | M74: =IF(L74="", "", B74=L74) | N74: =IF(L74="", "", J74=L74)
A75: 7 | B75: КУЧЕРЕНКО Анатолій Михайлович | C75: 22.12.1992 | D75: 3395907198 | E75: =IF(D75="", "", LEN(D75)) -> 10 | F75: АГ 606238 | G75: =IF(F75="", "", LEN(F75)) -> 9 | H75: 005837755 5926 11.03.2021 | I75: =IF(H75="", "", LEN(H75)) -> 25 | K75: =IF(J75="", "", B75=J75) | M75: =IF(L75="", "", B75=L75) | N75: =IF(L75="", "", J75=L75)
A76: 7 | B76: КУЧУРА Андрій Віталійович | C76: 08.02.1988 | D76: 3218006254 | E76: =IF(D76="", "", LEN(D76)) -> 10 | F76: АГ 606587 | G76: =IF(F76="", "", LEN(F76)) -> 9 | H76: НМ 474141 | I76: =IF(H76="", "", LEN(H76)) -> 9 | K76: =IF(J76="", "", B76=J76) | M76: =IF(L76="", "", B76=L76) | N76: =IF(L76="", "", J76=L76)
A77: 29 | B77: КУЩ Андрій Петрович | C77: 20.03.1979 | D77: 2893300213 | E77: =IF(D77="", "", LEN(D77)) -> 10 | F77: УН 0497799 | G77: =IF(F77="", "", LEN(F77)) -> 10 | H77: МВ 429139 Буринським РВГУМВС України в Сумській обл., 28.01.2010 | I77: =IF(H77="", "", LEN(H77)) -> 64 | K77: =IF(J77="", "", B77=J77) | M77: =IF(L77="", "", B77=L77) | N77: =IF(L77="", "", J77=L77)
A78: 9 | B78: ЛЕВЕНЕЦЬ Максим Дмитрович | C78: 01.08.1988 | D78: 3235521550 | E78: =IF(D78="", "", LEN(D78)) -> 10 | F78: АГ 629816 | G78: =IF(F78="", "", LEN(F78)) -> 9 | H78: МЕ 490408 Шевченківського РУ ГУ МВС УКР в м. Києві 28.04.2005 | I78: =IF(H78="", "", LEN(H78)) -> 61 | K78: =IF(J78="", "", B78=J78) | M78: =IF(L78="", "", B78=L78) | N78: =IF(L78="", "", J78=L78)
A79: 33 | B79: ЛЕВЧИЧ Олександр Миколайович | C79: 17.06.1978 | D79: 2865716296 | E79: =IF(D79="", "", LEN(D79)) -> 10 | F79: АВ 949490 | G79: =IF(F79="", "", LEN(F79)) -> 9 | H79: 010064683 Виданий 5930 21.12.2023 | I79: =IF(H79="", "", LEN(H79)) -> 33 | K79: =IF(J79="", "", B79=J79) | M79: =IF(L79="", "", B79=L79) | N79: =IF(L79="", "", J79=L79)
A80: 3 | B80: ЛИТВИНКО Олександр Сергійович | C80: 21.07.2000 | D80: 3672709816 | E80: =IF(D80="", "", LEN(D80)) -> 10 | F80: АВ 949425 | G80: =IF(F80="", "", LEN(F80)) -> 9 | H80: 006384474 Виданий 5924 19.07.2021 | I80: =IF(H80="", "", LEN(H80)) -> 33 | K80: =IF(J80="", "", B80=J80) | M80: =IF(L80="", "", B80=L80) | N80: =IF(L80="", "", J80=L80)
A81: 8 | B81: ЛЮЛЕВИЧ Віталій Михайлович | C81: 21.08.1989 | D81: 3274005414 | E81: =IF(D81="", "", LEN(D81)) -> 10 | F81: АВ 960028 | G81: =IF(F81="", "", LEN(F81)) -> 9 | H81: ВН 610181 Корольовським РВ у м. Житомирі УДМС УКР в Житомирській обл 07.09.2013 | I81: =IF(H81="", "", LEN(H81)) -> 79 | K81: =IF(J81="", "", B81=J81) | M81: =IF(L81="", "", B81=L81) | N81: =IF(L81="", "", J81=L81)
A82: 0 | B82: МАЗУРКЕВИЧ Віталій Петрович | C82: 29.03.1993 | D82: 3405600870 | E82: =IF(D82="", "", LEN(D82)) -> 10 | F82: АГ 605625 | G82: =IF(F82="", "", LEN(F82)) -> 9 | I82: =IF(H82="", "", LEN(H82)) | K82: =IF(J82="", "", B82=J82) | M82: =IF(L82="", "", B82=L82) | N82: =IF(L82="", "", J82=L82)
A83: 8 | B83: МАТЮНІН Іван Леонідович | C83: 09.10.1984 | D83: 3096315737 | E83: =IF(D83="", "", LEN(D83)) -> 10 | F83: АГ 186071 | G83: =IF(F83="", "", LEN(F83)) -> 9 | H83: ВН 566980 Корольовським РВ УМВС України в Житомирській області 01.01.2000 | I83: =IF(H83="", "", LEN(H83)) -> 73 | K83: =IF(J83="", "", B83=J83) | M83: =IF(L83="", "", B83=L83) | N83: =IF(L83="", "", J83=L83)
A84: 42 | B84: МЕНЬШИКОВ Олексій Єгорович | C84: 30.03.1980 | D84: 2930900615 | E84: =IF(D84="", "", LEN(D84)) -> 10 | F84: АВ 909203 | G84: =IF(F84="", "", LEN(F84)) -> 9 | H84: МК 119294, Пісочинським ВМ Харківського РВУМВС України 09.04.1996 | I84: =IF(H84="", "", LEN(H84)) -> 65 | K84: =IF(J84="", "", B84=J84) | M84: =IF(L84="", "", B84=L84) | N84: =IF(L84="", "", J84=L84)
A85: 9 | B85: НЄЖНОВ Сергій Миколайович | C85: 11.01.1977 | D85: 2813500653 | E85: =IF(D85="", "", LEN(D85)) -> 10 | F85: АГ 594862 | G85: =IF(F85="", "", LEN(F85)) -> 9 | H85: МН 840776 Червонозаводським РВХМУУМВС України в Харківській обл., 25.04.2006 | I85: =IF(H85="", "", LEN(H85)) -> 76 | K85: =IF(J85="", "", B85=J85) | M85: =IF(L85="", "", B85=L85) | N85: =IF(L85="", "", J85=L85)
A86: 10 | B86: ОСАДЧУК Олександр Олександрович | C86: 06.04.1988 | D86: 3223818474 | E86: =IF(D86="", "", LEN(D86)) -> 10 | F86: АГ 603361 | G86: =IF(F86="", "", LEN(F86)) -> 9 | H86: ВН 554655 Корольовським РВ УМВС УКР в Житомирській обл 17.04.2012 | I86: =IF(H86="", "", LEN(H86)) -> 65 | K86: =IF(J86="", "", B86=J86) | M86: =IF(L86="", "", B86=L86) | N86: =IF(L86="", "", J86=L86)
A87: 45 | B87: ПАНЧЕНКО Олексадр Валерійович | C87: 13.12.1982 | D87: 3029719656 | E87: =IF(D87="", "", LEN(D87)) -> 10 | F87: АВ 967839 | G87: =IF(F87="", "", LEN(F87)) -> 9 | H87: 005500019 | I87: =IF(H87="", "", LEN(H87)) -> 9 | K87: =IF(J87="", "", B87=J87) | M87: =IF(L87="", "", B87=L87) | N87: =IF(L87="", "", J87=L87)
A88: 21 | B88: ПАРХОМЕНКО Володимир Анатолійович | C88: 29.12.1985 | D88: 3140913593 | E88: =IF(D88="", "", LEN(D88)) -> 10 | F88: АВ 967840 | G88: =IF(F88="", "", LEN(F88)) -> 9 | H88: МВ 078689 Крокевецьким РВ УМВС України в Сумській обл 22.10.2002 | I88: =IF(H88="", "", LEN(H88)) -> 64 | K88: =IF(J88="", "", B88=J88) | M88: =IF(L88="", "", B88=L88) | N88: =IF(L88="", "", J88=L88)
A89: 11 | B89: ПАРШИКОВ Артем Вадимович | C89: 15.09.1998 | D89: 3605210974 | E89: =IF(D89="", "", LEN(D89)) -> 10 | F89: АГ 471494 | G89: =IF(F89="", "", LEN(F89)) -> 9 | H89: ЕВ 370186 Кіровським РВ у м. Кіровограді УДМС УКР в Кіровоградській обл 12.09.2014 | I89: =IF(H89="", "", LEN(H89)) -> 82 | K89: =IF(J89="", "", B89=J89) | M89: =IF(L89="", "", B89=L89) | N89: =IF(L89="", "", J89=L89)
A90: 17 | B90: ПАШКОВ Денис Геннадійович | C90: 01.02.1989 | D90: 3253904779 | E90: =IF(D90="", "", LEN(D90)) -> 10 | F90: СО 316222 | G90: =IF(F90="", "", LEN(F90)) -> 9 | H90: МН773485 Орджонікідзевським РВХМУУМВС України в Харківській обл. 16.06.2005 | I90: =IF(H90="", "", LEN(H90)) -> 75 | K90: =IF(J90="", "", B90=J90) | M90: =IF(L90="", "", B90=L90) | N90: =IF(L90="", "", J90=L90)
A91: 2 | B91: ПЕТРАШ Віктор Володимирович | C91: 04.09.1984 | D91: 3092805058 | E91: =IF(D91="", "", LEN(D91)) -> 10 | F91: АВ 704155 | G91: =IF(F91="", "", LEN(F91)) -> 9 | H91: МА 942892 Лебединським МРВУМВС України в Сумській обл., 27.02.2002 | I91: =IF(H91="", "", LEN(H91)) -> 66 | K91: =IF(J91="", "", B91=J91) | M91: =IF(L91="", "", B91=L91) | N91: =IF(L91="", "", J91=L91)
A92: 8 | B92: ПИРОГАНИЧ Ігор Ігорович | C92: 05.03.1991 | D92: 3330114316 | E92: =IF(D92="", "", LEN(D92)) -> 10 | F92: АГ 633796 | G92: =IF(F92="", "", LEN(F92)) -> 9 | H92: 006435172 5124 27.07.2021 | I92: =IF(H92="", "", LEN(H92)) -> 25 | K92: =IF(J92="", "", B92=J92) | M92: =IF(L92="", "", B92=L92) | N92: =IF(L92="", "", J92=L92)
A93: 11 | B93: ПЛАТКІВСЬКИЙ Олександр Анатолійович | C93: 21.04.1985 | D93: 3115715211 | E93: =IF(D93="", "", LEN(D93)) -> 10 | F93: АГ 641907 | G93: =IF(F93="", "", LEN(F93)) -> 9 | H93: ВН 355573 | I93: =IF(H93="", "", LEN(H93)) -> 9 | K93: =IF(J93="", "", B93=J93) | M93: =IF(L93="", "", B93=L93) | N93: =IF(L93="", "", J93=L93)
A94: 12 | B94: ПОЛІЩЕНКО Олександр Петрович | C94: 07.12.1993 | D94: 3430910630 | E94: =IF(D94="", "", LEN(D94)) -> 10 | F94: АГ 575000 | G94: =IF(F94="", "", LEN(F94)) -> 9 | H94: 004508736 29.01.2020 | I94: =IF(H94="", "", LEN(H94)) -> 20 | K94: =IF(J94="", "", B94=J94) | M94: =IF(L94="", "", B94=L94) | N94: =IF(L94="", "", J94=L94)
... A99: 9 | B99: ПЯТНІКОВ Анатолій Вікторович | C99: 17.12.1978 | D99: 2884021413 | E99: =IF(D99="", "", LEN(D99)) -> 10 | F99: №020520251320939300022/1 | G99: =IF(F99="", "", LEN(F99)) -> 24 | H99: 009833927 8017 24.10.2023 | I99: =IF(H99="", "", LEN(H99)) -> 25 | K99: =IF(J99="", "", B99=J99) | M99: =IF(L99="", "", B99=L99) | N99: =IF(L99="", "", J99=L99)
A100: 0 | B100: РЕДЬКО Вадим Юрійович | C100: 22.04.1992 | D100: 3371514395 | E100: =IF(D100="", "", LEN(D100)) -> 10 | F100: №291120211320515300024/1 | G100: =IF(F100="", "", LEN(F100)) -> 24 | I100: =IF(H100="", "", LEN(H100)) | K100: =IF(J100="", "", B100=J100) | M100: =IF(L100="", "", B100=L100) | N100: =IF(L100="", "", J100=L100)
A101: 36 | B101: РІЗНИЧОК Ігор Миколайович | C101: 28.08.1990 | D101: 3311204310 | E101: =IF(D101="", "", LEN(D101)) -> 10 | F101: АВ 967827 | G101: =IF(F101="", "", LEN(F101)) -> 9 | H101: 007897814 Виданий 5920 12.07.2022 | I101: =IF(H101="", "", LEN(H101)) -> 33 | K101: =IF(J101="", "", B101=J101) | M101: =IF(L101="", "", B101=L101) | N101: =IF(L101="", "", J101=L101)
A102: 13 | B102: РОМАНЦОВ Ілля Андрійович | C102: 02.08.1998 | D102: 3600805776 | E102: =IF(D102="", "", LEN(D102)) -> 10 | F102: довідка | G102: =IF(F102="", "", LEN(F102)) -> 7 | H102: СЮ 350372 Пологівським РС УДМС УКР в Запорізькій обл 16.09.2014 | I102: =IF(H102="", "", LEN(H102)) -> 63 | K102: =IF(J102="", "", B102=J102) | M102: =IF(L102="", "", B102=L102) | N102: =IF(L102="", "", J102=L102)
A103: 0 | B103: САВИЦЬКИЙ Олексій Васильович | C103: 21.03.1980 | D103: 2930014415 | E103: =IF(D103="", "", LEN(D103)) -> 10 | F103: АГ629778 | G103: =IF(F103="", "", LEN(F103)) -> 8 | I103: =IF(H103="", "", LEN(H103)) | K103: =IF(J103="", "", B103=J103) | M103: =IF(L103="", "", B103=L103) | N103: =IF(L103="", "", J103=L103)
A104: 10 | B104: САДИКА Роман Олександрович | C104: 17.04.1983 | D104: 3042218677 | E104: =IF(D104="", "", LEN(D104)) -> 10 | F104: №100520251320609100067/1 | G104: =IF(F104="", "", LEN(F104)) -> 24 | H104: СО 322044 Шевченківським РУ ГУ МВС України в м.Києві 19.01.2000 | I104: =IF(H104="", "", LEN(H104)) -> 63 | K104: =IF(J104="", "", B104=J104) | M104: =IF(L104="", "", B104=L104) | N104: =IF(L104="", "", J104=L104)
...

Sheet Аркуш1
C2: `=MOD(MOD(-MID(D2;1;1) + MID(D2;2;1)*5 + MID(D2;3;1)*7 + MID(D2;4;1)*9 + MID(D2;5;1)*4 + MID(D2;6;1)*6 + MID(D2;7;1)*10 + MID(D2;8;1)*5 + MID(D2;9;1)*7; 11);10) <> VALUE( MID(D2;10;1))
C6: `=DATEVALUE( C2) <> INT(LEFT(D2;5)) +1

Sheet Алфавітки
A1: № з/п | B1: В/звання | D1: Місце народження | E1: адреса (фактична) | F1: Освіта | G1: склад сім’ї | H1: № телефону
A2: 1 | B2: солдат | C2: Антоненко Руслан Олександрович | D2: Миколаївська обл. Миколаївський р-н, с. Весняне | E2: м. Миколаїв вул. Айвазовського буд. 6 кв. 809-809 | F2: середня-спеціальна, ПТУ №1 м. Миколаїв 2005 судобудівельник, зварювальник (права категорії Б, ФОП Парус, будівельник 18р.) | G2: Розлучений Мати: Калага Лідія Миронівна, м. Миколаїв вул. Айвазовського буд. 6 кв. 809-809, 0663420925 | H2: 660263238
A3: 8 | B3: солдат | C3: Баранов Дмитро Генащдійович | D3: с. Кірове Базарський р-н Херсонської обл. | E3: Херсонської обл. Базарський р-н, с. Олександрівка вул. Мельнична 5 | F3: середньо-спеціальна Судобудівельний ліцей 2018р. Зварювальник Содозбірник (Категорія прав Б, С1, С, СЕ, далекобійник 4р.) | G3: неодружений Батько: Баранов Генадій Анатолійович Херсонської обл. Базарський р-н, с. Олександрівка вул. Мельнична 5, тел. 0668290286 | H3: 505059149
A4: 12 | B4: солдат | C4: Боровик Юрій Володимирович | D4: м. Миколаїв | E4: м. Миколаїв вул. Восьма Лінія буд. 68 | F4: середньо-спеціальна Теплодарський професійний ліцей 2011р. Кухар (категорія прав Б, автоелектрик 1р) | G4: цивільний шлюб Цивільна дружина: Голубченко Юлія Вадимівна, м. Миколаїв вул. Восьма Лінія буд. 68, тел. 0950975840 | H4: 993803701
A5: 7 | B5: солдат | C5: Горбатенко Олександр Олегович | D5: м. Миколаїв | E5: м. Миколаїв вул. Архітектора Староба 3 кв.1 | F5: повна середня ЗОШ № 64 2009р.(кухар 7р) | G5: неодружений Бабуся: Горбатенко Людмила Іванівна м. Миколаїв вул. Архітектора Староба 6б кв. 24, тел. 0966366295 | H5: 677153559
A6: 4 | B6: солдат | C6: Жестовський Сергій Сергійович | D6: Миколаївська обл. Первомайський р-н, с. Новопавлівка | E6: Миколаївська обл. Первомайський р-н, с. Новопавлівка вул. Роднікова 18 | F6: середньо-спеціальна Одеський професійний ліцей морського транспорту 2008р. електрозварювальник (категорія прав Б, Будівельник 2р.) | G6: Одружений Дружина: Жестовська Ірина Анатоліївна Миколаївська обл. Первомайський р-н, с. Новопавлівка вул. Роднікова 18, 0974890880 | H6: 683977036
A7: 6 | B7: солдат | C7: Ісаков Олександ Сергійович | D7: Кропивницька обл. Новоархангельський р-н с. Скалівські Хутори | E7: Миколаївська обл. Баштанський р-н с. Поляне, вул. Садова, буд. 22 | F7: середньо-спеціальна ЧПБЛ №4 2013р. Маляр-штукатур (Фермерське господарство немировський) | G7: Одружений Дружина: Ісакова Оксана Миколаївна, Миколаївська обл. Баштанський р-н с. Поляне, вул. Садова, буд. 22, тел. 0988180989 | H7: 682269805
A8: 13 | B8: солдат | C8: Клімчкук Олександ Олександрович | D8: Вінницька обл. Хмільницький р-н, смт Бродецьке | E8: Вінницька обл. Хмільницький р-н, смт Бродецьке вул. Першотравнева 72 | F8: повна середня ЗОШ смт. Бродецьке 2007р. (Мясний мультикомплекс транспортувальник 1р.) | G8: одружений Дружина: Клімчук Алла Вадимівна, Вінницька обл. Хмільницький р-н, смт Бродецьке вул. Першотравнева 72, тел. 0631960845 | H8: 990631915
A9: 9 | B9: солдат | C9: Колесніков Сергій Сергійович | D9: с. Балтазарівка Чуплинський р-н, Херсонської обл. | E9: Микорлаївська обл. м. Первомайськ вул. Марія Демченка 33 | F9: середньо-спеціальна Електротехнічний ліцей №7 2013р.електрогазозварювальник (пожежний рятувальник 3р.) | G9: одружений Дружина: Колеснікова Ганна Миколаївна, Микорлаївська обл. м. Первомайськ вул. Марія Демченка 33, тел. 0683767312 | H9: 956741071
A10: 3 | B10: солдат | C10: Опанасюк Ігор Перрович | D10: Миколаївська обл. м. Новий Буг | E10: Миколаївська обл. Новобузький р-н с. Нова Хрестофорівка буд. 65 | F10: середньо-спеціальна Новобузький аграрний професійний ліцей 2013р. (права категорії Б, С, СЕ, Фермерське господарство Орбіта Водій) | G10: Розлучений Мати: Опанасюк Валентина Ігорівна, Миколаївська обл. Новобузький р-н с. Нова Хрестофорівка буд. 65, тел. 0508511843 | H10: 934248356
A11: 11 | B11: солдат | C11: Ручин Дмитро Вікторович | D11: Миколаївська обл. м. Баштанка | E11: Миколаївська обл. м. Баштанка вул. Грушевського 46 | F11: середньо-спеціальна ПТУ №9 м. Баштанка 2015р. Кухар (пекарня 1р) | G11: неодружений Мати: Дмитренко Алла Петрівна, Миколаївська обл. м. Баштанка вул. Грушевського 46, тел, 0636322801 | H11: 983438936
A12: 5 | B12: солдат | C12: Солоденко Анатолій Сергійович | D12: Миколаївська обл. Вознесенський р-н, с. Яструбинове | E12: Миколаївська обл. Вознесенський р-н, с. Яструбинове вул. Першотравнева 20 | F12: середньо-спеціальна ПТУ №18 2016р. будівельник (Гружчик 1р.) | G12: неодружений Сестрат: Черемуха Анастасія Сергіївна, тел. 0985362292 | H12: 938839470
A13: 2 | B13: солдат | C13: Фістікан Василь Петрович | D13: Миколаївська обл. Первомайський р-н, с. Софіївка | E13: Миколаївська обл. Первомайський р-н, с. Синюшин Брід, вул. Перемоги 38 | F13: середньо-спеціальна ПТУ №22 м. Первомайськ 2018р. Маляр-Штукатур (Сканувальник на новій пошті) | G13: Неодружений Мати: Фістікан Марія Вікторівна, Миколаївська обл. Первомайський р-н, с. Синюшин Брід, вул. Молодіжна 8, тел. 0967926486 | H13: 967927329
A14: 10 | B14: солдат | C14: Чабан Михайло Григорович | D14: Миколаївська обл. Березанського р-н, с. Новоподілля | E14: м. Миколаїв, 12 Повздовжня 47а, кв. 59 | F14: середньо-спеціальна ліцей №13 2012р. Автослюсар (СТО 9р) | G14: одружений Дружина: Чабан Влада Владиславівна, м. Миколаїв, 12 Повздовжня 47а, кв. 59, тел. 0971910656 | H14: 967953093
A15: 14 | B15: солдат
A16: 15 | B16: солдат
A17: 16 | B17: солдат
A18: 17 | B18: солдат
A19: 18 | B19: солдат
A20: 19 | B20: солдат
A21: 20 | B21: солдат
A22: 21 | B22: солдат
A23: 22 | B23: солдат
A24: 23 | B24: солдат
A25: 24 | B25: солдат
A26: 25 | B26: солдат
... A101: 100 | B101: солдат
