Workbook

Sheet Основний
A4: ДОНЕСЕННЯ
A5: про зарахування військовослужбовців військової служби за контрактом на навчання до навчального центру (ВВНЗ, ВНП ЗВО)
A6: військова частина А2900
A7: найменування навчального центру (ВВНЗ, ВНЗ ЗВО)
A9: 1. Список військовослужбовців військової служби за контрактом, які зараховані на навчання
A10: № з/п | B10: Військове звання | C10: ПІБ | D10: Ким і коли призваний | E10: Область | F10: Дата народження | G10: Освіта | H10: ідентифікаційний код | I10: військовий квиток | J10: Номер та дата наказу про зарахування | K10: № телефону | L10: Підрозділ | M10: Куди та коли вибув | N10: З якої частини прибув (для курсантів з бригад) | O10: Примітка | P10: Де знаходиться
A12: 1 | B12: солдат | C12: Абрамян Артур Маратович | D12: Дарницьким РТЦК та СП у Київській обл. 26 лютого 2026 року | E12: Київ місто | F12: 36089 | G12: Школа №62 м. Донецьк 2014 | H12: 3608804152 | I12: 040520251458450705269/1 | J12: =VLOOKUP(C12,[1]Основний!$E$12:$Y$149,21,0)&" " & TEXT(VLOOKUP(C12,[1]Основний!$E$12:$Y$149,20,0),"dd.mm.yyyy") -> № 60 26.02.2026 | K12: 633131383 | L12: 1НР | N12: ТЦК | O12: СЗЧ
A13: 2 | B13: солдат | C13: Авраменко Андрій Миколайович | D13: Чернігівським РТЦК та СП у Чернігівській обл. 24 лютого 2026 року | E13: Чернігівська | F13: 30851 | G13: ХНУРЕ, 2006, радіотехніка | H13: 3085003094 | J13: =VLOOKUP(C13,[1]Основний!$E$12:$Y$149,21,0)&" " & TEXT(VLOOKUP(C13,[1]Основний!$E$12:$Y$149,20,0),"dd.mm.yyyy") -> № 58 24.02.2026 | K13: 0671971309 | L13: 1НР | N13: ТЦК | O13: А3316 Даша, Іра
A14: 3 | B14: солдат | C14: Алексенко Іван Миколайович | D14: Ніжинським РТЦК та СП у Чернігівській обл. 23 лютого 2026 року | E14: Чернігівська | F14: 35604 | G14: Конотопський аграрний ліцей, 2017, слюсар-механік | H14: 3560301717 | J14: =VLOOKUP(C14,[1]Основний!$E$12:$Y$149,21,0)&" " & TEXT(VLOOKUP(C14,[1]Основний!$E$12:$Y$149,20,0),"dd.mm.yyyy") -> № 57 23.02.2026 | K14: 0632905799 | L14: 1НР | N14: ТЦК | O14: СЗЧ
A15: 4 | B15: солдат | C15: Алієв Парвіз Натікбєкович | D15: Солом'янським РТЦК та СП у Київській обл. 23 лютого 2026 року | E15: Київ місто | F15: 30443 | G15: Київський політехнічний Інститут, 2005 Київський економічний Інститут, 2002 електотехнік, економіка | H15: 3044204097 | I15: АГ 629818 | J15: =VLOOKUP(C15,[1]Основний!$E$12:$Y$149,21,0)&" " & TEXT(VLOOKUP(C15,[1]Основний!$E$12:$Y$149,20,0),"dd.mm.yyyy") -> № 57 23.02.2026 | K15: 663135516 | L15: 1НР | N15: ТЦК | O15: СЗЧ
A16: 5 | B16: солдат | C16: Андрушко Вадим Валентинович | D16: Житомирським РТЦК та СП у Житомирській обл. 27 лютого 2026 року | E16: Житомирська | F16: 33544 | G16: Житомирське ПТУ №5, 2013, маляр-штукатур | H16: 3354308835 | I16: АГ 603287 | J16: =VLOOKUP(C16,[1]Основний!$E$12:$Y$149,21,0)&" " & TEXT(VLOOKUP(C16,[1]Основний!$E$12:$Y$149,20,0),"dd.mm.yyyy") -> № 61 27.02.2026 | K16: 982607646 | L16: 1НР | N16: ТЦК | O16: СЗЧ
A17: 6 | B17: солдат | C17: Анісімов Сергій Леонідович | D17: Ніжинським РТЦК та СП у Чернігівській обл. 22 лютого 2026 року | E17: Чернігівська | F17: 32799 | G17: Ніжинське ПТУ №35, водій-механік, 2008 | H17: 3279802570 | I17: АГ 633795 | J17: =VLOOKUP(C17,[1]Основний!$E$12:$Y$149,21,0)&" " & TEXT(VLOOKUP(C17,[1]Основний!$E$12:$Y$149,20,0),"dd.mm.yyyy") -> № 56 22.02.2026 | K17: 0985324330 | L17: 1НР | N17: ТЦК
A18: 7 | B18: солдат | C18: Антонюк Дмитро Русланович | D18: Хмільницьким РТЦК та СП у Вінницькій обл. 28 лютого 2026 року | E18: Вінницька | F18: 36242 | G18: Тульчинський коледж ветеринарної медецини м. Тульчин 2018 фельдшер ветеринарної медецини | H18: 3624109257 | I18: АГ 574988 | J18: =VLOOKUP(C18,[1]Основний!$E$12:$Y$149,21,0)&" " & TEXT(VLOOKUP(C18,[1]Основний!$E$12:$Y$149,20,0),"dd.mm.yyyy") -> № 62 28.02.2026 | K18: 976880495 | L18: 1НР | N18: ТЦК
A19: 8 | B19: солдат | C19: Антонюк Олександр Леонідович | D19: Житомирським РТЦК та СП у Житомирській обл. 25 лютого 2026 року | E19: Житомирська | F19: 29125 | G19: Київське училище №26 | H19: 2912410393 | I19: АГ 603239 | J19: =VLOOKUP(C19,[1]Основний!$E$12:$Y$149,21,0)&" " & TEXT(VLOOKUP(C19,[1]Основний!$E$12:$Y$149,20,0),"dd.mm.yyyy") -> № 59 25.02.2026 | K19: 975269074 | L19: 1НР | N19: ТЦК | O19: СЗЧ
A20: 9 | B20: солдат | C20: Бабич Андрій Васильович | D20: Житомирським РТЦК та СП у Житомирській обл. 27 лютого 2026 року | E20: Житомирська | F20: 30790 | G20: Чернігівське ПТУ №5, 2002, черговий по станції, провідник | H20: 3078922215 | I20: АГ 603272 | J20: =VLOOKUP(C20,[1]Основний!$E$12:$Y$149,21,0)&" " & TEXT(VLOOKUP(C20,[1]Основний!$E$12:$Y$149,20,0),"dd.mm.yyyy") -> № 61 27.02.2026 | K20: 989386733 | L20: 1НР | N20: ТЦК | O20: Шпиталь
A21: 10 | B21: солдат | C21: Баскаков Павло Анатолійович | D21: Шевченківським РТЦК та СП у Київській обл. 27 лютого 2026 року | E21: Київ місто | F21: 30743 | G21: Дніпродзержинський індустріальнгий коледж 2004 електрик | H21: 3074200978 | I21: 140220221425037600020/1 | J21: =VLOOKUP(C21,[1]Основний!$E$12:$Y$149,21,0)&" " & TEXT(VLOOKUP(C21,[1]Основний!$E$12:$Y$149,20,0),"dd.mm.yyyy") -> № 61 27.02.2026 | K21: 965569916 | L21: 1НР | N21: ТЦК
A22: 11 | B22: солдат | C22: Бершадський Олександр Миколайович | D22: Дніпровським РТЦК та СП у Київській обл. 26 лютого 2026 року | E22: Київ місто | F22: 33678 | G22: КПІ, 2016, ІТ | H22: 3367700733 | I22: довідка | J22: =VLOOKUP(C22,[1]Основний!$E$12:$Y$149,21,0)&" " & TEXT(VLOOKUP(C22,[1]Основний!$E$12:$Y$149,20,0),"dd.mm.yyyy") -> № 60 26.02.2026 | K22: 934043734 | L22: 1НР | N22: ТЦК | O22: СЗЧ
A23: 12 | B23: солдат | C23: Білоусов Сергій Вікторович | D23: Житомирським ОМТЦК та СП у Житомирській обл. 26 лютого 2026 року | E23: Житомирська | F23: 30198 | G23: Житомирська ЗОШ №2 | H23: ВМ632875 | I23: АГ 186080 | J23: =VLOOKUP(C23,[1]Основний!$E$12:$Y$149,21,0)&" " & TEXT(VLOOKUP(C23,[1]Основний!$E$12:$Y$149,20,0),"dd.mm.yyyy") -> № 60 26.02.2026 | K23: 990907846 | L23: 1НР | N23: ТЦК
A24: 13 | B24: солдат | C24: Бойко Геннадій Володимирович | E24: Сумська | F24: 29909 | G24: ПТУ №7, м. Охтирка, 1999, маляр-штукатур | H24: 2990807554 | I24: №250220261352624000001/2 Від 25.02.2026 | K24: 0665156739 | L24: 1НР | N24: Резерв Командуючого
A25: 14 | B25: солдат | C25: Большаков Костянтин Євгенович | D25: Дніпровським РТЦК та СП у Київській обл. 26 лютого 2026 року | E25: Київ місто | F25: 33787 | G25: Краснолуцький приладобудівний технікум м. Красний Луч 2013р економіка підприємства | H25: 3378604531 | I25: довідка | J25: =VLOOKUP(C25,[1]Основний!$E$12:$Y$149,21,0)&" " & TEXT(VLOOKUP(C25,[1]Основний!$E$12:$Y$149,20,0),"dd.mm.yyyy") -> № 60 26.02.2026 | K25: 995045246 | L25: 1НР | N25: ТЦК | O25: СЗЧ
A26: 15 | B26: солдат | C26: Бондар Андрій Васильович | D26: Хмільницьким РТЦК та СП у Вінницькій обл. 22 лютого 2026 року | E26: Вінницька | F26: 32353 | G26: Стрижовська СВК | H26: 3235207996 | I26: АГ 574967 | J26: =VLOOKUP(C26,[1]Основний!$E$12:$Y$149,21,0)&" " & TEXT(VLOOKUP(C26,[1]Основний!$E$12:$Y$149,20,0),"dd.mm.yyyy") -> № 57 23.02.2026 | K26: 970255251 | L26: 1НР | N26: ТЦК
A27: 16 | B27: солдат | C27: Борисов Дмитро Сергійович | D27: Чернігівським МТЦК та СП у Чернігівській обл. 22 лютого 2026 року | E27: Чернігівська | F27: 30818 | G27: ПУ 63, станиця Денська, Денський р-н., Краснодарський край, водій-автомеханік, 2005 | H27: 3081727094 | I27: СО 871538 | J27: =VLOOKUP(C27,[1]Основний!$E$12:$Y$149,21,0)&" " & TEXT(VLOOKUP(C27,[1]Основний!$E$12:$Y$149,20,0),"dd.mm.yyyy") -> № 56 22.02.2026 | K27: 0969311148 | L27: 1НР | N27: ТЦК
A28: 17 | B28: солдат | C28: Бородавко Віталій Михайлович | D28: Ніжинським РТЦК та СП у Чернігівській обл. 21 лютого 2026 року | E28: Чернігівська | F28: 32791 | G28: повна середня Ніжинська ЗОШ №7 | H28: 3279006554 | I28: АГ 633793 | J28: =VLOOKUP(C28,[1]Основний!$E$12:$Y$149,21,0)&" " & TEXT(VLOOKUP(C28,[1]Основний!$E$12:$Y$149,20,0),"dd.mm.yyyy") -> № 55 21.02.2026 | K28: немає | L28: 1НР | N28: ТЦК
A29: 18 | B29: солдат | C29: Брискін Денис Сергійович | D29: Ніжинським РТЦК та СП у Чернігівській обл. 24 лютого 2026 року | E29: Чернігівська | F29: 30197 | G29: Рамаданівська ЗОШ, 2000 | H29: 3019609990 | J29: =VLOOKUP(C29,[1]Основний!$E$12:$Y$149,21,0)&" " & TEXT(VLOOKUP(C29,[1]Основний!$E$12:$Y$149,20,0),"dd.mm.yyyy") -> № 58 24.02.2026 | K29: 0960389583 | L29: 1НР | N29: ТЦК
A30: 19 | B30: солдат | C30: Бродовський Вадим Феліксович | D30: Житомирським РТЦК та СП у Житомирській обл. 28 лютого 2026 року | E30: Житомирська | F30: 28438 | G30: Баранівське ПТУ №11 | H30: 2843714031 | I30: АГ 603250 | J30: =VLOOKUP(C30,[1]Основний!$E$12:$Y$149,21,0)&" " & TEXT(VLOOKUP(C30,[1]Основний!$E$12:$Y$149,20,0),"dd.mm.yyyy") -> № 62 28.02.2026 | K30: не вказано | L30: 1НР | N30: ТЦК | O30: СЗЧ
A31: 20 | B31: солдат | C31: Бруяка Максим Юрійович | D31: Сумським МТЦК та СП у Сумській обл. 25.12.2025 | E31: Сумська | F31: 35366 | G31: Школа №12, м. Суми | H31: 3536512192 | I31: АВ 960514 | K31: 0502773062 | L31: 1НР | N31: Резерв Командуючого
A32: 21 | B32: солдат | C32: Бурковцов Андрій Юрійович | D32: Роменським ТЦК та СП у Сумській обл. 27.02.2026 | E32: Сумська | F32: 32395 | G32: НДУ ім. Гоголя, м. Ніжин, Чернігівська обл. спеціаліст вчитель Історії і права ДАКККІМ м. Київ, бакалавр, дизайнер середовища КДАІС м. Київ, бакалавр, священослужитель | H32: 3239413855 | I32: АВ 949437 | K32: 0973166440 | L32: 1НР | N32: Резерв Командуючого | O32: На 2 курс Пропуск 23 дні
A33: 22 | B33: солдат | C33: Бутко Руслан Павлович | D33: Дарницьким РТЦК та СП у Київській обл. 26 лютого 2026 року | E33: Київ місто | F33: 36005 | G33: Вільшансько Новоселівська ЗОШ | H33: 3600408276 | I33: 250620235816010600001/1 | J33: =VLOOKUP(C33,[1]Основний!$E$12:$Y$149,21,0)&" " & TEXT(VLOOKUP(C33,[1]Основний!$E$12:$Y$149,20,0),"dd.mm.yyyy") -> № 60 26.02.2026 | K33: 962685449 | L33: 1НР | N33: ТЦК | O33: СЗЧ
A34: 23 | B34: солдат | C34: Васильченко Сергій Анатолійович | D34: Роменським РТЦК та СП у Сумській обл. 26.02.2026 | E34: Сумська | F34: 34290 | G34: Пустовійтівська ЗОШ | H34: 3428909730 | I34: АВ 949433 | K34: не надано | L34: 1НР | N34: Резерв Командуючого
A35: 24 | B35: солдат | C35: Верба Володимир Олександрович | D35: Конотопським РТЦК та СП у Сумській обл. 27.02.2026 | E35: Сумська | F35: 34939 | G35: ПТУ, м. Кременчук, 2013, маляр-штукатур | H35: 3493804851 | I35: АВ 552749 | K35: 0685689787 | L35: 1НР | N35: Резерв Командуючого | O35: Шпиталь
A36: 25 | B36: солдат | C36: Верстюк Євген Дмитрович | D36: Новобоварським РТЦК та СП у Харківській обл. 30.12.2025 | E36: Харківська | F36: 28220 | G36: Новомосковський Сільхоз технікум м. Новомосковськ, Дніпропетровська обл., 1998 ветфельшер | H36: 2821912276 | I36: АВ909239 | K36: 0678946217 | L36: 1НР | N36: Резерв Командуючого | O36: Шпиталь
A37: 26 | B37: солдат | C37: Вигівський Денис Анатолійович | D37: Дніпровським РТЦК та СП у Київській обл. 27 лютого 2026 року | E37: Київ місто | F37: 31683 | G37: КНУ туризму економіки та права, 2009, менеджмент організації | H37: 3168215372 | I37: 070920231320634500225/1 | J37: =VLOOKUP(C37,[1]Основний!$E$12:$Y$149,21,0)&" " & TEXT(VLOOKUP(C37,[1]Основний!$E$12:$Y$149,20,0),"dd.mm.yyyy") -> № 61 27.02.2026 | K37: 983622020 | L37: 1НР | N37: ТЦК
A38: 27 | B38: солдат | C38: Войку Олег Георгійович | D38: Новобоварським РТЦК та СП у Харківській обл. 20.02.2026 | E38: Харківська | F38: 32488 | G38: ХНАМГ, 2004, менеджер організації міського господарства | H38: 3248704812 | I38: АГ 330242 | K38: 0957796772 | L38: 1НР | N38: Резерв Командуючого
A39: 28 | B39: солдат | C39: Гаврик Євген Анатолійович | D39: Білоцерківським РТЦК та СП у Київській обл. 23 лютого 2026 року | E39: Київ обл | F39: 31955 | G39: ПТУ №18, м. Фастів, 2005, столяр | H39: 3195413716 | I39: довідка | J39: =VLOOKUP(C39,[1]Основний!$E$12:$Y$149,21,0)&" " & TEXT(VLOOKUP(C39,[1]Основний!$E$12:$Y$149,20,0),"dd.mm.yyyy") -> № 57 23.02.2026 | K39: 0632444929 | L39: 1НР | N39: ТЦК
A40: 29 | B40: солдат | C40: Гончаренко Вячеслав Вікторович | D40: Шевченківським РТЦК та СП у Київській обл. 25 лютого 2026 року | E40: Київ місто | F40: 30004 | G40: Національний транспортний університет м. Київ 2009р вантажні перевезення та логістика | H40: 3000315097 | I40: МО 498066 | J40: =VLOOKUP(C40,[1]Основний!$E$12:$Y$149,21,0)&" " & TEXT(VLOOKUP(C40,[1]Основний!$E$12:$Y$149,20,0),"dd.mm.yyyy") -> № 59 25.02.2026 | K40: 675504137 | L40: 1НР | N40: ТЦК
A41: 30 | B41: солдат | C41: Гончарук Владислав Миколайович | D41: Білоцерківським РТЦК та СП у Київській обл. 21 лютого 2026 року | E41: Київ обл | F41: 36604 | G41: повна середня Білоцерківська ЗОШ №11 | H41: 3660308950 | I41: АВ 970998 | J41: =VLOOKUP(C41,[1]Основний!$E$12:$Y$149,21,0)&" " & TEXT(VLOOKUP(C41,[1]Основний!$E$12:$Y$149,20,0),"dd.mm.yyyy") -> № 56 22.02.2026 | K41: 0977019587 | L41: 1НР | N41: ТЦК | O41: СЗЧ
A42: 31 | B42: солдат | C42: Горбачов Богдан Віталійович | D42: Святошинським РТЦК та СП у Київській обл. 25 лютого 2026 року | E42: Київ місто | F42: 36786 | G42: КПЛБ і КГ м. Київ 2019 слюсар, електрик на устаткуванні електричного транспорту | H42: 3678507715 | I42: АГ 606223 | J42: =VLOOKUP(C42,[1]Основний!$E$12:$Y$149,21,0)&" " & TEXT(VLOOKUP(C42,[1]Основний!$E$12:$Y$149,20,0),"dd.mm.yyyy") -> № 59 25.02.2026 | K42: 972308159 | L42: 1НР | N42: ТЦК | O42: А4355 по розподілу рекомендаційний лист
A43: 32 | B43: солдат | C43: Грабко Андрій Іванович | D43: Сумським МТЦК та СП у Сумській обл. 23.02.2026 | E43: Сумська | F43: 31673 | G43: СНАУ м. Суми 2010 магістр | H43: 3167201934 | I43: АВ 949483 | K43: 0671979898 | L43: 1НР | N43: Резерв Командуючого
A44: 33 | B44: солдат | C44: Гречанюк Денис Сергійович | D44: Солом'янським РТЦК та СП у Київській обл. 23 лютого 2026 року | E44: Київ місто | F44: 35102 | G44: КНАУ, 2016, економіст-кібернетик | H44: 3510103050 | I44: АГ 629824 | J44: =VLOOKUP(C44,[1]Основний!$E$12:$Y$149,21,0)&" " & TEXT(VLOOKUP(C44,[1]Основний!$E$12:$Y$149,20,0),"dd.mm.yyyy") -> № 57 23.02.2026 | K44: 0505278293 0636001376 | L44: 1НР | N44: ТЦК | O44: Вибув у ШПР
A45: 34 | B45: солдат | C45: Гріщенко Максим Олегович | D45: Солом'янським РТЦК та СП у Київській обл. 28 лютого 2026 року | E45: Київ місто | F45: 32120 | G45: ДУІТ, м. Київ, 2012 | H45: 3211914316 | I45: АГ 629881 | J45: =VLOOKUP(C45,[1]Основний!$E$12:$Y$149,21,0)&" " & TEXT(VLOOKUP(C45,[1]Основний!$E$12:$Y$149,20,0),"dd.mm.yyyy") -> № 62 28.02.2026 | K45: 976009086 | L45: 1НР | N45: ТЦК | O45: Шпиталь
...

Sheet Settings
A1: базова загальна середня | C1: Придатний до військової служби | J1: Вінницька | K1: солдат | L1: I Rh -
A2: повна загальна середня | C2: Придатний до служби на підводних човнох, на надводних кораблях, у морській піхоті, Десантно-штурмових військах, спеціальних спорудах, підрозділах спеціального призначення | E2: Вінниця | F2: 1 відділ Хмільницький РТЦК | G2: першого відділу Хмільницького районного | H2: Вінницька | I2: Вінницького ОТЦК та СП | J2: Волинь | K2: старший солдат | L2: I Rh +
A3: професійно- технічна | C3: Придатний до служби у військових частинах забезпечення, ТЦК та СП, ВВНЗ, навчальних центрах, закладах (установах), медичних підрозділах, підрозділах логістики, зв'язку, оперативного забезпечення, охорони | E3: Вінниця | F3: 2 відділ Хмільницький РТЦК | G3: другого відділу Хмільницького районного | H3: Вінницька | I3: Вінницького ОТЦК та СП | J3: Дніпро | K3: молодший сержант | L3: II Rh -
A4: вища | E4: Вінниця | F4: 7 відділ Вінницький РТЦК | G4: сьомого відділу Вінницького районного | H4: Вінницька | I4: Вінницького ОТЦК та СП | J4: Донецьк | K4: сержант | L4: II Rh +
E5: Вінниця | F5: Вінницький ОМТЦК | G5: Вінницького об'єднаного міського | H5: Вінницька | I5: Вінницького ОТЦК та СП | J5: Житомир | K5: старший сержант | L5: III Rh -
E6: Вінниця | F6: 1 відділ Вінницький РТЦК | G6: першого відділу Вінницького районного | H6: Вінницька | I6: Вінницького ОТЦК та СП | J6: Закарпаття | K6: штаб-сержант | L6: III Rh +
E7: Вінниця | F7: 1 відділ Жмеринський РТЦК | G7: першого відділу Жмеринського районного | H7: Вінницька | I7: Вінницького ОТЦК та СП | J7: Запоріжжя | K7: матрос | L7: IV Rh -
E8: Вінниця | F8: Тульчинський РТЦК | G8: Тульчинського районного | H8: Вінницька | I8: Вінницького ОТЦК та СП | J8: Івано-Франківськ | K8: старший матрос | L8: IV Rh +
E9: Вінниця | F9: Хмільницький РТЦК | G9: Хмільницького районного | H9: Вінницька | I9: Вінницького ОТЦК та СП | J9: Київ місто | K9: старшина
E10: Вінниця | F10: 1 відділ Могилів-Подільський РТЦК | G10: першого відділу Могилів-Подільського районного | H10: Вінницька | I10: Вінницького ОТЦК та СП | J10: Київ обл | K10: старшина I статті
E11: Вінниця | F11: 1 відділ Тульчинський РТЦК | G11: першого відділу Тульчинського районного | H11: Вінницька | I11: Вінницького ОТЦК та СП | J11: Кропивницький | K11: головний старшина
E12: Вінниця | F12: 2 відділ Вінницький РТЦК | G12: другого відділу Вінницького районного | H12: Вінницька | I12: Вінницького ОТЦК та СП | J12: Луганськ | K12: прапорщик
E13: Вінниця | F13: 2 відділ Жмеринський РТЦК | G13: другого відділу Жмеринського районного | H13: Вінницька | I13: Вінницького ОТЦК та СП | J13: Львів
E14: Вінниця | F14: 2 відділ Могилів-Подільський РТЦК | G14: другого відділу Могилів-Подільського районного | H14: Вінницька | I14: Вінницького ОТЦК та СП | J14: Миколаїв
E15: Вінниця | F15: 2 відділ Тульчинський РТЦК | G15: другого відділу Тульчинського районного | H15: Вінницька | I15: Вінницького ОТЦК та СП | J15: Одеса
E16: Вінниця | F16: 3 відділ Вінницький РТЦК | G16: третього відділу Вінницького районного | H16: Вінницька | I16: Вінницького ОТЦК та СП | J16: Полтава
E17: Вінниця | F17: 3 відділ Могилів-Подільський РТЦК | G17: третього відділу Могилів-Подільського районного | H17: Вінницька | I17: Вінницького ОТЦК та СП | J17: Рівне
E18: Вінниця | F18: 3 відділ Тульчинський РТЦК | G18: третього відділу Тульчинського районного | H18: Вінницька | I18: Вінницького ОТЦК та СП | J18: Суми
E19: Вінниця | F19: 4 відділ Вінницький РТЦК | G19: четвертого відділу Вінницького районного | H19: Вінницька | I19: Вінницького ОТЦК та СП | J19: Тернопіль
E20: Вінниця | F20: 5 відділ Вінницький РТЦК | G20: п'ятого відділу Вінницького районного | H20: Вінницька | I20: Вінницького ОТЦК та СП | J20: Харків
E21: Вінниця | F21: 6 відділ Вінницький РТЦК | G21: шостого відділу Вінницького районного | H21: Вінницька | I21: Вінницького ОТЦК та СП | J21: Херсон
E22: Вінниця | F22: Вінницький РТЦК | G22: Вінницького районного | H22: Вінницька | I22: Вінницького ОТЦК та СП | J22: Хмельницький
E23: Вінниця | F23: Гайсинський РТЦК | G23: Гайсинського районного | H23: Вінницька | I23: Вінницького ОТЦК та СП | J23: Черкаси
E24: Вінниця | F24: 1 відділ Гайсинський РТЦК | G24: першого відділу Гайсинського районного | H24: Вінницька | I24: Вінницького ОТЦК та СП | J24: Чернівці
E25: Вінниця | F25: 2 відділ Гайсинський РТЦК | G25: другого відділу Гайсинського районного | H25: Вінницька | I25: Вінницького ОТЦК та СП | J25: Чернігів
E26: Вінниця | F26: Жмеринський РТЦК | G26: Жмеринського районного | H26: Вінницька | I26: Вінницького ОТЦК та СП
E27: Вінниця | F27: Могилів-Подільський РТЦК | G27: Могилів-Подільського районного | H27: Вінницька | I27: Вінницького ОТЦК та СП
E28: Волинь | F28: 1 відділ Камінь-Каширський РТЦК | G28: першого відділу Камінь-Каширського районного | H28: Волинська | I28: Волинського ОТЦК та СП
E29: Волинь | F29: 1 відділ Ковельський РТЦК | G29: першого відділу Ковельського районного | H29: Волинська | I29: Волинського ОТЦК та СП
E30: Волинь | F30: 2 відділ Ковельський РТЦК | G30: другого відділу Ковельського районного | H30: Волинська | I30: Волинського ОТЦК та СП
E31: Волинь | F31: 4 відділ Ковельський РТЦК | G31: четвертого відділу Ковельського районного | H31: Волинська | I31: Волинського ОТЦК та СП
E32: Волинь | F32: 3 відділ Ковельський РТЦК | G32: третього відділу Ковельського районного | H32: Волинська | I32: Волинського ОТЦК та СП
E33: Волинь | F33: 5 відділ Ковельський РТЦК | G33: п'ятого відділу Ковельського районного | H33: Волинська | I33: Волинського ОТЦК та СП
E34: Волинь | F34: Луцький ОМТЦК | G34: Луцького об'єднаного міського | H34: Волинська | I34: Волинського ОТЦК та СП
E35: Волинь | F35: 2 відділ Камінь-Каширський РТЦК | G35: другого відділу Камінь-Каширського районного | H35: Волинська | I35: Волинського ОТЦК та СП
E36: Волинь | F36: 1 відділ Луцький РТЦК | G36: першого відділу Луцького районного | H36: Волинська | I36: Волинського ОТЦК та СП
E37: Волинь | F37: 2 відділ Луцький РТЦК | G37: другого відділу Луцького районного | H37: Волинська | I37: Волинського ОТЦК та СП
... E56: Дніпро | F56: 2 відділ Дніпровського РТЦК та СП | G56: другого відділу Дніпровського районного | H56: Дніпропетровська | I56: Дніпропетровського ОТЦК та СП
D57: міста Дніпра | E57: Дніпро | F57: Дніпровський РТЦК та СП | G57: Дніпровського районного | H57: Дніпропетровська | I57: Дніпропетровського ОТЦК та СП
D58: міста Дніпра | E58: Дніпро | F58: Індустріальний РТЦК та СП | G58: Індустріального районного | H58: Дніпропетровська | I58: Дніпропетровського ОТЦК та СП
...

Sheet перевірки
C1: =Основний!C11 -> 0
C2: =Основний!C12 -> Абрамян Артур Маратович | E2: =C2=G2 -> FALSE | F2: солдат | G2: Буховський Леонід Валентинович | H2: Житомирська обл. м.Житомир | I2: Житомирська обл. м.Житомир вул.Вільський Шлях 101 | J2: професійно- технічна | K2: ПТУ№5 м.Житомир 1996 | L2: Столяр 2 роки | M2: мати: Буховська Валентина Аркадівна -1954- 0962586509 - Житомирська обл. м.Житомир вул.Вільський Шлях 101 брат: Буховський Віталій Валентинович -1975- 0967667335 - Житомирська обл. м.Житомир вул.Вільський Шлях 101 | N2: 0980147147
C3: =Основний!C13 -> Авраменко Андрій Миколайович | E3: =C3=G3 -> FALSE | F3: солдат | G3: Ворона Валерій Павлович | H3: Черкаська обл. с.Явонівка | I3: Київська обл. м.Буча вул.Амосова 4 кв 30 | J3: професійно- технічна | K3: ПТУ№13 м.Сміла 2015 маляр-штукатур | L3: Будівельник 5 років Права Б | M3: дружина: Ворона Вікторія Ігорівна -1997- 0966920138 - Київська обл. м.Буча вул.Амосова 4 кв 30 мати: Ворона Наталія Юхимівна -1977- 0989265328 - Черкаська обл. с.Дацьке вул.Лугова 26 | N3: 0980326466
C4: =Основний!C14 -> Алексенко Іван Миколайович | E4: =C4=G4 -> FALSE | F4: солдат | G4: Главацький Олександр Вікторович | H4: с.Степівка Деражнянський р-н Хмельницька обл. | I4: с.Степівка вул.Дружби 62 Деражнянський р-н Хмельницька обл. | J4: професійно- технічна | K4: ПТУ | L4: не працював | M4: неодружений мати:Главацька Ірина Василівна -1976-0973874557-с.Степівка вул.Дружби 62 Деражнянський р-н Хмельницька обл. двоюрідна Сестра;Назарова Дарина Вікторівна -0684944220-с.Степівка вул.Дружби 62 Деражнянський р-н Хмельницька обл. | N4: 0681244550
C5: =Основний!C15 -> Алієв Парвіз Натікбєкович | E5: =C5=G5 -> FALSE | F5: солдат | G5: Глущак Ігор Васильович | H5: Вінницька обл. с.Сугаки | I5: Вінницька обл. с.Сугаки вул.Леніна 13 | J5: вища | K5: Вінницький національний аграрний університет 2023 тваринництво | L5: оператор елеватора 4 роки | M5: мати: Глущак Любов Степанівна -1974- 0686018922 - Вінницька обл. с.Сугаки вул.Леніна 13 батько: Глущак Василь Петрович -1972- 0687234106 -Вінницька обл. с.Сугаки вул.Леніна 13 | N5: 0979201201
C6: =Основний!C16 -> Андрушко Вадим Валентинович | E6: =C6=G6 -> FALSE | F6: старший сержант | G6: Голосовський Дмитро Олександрович | H6: Росія, М.Сант Петербург. | I6: М.Кривий-Ріг, вул. Чорнобривців 61. | J6: професійно- технічна | K6: ПТУ №45 м. Кривий-Ріг 1996 електрозварник | L6: зварювальнтк 2 роки, права Б | M6: мати: Голосовська Ольга Миколаївна - 1948 - 0962338208 - М.Кривий-Ріг, вул. Чорнобривців 61. сестра: Скрипник Наталія Олександрівна - 1982 - 0979321079 - М.Кривий-Ріг, вул. Чорнобривців 118. | N6: 0980077090
C7: =Основний!C17 -> Анісімов Сергій Леонідович | E7: =C7=G7 -> FALSE | F7: солдат | G7: Домброва Володимир Ярославович | H7: Київська обл. м. Обухів. | I7: Київська обл. м. Обухів, вул Київська 109, кв. 15. | J7: вища | K7: м. Київ, Університет Україна, 2021, Автомобільний Транспорт | L7: Нова Пошта, Укладальник пакувальник, 1 рік, права А,А1, Б | M7: мати: Домброва Людмила Михалівна - 1970 - 0631814208 - Київська обл. м. Обухів, вул Київська 109, кв. 15. брат:Постол Віталій Михайлович - 1991 - 0969507753 - Київська обл. м. Обухів. | N7: 0660031239
C8: =Основний!C18 -> Антонюк Дмитро Русланович | E8: =C8=G8 -> FALSE | F8: солдат | G8: Єрмаков Олександр Валерійович | H8: Київська обл. с.Ксаверівка | I8: Київська обл. с.Коцюбинське вул.Меблева 2 кв 1 | J8: професійно- технічна | K8: ВПУ №45 м.Київ 1998 продавець | L8: кладовщик 1 рік | M8: не має | N8: 0689604699
C9: =Основний!C19 -> Антонюк Олександр Леонідович | E9: =C9=G9 -> FALSE | F9: солдат | G9: Житник Максим Володимирович | H9: Київська обл. Переяслів-Хмельницький район. С. Студеники, вул Студениківська 26. | I9: м. Хмельницьк, вул. Молодіжна 2\1д. | J9: професійно- технічна | K9: ПТУ №22 м. Переяслів-Хмельницький, 2017, зварювалбнтк | L9: водопровідник 5 років. | M9: брат: Житник Павло Володимирович - 1985 - 0689771618 - Київська обл. Переяслів-Хмельницький район. С. Студеники, вул Озерна. матір: Житник Лідія Леонідівна - 1962 - 0962605185 - Київська обл. Переяслів-Хмельницький район. С. Студеники, вул Студениківська 26. | N9: 0506026412
C10: =Основний!C20 -> Бабич Андрій Васильович | E10: =C10=G10 -> FALSE | F10: солдат | G10: Зеленов Артем Олександрович | H10: Дніпропетровська обл. м.Кам'янське | I10: Київська обл. с.Горенич вул.Гайдая 6 кв 28 | J10: професійно- технічна | K10: ПТУ№26 м.Кам'янське 2005 автослюсар | L10: Водія навантажувача 2 роки Права Б,С | M10: дружина: Бельговська Вероніка Русланівна -1996- 0986773868 - Київська обл. с.Горенич вул.Гайдая 6 кв 28 мати: Перетятько Наталія Іванівна -1968- +48731927796 Польша м.Варшава | N10: 0680576727
C11: =Основний!C21 -> Баскаков Павло Анатолійович | E11: =C11=G11 -> FALSE | F11: солдат | G11: Злачевський Сергій Миколайович | H11: Кіровоградська обл.м.Помічна | I11: м.Житомир вул.Довженка 4 кв 2 | J11: вища | K11: Кіровоградський державний педагогічний університет ім.Винниченка 2000 спеціаліст фізичного виховання і спорту | L11: монтажник натяжних стель 4 роки, права Б. | M11: одружений дружина:Злачевська Юлія Вячеславівна -1977-0974851867-м.Житомир вул.Довженка 4 кв 2 мати;Злачевська Ніна Федорівна-1954-0673384890-Кіровоградська обл.м.Помічна вул.Небеснои Сотні 213 кв 15 | N11: 0969093375
C12: =Основний!C22 -> Бершадський Олександр Миколайович | E12: =C12=G12 -> FALSE | F12: солдат | G12: Іщенко Руслан Олександрович | H12: м.Кропинвицький | I12: м.Кропивницький вул.Гоголя 26 кв 22 | J12: вища | K12: Кіровоградський національний технічний університет 2016р.Інженер будівельник | L12: Продавець консультант непродовольчих товарів 6 місяців | M12: неодружений батько;Іщенко Олександр Владиславович -1965р-0969523816-м.Киів мати;Іщенко Світлана Сергіівна -1970-0500222466-Кіровоградська обл.смт Капітанівка вул.Смілянська 50 | N12: 0506401321
C13: =Основний!C23 -> Білоусов Сергій Вікторович | E13: =C13=G13 -> FALSE | F13: солдат | G13: Коломійчук Роман Геннадійович | H13: м.Житромир | I13: м.Житомир вул.Космонавтів 14 кв 69 | J13: вища | K13: Агро Технічний Коледж м.Житомир 2021р.Інженер механік | L13: водій 3 міс.Права Б С | M13: неодружений батько;Коломійчук Генадій Васильович -1973-0672709255-м.Житомир вул.Вітрука 29кв 98 кум:Багінський Андрій Віталійович -2000-0635996794-м.Житомир вул.Гоголівська 96 кв 18 | N13: 0681120757
... C36: =Основний!C46 -> Грох Андрій Вікторович | E36: =C36=G36 -> FALSE | F36: солдат | G36: Яценко Віктор Вікторович | H36: Черкаська обл. с.Вергуни | I36: Черкаська обл. с.Вергуни вул.Св'ятотроїцька 94 | J36: професійно- технічна | K36: ПТУ№13 м.Черкаси 2010 слюсар-електрик | L36: Транспортувальник 13 років | M36: дружина: Яценко Світлана Сергіївна -1991- 0685053810 - м.Черкаси вул.Гоголя 580/1 кв 110 мати: Яценко Вікторія Дмитрівна -1972- 0963904177 - Черкаська обл. с.Вергуни вул.Св'ятотроїцька 94 | N36: 0984800263
C37: =Основний!C47 -> Грузинський Юрій Миколайович | E37: =C37=G37 -> FALSE
C38: =Основний!C48 -> Гуленко Владислав Олександрович | E38: =C38=G38 -> FALSE
C39: =Основний!C49 -> Гусєв Євгеній Олександрович | E39: =C39=G39 -> FALSE
C40: =Основний!C50 -> Давиденко Богдан Миколайович | E40: =C40=G40 -> FALSE
C41: =Основний!C51 -> Дацюк Вячеслав Іванович | E41: =C41=G41 -> FALSE
C42: =Основний!C52 -> Денисенко Артем Олегович | E42: =C42=G42 -> FALSE
C43: =Основний!C53 -> Деревлюк Сергій Степанович | E43: =C43=G43 -> FALSE
C44: =Основний!C54 -> Деркач Антон Олександрович | E44: =C44=G44 -> FALSE
C45: =Основний!C55 -> Дрига Сергій Олександрович | E45: =C45=G45 -> FALSE
C46: =Основний!C56 -> Єрмаков Дмитро Олександрович | E46: =C46=G46 -> FALSE
C47: =Основний!C57 -> Жеребцов Данило Вадимович | E47: =C47=G47 -> FALSE
C48: =Основний!C58 -> Забайрачний Антон Валерійович | E48: =C48=G48 -> FALSE
... C93: =Основний!C103 -> Поліщенко Олександр Петрович | E93: =C93=G93 -> FALSE
C94: =Основний!C104 -> Полторацький Сергій Олександрович
C95: =Основний!C105 -> Пономаренко Володимир Миколайович
C96: =Основний!C106 -> Прищепчук Андрій Олександрович
C97: =Основний!C107 -> Прокопчук Євген Антонович
C98: =Основний!C108 -> Пятніков Анатолій Вікторович
C99: =Основний!C109 -> Редько Вадим Юрійович
C100: =Основний!C110 -> Різничок Ігор Миколайович
C101: =Основний!C111 -> Романцов Ілля Андрійович
C102: =Основний!C112 -> Савицький Олексій Васильович
C103: =Основний!C113 -> Садика Роман Олександрович
C104: =Основний!C114 -> Сардачук Олексій Вікторович
C105: =Основний!C115 -> Скандаков Віталій Олександрович
C106: =Основний!C116 -> Скромінський Ярослав Вікторович

Sheet Перевірка
A1: {=Основний!A10:A179} -> № з/п | B1: {=CONCATENATE("", Основний!C10:C179)} -> ПІБ | C1: {=CONCATENATE("", TEXT(Основний!F10:F179,"dd.mm.yyyy"))} -> Дата народження | D1: {=CONCATENATE("", Основний!H10:H179)} -> ідентифікаційний код | E1: Перевірка | F1: {=CONCATENATE("", Основний!I10:I179)} -> військовий квиток | G1: Перевірка | H1: {=CONCATENATE("", Основний!#REF!)} -> #REF! | I1: Перевірка | J1: Алфавітка | K1: Д = А | L1: Поіменний Список | M1: Д = ПС | N1: А = ПС
A2: 0 | C2: 00.01.1900 | J2: - | K2: - | L2: - | M2: - | N2: - | O2: =DATEVALUE(C2) <> INT(LEFT(D2,5)) +1 -> #VALUE!
A3: 1 | B3: Абрамян Артур Маратович | C3: 21.10.1998 | D3: 3608804152 | E3: =IF(D3="", "", LEN(D3)) -> 10 | F3: 040520251458450705269/1 | G3: =IF(F3="", "", LEN(F3)) -> 23 | I3: =IF(H3="", "", LEN(H3)) | J3: Антоненко Руслан Олександрович | K3: =IF(J3="", "", B3=J3) -> FALSE | M3: =IF(L3="", "", B3=L3) | N3: =IF(L3="", "", J3=L3) | O3: =DATEVALUE(C3) <> INT(LEFT(D3,5)) +1 -> FALSE | P3: =DATEVALUE(C3) -> 36089
A4: 2 | B4: Авраменко Андрій Миколайович | C4: 18.06.1984 | D4: 3085003094 | E4: =IF(D4="", "", LEN(D4)) -> 10 | G4: =IF(F4="", "", LEN(F4)) | I4: =IF(H4="", "", LEN(H4)) | J4: Баранов Дмитро Геннадійович | K4: =IF(J4="", "", B4=J4) -> FALSE | M4: =IF(L4="", "", B4=L4) | N4: =IF(L4="", "", J4=L4) | O4: =DATEVALUE(C4) <> INT(LEFT(D4,5)) +1 -> FALSE
A5: 3 | B5: Алексенко Іван Миколайович | C5: 23.06.1997 | D5: 3560301717 | E5: =IF(D5="", "", LEN(D5)) -> 10 | G5: =IF(F5="", "", LEN(F5)) | I5: =IF(H5="", "", LEN(H5)) | J5: Боровик Юрій Володимирович | K5: =IF(J5="", "", B5=J5) -> FALSE | M5: =IF(L5="", "", B5=L5) | N5: =IF(L5="", "", J5=L5) | O5: =DATEVALUE(C5) <> INT(LEFT(D5,5)) +1 -> FALSE
A6: 4 | B6: Алієв Парвіз Натікбєкович | C6: 07.05.1983 | D6: 3044204097 | E6: =IF(D6="", "", LEN(D6)) -> 10 | F6: АГ 629818 | G6: =IF(F6="", "", LEN(F6)) -> 9 | I6: =IF(H6="", "", LEN(H6)) | J6: Горбатенко Олександр Олегович | K6: =IF(J6="", "", B6=J6) -> FALSE | M6: =IF(L6="", "", B6=L6) | N6: =IF(L6="", "", J6=L6)
A7: 5 | B7: Андрушко Вадим Валентинович | C7: 02.11.1991 | D7: 3354308835 | E7: =IF(D7="", "", LEN(D7)) -> 10 | F7: АГ 603287 | G7: =IF(F7="", "", LEN(F7)) -> 9 | I7: =IF(H7="", "", LEN(H7)) | J7: Жестовський Сергій Сергійович | K7: =IF(J7="", "", B7=J7) -> FALSE | M7: =IF(L7="", "", B7=L7) | N7: =IF(L7="", "", J7=L7)
A8: 6 | B8: Анісімов Сергій Леонідович | C8: 18.10.1989 | D8: 3279802570 | E8: =IF(D8="", "", LEN(D8)) -> 10 | F8: АГ 633795 | G8: =IF(F8="", "", LEN(F8)) -> 9 | I8: =IF(H8="", "", LEN(H8)) | J8: Ісаков Олександр Сергійович | K8: =IF(J8="", "", B8=J8) -> FALSE | M8: =IF(L8="", "", B8=L8) | N8: =IF(L8="", "", J8=L8)
A9: 7 | B9: Антонюк Дмитро Русланович | C9: 23.03.1999 | D9: 3624109257 | E9: =IF(D9="", "", LEN(D9)) -> 10 | F9: АГ 574988 | G9: =IF(F9="", "", LEN(F9)) -> 9 | I9: =IF(H9="", "", LEN(H9)) | J9: Клімчук Олександр Олександрович | K9: =IF(J9="", "", B9=J9) -> FALSE | M9: =IF(L9="", "", B9=L9) | N9: =IF(L9="", "", J9=L9)
A10: 8 | B10: Антонюк Олександр Леонідович | C10: 27.09.1979 | D10: 2912410393 | E10: =IF(D10="", "", LEN(D10)) -> 10 | F10: АГ 603239 | G10: =IF(F10="", "", LEN(F10)) -> 9 | I10: =IF(H10="", "", LEN(H10)) | J10: Колесніков Сергій Сергійович | K10: =IF(J10="", "", B10=J10) -> FALSE | M10: =IF(L10="", "", B10=L10) | N10: =IF(L10="", "", J10=L10)
A11: 9 | B11: Бабич Андрій Васильович | C11: 18.04.1984 | D11: 3078922215 | E11: =IF(D11="", "", LEN(D11)) -> 10 | F11: АГ 603272 | G11: =IF(F11="", "", LEN(F11)) -> 9 | I11: =IF(H11="", "", LEN(H11)) | J11: Опанасюк Ігор Петрович | K11: =IF(J11="", "", B11=J11) -> FALSE | M11: =IF(L11="", "", B11=L11) | N11: =IF(L11="", "", J11=L11)
A12: 10 | B12: Баскаков Павло Анатолійович | C12: 02.03.1984 | D12: 3074200978 | E12: =IF(D12="", "", LEN(D12)) -> 10 | F12: 140220221425037600020/1 | G12: =IF(F12="", "", LEN(F12)) -> 23 | I12: =IF(H12="", "", LEN(H12)) | J12: Ручин Дмитро Вікторович | K12: =IF(J12="", "", B12=J12) -> FALSE | M12: =IF(L12="", "", B12=L12) | N12: =IF(L12="", "", J12=L12)
A13: 11 | B13: Бершадський Олександр Миколайович | C13: 15.03.1992 | D13: 3367700733 | E13: =IF(D13="", "", LEN(D13)) -> 10 | F13: довідка | G13: =IF(F13="", "", LEN(F13)) -> 7 | I13: =IF(H13="", "", LEN(H13)) | J13: Солоденко Анатолій Сергійович | K13: =IF(J13="", "", B13=J13) -> FALSE | M13: =IF(L13="", "", B13=L13) | N13: =IF(L13="", "", J13=L13)
A14: 12 | B14: Білоусов Сергій Вікторович | C14: 04.09.1982 | D14: ВМ632875 | E14: =IF(D14="", "", LEN(D14)) -> 8 | F14: АГ 186080 | G14: =IF(F14="", "", LEN(F14)) -> 9 | I14: =IF(H14="", "", LEN(H14)) | J14: Фістікан Василь Петрович | K14: =IF(J14="", "", B14=J14) -> FALSE | M14: =IF(L14="", "", B14=L14) | N14: =IF(L14="", "", J14=L14)
A15: 13 | B15: Бойко Геннадій Володимирович | C15: 19.11.1981 | D15: 2990807554 | E15: =IF(D15="", "", LEN(D15)) -> 10 | F15: №250220261352624000001/2 Від 25.02.2026 | G15: =IF(F15="", "", LEN(F15)) -> 39 | I15: =IF(H15="", "", LEN(H15)) | J15: Чабан Михайло Григорович | K15: =IF(J15="", "", B15=J15) -> FALSE | M15: =IF(L15="", "", B15=L15) | N15: =IF(L15="", "", J15=L15)
A16: 14 | B16: Большаков Костянтин Євгенович | C16: 02.07.1992 | D16: 3378604531 | E16: =IF(D16="", "", LEN(D16)) -> 10 | F16: довідка | G16: =IF(F16="", "", LEN(F16)) -> 7 | I16: =IF(H16="", "", LEN(H16)) | K16: =IF(J16="", "", B16=J16) | M16: =IF(L16="", "", B16=L16) | N16: =IF(L16="", "", J16=L16)
A17: 15 | B17: Бондар Андрій Васильович | C17: 29.07.1988 | D17: 3235207996 | E17: =IF(D17="", "", LEN(D17)) -> 10 | F17: АГ 574967 | G17: =IF(F17="", "", LEN(F17)) -> 9 | I17: =IF(H17="", "", LEN(H17)) | K17: =IF(J17="", "", B17=J17) | M17: =IF(L17="", "", B17=L17) | N17: =IF(L17="", "", J17=L17)
A18: 16 | B18: Борисов Дмитро Сергійович | C18: 16.05.1984 | D18: 3081727094 | E18: =IF(D18="", "", LEN(D18)) -> 10 | F18: СО 871538 | G18: =IF(F18="", "", LEN(F18)) -> 9 | I18: =IF(H18="", "", LEN(H18)) | K18: =IF(J18="", "", B18=J18) | M18: =IF(L18="", "", B18=L18) | N18: =IF(L18="", "", J18=L18)
A19: 17 | B19: Бородавко Віталій Михайлович | C19: 10.10.1989 | D19: 3279006554 | E19: =IF(D19="", "", LEN(D19)) -> 10 | F19: АГ 633793 | G19: =IF(F19="", "", LEN(F19)) -> 9 | I19: =IF(H19="", "", LEN(H19)) | K19: =IF(J19="", "", B19=J19) | M19: =IF(L19="", "", B19=L19) | N19: =IF(L19="", "", J19=L19)
A20: 18 | B20: Брискін Денис Сергійович | C20: 03.09.1982 | D20: 3019609990 | E20: =IF(D20="", "", LEN(D20)) -> 10 | G20: =IF(F20="", "", LEN(F20)) | I20: =IF(H20="", "", LEN(H20)) | K20: =IF(J20="", "", B20=J20) | M20: =IF(L20="", "", B20=L20) | N20: =IF(L20="", "", J20=L20)
A21: 19 | B21: Бродовський Вадим Феліксович | C21: 09.11.1977 | D21: 2843714031 | E21: =IF(D21="", "", LEN(D21)) -> 10 | F21: АГ 603250 | G21: =IF(F21="", "", LEN(F21)) -> 9 | I21: =IF(H21="", "", LEN(H21)) | K21: =IF(J21="", "", B21=J21) | M21: =IF(L21="", "", B21=L21) | N21: =IF(L21="", "", J21=L21)
A22: 20 | B22: Бруяка Максим Юрійович | C22: 28.10.1996 | D22: 3536512192 | E22: =IF(D22="", "", LEN(D22)) -> 10 | F22: АВ 960514 | G22: =IF(F22="", "", LEN(F22)) -> 9 | I22: =IF(H22="", "", LEN(H22)) | K22: =IF(J22="", "", B22=J22) | M22: =IF(L22="", "", B22=L22) | N22: =IF(L22="", "", J22=L22)
A23: 21 | B23: Бурковцов Андрій Юрійович | C23: 09.09.1988 | D23: 3239413855 | E23: =IF(D23="", "", LEN(D23)) -> 10 | F23: АВ 949437 | G23: =IF(F23="", "", LEN(F23)) -> 9 | I23: =IF(H23="", "", LEN(H23)) | K23: =IF(J23="", "", B23=J23) | M23: =IF(L23="", "", B23=L23) | N23: =IF(L23="", "", J23=L23)
A24: 22 | B24: Бутко Руслан Павлович | C24: 29.07.1998 | D24: 3600408276 | E24: =IF(D24="", "", LEN(D24)) -> 10 | F24: 250620235816010600001/1 | G24: =IF(F24="", "", LEN(F24)) -> 23 | I24: =IF(H24="", "", LEN(H24)) | K24: =IF(J24="", "", B24=J24) | M24: =IF(L24="", "", B24=L24) | N24: =IF(L24="", "", J24=L24)
A25: 23 | B25: Васильченко Сергій Анатолійович | C25: 17.11.1993 | D25: 3428909730 | E25: =IF(D25="", "", LEN(D25)) -> 10 | F25: АВ 949433 | G25: =IF(F25="", "", LEN(F25)) -> 9 | I25: =IF(H25="", "", LEN(H25)) | K25: =IF(J25="", "", B25=J25) | M25: =IF(L25="", "", B25=L25) | N25: =IF(L25="", "", J25=L25)
A26: 24 | B26: Верба Володимир Олександрович | C26: 28.08.1995 | D26: 3493804851 | E26: =IF(D26="", "", LEN(D26)) -> 10 | F26: АВ 552749 | G26: =IF(F26="", "", LEN(F26)) -> 9 | I26: =IF(H26="", "", LEN(H26)) | K26: =IF(J26="", "", B26=J26) | M26: =IF(L26="", "", B26=L26) | N26: =IF(L26="", "", J26=L26)
A27: 25 | B27: Верстюк Євген Дмитрович | C27: 05.04.1977 | D27: 2821912276 | E27: =IF(D27="", "", LEN(D27)) -> 10 | F27: АВ909239 | G27: =IF(F27="", "", LEN(F27)) -> 8 | I27: =IF(H27="", "", LEN(H27)) | K27: =IF(J27="", "", B27=J27) | M27: =IF(L27="", "", B27=L27) | N27: =IF(L27="", "", J27=L27)
A28: 26 | B28: Вигівський Денис Анатолійович | C28: 28.09.1986 | D28: 3168215372 | E28: =IF(D28="", "", LEN(D28)) -> 10 | F28: 070920231320634500225/1 | G28: =IF(F28="", "", LEN(F28)) -> 23 | I28: =IF(H28="", "", LEN(H28)) | K28: =IF(J28="", "", B28=J28) | M28: =IF(L28="", "", B28=L28) | N28: =IF(L28="", "", J28=L28)
A29: 27 | B29: Войку Олег Георгійович | C29: 11.12.1988 | D29: 3248704812 | E29: =IF(D29="", "", LEN(D29)) -> 10 | F29: АГ 330242 | G29: =IF(F29="", "", LEN(F29)) -> 9 | I29: =IF(H29="", "", LEN(H29)) | K29: =IF(J29="", "", B29=J29) | M29: =IF(L29="", "", B29=L29) | N29: =IF(L29="", "", J29=L29)
A30: 28 | B30: Гаврик Євген Анатолійович | C30: 27.06.1987 | D30: 3195413716 | E30: =IF(D30="", "", LEN(D30)) -> 10 | F30: довідка | G30: =IF(F30="", "", LEN(F30)) -> 7 | I30: =IF(H30="", "", LEN(H30)) | K30: =IF(J30="", "", B30=J30) | M30: =IF(L30="", "", B30=L30) | N30: =IF(L30="", "", J30=L30)
A31: 29 | B31: Гончаренко Вячеслав Вікторович | C31: 22.02.1982 | D31: 3000315097 | E31: =IF(D31="", "", LEN(D31)) -> 10 | F31: МО 498066 | G31: =IF(F31="", "", LEN(F31)) -> 9 | I31: =IF(H31="", "", LEN(H31)) | K31: =IF(J31="", "", B31=J31) | M31: =IF(L31="", "", B31=L31) | N31: =IF(L31="", "", J31=L31)
A32: 30 | B32: Гончарук Владислав Миколайович | C32: 19.03.2000 | D32: 3660308950 | E32: =IF(D32="", "", LEN(D32)) -> 10 | F32: АВ 970998 | G32: =IF(F32="", "", LEN(F32)) -> 9 | I32: =IF(H32="", "", LEN(H32)) | K32: =IF(J32="", "", B32=J32) | M32: =IF(L32="", "", B32=L32) | N32: =IF(L32="", "", J32=L32)
... A44: 42 | B44: Деревлюк Сергій Степанович | C44: 09.10.1975 | D44: 2767516699 | E44: =IF(D44="", "", LEN(D44)) -> 10 | F44: АГ 606569 | G44: =IF(F44="", "", LEN(F44)) -> 9 | I44: =IF(H44="", "", LEN(H44)) | K44: =IF(J44="", "", B44=J44) | M44: =IF(L44="", "", B44=L44) | N44: =IF(L44="", "", J44=L44)
A45: 43 | B45: Деркач Антон Олександрович | C45: 20.04.1988 | D45: 3225211077 | E45: =IF(D45="", "", LEN(D45)) -> 10 | G45: =IF(F45="", "", LEN(F45)) | I45: =IF(H45="", "", LEN(H45)) | K45: =IF(J45="", "", B45=J45) | M45: =IF(L45="", "", B45=L45) | N45: =IF(L45="", "", J45=L45)
A46: 44 | B46: Дрига Сергій Олександрович | C46: 08.12.1986 | D46: 3175313158 | E46: =IF(D46="", "", LEN(D46)) -> 10 | G46: =IF(F46="", "", LEN(F46)) | I46: =IF(H46="", "", LEN(H46)) | K46: =IF(J46="", "", B46=J46) | M46: =IF(L46="", "", B46=L46) | N46: =IF(L46="", "", J46=L46)
A47: 45 | B47: Єрмаков Дмитро Олександрович | C47: 26.12.1976 | E47: =IF(D47="", "", LEN(D47)) | G47: =IF(F47="", "", LEN(F47)) | I47: =IF(H47="", "", LEN(H47)) | K47: =IF(J47="", "", B47=J47) | M47: =IF(L47="", "", B47=L47) | N47: =IF(L47="", "", J47=L47)
A48: 46 | B48: Жеребцов Данило Вадимович | C48: 26.11.1997 | D48: 3575904092 | E48: =IF(D48="", "", LEN(D48)) -> 10 | F48: АВ 381840 | G48: =IF(F48="", "", LEN(F48)) -> 9 | I48: =IF(H48="", "", LEN(H48)) | K48: =IF(J48="", "", B48=J48) | M48: =IF(L48="", "", B48=L48) | N48: =IF(L48="", "", J48=L48)
A49: 47 | B49: Забайрачний Антон Валерійович | C49: 19.05.1989 | D49: 3264613873 | E49: =IF(D49="", "", LEN(D49)) -> 10 | F49: АВ 949421 | G49: =IF(F49="", "", LEN(F49)) -> 9 | I49: =IF(H49="", "", LEN(H49)) | K49: =IF(J49="", "", B49=J49) | M49: =IF(L49="", "", B49=L49) | N49: =IF(L49="", "", J49=L49)
A50: 48 | B50: Заїка Віталій Олександрович | C50: 05.07.1980 | D50: 2940603255 | E50: =IF(D50="", "", LEN(D50)) -> 10 | G50: =IF(F50="", "", LEN(F50)) | I50: =IF(H50="", "", LEN(H50)) | K50: =IF(J50="", "", B50=J50) | M50: =IF(L50="", "", B50=L50) | N50: =IF(L50="", "", J50=L50)
A51: 49 | B51: Звада Микита Іванович | C51: 15.01.2001 | D51: 3690507477 | E51: =IF(D51="", "", LEN(D51)) -> 10 | F51: АВ 949418 | G51: =IF(F51="", "", LEN(F51)) -> 9 | I51: =IF(H51="", "", LEN(H51)) | K51: =IF(J51="", "", B51=J51) | M51: =IF(L51="", "", B51=L51) | N51: =IF(L51="", "", J51=L51)
...

Sheet Аркуш1
C2: `=MOD(MOD(-MID(D2;1;1) + MID(D2;2;1)*5 + MID(D2;3;1)*7 + MID(D2;4;1)*9 + MID(D2;5;1)*4 + MID(D2;6;1)*6 + MID(D2;7;1)*10 + MID(D2;8;1)*5 + MID(D2;9;1)*7; 11);10) <> VALUE( MID(D2;10;1))
C6: `=DATEVALUE( C2) <> INT(LEFT(D2;5)) +1

Sheet Алфавітки
A1: № з/п | B1: В/звання | D1: Місце народження | E1: адреса (фактична) | F1: Освіта | G1: склад сім’ї | H1: № телефону
A2: 1 | B2: солдат | C2: Антоненко Руслан Олександрович | D2: Миколаївська обл. Миколаївський р-н, с. Весняне | E2: м. Миколаїв вул. Айвазовського буд. 6 кв. 809-809 | F2: середня-спеціальна, ПТУ №1 м. Миколаїв 2005 судобудівельник, зварювальник (права категорії Б, ФОП Парус, будівельник 18р.) | G2: Розлучений Мати: Калага Лідія Миронівна, м. Миколаїв вул. Айвазовського буд. 6 кв. 809-809, 0663420925 | H2: 660263238
A3: 8 | B3: солдат | C3: Баранов Дмитро Генащдійович | D3: с. Кірове Базарський р-н Херсонської обл. | E3: Херсонської обл. Базарський р-н, с. Олександрівка вул. Мельнична 5 | F3: середньо-спеціальна Судобудівельний ліцей 2018р. Зварювальник Содозбірник (Категорія прав Б, С1, С, СЕ, далекобійник 4р.) | G3: неодружений Батько: Баранов Генадій Анатолійович Херсонської обл. Базарський р-н, с. Олександрівка вул. Мельнична 5, тел. 0668290286 | H3: 505059149
A4: 12 | B4: солдат | C4: Боровик Юрій Володимирович | D4: м. Миколаїв | E4: м. Миколаїв вул. Восьма Лінія буд. 68 | F4: середньо-спеціальна Теплодарський професійний ліцей 2011р. Кухар (категорія прав Б, автоелектрик 1р) | G4: цивільний шлюб Цивільна дружина: Голубченко Юлія Вадимівна, м. Миколаїв вул. Восьма Лінія буд. 68, тел. 0950975840 | H4: 993803701
A5: 7 | B5: солдат | C5: Горбатенко Олександр Олегович | D5: м. Миколаїв | E5: м. Миколаїв вул. Архітектора Староба 3 кв.1 | F5: повна середня ЗОШ № 64 2009р.(кухар 7р) | G5: неодружений Бабуся: Горбатенко Людмила Іванівна м. Миколаїв вул. Архітектора Староба 6б кв. 24, тел. 0966366295 | H5: 677153559
A6: 4 | B6: солдат | C6: Жестовський Сергій Сергійович | D6: Миколаївська обл. Первомайський р-н, с. Новопавлівка | E6: Миколаївська обл. Первомайський р-н, с. Новопавлівка вул. Роднікова 18 | F6: середньо-спеціальна Одеський професійний ліцей морського транспорту 2008р. електрозварювальник (категорія прав Б, Будівельник 2р.) | G6: Одружений Дружина: Жестовська Ірина Анатоліївна Миколаївська обл. Первомайський р-н, с. Новопавлівка вул. Роднікова 18, 0974890880 | H6: 683977036
A7: 6 | B7: солдат | C7: Ісаков Олександ Сергійович | D7: Кропивницька обл. Новоархангельський р-н с. Скалівські Хутори | E7: Миколаївська обл. Баштанський р-н с. Поляне, вул. Садова, буд. 22 | F7: середньо-спеціальна ЧПБЛ №4 2013р. Маляр-штукатур (Фермерське господарство немировський) | G7: Одружений Дружина: Ісакова Оксана Миколаївна, Миколаївська обл. Баштанський р-н с. Поляне, вул. Садова, буд. 22, тел. 0988180989 | H7: 682269805
A8: 13 | B8: солдат | C8: Клімчкук Олександ Олександрович | D8: Вінницька обл. Хмільницький р-н, смт Бродецьке | E8: Вінницька обл. Хмільницький р-н, смт Бродецьке вул. Першотравнева 72 | F8: повна середня ЗОШ смт. Бродецьке 2007р. (Мясний мультикомплекс транспортувальник 1р.) | G8: одружений Дружина: Клімчук Алла Вадимівна, Вінницька обл. Хмільницький р-н, смт Бродецьке вул. Першотравнева 72, тел. 0631960845 | H8: 990631915
A9: 9 | B9: солдат | C9: Колесніков Сергій Сергійович | D9: с. Балтазарівка Чуплинський р-н, Херсонської обл. | E9: Микорлаївська обл. м. Первомайськ вул. Марія Демченка 33 | F9: середньо-спеціальна Електротехнічний ліцей №7 2013р.електрогазозварювальник (пожежний рятувальник 3р.) | G9: одружений Дружина: Колеснікова Ганна Миколаївна, Микорлаївська обл. м. Первомайськ вул. Марія Демченка 33, тел. 0683767312 | H9: 956741071
A10: 3 | B10: солдат | C10: Опанасюк Ігор Перрович | D10: Миколаївська обл. м. Новий Буг | E10: Миколаївська обл. Новобузький р-н с. Нова Хрестофорівка буд. 65 | F10: середньо-спеціальна Новобузький аграрний професійний ліцей 2013р. (права категорії Б, С, СЕ, Фермерське господарство Орбіта Водій) | G10: Розлучений Мати: Опанасюк Валентина Ігорівна, Миколаївська обл. Новобузький р-н с. Нова Хрестофорівка буд. 65, тел. 0508511843 | H10: 934248356
A11: 11 | B11: солдат | C11: Ручин Дмитро Вікторович | D11: Миколаївська обл. м. Баштанка | E11: Миколаївська обл. м. Баштанка вул. Грушевського 46 | F11: середньо-спеціальна ПТУ №9 м. Баштанка 2015р. Кухар (пекарня 1р) | G11: неодружений Мати: Дмитренко Алла Петрівна, Миколаївська обл. м. Баштанка вул. Грушевського 46, тел, 0636322801 | H11: 983438936
A12: 5 | B12: солдат | C12: Солоденко Анатолій Сергійович | D12: Миколаївська обл. Вознесенський р-н, с. Яструбинове | E12: Миколаївська обл. Вознесенський р-н, с. Яструбинове вул. Першотравнева 20 | F12: середньо-спеціальна ПТУ №18 2016р. будівельник (Гружчик 1р.) | G12: неодружений Сестрат: Черемуха Анастасія Сергіївна, тел. 0985362292 | H12: 938839470
A13: 2 | B13: солдат | C13: Фістікан Василь Петрович | D13: Миколаївська обл. Первомайський р-н, с. Софіївка | E13: Миколаївська обл. Первомайський р-н, с. Синюшин Брід, вул. Перемоги 38 | F13: середньо-спеціальна ПТУ №22 м. Первомайськ 2018р. Маляр-Штукатур (Сканувальник на новій пошті) | G13: Неодружений Мати: Фістікан Марія Вікторівна, Миколаївська обл. Первомайський р-н, с. Синюшин Брід, вул. Молодіжна 8, тел. 0967926486 | H13: 967927329
A14: 10 | B14: солдат | C14: Чабан Михайло Григорович | D14: Миколаївська обл. Березанського р-н, с. Новоподілля | E14: м. Миколаїв, 12 Повздовжня 47а, кв. 59 | F14: середньо-спеціальна ліцей №13 2012р. Автослюсар (СТО 9р) | G14: одружений Дружина: Чабан Влада Владиславівна, м. Миколаїв, 12 Повздовжня 47а, кв. 59, тел. 0971910656 | H14: 967953093
A15: 14 | B15: солдат
A16: 15 | B16: солдат
A17: 16 | B17: солдат
A18: 17 | B18: солдат
A19: 18 | B19: солдат
A20: 19 | B20: солдат
A21: 20 | B21: солдат
A22: 21 | B22: солдат
A23: 22 | B23: солдат
A24: 23 | B24: солдат
A25: 24 | B25: солдат
A26: 25 | B26: солдат
... A101: 100 | B101: солдат
