Workbook

Sheet Основний
A4: ДОНЕСЕННЯ
A5: про зарахування військовослужбовців військової служби за контрактом на навчання до навчального центру (ВВНЗ, ВНП ЗВО)
A6: військова частина А2900
A7: найменування навчального центру (ВВНЗ, ВНЗ ЗВО)
A9: 1. Список військовослужбовців військової служби за контрактом, які зараховані на навчання
A10: № з/п | B10: Військове звання | C10: ПІБ | D10: Ким і коли призваний | E10: Область | F10: Дата народження | G10: Освіта | H10: ідентифікаційний код | I10: військовий квиток | J10: Номер та дата наказу про зарахування | K10: № телефону | L10: Підрозділ | M10: Куди та коли вибув | N10: З якої частини прибув (для курсантів з бригад) | O10: Примітка | P10: Де знаходиться
A12: 1 | B12: солдат | C12: Абрамян Артур Маратович | D12: Дарницьким РТЦК та СП у Київській обл. 26 лютого 2026 року | E12: Київ місто | F12: 36089 | G12: Школа №62 м. Донецьк 2014 | H12: 3608804152 | I12: 040520251458450705269/1 | J12: =VLOOKUP(C12,[1]Основний!$E$12:$Y$149,21,0)&" " & TEXT(VLOOKUP(C12,[1]Основний!$E$12:$Y$149,20,0),"dd.mm.yyyy") -> № 60 26.02.2026 | K12: 633131383 | L12: 1НР | N12: ТЦК | O12: СЗЧ
A13: 2 | B13: солдат | C13: Авраменко Андрій Миколайович | D13: Чернігівським РТЦК та СП у Чернігівській обл. 24 лютого 2026 року | E13: Чернігівська | F13: 30851 | G13: ХНУРЕ, 2006, радіотехніка | H13: 3085003094 | J13: =VLOOKUP(C13,[1]Основний!$E$12:$Y$149,21,0)&" " & TEXT(VLOOKUP(C13,[1]Основний!$E$12:$Y$149,20,0),"dd.mm.yyyy") -> № 58 24.02.2026 | K13: 0671971309 | L13: 1НР | N13: ТЦК | O13: А3316 Даша, Іра
A14: 3 | B14: солдат | C14: Алексенко Іван Миколайович | D14: Ніжинським РТЦК та СП у Чернігівській обл. 23 лютого 2026 року | E14: Чернігівська | F14: 35604 | G14: Конотопський аграрний ліцей, 2017, слюсар-механік | H14: 3560301717 | J14: =VLOOKUP(C14,[1]Основний!$E$12:$Y$149,21,0)&" " & TEXT(VLOOKUP(C14,[1]Основний!$E$12:$Y$149,20,0),"dd.mm.yyyy") -> № 57 23.02.2026 | K14: 0632905799 | L14: 1НР | N14: ТЦК | O14: СЗЧ
A15: 4 | B15: солдат | C15: Алієв Парвіз Натікбєкович | D15: Солом'янським РТЦК та СП у Київській обл. 23 лютого 2026 року | E15: Київ місто | F15: 30443 | G15: Київський політехнічний Інститут, 2005 Київський економічний Інститут, 2002 електотехнік, економіка | H15: 3044204097 | I15: АГ 629818 | J15: =VLOOKUP(C15,[1]Основний!$E$12:$Y$149,21,0)&" " & TEXT(VLOOKUP(C15,[1]Основний!$E$12:$Y$149,20,0),"dd.mm.yyyy") -> № 57 23.02.2026 | K15: 663135516 | L15: 1НР | N15: ТЦК | O15: СЗЧ
A16: 5 | B16: солдат | C16: Андрушко Вадим Валентинович | D16: Житомирським РТЦК та СП у Житомирській обл. 27 лютого 2026 року | E16: Житомирська | F16: 33544 | G16: Житомирське ПТУ №5, 2013, маляр-штукатур | H16: 3354308835 | I16: АГ 603287 | J16: =VLOOKUP(C16,[1]Основний!$E$12:$Y$149,21,0)&" " & TEXT(VLOOKUP(C16,[1]Основний!$E$12:$Y$149,20,0),"dd.mm.yyyy") -> № 61 27.02.2026 | K16: 982607646 | L16: 1НР | N16: ТЦК | O16: СЗЧ
A17: 6 | B17: солдат | C17: Анісімов Сергій Леонідович | D17: Ніжинським РТЦК та СП у Чернігівській обл. 22 лютого 2026 року | E17: Чернігівська | F17: 32799 | G17: Ніжинське ПТУ №35, водій-механік, 2008 | H17: 3279802570 | I17: АГ 633795 | J17: =VLOOKUP(C17,[1]Основний!$E$12:$Y$149,21,0)&" " & TEXT(VLOOKUP(C17,[1]Основний!$E$12:$Y$149,20,0),"dd.mm.yyyy") -> № 56 22.02.2026 | K17: 0985324330 | L17: 1НР | N17: ТЦК
A18: 7 | B18: солдат | C18: Антонюк Дмитро Русланович | D18: Хмільницьким РТЦК та СП у Вінницькій обл. 28 лютого 2026 року | E18: Вінницька | F18: 36242 | G18: Тульчинський коледж ветеринарної медецини м. Тульчин 2018 фельдшер ветеринарної медецини | H18: 3624109257 | I18: АГ 574988 | J18: =VLOOKUP(C18,[1]Основний!$E$12:$Y$149,21,0)&" " & TEXT(VLOOKUP(C18,[1]Основний!$E$12:$Y$149,20,0),"dd.mm.yyyy") -> № 62 28.02.2026 | K18: 976880495 | L18: 1НР | N18: ТЦК
A19: 8 | B19: солдат | C19: Антонюк Олександр Леонідович | D19: Житомирським РТЦК та СП у Житомирській обл. 25 лютого 2026 року | E19: Житомирська | F19: 29125 | G19: Київське училище №26 | H19: 2912410393 | I19: АГ 603239 | J19: =VLOOKUP(C19,[1]Основний!$E$12:$Y$149,21,0)&" " & TEXT(VLOOKUP(C19,[1]Основний!$E$12:$Y$149,20,0),"dd.mm.yyyy") -> № 59 25.02.2026 | K19: 975269074 | L19: 1НР | N19: ТЦК | O19: СЗЧ
A20: 9 | B20: солдат | C20: Бабич Андрій Васильович | D20: Житомирським РТЦК та СП у Житомирській обл. 27 лютого 2026 року | E20: Житомирська | F20: 30790 | G20: Чернігівське ПТУ №5, 2002, черговий по станції, провідник | H20: 3078922215 | I20: АГ 603272 | J20: =VLOOKUP(C20,[1]Основний!$E$12:$Y$149,21,0)&" " & TEXT(VLOOKUP(C20,[1]Основний!$E$12:$Y$149,20,0),"dd.mm.yyyy") -> № 61 27.02.2026 | K20: 989386733 | L20: 1НР | N20: ТЦК | O20: Шпиталь
A21: 10 | B21: солдат | C21: Баскаков Павло Анатолійович | D21: Шевченківським РТЦК та СП у Київській обл. 27 лютого 2026 року | E21: Київ місто | F21: 30743 | G21: Дніпродзержинський індустріальнгий коледж 2004 електрик | H21: 3074200978 | I21: 140220221425037600020/1 | J21: =VLOOKUP(C21,[1]Основний!$E$12:$Y$149,21,0)&" " & TEXT(VLOOKUP(C21,[1]Основний!$E$12:$Y$149,20,0),"dd.mm.yyyy") -> № 61 27.02.2026 | K21: 965569916 | L21: 1НР | N21: ТЦК
A22: 11 | B22: солдат | C22: Бершадський Олександр Миколайович | D22: Дніпровським РТЦК та СП у Київській обл. 26 лютого 2026 року | E22: Київ місто | F22: 33678 | G22: КПІ, 2016, ІТ | H22: 3367700733 | I22: довідка | J22: =VLOOKUP(C22,[1]Основний!$E$12:$Y$149,21,0)&" " & TEXT(VLOOKUP(C22,[1]Основний!$E$12:$Y$149,20,0),"dd.mm.yyyy") -> № 60 26.02.2026 | K22: 934043734 | L22: 1НР | N22: ТЦК | O22: СЗЧ
A23: 12 | B23: солдат | C23: Білоусов Сергій Вікторович | D23: Житомирським ОМТЦК та СП у Житомирській обл. 26 лютого 2026 року | E23: Житомирська | F23: 30198 | G23: Житомирська ЗОШ №2 | H23: ВМ632875 | I23: АГ 186080 | J23: =VLOOKUP(C23,[1]Основний!$E$12:$Y$149,21,0)&" " & TEXT(VLOOKUP(C23,[1]Основний!$E$12:$Y$149,20,0),"dd.mm.yyyy") -> № 60 26.02.2026 | K23: 990907846 | L23: 1НР | N23: ТЦК
A24: 13 | B24: солдат | C24: Бойко Геннадій Володимирович | E24: Сумська | F24: 29909 | G24: ПТУ №7, м. Охтирка, 1999, маляр-штукатур | H24: 2990807554 | I24: №250220261352624000001/2 Від 25.02.2026 | K24: 0665156739 | L24: 1НР | N24: Резерв Командуючого
A25: 14 | B25: солдат | C25: Большаков Костянтин Євгенович | D25: Дніпровським РТЦК та СП у Київській обл. 26 лютого 2026 року | E25: Київ місто | F25: 33787 | G25: Краснолуцький приладобудівний технікум м. Красний Луч 2013р економіка підприємства | H25: 3378604531 | I25: довідка | J25: =VLOOKUP(C25,[1]Основний!$E$12:$Y$149,21,0)&" " & TEXT(VLOOKUP(C25,[1]Основний!$E$12:$Y$149,20,0),"dd.mm.yyyy") -> № 60 26.02.2026 | K25: 995045246 | L25: 1НР | N25: ТЦК | O25: СЗЧ
A26: 15 | B26: солдат | C26: Бондар Андрій Васильович | D26: Хмільницьким РТЦК та СП у Вінницькій обл. 22 лютого 2026 року | E26: Вінницька | F26: 32353 | G26: Стрижовська СВК | H26: 3235207996 | I26: АГ 574967 | J26: =VLOOKUP(C26,[1]Основний!$E$12:$Y$149,21,0)&" " & TEXT(VLOOKUP(C26,[1]Основний!$E$12:$Y$149,20,0),"dd.mm.yyyy") -> № 57 23.02.2026 | K26: 970255251 | L26: 1НР | N26: ТЦК
A27: 16 | B27: солдат | C27: Борисов Дмитро Сергійович | D27: Чернігівським МТЦК та СП у Чернігівській обл. 22 лютого 2026 року | E27: Чернігівська | F27: 30818 | G27: ПУ 63, станиця Денська, Денський р-н., Краснодарський край, водій-автомеханік, 2005 | H27: 3081727094 | I27: СО 871538 | J27: =VLOOKUP(C27,[1]Основний!$E$12:$Y$149,21,0)&" " & TEXT(VLOOKUP(C27,[1]Основний!$E$12:$Y$149,20,0),"dd.mm.yyyy") -> № 56 22.02.2026 | K27: 0969311148 | L27: 1НР | N27: ТЦК
A28: 17 | B28: солдат | C28: Бородавко Віталій Михайлович | D28: Ніжинським РТЦК та СП у Чернігівській обл. 21 лютого 2026 року | E28: Чернігівська | F28: 32791 | G28: повна середня Ніжинська ЗОШ №7 | H28: 3279006554 | I28: АГ 633793 | J28: =VLOOKUP(C28,[1]Основний!$E$12:$Y$149,21,0)&" " & TEXT(VLOOKUP(C28,[1]Основний!$E$12:$Y$149,20,0),"dd.mm.yyyy") -> № 55 21.02.2026 | K28: немає | L28: 1НР | N28: ТЦК
A29: 18 | B29: солдат | C29: Брискін Денис Сергійович | D29: Ніжинським РТЦК та СП у Чернігівській обл. 24 лютого 2026 року | E29: Чернігівська | F29: 30197 | G29: Рамаданівська ЗОШ, 2000 | H29: 3019609990 | J29: =VLOOKUP(C29,[1]Основний!$E$12:$Y$149,21,0)&" " & TEXT(VLOOKUP(C29,[1]Основний!$E$12:$Y$149,20,0),"dd.mm.yyyy") -> № 58 24.02.2026 | K29: 0960389583 | L29: 1НР | N29: ТЦК
A30: 19 | B30: солдат | C30: Бродовський Вадим Феліксович | D30: Житомирським РТЦК та СП у Житомирській обл. 28 лютого 2026 року | E30: Житомирська | F30: 28438 | G30: Баранівське ПТУ №11 | H30: 2843714031 | I30: АГ 603250 | J30: =VLOOKUP(C30,[1]Основний!$E$12:$Y$149,21,0)&" " & TEXT(VLOOKUP(C30,[1]Основний!$E$12:$Y$149,20,0),"dd.mm.yyyy") -> № 62 28.02.2026 | K30: не вказано | L30: 1НР | N30: ТЦК | O30: СЗЧ
A31: 20 | B31: солдат | C31: Бруяка Максим Юрійович | D31: Сумським МТЦК та СП у Сумській обл. 25.12.2025 | E31: Сумська | F31: 35366 | G31: Школа №12, м. Суми | H31: 3536512192 | I31: АВ 960514 | K31: 0502773062 | L31: 1НР | N31: Резерв Командуючого
A32: 21 | B32: солдат | C32: Бурковцов Андрій Юрійович | D32: Роменським ТЦК та СП у Сумській обл. 27.02.2026 | E32: Сумська | F32: 32395 | G32: НДУ ім. Гоголя, м. Ніжин, Чернігівська обл. спеціаліст вчитель Історії і права ДАКККІМ м. Київ, бакалавр, дизайнер середовища КДАІС м. Київ, бакалавр, священослужитель | H32: 3239413855 | I32: АВ 949437 | K32: 0973166440 | L32: 1НР | N32: Резерв Командуючого | O32: На 2 курс Пропуск 23 дні
A33: 22 | B33: солдат | C33: Бутко Руслан Павлович | D33: Дарницьким РТЦК та СП у Київській обл. 26 лютого 2026 року | E33: Київ місто | F33: 36005 | G33: Вільшансько Новоселівська ЗОШ | H33: 3600408276 | I33: 250620235816010600001/1 | J33: =VLOOKUP(C33,[1]Основний!$E$12:$Y$149,21,0)&" " & TEXT(VLOOKUP(C33,[1]Основний!$E$12:$Y$149,20,0),"dd.mm.yyyy") -> № 60 26.02.2026 | K33: 962685449 | L33: 1НР | N33: ТЦК | O33: СЗЧ
A34: 23 | B34: солдат | C34: Васильченко Сергій Анатолійович | D34: Роменським РТЦК та СП у Сумській обл. 26.02.2026 | E34: Сумська | F34: 34290 | G34: Пустовійтівська ЗОШ | H34: 3428909730 | I34: АВ 949433 | K34: не надано | L34: 1НР | N34: Резерв Командуючого
A35: 24 | B35: солдат | C35: Верба Володимир Олександрович | D35: Конотопським РТЦК та СП у Сумській обл. 27.02.2026 | E35: Сумська | F35: 34939 | G35: ПТУ, м. Кременчук, 2013, маляр-штукатур | H35: 3493804851 | I35: АВ 552749 | K35: 0685689787 | L35: 1НР | N35: Резерв Командуючого | O35: Шпиталь
A36: 25 | B36: солдат | C36: Верстюк Євген Дмитрович | D36: Новобоварським РТЦК та СП у Харківській обл. 30.12.2025 | E36: Харківська | F36: 28220 | G36: Новомосковський Сільхоз технікум м. Новомосковськ, Дніпропетровська обл., 1998 ветфельшер | H36: 2821912276 | I36: АВ909239 | K36: 0678946217 | L36: 1НР | N36: Резерв Командуючого | O36: Шпиталь
A37: 26 | B37: солдат | C37: Вигівський Денис Анатолійович | D37: Дніпровським РТЦК та СП у Київській обл. 27 лютого 2026 року | E37: Київ місто | F37: 31683 | G37: КНУ туризму економіки та права, 2009, менеджмент організації | H37: 3168215372 | I37: 070920231320634500225/1 | J37: =VLOOKUP(C37,[1]Основний!$E$12:$Y$149,21,0)&" " & TEXT(VLOOKUP(C37,[1]Основний!$E$12:$Y$149,20,0),"dd.mm.yyyy") -> № 61 27.02.2026 | K37: 983622020 | L37: 1НР | N37: ТЦК
A38: 27 | B38: солдат | C38: Войку Олег Георгійович | D38: Новобоварським РТЦК та СП у Харківській обл. 20.02.2026 | E38: Харківська | F38: 32488 | G38: ХНАМГ, 2004, менеджер організації міського господарства | H38: 3248704812 | I38: АГ 330242 | K38: 0957796772 | L38: 1НР | N38: Резерв Командуючого
A39: 28 | B39: солдат | C39: Гаврик Євген Анатолійович | D39: Білоцерківським РТЦК та СП у Київській обл. 23 лютого 2026 року | E39: Київ обл | F39: 31955 | G39: ПТУ №18, м. Фастів, 2005, столяр | H39: 3195413716 | I39: довідка | J39: =VLOOKUP(C39,[1]Основний!$E$12:$Y$149,21,0)&" " & TEXT(VLOOKUP(C39,[1]Основний!$E$12:$Y$149,20,0),"dd.mm.yyyy") -> № 57 23.02.2026 | K39: 0632444929 | L39: 1НР | N39: ТЦК
A40: 29 | B40: солдат | C40: Гончаренко Вячеслав Вікторович | D40: Шевченківським РТЦК та СП у Київській обл. 25 лютого 2026 року | E40: Київ місто | F40: 30004 | G40: Національний транспортний університет м. Київ 2009р вантажні перевезення та логістика | H40: 3000315097 | I40: МО 498066 | J40: =VLOOKUP(C40,[1]Основний!$E$12:$Y$149,21,0)&" " & TEXT(VLOOKUP(C40,[1]Основний!$E$12:$Y$149,20,0),"dd.mm.yyyy") -> № 59 25.02.2026 | K40: 675504137 | L40: 1НР | N40: ТЦК
A41: 30 | B41: солдат | C41: Гончарук Владислав Миколайович | D41: Білоцерківським РТЦК та СП у Київській обл. 21 лютого 2026 року | E41: Київ обл | F41: 36604 | G41: повна середня Білоцерківська ЗОШ №11 | H41: 3660308950 | I41: АВ 970998 | J41: =VLOOKUP(C41,[1]Основний!$E$12:$Y$149,21,0)&" " & TEXT(VLOOKUP(C41,[1]Основний!$E$12:$Y$149,20,0),"dd.mm.yyyy") -> № 56 22.02.2026 | K41: 0977019587 | L41: 1НР | N41: ТЦК | O41: СЗЧ
A42: 31 | B42: солдат | C42: Горбачов Богдан Віталійович | D42: Святошинським РТЦК та СП у Київській обл. 25 лютого 2026 року | E42: Київ місто | F42: 36786 | G42: КПЛБ і КГ м. Київ 2019 слюсар, електрик на устаткуванні електричного транспорту | H42: 3678507715 | I42: АГ 606223 | J42: =VLOOKUP(C42,[1]Основний!$E$12:$Y$149,21,0)&" " & TEXT(VLOOKUP(C42,[1]Основний!$E$12:$Y$149,20,0),"dd.mm.yyyy") -> № 59 25.02.2026 | K42: 972308159 | L42: 1НР | N42: ТЦК | O42: А4355 по розподілу рекомендаційний лист
A43: 32 | B43: солдат | C43: Грабко Андрій Іванович | D43: Сумським МТЦК та СП у Сумській обл. 23.02.2026 | E43: Сумська | F43: 31673 | G43: СНАУ м. Суми 2010 магістр | H43: 3167201934 | I43: АВ 949483 | K43: 0671979898 | L43: 1НР | N43: Резерв Командуючого
A44: 33 | B44: солдат | C44: Гречанюк Денис Сергійович | D44: Солом'янським РТЦК та СП у Київській обл. 23 лютого 2026 року | E44: Київ місто | F44: 35102 | G44: КНАУ, 2016, економіст-кібернетик | H44: 3510103050 | I44: АГ 629824 | J44: =VLOOKUP(C44,[1]Основний!$E$12:$Y$149,21,0)&" " & TEXT(VLOOKUP(C44,[1]Основний!$E$12:$Y$149,20,0),"dd.mm.yyyy") -> № 57 23.02.2026 | K44: 0505278293 0636001376 | L44: 1НР | N44: ТЦК | O44: Вибув у ШПР
A45: 34 | B45: солдат | C45: Гріщенко Максим Олегович | D45: Солом'янським РТЦК та СП у Київській обл. 28 лютого 2026 року | E45: Київ місто | F45: 32120 | G45: ДУІТ, м. Київ, 2012 | H45: 3211914316 | I45: АГ 629881 | J45: =VLOOKUP(C45,[1]Основний!$E$12:$Y$149,21,0)&" " & TEXT(VLOOKUP(C45,[1]Основний!$E$12:$Y$149,20,0),"dd.mm.yyyy") -> № 62 28.02.2026 | K45: 976009086 | L45: 1НР | N45: ТЦК | O45: Шпиталь
A46: 35 | B46: солдат | C46: Грох Андрій Вікторович | D46: Білоцерківським РТЦК та СП у Київській обл. 21 лютого 2026 року | E46: Київ обл | F46: 30881 | G46: середня спеціальна Білоцерківське ПТУ №5, електрогазозварювальник, 2002 | H46: 3088000115 | I46: АВ 970598 | J46: =VLOOKUP(C46,[1]Основний!$E$12:$Y$149,21,0)&" " & TEXT(VLOOKUP(C46,[1]Основний!$E$12:$Y$149,20,0),"dd.mm.yyyy") -> № 55 21.02.2026 | K46: 0966363660 | L46: 1НР | N46: ТЦК
A47: 36 | B47: солдат | C47: Грузинський Юрій Миколайович | D47: Солом'янським РТЦК та СП у Київській обл. 28 лютого 2026 року | E47: Київ місто | F47: 31332 | G47: ПТУ №1 м. Запоріжжя 2003 зварювальник контролер АТК | H47: 3133113253 | I47: АГ 629880 | J47: =VLOOKUP(C47,[1]Основний!$E$12:$Y$149,21,0)&" " & TEXT(VLOOKUP(C47,[1]Основний!$E$12:$Y$149,20,0),"dd.mm.yyyy") -> № 62 28.02.2026 | K47: 688144881 | L47: 1НР | N47: ТЦК | O47: СЗЧ
A48: 37 | B48: солдат | C48: Гуленко Владислав Олександрович | D48: Сумським РТЦК та СП у Сумській обл. 23.02.2026 | E48: Сумська | F48: 35855 | G48: ПТУ №43 м. Краснопілля, Сумська обл., Сумський р-н кухар-кондитер 5кат 2018 | H48: 3585409073 | I48: АВ 949486 | L48: 1НР | N48: Резерв Командуючого
A49: 38 | B49: солдат | C49: Гусєв Євгеній Олександрович | D49: Оболонським РТЦК та СП у Київській обл. 28 лютого 2026 року | E49: Київ місто | F49: 36117 | G49: Київське ВПУ, деревообробка | H49: 3611608372 | I49: довідка | J49: =VLOOKUP(C49,[1]Основний!$E$12:$Y$149,21,0)&" " & TEXT(VLOOKUP(C49,[1]Основний!$E$12:$Y$149,20,0),"dd.mm.yyyy") -> № 62 28.02.2026 | K49: 955390619 | L49: 1НР | N49: ТЦК | O49: СЗЧ
A50: 39 | B50: солдат | C50: Давиденко Богдан Миколайович | D50: Роменським РТЦК та СП у Сумській обл. 22.02.2026 | E50: Сумська | F50: 35179 | G50: НТУ ХПІ, 2018, механік-технолог | H50: 3517807937 | I50: АВ 949426 | K50: 0999604676 | L50: 1НР | N50: Резерв Командуючого | O50: Шпиталь Другий курс за пропуском днів
A51: 40 | B51: старший солдат | C51: Дацюк Вячеслав Іванович | D51: Житомирського ОМТЦК та СП у Житомирській обл. 27 лютого 2026 року | E51: Житомирська | F51: 29737 | G51: СПТУ №1 м. Житомир 1998 муляр, штукатур | H51: 2973607431 | I51: МО 300213 | J51: =VLOOKUP(C51,[1]Основний!$E$12:$Y$149,21,0)&" " & TEXT(VLOOKUP(C51,[1]Основний!$E$12:$Y$149,20,0),"dd.mm.yyyy") -> № 61 27.02.2026 | K51: 961552828 | L51: 1НР | N51: ТЦК
A52: 41 | B52: солдат | C52: Денисенко Артем Олегович | D52: Сумським МТЦК та СП у Сумській обл. 23.02.2026 | E52: Сумська | F52: 33271 | G52: ПТУ №11, м. Суми, столяр | H52: 3327015430 | I52: АВ 949485 | K52: 0508008954 | L52: 1НР | N52: Резерв Командуючого | O52: СЗЧ
A53: 42 | B53: солдат | C53: Деревлюк Сергій Степанович | D53: Деснянським РТЦК та СП у Київській обл. 26 лютого 2026 року | E53: Київ місто | F53: 27676 | G53: Київська ЗОШ №74 | H53: 2767516699 | I53: АГ 606569 | J53: =VLOOKUP(C53,[1]Основний!$E$12:$Y$149,21,0)&" " & TEXT(VLOOKUP(C53,[1]Основний!$E$12:$Y$149,20,0),"dd.mm.yyyy") -> № 60 26.02.2026 | K53: 731557234 | L53: 1НР | N53: ТЦК
A54: 43 | B54: солдат | C54: Деркач Антон Олександрович | D54: Прилуцьким РТЦК та СП у Чернігівській обл. 24 лютого 2026 року | E54: Чернігівська | F54: 32253 | G54: ПТУ, Прилуки, 2007, електрогазозварювальник | H54: 3225211077 | J54: =VLOOKUP(C54,[1]Основний!$E$12:$Y$149,21,0)&" " & TEXT(VLOOKUP(C54,[1]Основний!$E$12:$Y$149,20,0),"dd.mm.yyyy") -> № 58 24.02.2026 | K54: 0668325680 | L54: 1НР | N54: ТЦК
A55: 44 | B55: солдат | C55: Дрига Сергій Олександрович | D55: Ніжинським РТЦК та СП у Чернігівській обл. 24 лютого 2026 року | E55: Чернігівська | F55: 31754 | G55: Бутенська ЗОШ | H55: 3175313158 | J55: =VLOOKUP(C55,[1]Основний!$E$12:$Y$149,21,0)&" " & TEXT(VLOOKUP(C55,[1]Основний!$E$12:$Y$149,20,0),"dd.mm.yyyy") -> № 58 24.02.2026 | K55: 0997810722 | L55: 1НР | N55: ТЦК | O55: СЗЧ
A56: 45 | B56: солдат | C56: Єрмаков Дмитро Олександрович | D56: Дніпровським РТЦК та СП у Дніпропетровській обл. | E56: Дніпропетровська | F56: 28120 | G56: ПСШ №2, Підгороднє | K56: 0989854651 | L56: 1НР | N56: ТЦК | O56: Контракт
A57: 46 | B57: старший солдат | C57: Жеребцов Данило Вадимович | D57: Житомирського ОМТЦК та СП у Житомирській обл. 27 лютого 2026 року | E57: Житомирська | F57: 35760 | G57: Тернівський проф. гірничий ліцей, 2017, електрослсар-підземний | H57: 3575904092 | I57: АВ 381840 | J57: =VLOOKUP(C57,[1]Основний!$E$12:$Y$149,21,0)&" " & TEXT(VLOOKUP(C57,[1]Основний!$E$12:$Y$149,20,0),"dd.mm.yyyy") -> № 61 27.02.2026 | K57: 999402691 | L57: 1НР | N57: ТЦК | O57: Не пройшов БЗВП (Діловод)
A58: 47 | B58: солдат | C58: Забайрачний Антон Валерійович | D58: Сумським МТЦК та СП у Сумській обл. 22.02.2026 | E58: Сумська | F58: 32647 | G58: МВК №7 м. Суми 2004 | H58: 3264613873 | I58: АВ 949421 | K58: 0994827403 | L58: 1НР | N58: Резерв Командуючого | O58: на 2 курс (за пропуском днів)
A59: 48 | B59: солдат | C59: Заїка Віталій Олександрович | D59: Ніжинським РТЦК та СП у Чернігівській обл. 23 лютого 2026 року | E59: Чернігівська | F59: 29407 | G59: Бобровицький ДСГТ, 2000, агроном | H59: 2940603255 | J59: =VLOOKUP(C59,[1]Основний!$E$12:$Y$149,21,0)&" " & TEXT(VLOOKUP(C59,[1]Основний!$E$12:$Y$149,20,0),"dd.mm.yyyy") -> № 57 23.02.2026 | K59: 0681939861 | L59: 1НР | N59: ТЦК
A60: 49 | B60: солдат | C60: Звада Микита Іванович | D60: Сумським МТЦК та СП у Сумській обл. 21.02.2026 | E60: Сумська | F60: 36906 | G60: Вільшанська ЗОШ Сумська обл., с.Вільшана 2017 | H60: 3690507477 | I60: АВ 949418 | K60: 0683586538 | L60: 1НР | N60: Резерв Командуючого
A61: 50 | B61: солдат | C61: Звягінцев Вадим Сергійович | D61: Подільським РТЦК та СП у Київській обл. 25 лютого 2026 року | E61: Київ місто | F61: 33012 | G61: Київський проф. коледж ім. А. Макаренка, 2010, правознавство | H61: 3301112235 | I61: АГ 605685 | J61: =VLOOKUP(C61,[1]Основний!$E$12:$Y$149,21,0)&" " & TEXT(VLOOKUP(C61,[1]Основний!$E$12:$Y$149,20,0),"dd.mm.yyyy") -> № 59 25.02.2026 | K61: 636364510 | L61: 1НР | N61: ТЦК
A62: 51 | B62: солдат | C62: Зубко Андрій Валерійович | D62: Солом'янським РТЦК та СП у Київській обл. 28 лютого 2026 року | E62: Київ місто | F62: 36847 | G62: ХАІ, 2022, авіаційна та ракетна проекційна техніка | H62: 3684602658 | I62: АГ 629882 | J62: =VLOOKUP(C62,[1]Основний!$E$12:$Y$149,21,0)&" " & TEXT(VLOOKUP(C62,[1]Основний!$E$12:$Y$149,20,0),"dd.mm.yyyy") -> № 62 28.02.2026 | K62: 687091749 | L62: 1НР | N62: ТЦК | O62: А3316 по розподілу рекомендаційний лист
A63: 52 | B63: солдат | C63: Кальченко Олександр Іванович | D63: Сумським МТЦК та СП у Сумській обл. 23.02.26 | E63: Сумська | F63: 29245 | G63: АМСУ, м. Дніпро, 2009, облік, аудит, правознавство | H63: 2924420790 | I63: АВ 967887 | K63: 0675997775 | L63: 1НР | N63: Резерв Командуючого
A64: 53 | B64: солдат | C64: Камінський Андрій Михайлович | D64: Хмільницьким РТЦК та СП у Вінницькій обл. 26 лютого 2026 року | E64: Вінницька | F64: 35416 | G64: Гімназія №1, Медичний коледж ім. Д.К. Заболотного, м. Вінниця, 2016 | H64: 3541511375 | I64: АГ 574999 | J64: =VLOOKUP(C64,[1]Основний!$E$12:$Y$149,21,0)&" " & TEXT(VLOOKUP(C64,[1]Основний!$E$12:$Y$149,20,0),"dd.mm.yyyy") -> № 60 26.02.2026 | K64: 933511962 | L64: 1НР | N64: ТЦК
A65: 54 | B65: солдат | C65: Катеруша Ярослав Ігорович | D65: Шевченківським РТЦК та СП у Київській обл. 25 лютого 2026 року | E65: Київ місто | F65: 35252 | G65: Київський національний лінгвістичний університет, 2018, філологія (мова та література англійська) | H65: 3525107076 | I65: довідка | J65: =VLOOKUP(C65,[1]Основний!$E$12:$Y$149,21,0)&" " & TEXT(VLOOKUP(C65,[1]Основний!$E$12:$Y$149,20,0),"dd.mm.yyyy") -> № 59 25.02.2026 | K65: 733474748 | L65: 1НР | N65: ТЦК | O65: СЗЧ
A66: 55 | B66: солдат | C66: Качура Олексій Олександрович | D66: Чернігівським МТЦК та СП у Чернігівській обл. 23 лютого 2026 року | E66: Чернігівська | F66: 35855 | G66: Чернігівський педагогічний університет, 2021, фізичне виховання, хореографія | H66: 3585404453 | J66: =VLOOKUP(C66,[1]Основний!$E$12:$Y$149,21,0)&" " & TEXT(VLOOKUP(C66,[1]Основний!$E$12:$Y$149,20,0),"dd.mm.yyyy") -> № 57 23.02.2026 | K66: 0664746771 | L66: 1НР | N66: ТЦК
A67: 56 | B67: солдат | C67: Кваша Сергій Анатолійович | D67: Роменським РТЦК та СП у Сумської обл. 27.02.2026 | E67: Сумська | F67: 32935 | G67: Глинське ПТУ, 2009, слюсар, зварювальник | H67: 3293410951 | I67: СО 728605 | K67: 0686718122 | L67: 1НР | N67: Резерв Командуючого
A68: 57 | B68: солдат | C68: Клименченко Максим Анатолійович | D68: Шосткинським РТЦК та СП у Сумській обл. 24.02.2026 | E68: Сумська | F68: 32877 | G68: ПТУ, м. Глухів, муляр, печник, штукатур | H68: 3287611732 | I68: АВ 967980 | K68: 0667570803 | L68: 1НР | N68: Резерв Командуючого
A69: 58 | B69: солдат | C69: Князєв Олексадр Олексійович | D69: Сумським РтЦК та СП у Сумській обл. 24.02.2026 | E69: Сумська | F69: 30691 | G69: ПТУ34, 2002, будівельник | H69: 3069007313 | I69: МО 533842 | K69: 0984312805 | L69: 1НР | N69: Резерв Командуючого
A70: 59 | B70: солдат | C70: Коваленко Анатолій Григорович | D70: Житомирським РТЦК та СП у Житомирській обл. 28 лютого 2026 року | E70: Житомирська | F70: 29576 | G70: ПТУ №17 м. Житомир 1999 автослюсар-водій | H70: 2957514658 | I70: АВ 960033 | J70: =VLOOKUP(C70,[1]Основний!$E$12:$Y$149,21,0)&" " & TEXT(VLOOKUP(C70,[1]Основний!$E$12:$Y$149,20,0),"dd.mm.yyyy") -> № 62 28.02.2026 | K70: 963148587 | L70: 1НР | N70: ТЦК | O70: 2 КУРС Пропуск 16 днів
A71: 60 | B71: солдат | C71: Коваленко Дмитро Валентинович | D71: Солом'янським РТЦК та СП у Київській обл. 28 лютого 2026 року | E71: Київ місто | F71: 30984 | G71: ЗОШ №238 м. Київ 2001 | H71: 3098314219 | I71: АГ 629884 | J71: =VLOOKUP(C71,[1]Основний!$E$12:$Y$149,21,0)&" " & TEXT(VLOOKUP(C71,[1]Основний!$E$12:$Y$149,20,0),"dd.mm.yyyy") -> № 62 28.02.2026 | K71: 930344674 | L71: 1НР | N71: ТЦК
A72: 61 | B72: солдат | C72: Коваленко Олег Андрійович | D72: Оболонським РТЦК та СП у Київській обл. 28 лютого 2026 року | E72: Київ місто | F72: 34106 | G72: ХДПУ, 2019, тренер | H72: 3410506256 | I72: 040520250688132901083/1 | J72: =VLOOKUP(C72,[1]Основний!$E$12:$Y$149,21,0)&" " & TEXT(VLOOKUP(C72,[1]Основний!$E$12:$Y$149,20,0),"dd.mm.yyyy") -> № 62 28.02.2026 | K72: 990928972 | L72: 1НР | N72: ТЦК
A73: 62 | B73: солдат | C73: Коваль Сергій Степанович | D73: Хмільницьким РТЦК та СП у Вінницькій обл. 26 лютого 2026 року | E73: Вінницька | F73: 30203 | G73: Хмільницька ЗОШ №4 | H73: 3020225699 | I73: АГ 574997 | J73: =VLOOKUP(C73,[1]Основний!$E$12:$Y$149,21,0)&" " & TEXT(VLOOKUP(C73,[1]Основний!$E$12:$Y$149,20,0),"dd.mm.yyyy") -> № 60 26.02.2026 | K73: 681797617 | L73: 1НР | N73: ТЦК | O73: Не пройшов БЗВП
A74: 63 | B74: солдат | C74: Ковальов Владислав Віталійович | D74: Кам'янським РТЦК та СП у Дніпропетровскій обл. 03 березня 2026 року | E74: Дніпропетровська | F74: 36997 | G74: Професійне технічне учіліще №79 м. Дніпро, 2019, водій сільско-господарських, лісо-господарських машин, Слюсар ремонтник 3 разряду | K74: 0664717290 | L74: 1НР | N74: ТЦК | O74: контракт, А5242 відношення РОТА ОХОРОНИ стрілець зенітник 4 ст.
A75: 64 | B75: старший сержант | C75: Колодченко Олег Григорович | D75: Індустріальним РТЦК та СП 20.02.2026 | E75: Харківська | F75: 32942 | G75: Велекописерівська філія Ахтирскього профліцею, Сумська обл., смт.Велика Писарівка 2008 | H75: 3294101893 | I75: СО 621238 | K75: 0950483028 | L75: 1НР | N75: Резерв Командуючого | O75: СЗЧ
A76: 65 | B76: солдат | C76: Коновал Євгеній Миколайович | D76: Чернігівським РТЦК та СП у Чернігівській обл. 23 лютого 2026 року | E76: Чернігівська | F76: 30834 | G76: Чернігівський інститут економіки та управління, 2007, маркетолог | H76: 3083303814 | J76: =VLOOKUP(C76,[1]Основний!$E$12:$Y$149,21,0)&" " & TEXT(VLOOKUP(C76,[1]Основний!$E$12:$Y$149,20,0),"dd.mm.yyyy") -> № 57 23.02.2026 | K76: 0937859535 | L76: 1НР | N76: ТЦК
A77: 66 | B77: солдат | C77: Коренєв Віталій Віталійович | D77: Конотопським РТЦК та СП у Сумській обл. 24.02.2026 | E77: Сумська | F77: 32563 | G77: Школа №1, м. Суми | H77: 3256220573 | I77: АВ 949492 | K77: 0661495776 | L77: 1НР | N77: Резерв Командуючого
A78: 67 | B78: солдат | C78: Косенко Віталій Якович | D78: Сумським МТЦК та СП у Сумській обл. 27.02.2026 | E78: Сумська | F78: 34632 | G78: ПТУ №41 с. Недригалів, Сумська обл. 2013 | H78: 3463112994 | I78: АВ 949438 | K78: 0991610466 | L78: 1НР | N78: Резерв Командуючого | O78: СЗЧ
A79: 68 | B79: солдат | C79: Косенюк Валерій Анатолійович | D79: Деснянським РТЦК та СП у Київській обл. 26 лютого 2026 року | E79: Київ місто | F79: 27598 | G79: КДАККМ, 2005, звукорежисура, театральне мистецтво | H79: 2759713830 | I79: АГ 606584 | J79: =VLOOKUP(C79,[1]Основний!$E$12:$Y$149,21,0)&" " & TEXT(VLOOKUP(C79,[1]Основний!$E$12:$Y$149,20,0),"dd.mm.yyyy") -> № 60 26.02.2026 | K79: 503803960 | L79: 1НР | N79: ТЦК | O79: на 2 курс пропуск 17 днів
A80: 69 | B80: солдат | C80: Косьмін Юрій Віталійович | D80: Конотопським РТЦК та СП у Сумській обл. 24.02.2026 | E80: Сумська | F80: 29414 | G80: Бурса №9, м. Путивль | H80: 2941315057 | I80: АВ 967804 | K80: 0662402865 | L80: 1НР | N80: Резерв Командуючого | O80: Шпиталь Другий курс за пропуском днів (26.03)
A81: 70 | B81: солдат | C81: Крейдич Жан Віталійович | D81: Житомирського ОМТЦК та СП у Житомирській обл. 25 лютого 2026 року | E81: Житомирська | F81: 31117 | H81: 3111620917 | I81: АГ 186074 | J81: =VLOOKUP(C81,[1]Основний!$E$12:$Y$149,21,0)&" " & TEXT(VLOOKUP(C81,[1]Основний!$E$12:$Y$149,20,0),"dd.mm.yyyy") -> № 59 25.02.2026 | L81: 1НР | N81: ТЦК | O81: СЗЧ
A82: 71 | B82: солдат | C82: Кривогуз Віталій Олександович | D82: Сумським МТЦК та СП у Сумській обл. 21.02.2026 | E82: Сумська | F82: 29281 | G82: ПУСК м. Полтава бакалавр товарознавство і комерційна діяльність 2003 | H82: 2928021037 | I82: СО431160 | K82: 0994461246 | L82: 1НР | N82: Резерв Командуючого | O82: СЗЧ
A83: 72 | B83: солдат | C83: Кузьмишин Юрій Миколайович | D83: Житомирським РТЦК та СП у Київській обл. 28 лютого 2026 року | E83: Житомирська | F83: 32635 | G83: Турчинівка (училище) Житомирська обл, м. Чуднів 2007 електрогазозварювальник, водій | H83: 3263419370 | I83: АГ 603381 | J83: =VLOOKUP(C83,[1]Основний!$E$12:$Y$149,21,0)&" " & TEXT(VLOOKUP(C83,[1]Основний!$E$12:$Y$149,20,0),"dd.mm.yyyy") -> № 62 28.02.2026 | K83: 673197537 | L83: 1НР | N83: ТЦК
A84: 73 | B84: солдат | C84: Кучеренко Анатолій Михайлович | D84: Святошинським РТЦК та СП у Київській обл. 25 лютого 2026 року | E84: Київ місто | F84: 33960 | G84: ПТУ №16 м. Суми 2012 охоронник | H84: 3395907198 | I84: АГ 606238 | J84: =VLOOKUP(C84,[1]Основний!$E$12:$Y$149,21,0)&" " & TEXT(VLOOKUP(C84,[1]Основний!$E$12:$Y$149,20,0),"dd.mm.yyyy") -> № 59 25.02.2026 | K84: 668498110 | L84: 1НР | N84: ТЦК | O84: Шпиталь
A85: 74 | B85: солдат | C85: Кучура Андрій Віталійович | D85: Деснянським РТЦК та СП у Київській обл. 27 лютого 2026 року | E85: Київ місто | F85: 32181 | G85: Борзнівська ЗОШ | H85: 3218006254 | I85: АГ 606587 | J85: =VLOOKUP(C85,[1]Основний!$E$12:$Y$149,21,0)&" " & TEXT(VLOOKUP(C85,[1]Основний!$E$12:$Y$149,20,0),"dd.mm.yyyy") -> № 61 27.02.2026 | K85: 937290800 | L85: 1НР | N85: ТЦК | O85: СЗЧ
A86: 75 | B86: сержант | C86: Кущ Андрій Петрович | D86: Сумським МТЦК та СП у Сумській обл. 24.02.2026 | E86: Сумська | F86: 28934 | G86: Михайлівська ЗОШ Сумська обл. | H86: 2893300213 | I86: УН 0497799 | K86: 0669213337 | L86: 1НР | N86: Резерв Командуючого
A87: 76 | B87: солдат | C87: Левенець Максим Дмитрович | D87: Солом'янським РТЦК та СП у Київській обл. 23 лютого 2026 року | E87: Київ місто | F87: 32356 | G87: Київський бізнес коледж | H87: 3235521550 | I87: АГ 629816 | J87: =VLOOKUP(C87,[1]Основний!$E$12:$Y$149,21,0)&" " & TEXT(VLOOKUP(C87,[1]Основний!$E$12:$Y$149,20,0),"dd.mm.yyyy") -> № 57 23.02.2026 | K87: 930007874 | L87: 1НР | N87: ТЦК | O87: А3316 по розподілу рекомендаційний лист
A88: 77 | B88: солдат | C88: Левчич Олександр Миколайович | D88: Сумським МТЦК та СП у Сумській обл. 24.02.2026 | E88: Сумська | F88: 28658 | G88: СВШ №2 м. Суми 1996 | H88: 2865716296 | I88: АВ 949490 | K88: 0501372378 | L88: 1НР | N88: Резерв Командуючого | O88: на 2 курс Пропуск 23 дні
A89: 78 | B89: солдат | C89: Литвинко Олександр Сергійович | D89: Роменським РТЦК та СП у Сумській обл. 21.02.26 | E89: Сумська | F89: 36728 | G89: Глинський ПТАЛ, 2019, водій-тракторист, слюсар з ремонту с\г машин, Путивльський ветеринарний коледж, 2023, ветеринарна медицина | H89: 3672709816 | I89: АВ 949425 | K89: не надано | L89: 1НР | N89: Резерв Командуючого
A90: 79 | B90: солдат | C90: Люлевич Віталій Михайлович | D90: Житомирського ОМТЦК та СП у Житомирській обл. 27 лютого 2026 року | E90: Житомирська | F90: 32741 | G90: Житомирська ЗОШ №14 | H90: 3274005414 | I90: АВ 960028 | J90: =VLOOKUP(C90,[1]Основний!$E$12:$Y$149,21,0)&" " & TEXT(VLOOKUP(C90,[1]Основний!$E$12:$Y$149,20,0),"dd.mm.yyyy") -> № 61 27.02.2026 | K90: 80973712130 | L90: 1НР | N90: ТЦК | O90: СЗЧ
A91: 80 | B91: солдат | C91: Мазуркевич Віталій Петрович | D91: Подільський РТЦК та СП 19.02.2026 | E91: Київ обл | F91: 34057 | G91: Громадська ЗОШ, 2008 | H91: 3405600870 | I91: АГ 605625 | K91: 0638014463 | L91: 1НР | N91: Резерв Командуючого | O91: СЗЧ
A92: 81 | B92: солдат | C92: Матюнін Іван Леонідович | D92: Житомирського ОМТЦК та СП у Житомирській обл. 25 лютого 2026 року | E92: Житомирська | F92: 30964 | G92: Вечірня школа №1 м. Житомир 2005 | H92: 3096315737 | I92: АГ 186071 | J92: =VLOOKUP(C92,[1]Основний!$E$12:$Y$149,21,0)&" " & TEXT(VLOOKUP(C92,[1]Основний!$E$12:$Y$149,20,0),"dd.mm.yyyy") -> № 59 25.02.2026 | K92: 975383164 | L92: 1НР | N92: ТЦК
A93: 82 | B93: солдат | C93: Меньшиков Олексій Єгорович | D93: Харківським ТЦК та СП у Харківській обл. 25.12.2025 | E93: Харківська | F93: 29310 | G93: Пісочинська ЗОШ Харківська обл., смт. Пісочин 1995 | H93: 2930900615 | I93: АВ909203 | K93: 0669377797 | L93: 1НР | N93: Резерв Командуючого | O93: Звільнення
A94: 83 | B94: солдат | C94: Нєжнов Сергій Миколайович | D94: Харківським РТЦК та СП у Сумській обл. 20.02.2026 | E94: Харківська | F94: 28136 | G94: СПТУ №9 м. Харків, 1995, електрогазозварювальник | H94: 2813500653 | I94: АГ 594862 | K94: 0962762720 | L94: 1НР | N94: Резерв Командуючого | O94: Шпиталь
A95: 84 | B95: солдат | C95: Осадчук Олександр Олександрович | D95: Житомирським РТЦК та СП у Житомирській обл. 26 лютого 2026 року | E95: Житомирська | F95: 32239 | G95: Мартинівська ЗОШ | H95: 3223818474 | I95: АГ 603361 | J95: =VLOOKUP(C95,[1]Основний!$E$12:$Y$149,21,0)&" " & TEXT(VLOOKUP(C95,[1]Основний!$E$12:$Y$149,20,0),"dd.mm.yyyy") -> № 60 26.02.2026 | K95: не вказано | L95: 1НР | N95: ТЦК
A96: 85 | B96: солдат | C96: Панченко Олексадр Валерійович | D96: Конотопським РТЦК та СП у Сумській обл. 23.02.2026 | E96: Сумська | F96: 30298 | G96: Грузківська ЗОШ Сумська обл., Кроливецький р-н, с. Грузків | H96: 3029719656 | I96: АВ 967839 | L96: 1НР | N96: Резерв Командуючого | O96: Шпиталь
A97: 86 | B97: солдат | C97: Пархоменко Володимир Анатолійович | D97: Конотопським РТЦК та СП у Сумській обл. 21.02.2026 | E97: Сумська | F97: 31410 | G97: ПТУ №23 м. Київ, муляр-штукатур | H97: 3140913593 | I97: АВ 967840 | K97: 0685057883 | L97: 1НР | N97: Резерв Командуючого | O97: СЗЧ
A98: 87 | B98: солдат | C98: Паршиков Артем Вадимович | D98: Кропивницьким РТЦК та СП у Кіровоградській обл. 26 лютого 2026 року | E98: Кіровоградська | F98: 36053 | G98: Кропвницький інстинут державного та муніципального управління, 2022, право | H98: 3605210974 | I98: АГ 471494 | J98: =VLOOKUP(C98,[1]Основний!$E$12:$Y$149,21,0)&" " & TEXT(VLOOKUP(C98,[1]Основний!$E$12:$Y$149,20,0),"dd.mm.yyyy") -> № 60 26.02.2026 | K98: 961367161 | L98: 1НР | N98: ТЦК | O98: СЗЧ
A99: 88 | B99: солдат | C99: Пашков Денис Геннадійович | D99: Слобідським РТЦК та СП м. Харків 27.02.2026 | E99: Харківська | F99: 32540 | G99: Академія НГУ, 2008, командник, менеджер організації | H99: 3253904779 | I99: СО 316222 | K99: 0669166227 | L99: 1НР | N99: Резерв Командуючого
A100: 89 | B100: старший солдат | C100: Петраш Віктор Володимирович | D100: Сумським МТЦК та СП у Сумській обл. 23.02.2026 | E100: Сумська | F100: 30929 | G100: Маловисторопський державний аграрний коледж СНАУ, 2004, фельдшер ветеринарної медицини | H100: 3092805058 | I100: АВ 704155 | K100: 0953467547 | L100: 1НР | N100: Резерв Командуючого
A101: 90 | B101: солдат | C101: Пироганич Ігор Ігорович | D101: Ніжинським РТЦК та СП у Чернігівській обл. 22 лютого 2026 року | E101: Чернігівська | F101: 33302 | G101: ЗОШ с. Черниш, 2006 | H101: 3330114316 | I101: АГ 633796 | J101: =VLOOKUP(C101,[1]Основний!$E$12:$Y$149,21,0)&" " & TEXT(VLOOKUP(C101,[1]Основний!$E$12:$Y$149,20,0),"dd.mm.yyyy") -> № 56 22.02.2026 | K101: 0663157097 | L101: 1НР | N101: ТЦК | O101: Не пройщов БЗВП Шпиталь
A102: 91 | B102: солдат | C102: Платківський Олександр Анатолійович | D102: Хмільницьким РТЦК та СП у Вінницькій обл. 28 лютого 2026 року | E102: Вінницька | F102: 31158 | G102: Сільхозтехнікум м. Житомир 2005р механізація | H102: 3115715211 | I102: АГ 641907 | J102: =VLOOKUP(C102,[1]Основний!$E$12:$Y$149,21,0)&" " & TEXT(VLOOKUP(C102,[1]Основний!$E$12:$Y$149,20,0),"dd.mm.yyyy") -> № 62 28.02.2026 | K102: 969999707 | L102: 1НР | N102: ТЦК
A103: 92 | B103: солдат | C103: Поліщенко Олександр Петрович | D103: Хмільницьким РТЦК та СП у Вінницькій обл. 26 лютого 2026 року | E103: Вінницька | F103: 34310 | G103: Вінницький технічний коледж, 2013 | H103: 3430910630 | I103: АГ 575000 | J103: =VLOOKUP(C103,[1]Основний!$E$12:$Y$149,21,0)&" " & TEXT(VLOOKUP(C103,[1]Основний!$E$12:$Y$149,20,0),"dd.mm.yyyy") -> № 60 26.02.2026 | K103: 966336888 | L103: 1НР | N103: ТЦК | O103: СЗЧ
A104: 93 | B104: старший солдат | C104: Полторацький Сергій Олександрович | D104: Ніжинським РТЦК та СП у Чернігівській обл. 22 лютого 2026 року | E104: Чернігівська | F104: 33490 | G104: Ніжинське ПТУ №35, електрогазозварник-водій, 2009 | H104: 3348900619 | I104: АВ 093085 | J104: =VLOOKUP(C104,[1]Основний!$E$12:$Y$149,21,0)&" " & TEXT(VLOOKUP(C104,[1]Основний!$E$12:$Y$149,20,0),"dd.mm.yyyy") -> № 56 22.02.2026 | K104: 0500779439 | L104: 1НР | N104: ТЦК
A105: 94 | B105: солдат | C105: Пономаренко Володимир Миколайович | D105: Шевченківським РТЦК та СП у Київській обл. 25 лютого 2026 року | E105: Київ місто | F105: 32053 | G105: Харківський національний університет внутрішніх справ 2009 право та підприємництво | H105: 3205210030 | I105: 250220261320609100002/1 | J105: =VLOOKUP(C105,[1]Основний!$E$12:$Y$149,21,0)&" " & TEXT(VLOOKUP(C105,[1]Основний!$E$12:$Y$149,20,0),"dd.mm.yyyy") -> № 59 25.02.2026 | K105: 631406221 | L105: 1НР | N105: ТЦК | O105: СЗЧ
...

Sheet Settings
A1: базова загальна середня | C1: Придатний до військової служби | J1: Вінницька | K1: солдат | L1: I Rh -
A2: повна загальна середня | C2: Придатний до служби на підводних човнох, на надводних кораблях, у морській піхоті, Десантно-штурмових військах, спеціальних спорудах, підрозділах спеціального призначення | E2: Вінниця | F2: 1 відділ Хмільницький РТЦК | G2: першого відділу Хмільницького районного | H2: Вінницька | I2: Вінницького ОТЦК та СП | J2: Волинь | K2: старший солдат | L2: I Rh +
A3: професійно- технічна | C3: Придатний до служби у військових частинах забезпечення, ТЦК та СП, ВВНЗ, навчальних центрах, закладах (установах), медичних підрозділах, підрозділах логістики, зв'язку, оперативного забезпечення, охорони | E3: Вінниця | F3: 2 відділ Хмільницький РТЦК | G3: другого відділу Хмільницького районного | H3: Вінницька | I3: Вінницького ОТЦК та СП | J3: Дніпро | K3: молодший сержант | L3: II Rh -
A4: вища | E4: Вінниця | F4: 7 відділ Вінницький РТЦК | G4: сьомого відділу Вінницького районного | H4: Вінницька | I4: Вінницького ОТЦК та СП | J4: Донецьк | K4: сержант | L4: II Rh +
E5: Вінниця | F5: Вінницький ОМТЦК | G5: Вінницького об'єднаного міського | H5: Вінницька | I5: Вінницького ОТЦК та СП | J5: Житомир | K5: старший сержант | L5: III Rh -
E6: Вінниця | F6: 1 відділ Вінницький РТЦК | G6: першого відділу Вінницького районного | H6: Вінницька | I6: Вінницького ОТЦК та СП | J6: Закарпаття | K6: штаб-сержант | L6: III Rh +
E7: Вінниця | F7: 1 відділ Жмеринський РТЦК | G7: першого відділу Жмеринського районного | H7: Вінницька | I7: Вінницького ОТЦК та СП | J7: Запоріжжя | K7: матрос | L7: IV Rh -
E8: Вінниця | F8: Тульчинський РТЦК | G8: Тульчинського районного | H8: Вінницька | I8: Вінницького ОТЦК та СП | J8: Івано-Франківськ | K8: старший матрос | L8: IV Rh +
E9: Вінниця | F9: Хмільницький РТЦК | G9: Хмільницького районного | H9: Вінницька | I9: Вінницького ОТЦК та СП | J9: Київ місто | K9: старшина
E10: Вінниця | F10: 1 відділ Могилів-Подільський РТЦК | G10: першого відділу Могилів-Подільського районного | H10: Вінницька | I10: Вінницького ОТЦК та СП | J10: Київ обл | K10: старшина I статті
E11: Вінниця | F11: 1 відділ Тульчинський РТЦК | G11: першого відділу Тульчинського районного | H11: Вінницька | I11: Вінницького ОТЦК та СП | J11: Кропивницький | K11: головний старшина
E12: Вінниця | F12: 2 відділ Вінницький РТЦК | G12: другого відділу Вінницького районного | H12: Вінницька | I12: Вінницького ОТЦК та СП | J12: Луганськ | K12: прапорщик
E13: Вінниця | F13: 2 відділ Жмеринський РТЦК | G13: другого відділу Жмеринського районного | H13: Вінницька | I13: Вінницького ОТЦК та СП | J13: Львів
E14: Вінниця | F14: 2 відділ Могилів-Подільський РТЦК | G14: другого відділу Могилів-Подільського районного | H14: Вінницька | I14: Вінницького ОТЦК та СП | J14: Миколаїв
E15: Вінниця | F15: 2 відділ Тульчинський РТЦК | G15: другого відділу Тульчинського районного | H15: Вінницька | I15: Вінницького ОТЦК та СП | J15: Одеса
E16: Вінниця | F16: 3 відділ Вінницький РТЦК | G16: третього відділу Вінницького районного | H16: Вінницька | I16: Вінницького ОТЦК та СП | J16: Полтава
E17: Вінниця | F17: 3 відділ Могилів-Подільський РТЦК | G17: третього відділу Могилів-Подільського районного | H17: Вінницька | I17: Вінницького ОТЦК та СП | J17: Рівне
E18: Вінниця | F18: 3 відділ Тульчинський РТЦК | G18: третього відділу Тульчинського районного | H18: Вінницька | I18: Вінницького ОТЦК та СП | J18: Суми
E19: Вінниця | F19: 4 відділ Вінницький РТЦК | G19: четвертого відділу Вінницького районного | H19: Вінницька | I19: Вінницького ОТЦК та СП | J19: Тернопіль
E20: Вінниця | F20: 5 відділ Вінницький РТЦК | G20: п'ятого відділу Вінницького районного | H20: Вінницька | I20: Вінницького ОТЦК та СП | J20: Харків
E21: Вінниця | F21: 6 відділ Вінницький РТЦК | G21: шостого відділу Вінницького районного | H21: Вінницька | I21: Вінницького ОТЦК та СП | J21: Херсон
E22: Вінниця | F22: Вінницький РТЦК | G22: Вінницького районного | H22: Вінницька | I22: Вінницького ОТЦК та СП | J22: Хмельницький
E23: Вінниця | F23: Гайсинський РТЦК | G23: Гайсинського районного | H23: Вінницька | I23: Вінницького ОТЦК та СП | J23: Черкаси
E24: Вінниця | F24: 1 відділ Гайсинський РТЦК | G24: першого відділу Гайсинського районного | H24: Вінницька | I24: Вінницького ОТЦК та СП | J24: Чернівці
E25: Вінниця | F25: 2 відділ Гайсинський РТЦК | G25: другого відділу Гайсинського районного | H25: Вінницька | I25: Вінницького ОТЦК та СП | J25: Чернігів
E26: Вінниця | F26: Жмеринський РТЦК | G26: Жмеринського районного | H26: Вінницька | I26: Вінницького ОТЦК та СП
E27: Вінниця | F27: Могилів-Подільський РТЦК | G27: Могилів-Подільського районного | H27: Вінницька | I27: Вінницького ОТЦК та СП
E28: Волинь | F28: 1 відділ Камінь-Каширський РТЦК | G28: першого відділу Камінь-Каширського районного | H28: Волинська | I28: Волинського ОТЦК та СП
E29: Волинь | F29: 1 відділ Ковельський РТЦК | G29: першого відділу Ковельського районного | H29: Волинська | I29: Волинського ОТЦК та СП
E30: Волинь | F30: 2 відділ Ковельський РТЦК | G30: другого відділу Ковельського районного | H30: Волинська | I30: Волинського ОТЦК та СП
E31: Волинь | F31: 4 відділ Ковельський РТЦК | G31: четвертого відділу Ковельського районного | H31: Волинська | I31: Волинського ОТЦК та СП
E32: Волинь | F32: 3 відділ Ковельський РТЦК | G32: третього відділу Ковельського районного | H32: Волинська | I32: Волинського ОТЦК та СП
E33: Волинь | F33: 5 відділ Ковельський РТЦК | G33: п'ятого відділу Ковельського районного | H33: Волинська | I33: Волинського ОТЦК та СП
E34: Волинь | F34: Луцький ОМТЦК | G34: Луцького об'єднаного міського | H34: Волинська | I34: Волинського ОТЦК та СП
E35: Волинь | F35: 2 відділ Камінь-Каширський РТЦК | G35: другого відділу Камінь-Каширського районного | H35: Волинська | I35: Волинського ОТЦК та СП
E36: Волинь | F36: 1 відділ Луцький РТЦК | G36: першого відділу Луцького районного | H36: Волинська | I36: Волинського ОТЦК та СП
E37: Волинь | F37: 2 відділ Луцький РТЦК | G37: другого відділу Луцького районного | H37: Волинська | I37: Волинського ОТЦК та СП
... E56: Дніпро | F56: 2 відділ Дніпровського РТЦК та СП | G56: другого відділу Дніпровського районного | H56: Дніпропетровська | I56: Дніпропетровського ОТЦК та СП
D57: міста Дніпра | E57: Дніпро | F57: Дніпровський РТЦК та СП | G57: Дніпровського районного | H57: Дніпропетровська | I57: Дніпропетровського ОТЦК та СП
D58: міста Дніпра | E58: Дніпро | F58: Індустріальний РТЦК та СП | G58: Індустріального районного | H58: Дніпропетровська | I58: Дніпропетровського ОТЦК та СП
E59: Дніпро | F59: Кам'янського РТЦК та СП | G59: Кам'янського районного | H59: Дніпропетровська | I59: Дніпропетровського ОТЦК та СП
E60: Дніпро | F60: 2 відділ Криворізького РТЦК та СП | G60: другого відділу Криворізького районного | H60: Дніпропетровська | I60: Дніпропетровського ОТЦК та СП
E61: Дніпро | F61: Криворізький РТЦК та СП | G61: Криворізького районного | H61: Дніпропетровська | I61: Дніпропетровського ОТЦК та СП
E62: Дніпро | F62: 2 відділ Синельниківського РТЦК та СП | G62: другого відділу Синельниківського районного | H62: Дніпропетровська | I62: Дніпропетровського ОТЦК та СП
E63: Дніпро | F63: Новокодацький РТЦК та СП | G63: Новокодацького районного | H63: Дніпропетровська | I63: Дніпропетровського ОТЦК та СП
E64: Дніпро | F64: Покровсько-Тернівський РТЦК та СП | G64: Покровсько-Тернівського районного | H64: Дніпропетровська | I64: Дніпропетровського ОТЦК та СП
E65: Дніпро | F65: Самарський РТЦК та СП | G65: Самарського районного | H65: Дніпропетровська | I65: Дніпропетровського ОТЦК та СП
E66: Дніпро | F66: Соборний РТЦК та СП | G66: Соборного районного | H66: Дніпропетровська | I66: Дніпропетровського ОТЦК та СП
E67: Дніпро | F67: 3 відділ Дніпровського РТЦК та СП | G67: третього відділу Дніпровського районного | H67: Дніпропетровська | I67: Дніпропетровського ОТЦК та СП
D68: міста Дніпра | E68: Дніпро | F68: Шевченківський РТЦК та СП | G68: Шевченківського районного | H68: Дніпропетровська | I68: Дніпропетровського ОТЦК та СП
E69: Дніпро | F69: 3 відділ Криворізького РТЦК та СП | G69: третього відділу Криворізького районного | H69: Дніпропетровська | I69: Дніпропетровського ОТЦК та СП
E70: Дніпро | F70: 3 відділ Нікопольський РТЦК та СП | G70: третього відділу Нікопольського районного | H70: Дніпропетровська | I70: Дніпропетровського ОТЦК та СП
E71: Дніпро | F71: 3 відділ Нікопольського РТЦК та СП | G71: третього відділу Нікопольського районного | H71: Дніпропетровська | I71: Дніпропетровського ОТЦК та СП
E72: Дніпро | F72: 3 відділ Синельниківського РТЦК та СП | G72: третього відділу Синельниківського районного | H72: Дніпропетровська | I72: Дніпропетровського ОТЦК та СП
E73: Дніпро | F73: 4 відділ Синельниківського РТЦК та СП | G73: четвертого відділу Синельниківського районного | H73: Дніпропетровська | I73: Дніпропетровського ОТЦК та СП
E74: Дніпро | F74: 5 відділ Синельниківського РТЦК та СП | G74: п'ятого відділу Синельниківського районного | H74: Дніпропетровська | I74: Дніпропетровського ОТЦК та СП
E75: Дніпро | F75: Дніпровський ОТЦК та СП | G75: Дніпровського обласного | H75: Дніпропетровська | I75: Дніпропетровського ОТЦК та СП
E76: Дніпро | F76: Інгулецький РТЦК та СП | G76: Інгулецького районного | H76: Дніпропетровська | I76: Дніпропетровського ОТЦК та СП
E77: Дніпро | F77: Криворізький РТЦК та СП | G77: Криворізького районного | H77: Дніпропетровська | I77: Дніпропетровського ОТЦК та СП
E78: Дніпро | F78: Металургійно-Довгинцівський ОРТЦК та СП | G78: Металургійно-Довгинцівського об'єднаного районного | H78: Дніпропетровська | I78: Дніпропетровського ОТЦК та СП
E79: Дніпро | F79: Нікопольський РТЦК та СП | G79: Нікопольського районного | H79: Дніпропетровська | I79: Дніпропетровського ОТЦК та СП
E80: Дніпро | F80: Новомосковський РТЦК та СП | G80: Новомосковського районного | H80: Дніпропетровська | I80: Дніпропетровського ОТЦК та СП
... E133: Запоріжжя | F133: Василівський РТЦК та СП | G133: Василівського районного | H133: Запорізька | I133: Запорізького ОТЦК та СП
D134: міста Запоріжжя | E134: Запоріжжя | F134: Заводський РТЦК та СП | G134: Заводського районного | H134: Запорізька | I134: Запорізького ОТЦК та СП
E135: Запоріжжя | F135: Запорізький РТЦК та СП | G135: Запорізького районного | H135: Запорізька | I135: Запорізького ОТЦК та СП
E136: Запоріжжя | F136: Комунарський РТЦК та СП | G136: Комунарського районного | H136: Запорізька | I136: Запорізького ОТЦК та СП
E137: Запоріжжя | F137: 1 відділ Мелітопольський РТЦК та СП | G137: першого відділу Мелітопольського районного | H137: Запорізька | I137: Запорізького ОТЦК та СП
E138: Запоріжжя | F138: Мелітопольський РТЦК та СП | G138: Мелітопольського районного | H138: Запорізька | I138: Запорізького ОТЦК та СП
E139: Запоріжжя | F139: Пологівський РТЦК та СП | G139: Пологівського районного | H139: Запорізька | I139: Запорізького ОТЦК та СП
E140: Запоріжжя | F140: 3 відділ Пологівського РТЦК та СП | G140: третього відділу Пологівського районного | H140: Запорізька | I140: Запорізького ОТЦК та СП
E141: Запоріжжя | F141: Хортицький РТЦК та СП | G141: Хортицького районного | H141: Запорізька | I141: Запорізького ОТЦК та СП
D142: міста Запоріжжя | E142: Запоріжжя | F142: Центральний ОРТЦК та СП | G142: Центрального об'єднаного районного | H142: Запорізька | I142: Запорізького ОТЦК та СП
D143: міста Запоріжжя | E143: Запоріжжя | F143: Шевченківський РТЦК та СП | G143: Шевченківського районного | H143: Запорізька | I143: Запорізького ОТЦК та СП
E144: Івано-Франківськ | F144: 1 відділ Івано-Франківський РТЦК | G144: першого відділу Івано-Франківського районного | H144: Івано-Франківська | I144: Івано-Франківського ОТЦК та СП
E145: Івано-Франківськ | F145: 1 відділ Калуський РТЦК | G145: першого відділу Калуського районного | H145: Івано-Франківська | I145: Івано-Франківського ОТЦК та СП
E146: Івано-Франківськ | F146: 1 відділ Коломийський РТЦК | G146: першого відділу Коломийського районного | H146: Івано-Франківська | I146: Івано-Франківського ОТЦК та СП
E147: Івано-Франківськ | F147: 2 відділ Івано-Франківський РТЦК | G147: другого відділу Івано-Франківського районного | H147: Івано-Франківська | I147: Івано-Франківського ОТЦК та СП
E148: Івано-Франківськ | F148: 2 відділ Калуський РТЦК | G148: другого відділу Калуського районного | H148: Івано-Франківська | I148: Івано-Франківського ОТЦК та СП
E149: Івано-Франківськ | F149: 2 відділ Коломийський РТЦК | G149: другого відділу Коломийського районного | H149: Івано-Франківська | I149: Івано-Франківського ОТЦК та СП
E150: Івано-Франківськ | F150: 3 відділ Івано-Франківський РТЦК | G150: третього відділу Івано-Франківського районного | H150: Івано-Франківська | I150: Івано-Франківського ОТЦК та СП
E151: Івано-Франківськ | F151: 4 відділ Івано-Франківський РТЦК | G151: четвертого відділу Івано-Франківського районного | H151: Івано-Франківська | I151: Івано-Франківського ОТЦК та СП
E152: Івано-Франківськ | F152: Верховинський РТЦК | G152: Верховинського районного | H152: Івано-Франківська | I152: Івано-Франківського ОТЦК та СП
E153: Івано-Франківськ | F153: Івано-Франківський МТЦК | G153: Івано-Франківського міського | H153: Івано-Франківська | I153: Івано-Франківського ОТЦК та СП
E154: Івано-Франківськ | F154: Івано-Франківський ОТЦК | G154: Івано-Франківського обласного | H154: Івано-Франківська | I154: Івано-Франківського ОТЦК та СП
E155: Івано-Франківськ | F155: Івано-Франківський РТЦК | G155: Івано-Франківського районного | H155: Івано-Франківська | I155: Івано-Франківського ОТЦК та СП
... E162: Київ місто | F162: Деснянський РТЦК | G162: Деснянського районного | H162: Київ місто | I162: Київського МТЦК та СП
D163: міста Києва | E163: Київ місто | F163: Дніпровський РТЦК | G163: Дніпровського районного | H163: Київ місто | I163: Київського МТЦК та СП
E164: Київ місто | F164: Оболонський РТЦК | G164: Оболонського районного | H164: Київ місто | I164: Київського МТЦК та СП
E165: Київ місто | F165: Печерський РТЦК | G165: Печерського районного | H165: Київ місто | I165: Київського МТЦК та СП
D166: міста Києва | E166: Київ місто | F166: Подільський РТЦК | G166: Подільського районного | H166: Київ місто | I166: Київського МТЦК та СП
E167: Київ місто | F167: Святошинський РТЦК | G167: Святошинського районного | H167: Київ місто | I167: Київського МТЦК та СП
E168: Київ місто | F168: Солом'янський РТЦК | G168: Солом'янського районного | H168: Київ місто | I168: Київського МТЦК та СП
D169: міста Києва | E169: Київ місто | F169: Шевченківський РТЦК | G169: Шевченківського районного | H169: Київ місто | I169: Київського МТЦК та СП
E170: Київ обл | F170: 1 відділ Бориспільський РТЦК | G170: першого відділу Бориспільського районного | H170: Київ обл | I170: Київського ОТЦК та СП
E171: Київ обл | F171: 1 відділ Бучанський РТЦК | G171: першого відділу Бучанського районного | H171: Київ обл | I171: Київського ОТЦК та СП
E172: Київ обл | F172: 1 відділ Вишгородський РТЦК | G172: першого відділу Вишгородського районного | H172: Київ обл | I172: Київського ОТЦК та СП
E173: Київ обл | F173: 1 відділ Обухівський РТЦК | G173: першого відділу Обухівського районного | H173: Київ обл | I173: Київського ОТЦК та СП
E174: Київ обл | F174: 1 відділ Білоцерківський РТЦК | G174: першого відділу Білоцерківського районного | H174: Київ обл | I174: Київського ОТЦК та СП
E175: Київ обл | F175: 2 відділ Білоцерківський РТЦК | G175: другого відділу Білоцерківського районного | H175: Київ обл | I175: Київського ОТЦК та СП
E176: Київ обл | F176: 2 відділ Бориспільський РТЦК | G176: другого відділу Бориспільського районного | H176: Київ обл | I176: Київського ОТЦК та СП
...

Sheet перевірки
C1: =Основний!C11 -> 0
C2: =Основний!C12 -> Абрамян Артур Маратович | E2: =C2=G2 -> FALSE | F2: солдат | G2: Буховський Леонід Валентинович | H2: Житомирська обл. м.Житомир | I2: Житомирська обл. м.Житомир вул.Вільський Шлях 101 | J2: професійно- технічна | K2: ПТУ№5 м.Житомир 1996 | L2: Столяр 2 роки | M2: мати: Буховська Валентина Аркадівна -1954- 0962586509 - Житомирська обл. м.Житомир вул.Вільський Шлях 101 брат: Буховський Віталій Валентинович -1975- 0967667335 - Житомирська обл. м.Житомир вул.Вільський Шлях 101 | N2: 0980147147
C3: =Основний!C13 -> Авраменко Андрій Миколайович | E3: =C3=G3 -> FALSE | F3: солдат | G3: Ворона Валерій Павлович | H3: Черкаська обл. с.Явонівка | I3: Київська обл. м.Буча вул.Амосова 4 кв 30 | J3: професійно- технічна | K3: ПТУ№13 м.Сміла 2015 маляр-штукатур | L3: Будівельник 5 років Права Б | M3: дружина: Ворона Вікторія Ігорівна -1997- 0966920138 - Київська обл. м.Буча вул.Амосова 4 кв 30 мати: Ворона Наталія Юхимівна -1977- 0989265328 - Черкаська обл. с.Дацьке вул.Лугова 26 | N3: 0980326466
C4: =Основний!C14 -> Алексенко Іван Миколайович | E4: =C4=G4 -> FALSE | F4: солдат | G4: Главацький Олександр Вікторович | H4: с.Степівка Деражнянський р-н Хмельницька обл. | I4: с.Степівка вул.Дружби 62 Деражнянський р-н Хмельницька обл. | J4: професійно- технічна | K4: ПТУ | L4: не працював | M4: неодружений мати:Главацька Ірина Василівна -1976-0973874557-с.Степівка вул.Дружби 62 Деражнянський р-н Хмельницька обл. двоюрідна Сестра;Назарова Дарина Вікторівна -0684944220-с.Степівка вул.Дружби 62 Деражнянський р-н Хмельницька обл. | N4: 0681244550
C5: =Основний!C15 -> Алієв Парвіз Натікбєкович | E5: =C5=G5 -> FALSE | F5: солдат | G5: Глущак Ігор Васильович | H5: Вінницька обл. с.Сугаки | I5: Вінницька обл. с.Сугаки вул.Леніна 13 | J5: вища | K5: Вінницький національний аграрний університет 2023 тваринництво | L5: оператор елеватора 4 роки | M5: мати: Глущак Любов Степанівна -1974- 0686018922 - Вінницька обл. с.Сугаки вул.Леніна 13 батько: Глущак Василь Петрович -1972- 0687234106 -Вінницька обл. с.Сугаки вул.Леніна 13 | N5: 0979201201
C6: =Основний!C16 -> Андрушко Вадим Валентинович | E6: =C6=G6 -> FALSE | F6: старший сержант | G6: Голосовський Дмитро Олександрович | H6: Росія, М.Сант Петербург. | I6: М.Кривий-Ріг, вул. Чорнобривців 61. | J6: професійно- технічна | K6: ПТУ №45 м. Кривий-Ріг 1996 електрозварник | L6: зварювальнтк 2 роки, права Б | M6: мати: Голосовська Ольга Миколаївна - 1948 - 0962338208 - М.Кривий-Ріг, вул. Чорнобривців 61. сестра: Скрипник Наталія Олександрівна - 1982 - 0979321079 - М.Кривий-Ріг, вул. Чорнобривців 118. | N6: 0980077090
C7: =Основний!C17 -> Анісімов Сергій Леонідович | E7: =C7=G7 -> FALSE | F7: солдат | G7: Домброва Володимир Ярославович | H7: Київська обл. м. Обухів. | I7: Київська обл. м. Обухів, вул Київська 109, кв. 15. | J7: вища | K7: м. Київ, Університет Україна, 2021, Автомобільний Транспорт | L7: Нова Пошта, Укладальник пакувальник, 1 рік, права А,А1, Б | M7: мати: Домброва Людмила Михалівна - 1970 - 0631814208 - Київська обл. м. Обухів, вул Київська 109, кв. 15. брат:Постол Віталій Михайлович - 1991 - 0969507753 - Київська обл. м. Обухів. | N7: 0660031239
C8: =Основний!C18 -> Антонюк Дмитро Русланович | E8: =C8=G8 -> FALSE | F8: солдат | G8: Єрмаков Олександр Валерійович | H8: Київська обл. с.Ксаверівка | I8: Київська обл. с.Коцюбинське вул.Меблева 2 кв 1 | J8: професійно- технічна | K8: ВПУ №45 м.Київ 1998 продавець | L8: кладовщик 1 рік | M8: не має | N8: 0689604699
C9: =Основний!C19 -> Антонюк Олександр Леонідович | E9: =C9=G9 -> FALSE | F9: солдат | G9: Житник Максим Володимирович | H9: Київська обл. Переяслів-Хмельницький район. С. Студеники, вул Студениківська 26. | I9: м. Хмельницьк, вул. Молодіжна 2\1д. | J9: професійно- технічна | K9: ПТУ №22 м. Переяслів-Хмельницький, 2017, зварювалбнтк | L9: водопровідник 5 років. | M9: брат: Житник Павло Володимирович - 1985 - 0689771618 - Київська обл. Переяслів-Хмельницький район. С. Студеники, вул Озерна. матір: Житник Лідія Леонідівна - 1962 - 0962605185 - Київська обл. Переяслів-Хмельницький район. С. Студеники, вул Студениківська 26. | N9: 0506026412
C10: =Основний!C20 -> Бабич Андрій Васильович | E10: =C10=G10 -> FALSE | F10: солдат | G10: Зеленов Артем Олександрович | H10: Дніпропетровська обл. м.Кам'янське | I10: Київська обл. с.Горенич вул.Гайдая 6 кв 28 | J10: професійно- технічна | K10: ПТУ№26 м.Кам'янське 2005 автослюсар | L10: Водія навантажувача 2 роки Права Б,С | M10: дружина: Бельговська Вероніка Русланівна -1996- 0986773868 - Київська обл. с.Горенич вул.Гайдая 6 кв 28 мати: Перетятько Наталія Іванівна -1968- +48731927796 Польша м.Варшава | N10: 0680576727
C11: =Основний!C21 -> Баскаков Павло Анатолійович | E11: =C11=G11 -> FALSE | F11: солдат | G11: Злачевський Сергій Миколайович | H11: Кіровоградська обл.м.Помічна | I11: м.Житомир вул.Довженка 4 кв 2 | J11: вища | K11: Кіровоградський державний педагогічний університет ім.Винниченка 2000 спеціаліст фізичного виховання і спорту | L11: монтажник натяжних стель 4 роки, права Б. | M11: одружений дружина:Злачевська Юлія Вячеславівна -1977-0974851867-м.Житомир вул.Довженка 4 кв 2 мати;Злачевська Ніна Федорівна-1954-0673384890-Кіровоградська обл.м.Помічна вул.Небеснои Сотні 213 кв 15 | N11: 0969093375
C12: =Основний!C22 -> Бершадський Олександр Миколайович | E12: =C12=G12 -> FALSE | F12: солдат | G12: Іщенко Руслан Олександрович | H12: м.Кропинвицький | I12: м.Кропивницький вул.Гоголя 26 кв 22 | J12: вища | K12: Кіровоградський національний технічний університет 2016р.Інженер будівельник | L12: Продавець консультант непродовольчих товарів 6 місяців | M12: неодружений батько;Іщенко Олександр Владиславович -1965р-0969523816-м.Киів мати;Іщенко Світлана Сергіівна -1970-0500222466-Кіровоградська обл.смт Капітанівка вул.Смілянська 50 | N12: 0506401321
C13: =Основний!C23 -> Білоусов Сергій Вікторович | E13: =C13=G13 -> FALSE | F13: солдат | G13: Коломійчук Роман Геннадійович | H13: м.Житромир | I13: м.Житомир вул.Космонавтів 14 кв 69 | J13: вища | K13: Агро Технічний Коледж м.Житомир 2021р.Інженер механік | L13: водій 3 міс.Права Б С | M13: неодружений батько;Коломійчук Генадій Васильович -1973-0672709255-м.Житомир вул.Вітрука 29кв 98 кум:Багінський Андрій Віталійович -2000-0635996794-м.Житомир вул.Гоголівська 96 кв 18 | N13: 0681120757
... C36: =Основний!C46 -> Грох Андрій Вікторович | E36: =C36=G36 -> FALSE | F36: солдат | G36: Яценко Віктор Вікторович | H36: Черкаська обл. с.Вергуни | I36: Черкаська обл. с.Вергуни вул.Св'ятотроїцька 94 | J36: професійно- технічна | K36: ПТУ№13 м.Черкаси 2010 слюсар-електрик | L36: Транспортувальник 13 років | M36: дружина: Яценко Світлана Сергіївна -1991- 0685053810 - м.Черкаси вул.Гоголя 580/1 кв 110 мати: Яценко Вікторія Дмитрівна -1972- 0963904177 - Черкаська обл. с.Вергуни вул.Св'ятотроїцька 94 | N36: 0984800263
C37: =Основний!C47 -> Грузинський Юрій Миколайович | E37: =C37=G37 -> FALSE
C38: =Основний!C48 -> Гуленко Владислав Олександрович | E38: =C38=G38 -> FALSE
C39: =Основний!C49 -> Гусєв Євгеній Олександрович | E39: =C39=G39 -> FALSE
C40: =Основний!C50 -> Давиденко Богдан Миколайович | E40: =C40=G40 -> FALSE
C41: =Основний!C51 -> Дацюк Вячеслав Іванович | E41: =C41=G41 -> FALSE
C42: =Основний!C52 -> Денисенко Артем Олегович | E42: =C42=G42 -> FALSE
C43: =Основний!C53 -> Деревлюк Сергій Степанович | E43: =C43=G43 -> FALSE
C44: =Основний!C54 -> Деркач Антон Олександрович | E44: =C44=G44 -> FALSE
C45: =Основний!C55 -> Дрига Сергій Олександрович | E45: =C45=G45 -> FALSE
C46: =Основний!C56 -> Єрмаков Дмитро Олександрович | E46: =C46=G46 -> FALSE
C47: =Основний!C57 -> Жеребцов Данило Вадимович | E47: =C47=G47 -> FALSE
C48: =Основний!C58 -> Забайрачний Антон Валерійович | E48: =C48=G48 -> FALSE
... C93: =Основний!C103 -> Поліщенко Олександр Петрович | E93: =C93=G93 -> FALSE
C94: =Основний!C104 -> Полторацький Сергій Олександрович
C95: =Основний!C105 -> Пономаренко Володимир Миколайович
C96: =Основний!C106 -> Прищепчук Андрій Олександрович
C97: =Основний!C107 -> Прокопчук Євген Антонович
C98: =Основний!C108 -> Пятніков Анатолій Вікторович
C99: =Основний!C109 -> Редько Вадим Юрійович
C100: =Основний!C110 -> Різничок Ігор Миколайович
C101: =Основний!C111 -> Романцов Ілля Андрійович
C102: =Основний!C112 -> Савицький Олексій Васильович
C103: =Основний!C113 -> Садика Роман Олександрович
C104: =Основний!C114 -> Сардачук Олексій Вікторович
C105: =Основний!C115 -> Скандаков Віталій Олександрович
C106: =Основний!C116 -> Скромінський Ярослав Вікторович

Sheet Перевірка
A1: {=Основний!A10:A179} -> № з/п | B1: {=CONCATENATE("", Основний!C10:C179)} -> ПІБ | C1: {=CONCATENATE("", TEXT(Основний!F10:F179,"dd.mm.yyyy"))} -> Дата народження | D1: {=CONCATENATE("", Основний!H10:H179)} -> ідентифікаційний код | E1: Перевірка | F1: {=CONCATENATE("", Основний!I10:I179)} -> військовий квиток | G1: Перевірка | H1: {=CONCATENATE("", Основний!#REF!)} -> #REF! | I1: Перевірка | J1: Алфавітка | K1: Д = А | L1: Поіменний Список | M1: Д = ПС | N1: А = ПС
A2: 0 | C2: 00.01.1900 | J2: - | K2: - | L2: - | M2: - | N2: - | O2: =DATEVALUE(C2) <> INT(LEFT(D2,5)) +1 -> #VALUE!
A3: 1 | B3: Абрамян Артур Маратович | C3: 21.10.1998 | D3: 3608804152 | E3: =IF(D3="", "", LEN(D3)) -> 10 | F3: 040520251458450705269/1 | G3: =IF(F3="", "", LEN(F3)) -> 23 | I3: =IF(H3="", "", LEN(H3)) | J3: Антоненко Руслан Олександрович | K3: =IF(J3="", "", B3=J3) -> FALSE | M3: =IF(L3="", "", B3=L3) | N3: =IF(L3="", "", J3=L3) | O3: =DATEVALUE(C3) <> INT(LEFT(D3,5)) +1 -> FALSE | P3: =DATEVALUE(C3) -> 36089
A4: 2 | B4: Авраменко Андрій Миколайович | C4: 18.06.1984 | D4: 3085003094 | E4: =IF(D4="", "", LEN(D4)) -> 10 | G4: =IF(F4="", "", LEN(F4)) | I4: =IF(H4="", "", LEN(H4)) | J4: Баранов Дмитро Геннадійович | K4: =IF(J4="", "", B4=J4) -> FALSE | M4: =IF(L4="", "", B4=L4) | N4: =IF(L4="", "", J4=L4) | O4: =DATEVALUE(C4) <> INT(LEFT(D4,5)) +1 -> FALSE
A5: 3 | B5: Алексенко Іван Миколайович | C5: 23.06.1997 | D5: 3560301717 | E5: =IF(D5="", "", LEN(D5)) -> 10 | G5: =IF(F5="", "", LEN(F5)) | I5: =IF(H5="", "", LEN(H5)) | J5: Боровик Юрій Володимирович | K5: =IF(J5="", "", B5=J5) -> FALSE | M5: =IF(L5="", "", B5=L5) | N5: =IF(L5="", "", J5=L5) | O5: =DATEVALUE(C5) <> INT(LEFT(D5,5)) +1 -> FALSE
A6: 4 | B6: Алієв Парвіз Натікбєкович | C6: 07.05.1983 | D6: 3044204097 | E6: =IF(D6="", "", LEN(D6)) -> 10 | F6: АГ 629818 | G6: =IF(F6="", "", LEN(F6)) -> 9 | I6: =IF(H6="", "", LEN(H6)) | J6: Горбатенко Олександр Олегович | K6: =IF(J6="", "", B6=J6) -> FALSE | M6: =IF(L6="", "", B6=L6) | N6: =IF(L6="", "", J6=L6)
A7: 5 | B7: Андрушко Вадим Валентинович | C7: 02.11.1991 | D7: 3354308835 | E7: =IF(D7="", "", LEN(D7)) -> 10 | F7: АГ 603287 | G7: =IF(F7="", "", LEN(F7)) -> 9 | I7: =IF(H7="", "", LEN(H7)) | J7: Жестовський Сергій Сергійович | K7: =IF(J7="", "", B7=J7) -> FALSE | M7: =IF(L7="", "", B7=L7) | N7: =IF(L7="", "", J7=L7)
A8: 6 | B8: Анісімов Сергій Леонідович | C8: 18.10.1989 | D8: 3279802570 | E8: =IF(D8="", "", LEN(D8)) -> 10 | F8: АГ 633795 | G8: =IF(F8="", "", LEN(F8)) -> 9 | I8: =IF(H8="", "", LEN(H8)) | J8: Ісаков Олександр Сергійович | K8: =IF(J8="", "", B8=J8) -> FALSE | M8: =IF(L8="", "", B8=L8) | N8: =IF(L8="", "", J8=L8)
A9: 7 | B9: Антонюк Дмитро Русланович | C9: 23.03.1999 | D9: 3624109257 | E9: =IF(D9="", "", LEN(D9)) -> 10 | F9: АГ 574988 | G9: =IF(F9="", "", LEN(F9)) -> 9 | I9: =IF(H9="", "", LEN(H9)) | J9: Клімчук Олександр Олександрович | K9: =IF(J9="", "", B9=J9) -> FALSE | M9: =IF(L9="", "", B9=L9) | N9: =IF(L9="", "", J9=L9)
A10: 8 | B10: Антонюк Олександр Леонідович | C10: 27.09.1979 | D10: 2912410393 | E10: =IF(D10="", "", LEN(D10)) -> 10 | F10: АГ 603239 | G10: =IF(F10="", "", LEN(F10)) -> 9 | I10: =IF(H10="", "", LEN(H10)) | J10: Колесніков Сергій Сергійович | K10: =IF(J10="", "", B10=J10) -> FALSE | M10: =IF(L10="", "", B10=L10) | N10: =IF(L10="", "", J10=L10)
A11: 9 | B11: Бабич Андрій Васильович | C11: 18.04.1984 | D11: 3078922215 | E11: =IF(D11="", "", LEN(D11)) -> 10 | F11: АГ 603272 | G11: =IF(F11="", "", LEN(F11)) -> 9 | I11: =IF(H11="", "", LEN(H11)) | J11: Опанасюк Ігор Петрович | K11: =IF(J11="", "", B11=J11) -> FALSE | M11: =IF(L11="", "", B11=L11) | N11: =IF(L11="", "", J11=L11)
A12: 10 | B12: Баскаков Павло Анатолійович | C12: 02.03.1984 | D12: 3074200978 | E12: =IF(D12="", "", LEN(D12)) -> 10 | F12: 140220221425037600020/1 | G12: =IF(F12="", "", LEN(F12)) -> 23 | I12: =IF(H12="", "", LEN(H12)) | J12: Ручин Дмитро Вікторович | K12: =IF(J12="", "", B12=J12) -> FALSE | M12: =IF(L12="", "", B12=L12) | N12: =IF(L12="", "", J12=L12)
A13: 11 | B13: Бершадський Олександр Миколайович | C13: 15.03.1992 | D13: 3367700733 | E13: =IF(D13="", "", LEN(D13)) -> 10 | F13: довідка | G13: =IF(F13="", "", LEN(F13)) -> 7 | I13: =IF(H13="", "", LEN(H13)) | J13: Солоденко Анатолій Сергійович | K13: =IF(J13="", "", B13=J13) -> FALSE | M13: =IF(L13="", "", B13=L13) | N13: =IF(L13="", "", J13=L13)
A14: 12 | B14: Білоусов Сергій Вікторович | C14: 04.09.1982 | D14: ВМ632875 | E14: =IF(D14="", "", LEN(D14)) -> 8 | F14: АГ 186080 | G14: =IF(F14="", "", LEN(F14)) -> 9 | I14: =IF(H14="", "", LEN(H14)) | J14: Фістікан Василь Петрович | K14: =IF(J14="", "", B14=J14) -> FALSE | M14: =IF(L14="", "", B14=L14) | N14: =IF(L14="", "", J14=L14)
A15: 13 | B15: Бойко Геннадій Володимирович | C15: 19.11.1981 | D15: 2990807554 | E15: =IF(D15="", "", LEN(D15)) -> 10 | F15: №250220261352624000001/2 Від 25.02.2026 | G15: =IF(F15="", "", LEN(F15)) -> 39 | I15: =IF(H15="", "", LEN(H15)) | J15: Чабан Михайло Григорович | K15: =IF(J15="", "", B15=J15) -> FALSE | M15: =IF(L15="", "", B15=L15) | N15: =IF(L15="", "", J15=L15)
A16: 14 | B16: Большаков Костянтин Євгенович | C16: 02.07.1992 | D16: 3378604531 | E16: =IF(D16="", "", LEN(D16)) -> 10 | F16: довідка | G16: =IF(F16="", "", LEN(F16)) -> 7 | I16: =IF(H16="", "", LEN(H16)) | K16: =IF(J16="", "", B16=J16) | M16: =IF(L16="", "", B16=L16) | N16: =IF(L16="", "", J16=L16)
A17: 15 | B17: Бондар Андрій Васильович | C17: 29.07.1988 | D17: 3235207996 | E17: =IF(D17="", "", LEN(D17)) -> 10 | F17: АГ 574967 | G17: =IF(F17="", "", LEN(F17)) -> 9 | I17: =IF(H17="", "", LEN(H17)) | K17: =IF(J17="", "", B17=J17) | M17: =IF(L17="", "", B17=L17) | N17: =IF(L17="", "", J17=L17)
A18: 16 | B18: Борисов Дмитро Сергійович | C18: 16.05.1984 | D18: 3081727094 | E18: =IF(D18="", "", LEN(D18)) -> 10 | F18: СО 871538 | G18: =IF(F18="", "", LEN(F18)) -> 9 | I18: =IF(H18="", "", LEN(H18)) | K18: =IF(J18="", "", B18=J18) | M18: =IF(L18="", "", B18=L18) | N18: =IF(L18="", "", J18=L18)
A19: 17 | B19: Бородавко Віталій Михайлович | C19: 10.10.1989 | D19: 3279006554 | E19: =IF(D19="", "", LEN(D19)) -> 10 | F19: АГ 633793 | G19: =IF(F19="", "", LEN(F19)) -> 9 | I19: =IF(H19="", "", LEN(H19)) | K19: =IF(J19="", "", B19=J19) | M19: =IF(L19="", "", B19=L19) | N19: =IF(L19="", "", J19=L19)
A20: 18 | B20: Брискін Денис Сергійович | C20: 03.09.1982 | D20: 3019609990 | E20: =IF(D20="", "", LEN(D20)) -> 10 | G20: =IF(F20="", "", LEN(F20)) | I20: =IF(H20="", "", LEN(H20)) | K20: =IF(J20="", "", B20=J20) | M20: =IF(L20="", "", B20=L20) | N20: =IF(L20="", "", J20=L20)
A21: 19 | B21: Бродовський Вадим Феліксович | C21: 09.11.1977 | D21: 2843714031 | E21: =IF(D21="", "", LEN(D21)) -> 10 | F21: АГ 603250 | G21: =IF(F21="", "", LEN(F21)) -> 9 | I21: =IF(H21="", "", LEN(H21)) | K21: =IF(J21="", "", B21=J21) | M21: =IF(L21="", "", B21=L21) | N21: =IF(L21="", "", J21=L21)
A22: 20 | B22: Бруяка Максим Юрійович | C22: 28.10.1996 | D22: 3536512192 | E22: =IF(D22="", "", LEN(D22)) -> 10 | F22: АВ 960514 | G22: =IF(F22="", "", LEN(F22)) -> 9 | I22: =IF(H22="", "", LEN(H22)) | K22: =IF(J22="", "", B22=J22) | M22: =IF(L22="", "", B22=L22) | N22: =IF(L22="", "", J22=L22)
A23: 21 | B23: Бурковцов Андрій Юрійович | C23: 09.09.1988 | D23: 3239413855 | E23: =IF(D23="", "", LEN(D23)) -> 10 | F23: АВ 949437 | G23: =IF(F23="", "", LEN(F23)) -> 9 | I23: =IF(H23="", "", LEN(H23)) | K23: =IF(J23="", "", B23=J23) | M23: =IF(L23="", "", B23=L23) | N23: =IF(L23="", "", J23=L23)
A24: 22 | B24: Бутко Руслан Павлович | C24: 29.07.1998 | D24: 3600408276 | E24: =IF(D24="", "", LEN(D24)) -> 10 | F24: 250620235816010600001/1 | G24: =IF(F24="", "", LEN(F24)) -> 23 | I24: =IF(H24="", "", LEN(H24)) | K24: =IF(J24="", "", B24=J24) | M24: =IF(L24="", "", B24=L24) | N24: =IF(L24="", "", J24=L24)
A25: 23 | B25: Васильченко Сергій Анатолійович | C25: 17.11.1993 | D25: 3428909730 | E25: =IF(D25="", "", LEN(D25)) -> 10 | F25: АВ 949433 | G25: =IF(F25="", "", LEN(F25)) -> 9 | I25: =IF(H25="", "", LEN(H25)) | K25: =IF(J25="", "", B25=J25) | M25: =IF(L25="", "", B25=L25) | N25: =IF(L25="", "", J25=L25)
A26: 24 | B26: Верба Володимир Олександрович | C26: 28.08.1995 | D26: 3493804851 | E26: =IF(D26="", "", LEN(D26)) -> 10 | F26: АВ 552749 | G26: =IF(F26="", "", LEN(F26)) -> 9 | I26: =IF(H26="", "", LEN(H26)) | K26: =IF(J26="", "", B26=J26) | M26: =IF(L26="", "", B26=L26) | N26: =IF(L26="", "", J26=L26)
A27: 25 | B27: Верстюк Євген Дмитрович | C27: 05.04.1977 | D27: 2821912276 | E27: =IF(D27="", "", LEN(D27)) -> 10 | F27: АВ909239 | G27: =IF(F27="", "", LEN(F27)) -> 8 | I27: =IF(H27="", "", LEN(H27)) | K27: =IF(J27="", "", B27=J27) | M27: =IF(L27="", "", B27=L27) | N27: =IF(L27="", "", J27=L27)
A28: 26 | B28: Вигівський Денис Анатолійович | C28: 28.09.1986 | D28: 3168215372 | E28: =IF(D28="", "", LEN(D28)) -> 10 | F28: 070920231320634500225/1 | G28: =IF(F28="", "", LEN(F28)) -> 23 | I28: =IF(H28="", "", LEN(H28)) | K28: =IF(J28="", "", B28=J28) | M28: =IF(L28="", "", B28=L28) | N28: =IF(L28="", "", J28=L28)
A29: 27 | B29: Войку Олег Георгійович | C29: 11.12.1988 | D29: 3248704812 | E29: =IF(D29="", "", LEN(D29)) -> 10 | F29: АГ 330242 | G29: =IF(F29="", "", LEN(F29)) -> 9 | I29: =IF(H29="", "", LEN(H29)) | K29: =IF(J29="", "", B29=J29) | M29: =IF(L29="", "", B29=L29) | N29: =IF(L29="", "", J29=L29)
A30: 28 | B30: Гаврик Євген Анатолійович | C30: 27.06.1987 | D30: 3195413716 | E30: =IF(D30="", "", LEN(D30)) -> 10 | F30: довідка | G30: =IF(F30="", "", LEN(F30)) -> 7 | I30: =IF(H30="", "", LEN(H30)) | K30: =IF(J30="", "", B30=J30) | M30: =IF(L30="", "", B30=L30) | N30: =IF(L30="", "", J30=L30)
A31: 29 | B31: Гончаренко Вячеслав Вікторович | C31: 22.02.1982 | D31: 3000315097 | E31: =IF(D31="", "", LEN(D31)) -> 10 | F31: МО 498066 | G31: =IF(F31="", "", LEN(F31)) -> 9 | I31: =IF(H31="", "", LEN(H31)) | K31: =IF(J31="", "", B31=J31) | M31: =IF(L31="", "", B31=L31) | N31: =IF(L31="", "", J31=L31)
A32: 30 | B32: Гончарук Владислав Миколайович | C32: 19.03.2000 | D32: 3660308950 | E32: =IF(D32="", "", LEN(D32)) -> 10 | F32: АВ 970998 | G32: =IF(F32="", "", LEN(F32)) -> 9 | I32: =IF(H32="", "", LEN(H32)) | K32: =IF(J32="", "", B32=J32) | M32: =IF(L32="", "", B32=L32) | N32: =IF(L32="", "", J32=L32)
... A44: 42 | B44: Деревлюк Сергій Степанович | C44: 09.10.1975 | D44: 2767516699 | E44: =IF(D44="", "", LEN(D44)) -> 10 | F44: АГ 606569 | G44: =IF(F44="", "", LEN(F44)) -> 9 | I44: =IF(H44="", "", LEN(H44)) | K44: =IF(J44="", "", B44=J44) | M44: =IF(L44="", "", B44=L44) | N44: =IF(L44="", "", J44=L44)
A45: 43 | B45: Деркач Антон Олександрович | C45: 20.04.1988 | D45: 3225211077 | E45: =IF(D45="", "", LEN(D45)) -> 10 | G45: =IF(F45="", "", LEN(F45)) | I45: =IF(H45="", "", LEN(H45)) | K45: =IF(J45="", "", B45=J45) | M45: =IF(L45="", "", B45=L45) | N45: =IF(L45="", "", J45=L45)
A46: 44 | B46: Дрига Сергій Олександрович | C46: 08.12.1986 | D46: 3175313158 | E46: =IF(D46="", "", LEN(D46)) -> 10 | G46: =IF(F46="", "", LEN(F46)) | I46: =IF(H46="", "", LEN(H46)) | K46: =IF(J46="", "", B46=J46) | M46: =IF(L46="", "", B46=L46) | N46: =IF(L46="", "", J46=L46)
A47: 45 | B47: Єрмаков Дмитро Олександрович | C47: 26.12.1976 | E47: =IF(D47="", "", LEN(D47)) | G47: =IF(F47="", "", LEN(F47)) | I47: =IF(H47="", "", LEN(H47)) | K47: =IF(J47="", "", B47=J47) | M47: =IF(L47="", "", B47=L47) | N47: =IF(L47="", "", J47=L47)
A48: 46 | B48: Жеребцов Данило Вадимович | C48: 26.11.1997 | D48: 3575904092 | E48: =IF(D48="", "", LEN(D48)) -> 10 | F48: АВ 381840 | G48: =IF(F48="", "", LEN(F48)) -> 9 | I48: =IF(H48="", "", LEN(H48)) | K48: =IF(J48="", "", B48=J48) | M48: =IF(L48="", "", B48=L48) | N48: =IF(L48="", "", J48=L48)
A49: 47 | B49: Забайрачний Антон Валерійович | C49: 19.05.1989 | D49: 3264613873 | E49: =IF(D49="", "", LEN(D49)) -> 10 | F49: АВ 949421 | G49: =IF(F49="", "", LEN(F49)) -> 9 | I49: =IF(H49="", "", LEN(H49)) | K49: =IF(J49="", "", B49=J49) | M49: =IF(L49="", "", B49=L49) | N49: =IF(L49="", "", J49=L49)
A50: 48 | B50: Заїка Віталій Олександрович | C50: 05.07.1980 | D50: 2940603255 | E50: =IF(D50="", "", LEN(D50)) -> 10 | G50: =IF(F50="", "", LEN(F50)) | I50: =IF(H50="", "", LEN(H50)) | K50: =IF(J50="", "", B50=J50) | M50: =IF(L50="", "", B50=L50) | N50: =IF(L50="", "", J50=L50)
A51: 49 | B51: Звада Микита Іванович | C51: 15.01.2001 | D51: 3690507477 | E51: =IF(D51="", "", LEN(D51)) -> 10 | F51: АВ 949418 | G51: =IF(F51="", "", LEN(F51)) -> 9 | I51: =IF(H51="", "", LEN(H51)) | K51: =IF(J51="", "", B51=J51) | M51: =IF(L51="", "", B51=L51) | N51: =IF(L51="", "", J51=L51)
A52: 50 | B52: Звягінцев Вадим Сергійович | C52: 19.05.1990 | D52: 3301112235 | E52: =IF(D52="", "", LEN(D52)) -> 10 | F52: АГ 605685 | G52: =IF(F52="", "", LEN(F52)) -> 9 | I52: =IF(H52="", "", LEN(H52)) | K52: =IF(J52="", "", B52=J52) | M52: =IF(L52="", "", B52=L52) | N52: =IF(L52="", "", J52=L52)
A53: 51 | B53: Зубко Андрій Валерійович | C53: 17.11.2000 | D53: 3684602658 | E53: =IF(D53="", "", LEN(D53)) -> 10 | F53: АГ 629882 | G53: =IF(F53="", "", LEN(F53)) -> 9 | I53: =IF(H53="", "", LEN(H53)) | K53: =IF(J53="", "", B53=J53) | M53: =IF(L53="", "", B53=L53) | N53: =IF(L53="", "", J53=L53)
A54: 52 | B54: Кальченко Олександр Іванович | C54: 25.01.1980 | D54: 2924420790 | E54: =IF(D54="", "", LEN(D54)) -> 10 | F54: АВ 967887 | G54: =IF(F54="", "", LEN(F54)) -> 9 | I54: =IF(H54="", "", LEN(H54)) | K54: =IF(J54="", "", B54=J54) | M54: =IF(L54="", "", B54=L54) | N54: =IF(L54="", "", J54=L54)
A55: 53 | B55: Камінський Андрій Михайлович | C55: 17.12.1996 | D55: 3541511375 | E55: =IF(D55="", "", LEN(D55)) -> 10 | F55: АГ 574999 | G55: =IF(F55="", "", LEN(F55)) -> 9 | I55: =IF(H55="", "", LEN(H55)) | K55: =IF(J55="", "", B55=J55) | M55: =IF(L55="", "", B55=L55) | N55: =IF(L55="", "", J55=L55)
A56: 54 | B56: Катеруша Ярослав Ігорович | C56: 06.07.1996 | D56: 3525107076 | E56: =IF(D56="", "", LEN(D56)) -> 10 | F56: довідка | G56: =IF(F56="", "", LEN(F56)) -> 7 | I56: =IF(H56="", "", LEN(H56)) | K56: =IF(J56="", "", B56=J56) | M56: =IF(L56="", "", B56=L56) | N56: =IF(L56="", "", J56=L56)
A57: 55 | B57: Качура Олексій Олександрович | C57: 01.03.1998 | D57: 3585404453 | E57: =IF(D57="", "", LEN(D57)) -> 10 | G57: =IF(F57="", "", LEN(F57)) | I57: =IF(H57="", "", LEN(H57)) | K57: =IF(J57="", "", B57=J57) | M57: =IF(L57="", "", B57=L57) | N57: =IF(L57="", "", J57=L57)
A58: 56 | B58: Кваша Сергій Анатолійович | C58: 03.03.1990 | D58: 3293410951 | E58: =IF(D58="", "", LEN(D58)) -> 10 | F58: СО 728605 | G58: =IF(F58="", "", LEN(F58)) -> 9 | I58: =IF(H58="", "", LEN(H58)) | K58: =IF(J58="", "", B58=J58) | M58: =IF(L58="", "", B58=L58) | N58: =IF(L58="", "", J58=L58)
A59: 57 | B59: Клименченко Максим Анатолійович | C59: 04.01.1990 | D59: 3287611732 | E59: =IF(D59="", "", LEN(D59)) -> 10 | F59: АВ 967980 | G59: =IF(F59="", "", LEN(F59)) -> 9 | I59: =IF(H59="", "", LEN(H59)) | K59: =IF(J59="", "", B59=J59) | M59: =IF(L59="", "", B59=L59) | N59: =IF(L59="", "", J59=L59)
A60: 58 | B60: Князєв Олексадр Олексійович | C60: 10.01.1984 | D60: 3069007313 | E60: =IF(D60="", "", LEN(D60)) -> 10 | F60: МО 533842 | G60: =IF(F60="", "", LEN(F60)) -> 10 | I60: =IF(H60="", "", LEN(H60)) | K60: =IF(J60="", "", B60=J60) | M60: =IF(L60="", "", B60=L60) | N60: =IF(L60="", "", J60=L60)
A61: 59 | B61: Коваленко Анатолій Григорович | C61: 21.12.1980 | D61: 2957514658 | E61: =IF(D61="", "", LEN(D61)) -> 10 | F61: АВ 960033 | G61: =IF(F61="", "", LEN(F61)) -> 9 | I61: =IF(H61="", "", LEN(H61)) | K61: =IF(J61="", "", B61=J61) | M61: =IF(L61="", "", B61=L61) | N61: =IF(L61="", "", J61=L61)
A62: 60 | B62: Коваленко Дмитро Валентинович | C62: 29.10.1984 | D62: 3098314219 | E62: =IF(D62="", "", LEN(D62)) -> 10 | F62: АГ 629884 | G62: =IF(F62="", "", LEN(F62)) -> 9 | I62: =IF(H62="", "", LEN(H62)) | K62: =IF(J62="", "", B62=J62) | M62: =IF(L62="", "", B62=L62) | N62: =IF(L62="", "", J62=L62)
A63: 61 | B63: Коваленко Олег Андрійович | C63: 17.05.1993 | D63: 3410506256 | E63: =IF(D63="", "", LEN(D63)) -> 10 | F63: 040520250688132901083/1 | G63: =IF(F63="", "", LEN(F63)) -> 23 | I63: =IF(H63="", "", LEN(H63)) | K63: =IF(J63="", "", B63=J63) | M63: =IF(L63="", "", B63=L63) | N63: =IF(L63="", "", J63=L63)
A64: 62 | B64: Коваль Сергій Степанович | C64: 09.09.1982 | D64: 3020225699 | E64: =IF(D64="", "", LEN(D64)) -> 10 | F64: АГ 574997 | G64: =IF(F64="", "", LEN(F64)) -> 9 | I64: =IF(H64="", "", LEN(H64)) | K64: =IF(J64="", "", B64=J64) | M64: =IF(L64="", "", B64=L64) | N64: =IF(L64="", "", J64=L64)
A65: 63 | B65: Ковальов Владислав Віталійович | C65: 16.04.2001 | E65: =IF(D65="", "", LEN(D65)) | G65: =IF(F65="", "", LEN(F65)) | I65: =IF(H65="", "", LEN(H65)) | K65: =IF(J65="", "", B65=J65) | M65: =IF(L65="", "", B65=L65) | N65: =IF(L65="", "", J65=L65)
A66: 64 | B66: Колодченко Олег Григорович | C66: 10.03.1990 | D66: 3294101893 | E66: =IF(D66="", "", LEN(D66)) -> 10 | F66: СО 621238 | G66: =IF(F66="", "", LEN(F66)) -> 9 | I66: =IF(H66="", "", LEN(H66)) | K66: =IF(J66="", "", B66=J66) | M66: =IF(L66="", "", B66=L66) | N66: =IF(L66="", "", J66=L66)
A67: 65 | B67: Коновал Євгеній Миколайович | C67: 01.06.1984 | D67: 3083303814 | E67: =IF(D67="", "", LEN(D67)) -> 10 | G67: =IF(F67="", "", LEN(F67)) | I67: =IF(H67="", "", LEN(H67)) | K67: =IF(J67="", "", B67=J67) | M67: =IF(L67="", "", B67=L67) | N67: =IF(L67="", "", J67=L67)
A68: 66 | B68: Коренєв Віталій Віталійович | C68: 24.02.1989 | D68: 3256220573 | E68: =IF(D68="", "", LEN(D68)) -> 10 | F68: АВ 949492 | G68: =IF(F68="", "", LEN(F68)) -> 9 | I68: =IF(H68="", "", LEN(H68)) | K68: =IF(J68="", "", B68=J68) | M68: =IF(L68="", "", B68=L68) | N68: =IF(L68="", "", J68=L68)
A69: 67 | B69: Косенко Віталій Якович | C69: 25.10.1994 | D69: 3463112994 | E69: =IF(D69="", "", LEN(D69)) -> 10 | F69: АВ 949438 | G69: =IF(F69="", "", LEN(F69)) -> 9 | I69: =IF(H69="", "", LEN(H69)) | K69: =IF(J69="", "", B69=J69) | M69: =IF(L69="", "", B69=L69) | N69: =IF(L69="", "", J69=L69)
A70: 68 | B70: Косенюк Валерій Анатолійович | C70: 23.07.1975 | D70: 2759713830 | E70: =IF(D70="", "", LEN(D70)) -> 10 | F70: АГ 606584 | G70: =IF(F70="", "", LEN(F70)) -> 9 | I70: =IF(H70="", "", LEN(H70)) | K70: =IF(J70="", "", B70=J70) | M70: =IF(L70="", "", B70=L70) | N70: =IF(L70="", "", J70=L70)
A71: 69 | B71: Косьмін Юрій Віталійович | C71: 12.07.1980 | D71: 2941315057 | E71: =IF(D71="", "", LEN(D71)) -> 10 | F71: АВ 967804 | G71: =IF(F71="", "", LEN(F71)) -> 9 | I71: =IF(H71="", "", LEN(H71)) | K71: =IF(J71="", "", B71=J71) | M71: =IF(L71="", "", B71=L71) | N71: =IF(L71="", "", J71=L71)
A72: 70 | B72: Крейдич Жан Віталійович | C72: 11.03.1985 | D72: 3111620917 | E72: =IF(D72="", "", LEN(D72)) -> 10 | F72: АГ 186074 | G72: =IF(F72="", "", LEN(F72)) -> 9 | I72: =IF(H72="", "", LEN(H72)) | K72: =IF(J72="", "", B72=J72) | M72: =IF(L72="", "", B72=L72) | N72: =IF(L72="", "", J72=L72)
A73: 71 | B73: Кривогуз Віталій Олександович | C73: 01.03.1980 | D73: 2928021037 | E73: =IF(D73="", "", LEN(D73)) -> 10 | F73: СО431160 | G73: =IF(F73="", "", LEN(F73)) -> 8 | I73: =IF(H73="", "", LEN(H73)) | K73: =IF(J73="", "", B73=J73) | M73: =IF(L73="", "", B73=L73) | N73: =IF(L73="", "", J73=L73)
A74: 72 | B74: Кузьмишин Юрій Миколайович | C74: 07.05.1989 | D74: 3263419370 | E74: =IF(D74="", "", LEN(D74)) -> 10 | F74: АГ 603381 | G74: =IF(F74="", "", LEN(F74)) -> 9 | I74: =IF(H74="", "", LEN(H74)) | K74: =IF(J74="", "", B74=J74) | M74: =IF(L74="", "", B74=L74) | N74: =IF(L74="", "", J74=L74)
A75: 73 | B75: Кучеренко Анатолій Михайлович | C75: 22.12.1992 | D75: 3395907198 | E75: =IF(D75="", "", LEN(D75)) -> 10 | F75: АГ 606238 | G75: =IF(F75="", "", LEN(F75)) -> 9 | I75: =IF(H75="", "", LEN(H75)) | K75: =IF(J75="", "", B75=J75) | M75: =IF(L75="", "", B75=L75) | N75: =IF(L75="", "", J75=L75)
A76: 74 | B76: Кучура Андрій Віталійович | C76: 08.02.1988 | D76: 3218006254 | E76: =IF(D76="", "", LEN(D76)) -> 10 | F76: АГ 606587 | G76: =IF(F76="", "", LEN(F76)) -> 9 | I76: =IF(H76="", "", LEN(H76)) | K76: =IF(J76="", "", B76=J76) | M76: =IF(L76="", "", B76=L76) | N76: =IF(L76="", "", J76=L76)
A77: 75 | B77: Кущ Андрій Петрович | C77: 20.03.1979 | D77: 2893300213 | E77: =IF(D77="", "", LEN(D77)) -> 10 | F77: УН 0497799 | G77: =IF(F77="", "", LEN(F77)) -> 10 | I77: =IF(H77="", "", LEN(H77)) | K77: =IF(J77="", "", B77=J77) | M77: =IF(L77="", "", B77=L77) | N77: =IF(L77="", "", J77=L77)
A78: 76 | B78: Левенець Максим Дмитрович | C78: 01.08.1988 | D78: 3235521550 | E78: =IF(D78="", "", LEN(D78)) -> 10 | F78: АГ 629816 | G78: =IF(F78="", "", LEN(F78)) -> 9 | I78: =IF(H78="", "", LEN(H78)) | K78: =IF(J78="", "", B78=J78) | M78: =IF(L78="", "", B78=L78) | N78: =IF(L78="", "", J78=L78)
A79: 77 | B79: Левчич Олександр Миколайович | C79: 17.06.1978 | D79: 2865716296 | E79: =IF(D79="", "", LEN(D79)) -> 10 | F79: АВ 949490 | G79: =IF(F79="", "", LEN(F79)) -> 9 | I79: =IF(H79="", "", LEN(H79)) | K79: =IF(J79="", "", B79=J79) | M79: =IF(L79="", "", B79=L79) | N79: =IF(L79="", "", J79=L79)
... A99: 97 | B99: Пятніков Анатолій Вікторович | C99: 17.12.1978 | D99: 2884021413 | E99: =IF(D99="", "", LEN(D99)) -> 10 | F99: довідка | G99: =IF(F99="", "", LEN(F99)) -> 7 | I99: =IF(H99="", "", LEN(H99)) | K99: =IF(J99="", "", B99=J99) | M99: =IF(L99="", "", B99=L99) | N99: =IF(L99="", "", J99=L99)
A100: 98 | B100: Редько Вадим Юрійович | C100: 22.04.1992 | D100: 3371514395 | E100: =IF(D100="", "", LEN(D100)) -> 10 | G100: =IF(F100="", "", LEN(F100)) | I100: =IF(H100="", "", LEN(H100)) | K100: =IF(J100="", "", B100=J100) | M100: =IF(L100="", "", B100=L100) | N100: =IF(L100="", "", J100=L100)
A101: 99 | B101: Різничок Ігор Миколайович | C101: 28.08.1990 | D101: 3311204310 | E101: =IF(D101="", "", LEN(D101)) -> 10 | F101: АВ 967827 | G101: =IF(F101="", "", LEN(F101)) -> 9 | I101: =IF(H101="", "", LEN(H101)) | K101: =IF(J101="", "", B101=J101) | M101: =IF(L101="", "", B101=L101) | N101: =IF(L101="", "", J101=L101)
A102: 100 | B102: Романцов Ілля Андрійович | C102: 02.08.1998 | D102: 3600805776 | E102: =IF(D102="", "", LEN(D102)) -> 10 | F102: довідка | G102: =IF(F102="", "", LEN(F102)) -> 7 | I102: =IF(H102="", "", LEN(H102)) | K102: =IF(J102="", "", B102=J102) | M102: =IF(L102="", "", B102=L102) | N102: =IF(L102="", "", J102=L102)
A103: 101 | B103: Савицький Олексій Васильович | C103: 21.03.1980 | D103: 2930014415 | E103: =IF(D103="", "", LEN(D103)) -> 10 | F103: АГ629778 | G103: =IF(F103="", "", LEN(F103)) -> 8 | I103: =IF(H103="", "", LEN(H103)) | K103: =IF(J103="", "", B103=J103) | M103: =IF(L103="", "", B103=L103) | N103: =IF(L103="", "", J103=L103)
A104: 102 | B104: Садика Роман Олександрович | C104: 17.04.1983 | D104: 3042218677 | E104: =IF(D104="", "", LEN(D104)) -> 10 | F104: 100520251320609100067/1 | G104: =IF(F104="", "", LEN(F104)) -> 23 | I104: =IF(H104="", "", LEN(H104)) | K104: =IF(J104="", "", B104=J104) | M104: =IF(L104="", "", B104=L104) | N104: =IF(L104="", "", J104=L104)
A105: 103 | B105: Сардачук Олексій Вікторович | C105: 14.05.1989 | D105: 3264104530 | E105: =IF(D105="", "", LEN(D105)) -> 10 | F105: АГ 606090 | G105: =IF(F105="", "", LEN(F105)) -> 9 | I105: =IF(H105="", "", LEN(H105)) | K105: =IF(J105="", "", B105=J105) | M105: =IF(L105="", "", B105=L105) | N105: =IF(L105="", "", J105=L105)
A106: 104 | B106: Скандаков Віталій Олександрович | C106: 23.09.1983 | D106: 3058105957 | E106: =IF(D106="", "", LEN(D106)) -> 10 | F106: АВ 954441 | G106: =IF(F106="", "", LEN(F106)) -> 9 | I106: =IF(H106="", "", LEN(H106)) | K106: =IF(J106="", "", B106=J106) | M106: =IF(L106="", "", B106=L106) | N106: =IF(L106="", "", J106=L106)
A107: 105 | B107: Скромінський Ярослав Вікторович | C107: 21.09.1984 | D107: 3094519734 | E107: =IF(D107="", "", LEN(D107)) -> 10 | G107: =IF(F107="", "", LEN(F107)) | I107: =IF(H107="", "", LEN(H107)) | K107: =IF(J107="", "", B107=J107) | M107: =IF(L107="", "", B107=L107) | N107: =IF(L107="", "", J107=L107)
A108: 106 | B108: Соловйов Роман Ленідович | C108: 18.06.1982 | E108: =IF(D108="", "", LEN(D108)) | G108: =IF(F108="", "", LEN(F108)) | I108: =IF(H108="", "", LEN(H108)) | K108: =IF(J108="", "", B108=J108) | M108: =IF(L108="", "", B108=L108) | N108: =IF(L108="", "", J108=L108)
A109: 107 | B109: Сомок Олег Михайлович | C109: 10.12.1980 | D109: 2956415491 | E109: =IF(D109="", "", LEN(D109)) -> 10 | F109: №260420231352231200025/1 Від 25.02.2026 | G109: =IF(F109="", "", LEN(F109)) -> 39 | I109: =IF(H109="", "", LEN(H109)) | K109: =IF(J109="", "", B109=J109) | M109: =IF(L109="", "", B109=L109) | N109: =IF(L109="", "", J109=L109)
A110: 108 | B110: Сорокін Олег Павлович | C110: 13.06.1970 | D110: 2573101897 | E110: =IF(D110="", "", LEN(D110)) -> 10 | F110: АГ 330243 | G110: =IF(F110="", "", LEN(F110)) -> 9 | I110: =IF(H110="", "", LEN(H110)) | K110: =IF(J110="", "", B110=J110) | M110: =IF(L110="", "", B110=L110) | N110: =IF(L110="", "", J110=L110)
A111: 109 | B111: Степанцов Олександр Васильович | C111: 11.06.1981 | D111: 2974722357 | E111: =IF(D111="", "", LEN(D111)) -> 10 | F111: АГ 471495 | G111: =IF(F111="", "", LEN(F111)) -> 9 | I111: =IF(H111="", "", LEN(H111)) | K111: =IF(J111="", "", B111=J111) | M111: =IF(L111="", "", B111=L111) | N111: =IF(L111="", "", J111=L111)
A112: 110 | B112: Стожок Єгор Сергійович | C112: 30.08.1989 | D112: 3274916995 | E112: =IF(D112="", "", LEN(D112)) -> 10 | F112: АВ 967825 | G112: =IF(F112="", "", LEN(F112)) -> 9 | I112: =IF(H112="", "", LEN(H112)) | K112: =IF(J112="", "", B112=J112) | M112: =IF(L112="", "", B112=L112) | N112: =IF(L112="", "", J112=L112)
A113: 111 | B113: Ступак Олександр Валерійович | C113: 07.07.2001 | D113: 3707810872 | E113: =IF(D113="", "", LEN(D113)) -> 10 | F113: К-00/ Житомирським ОМВК 15.01.2018 | G113: =IF(F113="", "", LEN(F113)) -> 34 | I113: =IF(H113="", "", LEN(H113)) | K113: =IF(J113="", "", B113=J113) | M113: =IF(L113="", "", B113=L113) | N113: =IF(L113="", "", J113=L113)
A114: 112 | B114: Сударенко Владислав Володимирович | C114: 21.02.2001 | D114: 3694203835 | E114: =IF(D114="", "", LEN(D114)) -> 10 | F114: АВ 967890 | G114: =IF(F114="", "", LEN(F114)) -> 9 | I114: =IF(H114="", "", LEN(H114)) | K114: =IF(J114="", "", B114=J114) | M114: =IF(L114="", "", B114=L114) | N114: =IF(L114="", "", J114=L114)
A115: 113 | B115: Сукрут Олександр Миколайович | C115: 09.01.1982 | D115: 2995917310 | E115: =IF(D115="", "", LEN(D115)) -> 10 | F115: АВ 949489 | G115: =IF(F115="", "", LEN(F115)) -> 9 | I115: =IF(H115="", "", LEN(H115)) | K115: =IF(J115="", "", B115=J115) | M115: =IF(L115="", "", B115=L115) | N115: =IF(L115="", "", J115=L115)
A116: 114 | B116: Тарасов Максим Миколайович | C116: 19.06.1992 | D116: 3377308679 | E116: =IF(D116="", "", LEN(D116)) -> 10 | F116: АГ 606256 | G116: =IF(F116="", "", LEN(F116)) -> 9 | I116: =IF(H116="", "", LEN(H116)) | K116: =IF(J116="", "", B116=J116) | M116: =IF(L116="", "", B116=L116) | N116: =IF(L116="", "", J116=L116)
A117: 115 | B117: Теменик Андрій Володимирович | C117: 07.12.1992 | D117: 3394409996 | E117: =IF(D117="", "", LEN(D117)) -> 10 | G117: =IF(F117="", "", LEN(F117)) | I117: =IF(H117="", "", LEN(H117)) | K117: =IF(J117="", "", B117=J117) | M117: =IF(L117="", "", B117=L117) | N117: =IF(L117="", "", J117=L117)
A118: 116 | B118: Терешин Сергій Валерійович | C118: 03.07.1978 | D118: 2867322134 | E118: =IF(D118="", "", LEN(D118)) -> 10 | F118: АВ 952062 | G118: =IF(F118="", "", LEN(F118)) -> 9 | I118: =IF(H118="", "", LEN(H118)) | K118: =IF(J118="", "", B118=J118) | M118: =IF(L118="", "", B118=L118) | N118: =IF(L118="", "", J118=L118)
A119: 117 | B119: Тернюк Андрій Олексійович | C119: 19.02.1995 | D119: 3474808514 | E119: =IF(D119="", "", LEN(D119)) -> 10 | F119: АВ 218937 | G119: =IF(F119="", "", LEN(F119)) -> 9 | I119: =IF(H119="", "", LEN(H119)) | K119: =IF(J119="", "", B119=J119) | M119: =IF(L119="", "", B119=L119) | N119: =IF(L119="", "", J119=L119)
A120: 118 | B120: Тимченко Олександр Олександрович | C120: 24.12.1982 | D120: 3030807437 | E120: =IF(D120="", "", LEN(D120)) -> 10 | F120: АВ 967906 | G120: =IF(F120="", "", LEN(F120)) -> 9 | I120: =IF(H120="", "", LEN(H120)) | K120: =IF(J120="", "", B120=J120) | M120: =IF(L120="", "", B120=L120) | N120: =IF(L120="", "", J120=L120)
A121: 119 | B121: Тодоровський Дмитрій Анатолійович | C121: 06.10.1996 | D121: 3534304930 | E121: =IF(D121="", "", LEN(D121)) -> 10 | F121: АГ 603349 | G121: =IF(F121="", "", LEN(F121)) -> 9 | I121: =IF(H121="", "", LEN(H121)) | K121: =IF(J121="", "", B121=J121) | M121: =IF(L121="", "", B121=L121) | N121: =IF(L121="", "", J121=L121)
A122: 120 | B122: Толочкін Мирослав Олегович | C122: 30.07.1988 | D122: 3235312497 | E122: =IF(D122="", "", LEN(D122)) -> 10 | F122: АВ 822148 | G122: =IF(F122="", "", LEN(F122)) -> 9 | I122: =IF(H122="", "", LEN(H122)) | K122: =IF(J122="", "", B122=J122) | M122: =IF(L122="", "", B122=L122) | N122: =IF(L122="", "", J122=L122)
A123: 121 | B123: Тризна Максим Геннадійович | C123: 19.05.1995 | D123: 3483714857 | E123: =IF(D123="", "", LEN(D123)) -> 10 | G123: =IF(F123="", "", LEN(F123)) | I123: =IF(H123="", "", LEN(H123)) | K123: =IF(J123="", "", B123=J123) | M123: =IF(L123="", "", B123=L123) | N123: =IF(L123="", "", J123=L123)
A124: 122 | B124: Федоров Вадим Юрійович | C124: 24.01.1986 | D124: 3143515615 | E124: =IF(D124="", "", LEN(D124)) -> 10 | G124: =IF(F124="", "", LEN(F124)) | I124: =IF(H124="", "", LEN(H124)) | K124: =IF(J124="", "", B124=J124) | M124: =IF(L124="", "", B124=L124) | N124: =IF(L124="", "", J124=L124)
A125: 123 | B125: Федчун Віктор Миколайович | C125: 16.05.1993 | D125: 3410314912 | E125: =IF(D125="", "", LEN(D125)) -> 10 | F125: АВ 949428 | G125: =IF(F125="", "", LEN(F125)) -> 9 | I125: =IF(H125="", "", LEN(H125)) | K125: =IF(J125="", "", B125=J125) | M125: =IF(L125="", "", B125=L125) | N125: =IF(L125="", "", J125=L125)
A126: 124 | B126: Фелтин Роман Миколайович | C126: 05.07.1984 | D126: 3086718370 | E126: =IF(D126="", "", LEN(D126)) -> 10 | F126: довідка | G126: =IF(F126="", "", LEN(F126)) -> 7 | I126: =IF(H126="", "", LEN(H126)) | K126: =IF(J126="", "", B126=J126) | M126: =IF(L126="", "", B126=L126) | N126: =IF(L126="", "", J126=L126)
A127: 125 | B127: Фещук Олександр Олександрович | C127: 14.12.1977 | D127: 2847201056 | E127: =IF(D127="", "", LEN(D127)) -> 10 | F127: АГ 574970 | G127: =IF(F127="", "", LEN(F127)) -> 9 | I127: =IF(H127="", "", LEN(H127)) | K127: =IF(J127="", "", B127=J127) | M127: =IF(L127="", "", B127=L127) | N127: =IF(L127="", "", J127=L127)
A128: 126 | B128: Філоненко Анатолій Анатолійович | C128: 14.06.1994 | D128: 3449814913 | E128: =IF(D128="", "", LEN(D128)) -> 10 | G128: =IF(F128="", "", LEN(F128)) | I128: =IF(H128="", "", LEN(H128)) | K128: =IF(J128="", "", B128=J128) | M128: =IF(L128="", "", B128=L128) | N128: =IF(L128="", "", J128=L128)
A129: 127 | B129: Хвещук Дмитро Володимирович | C129: 14.08.1991 | D129: 3346308799 | E129: =IF(D129="", "", LEN(D129)) -> 10 | F129: АГ 633938 | G129: =IF(F129="", "", LEN(F129)) -> 9 | I129: =IF(H129="", "", LEN(H129)) | K129: =IF(J129="", "", B129=J129) | M129: =IF(L129="", "", B129=L129) | N129: =IF(L129="", "", J129=L129)
A130: 128 | B130: Чернецький Олександр Володимирович | C130: 25.11.1987 | D130: 3210502133 | E130: =IF(D130="", "", LEN(D130)) -> 10 | F130: АГ 633758 | G130: =IF(F130="", "", LEN(F130)) -> 9 | I130: =IF(H130="", "", LEN(H130)) | K130: =IF(J130="", "", B130=J130) | M130: =IF(L130="", "", B130=L130) | N130: =IF(L130="", "", J130=L130)
...

Sheet Аркуш1
C2: `=MOD(MOD(-MID(D2;1;1) + MID(D2;2;1)*5 + MID(D2;3;1)*7 + MID(D2;4;1)*9 + MID(D2;5;1)*4 + MID(D2;6;1)*6 + MID(D2;7;1)*10 + MID(D2;8;1)*5 + MID(D2;9;1)*7; 11);10) <> VALUE( MID(D2;10;1))
C6: `=DATEVALUE( C2) <> INT(LEFT(D2;5)) +1

Sheet Алфавітки
A1: № з/п | B1: В/звання | D1: Місце народження | E1: адреса (фактична) | F1: Освіта | G1: склад сім’ї | H1: № телефону
A2: 1 | B2: солдат | C2: Антоненко Руслан Олександрович | D2: Миколаївська обл. Миколаївський р-н, с. Весняне | E2: м. Миколаїв вул. Айвазовського буд. 6 кв. 809-809 | F2: середня-спеціальна, ПТУ №1 м. Миколаїв 2005 судобудівельник, зварювальник (права категорії Б, ФОП Парус, будівельник 18р.) | G2: Розлучений Мати: Калага Лідія Миронівна, м. Миколаїв вул. Айвазовського буд. 6 кв. 809-809, 0663420925 | H2: 660263238
A3: 8 | B3: солдат | C3: Баранов Дмитро Генащдійович | D3: с. Кірове Базарський р-н Херсонської обл. | E3: Херсонської обл. Базарський р-н, с. Олександрівка вул. Мельнична 5 | F3: середньо-спеціальна Судобудівельний ліцей 2018р. Зварювальник Содозбірник (Категорія прав Б, С1, С, СЕ, далекобійник 4р.) | G3: неодружений Батько: Баранов Генадій Анатолійович Херсонської обл. Базарський р-н, с. Олександрівка вул. Мельнична 5, тел. 0668290286 | H3: 505059149
A4: 12 | B4: солдат | C4: Боровик Юрій Володимирович | D4: м. Миколаїв | E4: м. Миколаїв вул. Восьма Лінія буд. 68 | F4: середньо-спеціальна Теплодарський професійний ліцей 2011р. Кухар (категорія прав Б, автоелектрик 1р) | G4: цивільний шлюб Цивільна дружина: Голубченко Юлія Вадимівна, м. Миколаїв вул. Восьма Лінія буд. 68, тел. 0950975840 | H4: 993803701
A5: 7 | B5: солдат | C5: Горбатенко Олександр Олегович | D5: м. Миколаїв | E5: м. Миколаїв вул. Архітектора Староба 3 кв.1 | F5: повна середня ЗОШ № 64 2009р.(кухар 7р) | G5: неодружений Бабуся: Горбатенко Людмила Іванівна м. Миколаїв вул. Архітектора Староба 6б кв. 24, тел. 0966366295 | H5: 677153559
A6: 4 | B6: солдат | C6: Жестовський Сергій Сергійович | D6: Миколаївська обл. Первомайський р-н, с. Новопавлівка | E6: Миколаївська обл. Первомайський р-н, с. Новопавлівка вул. Роднікова 18 | F6: середньо-спеціальна Одеський професійний ліцей морського транспорту 2008р. електрозварювальник (категорія прав Б, Будівельник 2р.) | G6: Одружений Дружина: Жестовська Ірина Анатоліївна Миколаївська обл. Первомайський р-н, с. Новопавлівка вул. Роднікова 18, 0974890880 | H6: 683977036
A7: 6 | B7: солдат | C7: Ісаков Олександ Сергійович | D7: Кропивницька обл. Новоархангельський р-н с. Скалівські Хутори | E7: Миколаївська обл. Баштанський р-н с. Поляне, вул. Садова, буд. 22 | F7: середньо-спеціальна ЧПБЛ №4 2013р. Маляр-штукатур (Фермерське господарство немировський) | G7: Одружений Дружина: Ісакова Оксана Миколаївна, Миколаївська обл. Баштанський р-н с. Поляне, вул. Садова, буд. 22, тел. 0988180989 | H7: 682269805
A8: 13 | B8: солдат | C8: Клімчкук Олександ Олександрович | D8: Вінницька обл. Хмільницький р-н, смт Бродецьке | E8: Вінницька обл. Хмільницький р-н, смт Бродецьке вул. Першотравнева 72 | F8: повна середня ЗОШ смт. Бродецьке 2007р. (Мясний мультикомплекс транспортувальник 1р.) | G8: одружений Дружина: Клімчук Алла Вадимівна, Вінницька обл. Хмільницький р-н, смт Бродецьке вул. Першотравнева 72, тел. 0631960845 | H8: 990631915
A9: 9 | B9: солдат | C9: Колесніков Сергій Сергійович | D9: с. Балтазарівка Чуплинський р-н, Херсонської обл. | E9: Микорлаївська обл. м. Первомайськ вул. Марія Демченка 33 | F9: середньо-спеціальна Електротехнічний ліцей №7 2013р.електрогазозварювальник (пожежний рятувальник 3р.) | G9: одружений Дружина: Колеснікова Ганна Миколаївна, Микорлаївська обл. м. Первомайськ вул. Марія Демченка 33, тел. 0683767312 | H9: 956741071
A10: 3 | B10: солдат | C10: Опанасюк Ігор Перрович | D10: Миколаївська обл. м. Новий Буг | E10: Миколаївська обл. Новобузький р-н с. Нова Хрестофорівка буд. 65 | F10: середньо-спеціальна Новобузький аграрний професійний ліцей 2013р. (права категорії Б, С, СЕ, Фермерське господарство Орбіта Водій) | G10: Розлучений Мати: Опанасюк Валентина Ігорівна, Миколаївська обл. Новобузький р-н с. Нова Хрестофорівка буд. 65, тел. 0508511843 | H10: 934248356
A11: 11 | B11: солдат | C11: Ручин Дмитро Вікторович | D11: Миколаївська обл. м. Баштанка | E11: Миколаївська обл. м. Баштанка вул. Грушевського 46 | F11: середньо-спеціальна ПТУ №9 м. Баштанка 2015р. Кухар (пекарня 1р) | G11: неодружений Мати: Дмитренко Алла Петрівна, Миколаївська обл. м. Баштанка вул. Грушевського 46, тел, 0636322801 | H11: 983438936
A12: 5 | B12: солдат | C12: Солоденко Анатолій Сергійович | D12: Миколаївська обл. Вознесенський р-н, с. Яструбинове | E12: Миколаївська обл. Вознесенський р-н, с. Яструбинове вул. Першотравнева 20 | F12: середньо-спеціальна ПТУ №18 2016р. будівельник (Гружчик 1р.) | G12: неодружений Сестрат: Черемуха Анастасія Сергіївна, тел. 0985362292 | H12: 938839470
A13: 2 | B13: солдат | C13: Фістікан Василь Петрович | D13: Миколаївська обл. Первомайський р-н, с. Софіївка | E13: Миколаївська обл. Первомайський р-н, с. Синюшин Брід, вул. Перемоги 38 | F13: середньо-спеціальна ПТУ №22 м. Первомайськ 2018р. Маляр-Штукатур (Сканувальник на новій пошті) | G13: Неодружений Мати: Фістікан Марія Вікторівна, Миколаївська обл. Первомайський р-н, с. Синюшин Брід, вул. Молодіжна 8, тел. 0967926486 | H13: 967927329
A14: 10 | B14: солдат | C14: Чабан Михайло Григорович | D14: Миколаївська обл. Березанського р-н, с. Новоподілля | E14: м. Миколаїв, 12 Повздовжня 47а, кв. 59 | F14: середньо-спеціальна ліцей №13 2012р. Автослюсар (СТО 9р) | G14: одружений Дружина: Чабан Влада Владиславівна, м. Миколаїв, 12 Повздовжня 47а, кв. 59, тел. 0971910656 | H14: 967953093
A15: 14 | B15: солдат
A16: 15 | B16: солдат
A17: 16 | B17: солдат
A18: 17 | B18: солдат
A19: 18 | B19: солдат
A20: 19 | B20: солдат
A21: 20 | B21: солдат
A22: 21 | B22: солдат
A23: 22 | B23: солдат
A24: 23 | B24: солдат
A25: 24 | B25: солдат
A26: 25 | B26: солдат
... A101: 100 | B101: солдат
