Workbook

Sheet Основний
A4: ДОНЕСЕННЯ
A5: про зарахування військовослужбовців військової служби за контрактом на навчання до навчального центру (ВВНЗ, ВНП ЗВО)
A6: військова частина А2900
A7: найменування навчального центру (ВВНЗ, ВНЗ ЗВО)
A9: 1. Список військовослужбовців військової служби за контрактом, які зараховані на навчання
A10: № з/п | B10: Військове звання | C10: Прізвище ім'я та по батькові | D10: Військова частина, ТЦК та СП | E10: Область | F10: Дата народження | G10: Освіта | H10: ідентифікаційний код | I10: військовий квиток | J10: Дата та № наказу про зарахування | K10: № телефону | L10: Підрозділ | M10: Куди та коли вибув | N10: З якої частини прибув (для курсантів з бригад) | O10: Примітка | P10: Де знаходиться
A12: 1 | B12: солдат | C12: Алєксєєв Максим Олексійович | D12: Чернівецьким РТЦК та СП в Чернівецькій області | E12: Чернівецька | F12: 36261 | G12: середня | H12: 3626006638 | I12: АГ 469079 | K12: - | L12: 1НР 1НБ | N12: А2582
A13: 2 | B13: солдат | C13: Андруневчин Михайло Олексійович | D13: Вишгородським РТЦК та СП в Київськії області | E13: Київська | F13: 33041 | G13: середня-спеціальна ПТУ №15 м. Дрогобич 2008 | H13: 3304004170 | I13: АГ 162363 | K13: 0972727300 | L13: 1НР 1НБ | N13: А4350
A14: 3 | B14: солдат | C14: Артюх Марк Геннадійович | D14: Верховинським РТЦК та СП в Івано-Франківській області | E14: Івано-Франковьска | F14: 34987 | G14: середня-спеціальна Ліцей №35 м. Красний Луч 2014 | H14: 3498610632 | I14: АГ 126561 | K14: 0663921762 | L14: 1НР 1НБ | N14: А2582 | P14: СЗЧ
A15: 4 | B15: солдат | C15: Архіпенко Станіслав Валерійович | D15: Чернівецьким РТЦК та СП в Чернівецькій області | E15: Чернівецька | F15: 36391 | G15: вища МАУ м. Мелітопіль 2024 | H15: 3639004256 | I15: АГ 469087 | K15: 0664322572 | L15: 1НР 1НБ | N15: А2582
A16: 5 | B16: солдат | C16: Балагура Сергій Васильович | D16: 1-й відділ Бучанського РТЦК та СП в Київськії області | E16: Київська | F16: 30945 | G16: середня-спеціальна ПТУ №58 | H16: 3094402192 | I16: АВ 975416 | K16: 0689247905 | L16: 1НР 1НБ | N16: А4350
A17: 6 | B17: солдат | C17: Бардичевський Микола Валентинович | D17: Фастівським РТЦК та СП в Київськії області | E17: Київська | F17: 31457 | G17: середня | H17: 3145608711 | I17: АВ 978646 | K17: 0683142922 | L17: 1НР 1НБ | N17: А4350
A18: 7 | B18: солдат | C18: Башкатов Євгеній Володимирович | D18: Чугуївським РТЦК та СП в Харківський області | E18: Харківська | F18: 33800 | G18: середня-спеціальна ЧПАЛ №53 м. Чугуїв 2010 | H18: 3379903812 | I18: АВ 149880 | K18: 0664929586 | L18: 1НР 1НБ | N18: А0641 | P18: Шпиталь
A19: 8 | B19: солдат | C19: Безценний Михайло Вітальйович | D19: Новобаварський РТЦК | E19: Харківська | F19: 36752 | G19: середня ЧАЛ 2017 | H19: 3615106494 | I19: АГ560507 | K19: 0664228387 | L19: 1НР 1НБ | N19: А2120
A20: 9 | B20: солдат | C20: Береговий Максим Сергійович | D20: Фастівським РТЦК та СП в Київськії області | E20: Київська | F20: 35196 | G20: середня-спеціальна ПТУ 2014 | H20: 3519504139 | I20: АВ 978572 | K20: 0985651586 | L20: 1НР 1НБ | N20: А4350 | P20: СЗЧ
A21: 10 | B21: солдат | C21: Білецький Андрій Юрійович | D21: Фастівським РТЦК та СП в Київськії області | E21: Київська | F21: 32039 | G21: середня | H21: 3203812324 | I21: АВ 978636 | K21: 0731031358 | L21: 1НР 1НБ | N21: А4350
A22: 11 | B22: солдат | C22: Борбат Роман Ігорович | D22: Верховинським РТЦК та СП в Івано-Франківській області | E22: Івано-Франковьска | F22: 36384 | G22: середня-спеціальна КЄЛ м. Київ 2017 | H22: 3638311398 | I22: АГ 126563 | K22: 0660182242 | L22: 1НР 1НБ | N22: А2582
A23: 12 | B23: солдат | C23: Бохун Дмитро Миколайович | D23: Івано-Франківським РТЦК та СП в Івано-Франківській області | E23: Івано-Франковьска | F23: 31946 | G23: вища ВПУСОТ м. Івано-Франківськ 2006 | H23: 3194516871 | I23: АГ 450607 | K23: 0966368196 | L23: 1НР 1НБ | N23: А2582
A24: 13 | B24: солдат | C24: Бурдин Михайло Володимирович | D24: Івано-Франківським РТЦК та СП в Івано-Франківській області | E24: Івано-Франковьска | F24: 33532 | G24: середня | H24: 3353102414 | I24: АГ 452014 | K24: 0972777305 | L24: 1НР 1НБ | N24: А2582
A25: 14 | B25: солдат | C25: Бурлака Сергій Анатолійович | D25: Новобаварським РТЦК та СП в м. Харків | E25: Харківська | F25: 30005 | G25: середня | H25: 3000420394 | I25: АГ 560539 | K25: 0964995263 | L25: 1НР 1НБ | N25: А0641
A26: 15 | B26: молодший сержант | C26: Бурлака Сергій Ілліч | D26: Чернівецьким РТЦК та СП в Чернівецькій області | E26: Чернівецька | F26: 30493 | G26: середня | H26: 3049228271 | I26: АГ 279314 | K26: - | L26: 1НР 1НБ | N26: А2582
A27: 16 | B27: солдат | C27: Бут Олег Васильович | D27: Вишгородським РТЦК та СП в Київськії області | E27: Київська | F27: 27755 | G27: вища НМАУ ім. Чайковського м. Київ 2001 | H27: 2775409534 | I27: АГ 162385 | K27: 0976083891 | L27: 1НР 1НБ | N27: А4350
A28: 17 | B28: солдат | C28: Варус Сергій Васильович | D28: Чернівецьким РТЦК та СП в Чернівецькій області | E28: Чернівецька | F28: 30081 | G28: вища НАУ м. Київ 2007 | H28: 3009021558 | I28: СО 320367 | K28: 0957248986 | L28: 1НР 1НБ | N28: А2582 | P28: вибув
A29: 18 | B29: солдат | C29: Васілів Володимир Володимирович | D29: Берестинським РТЦК та СП в Харківський області | E29: Харківська | F29: 30340 | G29: середня ПТУ №47 м. Харків 2000 | H29: 3033911073 | I29: АГ 562844 | K29: 0969884015 | L29: 1НР 1НБ | N29: А2120
A30: 19 | B30: солдат | C30: Вербіцький Тарас Ігорович | D30: Івано-Франківським РТЦК та СП в Івано-Франківській області | E30: Івано-Франковьска | F30: 33497 | G30: середня | H30: 3349611691 | I30: СО 217779 | K30: 0955832732 | L30: 1НР 1НБ | N30: А2582
A31: 20 | B31: солдат | C31: Веретенніков Дмитро Леонідович | D31: Новобаварський РТЦК | E31: Луганська | F31: 29905 | G31: середня | H31: 2990408712 | I31: АГ560526 | K31: 0683867988 | L31: 1НР 1НБ | N31: А2120
A32: 21 | B32: солдат | C32: Винничук Василь Степанович | D32: Івано-Франківським РТЦК та СП в Івано-Франківській області | E32: Івано-Франковьска | F32: 31148 | G32: середня | H32: 3114711193 | I32: АГ 450627 | K32: 0687354094 | L32: 1НР 1НБ | N32: А2582 | P32: СЗЧ
A33: 22 | B33: солдат | C33: Вігріян Олег Вікторович | D33: 1-й відділ Бучанського РТЦК та СП в Київськії області | E33: Київська | F33: 29329 | G33: середня-спеціальна СПТУ №122 м. Марків 1998 | H33: 2932801195 | I33: АГ 163193 | K33: 0933938187 | L33: 1НР 1НБ | N33: А4350
A34: 23 | B34: солдат | C34: Вознюк Олексій Олександрович | D34: Фастівським РТЦК та СП в Київськії області | E34: Київська | F34: 32475 | G34: середня-спеціальна ДПТНЗ м. Бориспіль 2017 | H34: 3247413235 | I34: АВ 978645 | K34: 0979812301 | L34: 1НР 1НБ | N34: А4350 | P34: Шпиталь з 22.10
A35: 24 | B35: солдат | C35: Воїнов Максим Олегович | D35: Індустріальний РТЦК | E35: Харківська | F35: 34565 | G35: вища ХТЄІКТЄІ 2021 | H35: 3456401918 | I35: АГ430257 | K35: 0664443373 | L35: 1НР 1НБ | N35: А2120 | P35: Шпиталь
A36: 25 | B36: солдат | C36: Волинець Сергій Григорович | D36: Фастівським РТЦК та СП в Київськії області | E36: Київська | F36: 31099 | G36: середня | H36: 3109821677 | I36: СО 754647 | K36: 0678710106 | L36: 1НР 1НБ | N36: А4350
A37: 26 | B37: солдат | C37: Володін Денис Валентинович | D37: Білоцерківським РТЦК та СП в Київськії області | E37: Київська | F37: 32944 | G37: середня | H37: 3294302479 | I37: АГ 163922 | K37: 0989558750 | L37: 1НР 1НБ | N37: А4350
A38: 27 | B38: солдат | C38: Вороненко Олександр Валерійович | D38: Вишгородським РТЦК та СП в Київськії області | E38: Київська | F38: 36155 | G38: середня | H38: 3615406778 | I38: АГ 162364 | K38: - | L38: 1НР 1НБ | N38: А4350
A39: 28 | B39: солдат | C39: Гаврилюк Роман Миколайович | D39: Чернівецьким РТЦК та СП в Чернівецькій області | E39: Чернівецька | F39: 29836 | G39: середня | H39: 2980424276 | I39: АВ 279493 | K39: - | L39: 1НР 1НБ | N39: А2582
A40: 29 | B40: солдат | C40: Гарап'як Олександр Дмитрович | D40: Коломийським РТЦК та СП в Івано-Франківській області | E40: Івано-Франковьска | F40: 36809 | G40: середня | H40: 3680804158 | I40: АГ 456625 | K40: 0680997500 | L40: 1НР 1НБ | N40: А2582
A41: 30 | B41: солдат | C41: Герман Микола Анатолійович | D41: Вижницьким РТЦК та СП в Чернівецькій області | E41: Чернівецька | F41: 36417 | G41: середня | H41: 3641609090 | I41: АГ 281370 | K41: - | L41: 1НР 1НБ | N41: А2582
A42: 31 | B42: солдат | C42: Гімчинський Анатолій Олександрович | D42: Коломийським РТЦК та СП в Івано-Франківській області | E42: Івано-Франковьска | F42: 36705 | G42: середня-спеціальна ЧПЛЗТ м. Чернівці 2018 | H42: 3670408036 | I42: АГ 456627 | K42: 0666286329 | L42: 1НР 1НБ | N42: А2582
A43: 32 | B43: солдат | C43: Голінчук Віталій Євгенович | D43: Чернівецьким РТЦК та СП в Чернівецькій області | E43: Чернівецька | F43: 31479 | G43: середня | H43: 3147811015 | I43: АГ 469067 | K43: - | L43: 1НР 1НБ | N43: А2582
A44: 33 | B44: солдат | C44: Гончарук Віталій Сергійович | D44: Уманським РТЦК та СП в Черкаській області | E44: Черкаська | F44: 34145 | G44: середня | H44: 3414416590 | I44: АГ 611206 | K44: 0966337483 | L44: 1НР 1НБ | N44: А4350 | P44: СЗЧ
A45: 34 | B45: солдат | C45: Горійчук Роман Миколайович | D45: Чернівецьким РТЦК та СП в Чернівецькій області | E45: Чернівецька | F45: 29874 | G45: середня-спеціальна ПТУ №6 | H45: 2987308977 | I45: АГ 469075 | K45: 0953063456 | L45: 1НР 1НБ | N45: А2582
...

Sheet Settings
A1: базова загальна середня | C1: Придатний до військової служби | J1: Вінницька | K1: солдат | L1: I Rh -
A2: повна загальна середня | C2: Придатний до служби на підводних човнох, на надводних кораблях, у морській піхоті, Десантно-штурмових військах, спеціальних спорудах, підрозділах спеціального призначення | E2: Вінниця | F2: 1 відділ Хмільницький РТЦК | G2: першого відділу Хмільницького районного | H2: Вінницька | I2: Вінницького ОТЦК та СП | J2: Волинь | K2: старший солдат | L2: I Rh +
A3: професійно- технічна | C3: Придатний до служби у військових частинах забезпечення, ТЦК та СП, ВВНЗ, навчальних центрах, закладах (установах), медичних підрозділах, підрозділах логістики, зв'язку, оперативного забезпечення, охорони | E3: Вінниця | F3: 2 відділ Хмільницький РТЦК | G3: другого відділу Хмільницького районного | H3: Вінницька | I3: Вінницького ОТЦК та СП | J3: Дніпро | K3: молодший сержант | L3: II Rh -
A4: вища | E4: Вінниця | F4: 7 відділ Вінницький РТЦК | G4: сьомого відділу Вінницького районного | H4: Вінницька | I4: Вінницького ОТЦК та СП | J4: Донецьк | K4: сержант | L4: II Rh +
E5: Вінниця | F5: Вінницький ОМТЦК | G5: Вінницького об'єднаного міського | H5: Вінницька | I5: Вінницького ОТЦК та СП | J5: Житомир | K5: старший сержант | L5: III Rh -
E6: Вінниця | F6: 1 відділ Вінницький РТЦК | G6: першого відділу Вінницького районного | H6: Вінницька | I6: Вінницького ОТЦК та СП | J6: Закарпаття | K6: штаб-сержант | L6: III Rh +
E7: Вінниця | F7: 1 відділ Жмеринський РТЦК | G7: першого відділу Жмеринського районного | H7: Вінницька | I7: Вінницького ОТЦК та СП | J7: Запоріжжя | K7: матрос | L7: IV Rh -
E8: Вінниця | F8: Тульчинський РТЦК | G8: Тульчинського районного | H8: Вінницька | I8: Вінницького ОТЦК та СП | J8: Івано-Франківськ | K8: старший матрос | L8: IV Rh +
E9: Вінниця | F9: Хмільницький РТЦК | G9: Хмільницького районного | H9: Вінницька | I9: Вінницького ОТЦК та СП | J9: Київ місто | K9: старшина
E10: Вінниця | F10: 1 відділ Могилів-Подільський РТЦК | G10: першого відділу Могилів-Подільського районного | H10: Вінницька | I10: Вінницького ОТЦК та СП | J10: Київ обл | K10: старшина I статті
E11: Вінниця | F11: 1 відділ Тульчинський РТЦК | G11: першого відділу Тульчинського районного | H11: Вінницька | I11: Вінницького ОТЦК та СП | J11: Кропивницький | K11: головний старшина
E12: Вінниця | F12: 2 відділ Вінницький РТЦК | G12: другого відділу Вінницького районного | H12: Вінницька | I12: Вінницького ОТЦК та СП | J12: Луганськ | K12: прапорщик
E13: Вінниця | F13: 2 відділ Жмеринський РТЦК | G13: другого відділу Жмеринського районного | H13: Вінницька | I13: Вінницького ОТЦК та СП | J13: Львів
E14: Вінниця | F14: 2 відділ Могилів-Подільський РТЦК | G14: другого відділу Могилів-Подільського районного | H14: Вінницька | I14: Вінницького ОТЦК та СП | J14: Миколаїв
E15: Вінниця | F15: 2 відділ Тульчинський РТЦК | G15: другого відділу Тульчинського районного | H15: Вінницька | I15: Вінницького ОТЦК та СП | J15: Одеса
E16: Вінниця | F16: 3 відділ Вінницький РТЦК | G16: третього відділу Вінницького районного | H16: Вінницька | I16: Вінницького ОТЦК та СП | J16: Полтава
E17: Вінниця | F17: 3 відділ Могилів-Подільський РТЦК | G17: третього відділу Могилів-Подільського районного | H17: Вінницька | I17: Вінницького ОТЦК та СП | J17: Рівне
E18: Вінниця | F18: 3 відділ Тульчинський РТЦК | G18: третього відділу Тульчинського районного | H18: Вінницька | I18: Вінницького ОТЦК та СП | J18: Суми
E19: Вінниця | F19: 4 відділ Вінницький РТЦК | G19: четвертого відділу Вінницького районного | H19: Вінницька | I19: Вінницького ОТЦК та СП | J19: Тернопіль
E20: Вінниця | F20: 5 відділ Вінницький РТЦК | G20: п'ятого відділу Вінницького районного | H20: Вінницька | I20: Вінницького ОТЦК та СП | J20: Харків
E21: Вінниця | F21: 6 відділ Вінницький РТЦК | G21: шостого відділу Вінницького районного | H21: Вінницька | I21: Вінницького ОТЦК та СП | J21: Херсон
E22: Вінниця | F22: Вінницький РТЦК | G22: Вінницького районного | H22: Вінницька | I22: Вінницького ОТЦК та СП | J22: Хмельницький
E23: Вінниця | F23: Гайсинський РТЦК | G23: Гайсинського районного | H23: Вінницька | I23: Вінницького ОТЦК та СП | J23: Черкаси
E24: Вінниця | F24: 1 відділ Гайсинський РТЦК | G24: першого відділу Гайсинського районного | H24: Вінницька | I24: Вінницького ОТЦК та СП | J24: Чернівці
E25: Вінниця | F25: 2 відділ Гайсинський РТЦК | G25: другого відділу Гайсинського районного | H25: Вінницька | I25: Вінницького ОТЦК та СП | J25: Чернігів
E26: Вінниця | F26: Жмеринський РТЦК | G26: Жмеринського районного | H26: Вінницька | I26: Вінницького ОТЦК та СП
E27: Вінниця | F27: Могилів-Подільський РТЦК | G27: Могилів-Подільського районного | H27: Вінницька | I27: Вінницького ОТЦК та СП
E28: Волинь | F28: 1 відділ Камінь-Каширський РТЦК | G28: першого відділу Камінь-Каширського районного | H28: Волинська | I28: Волинського ОТЦК та СП
E29: Волинь | F29: 1 відділ Ковельський РТЦК | G29: першого відділу Ковельського районного | H29: Волинська | I29: Волинського ОТЦК та СП
E30: Волинь | F30: 2 відділ Ковельський РТЦК | G30: другого відділу Ковельського районного | H30: Волинська | I30: Волинського ОТЦК та СП
E31: Волинь | F31: 4 відділ Ковельський РТЦК | G31: четвертого відділу Ковельського районного | H31: Волинська | I31: Волинського ОТЦК та СП
E32: Волинь | F32: 3 відділ Ковельський РТЦК | G32: третього відділу Ковельського районного | H32: Волинська | I32: Волинського ОТЦК та СП
E33: Волинь | F33: 5 відділ Ковельський РТЦК | G33: п'ятого відділу Ковельського районного | H33: Волинська | I33: Волинського ОТЦК та СП
E34: Волинь | F34: Луцький ОМТЦК | G34: Луцького об'єднаного міського | H34: Волинська | I34: Волинського ОТЦК та СП
E35: Волинь | F35: 2 відділ Камінь-Каширський РТЦК | G35: другого відділу Камінь-Каширського районного | H35: Волинська | I35: Волинського ОТЦК та СП
E36: Волинь | F36: 1 відділ Луцький РТЦК | G36: першого відділу Луцького районного | H36: Волинська | I36: Волинського ОТЦК та СП
E37: Волинь | F37: 2 відділ Луцький РТЦК | G37: другого відділу Луцького районного | H37: Волинська | I37: Волинського ОТЦК та СП
... E56: Дніпро | F56: 2 відділ Дніпровського РТЦК та СП | G56: другого відділу Дніпровського районного | H56: Дніпропетровська | I56: Дніпропетровського ОТЦК та СП
D57: міста Дніпра | E57: Дніпро | F57: Дніпровський РТЦК та СП | G57: Дніпровського районного | H57: Дніпропетровська | I57: Дніпропетровського ОТЦК та СП
D58: міста Дніпра | E58: Дніпро | F58: Індустріальний РТЦК та СП | G58: Індустріального районного | H58: Дніпропетровська | I58: Дніпропетровського ОТЦК та СП
...

Sheet перевірки
A2: Сєроклін Микола Олегович | C2: =Основний!C12 -> Алєксєєв Максим Олексійович | E2: =C2=G2 -> FALSE | G2: Батура Віктор Сергійович | H2: Полтавська область, Глобинський район, с. Малинівка | I2: вул. Крамського 2, м. Полтава | J2: вища | K2: Полтавський аграрний інститут, 2019, Інженер сільсько господарської техніки | L2: Будівельник 10 років | M2: неодружений, мати: Даценко Алла Олексіївна - 0968398894, м. Глобино; сестра: Лещенко Єлизавета Сергіївна - 0689734287 - м. Полтава | N2: 0985986153
A3: Набок Валерій Миколайович | C3: =Основний!C13 -> Андруневчин Михайло Олексійович | E3: =C3=G3 -> FALSE | G3: Бережний Євгеній Олегович | H3: Донецька обл.м.Славянськ | I3: Полтавська обл.м.Лохвиця вул.Лесі Украінки 9 | J3: професійно- технічна | K3: Ромницьке ВПУ у 2016 електромеханік | L3: продавець консультант 3 роки | M3: неодружений мати:Харченко Оксана Олександрівна-1973-0955536441-Полтавська обл.м.Лохвиця вул.Лесі Украінки 9 вітчим:Харченко Олександр Олексійович-1972-0666224233-Полтавська обл.м.Лохвиця вул.Лесі Украінки 9 | N3: 0682701392
A4: Батура Віктор Сергійович | C4: =Основний!C14 -> Артюх Марк Геннадійович | E4: =C4=G4 -> FALSE | G4: Бірюков Євген Анатолійович | H4: Великоновосільківський район, Донецька область, с. Шевченка | I4: Черкаська область, Тальнівський район, с. Лісове, вул. Зільниця, буд. 28 | J4: професійно- технічна | K4: ПТУ Великоновосільківський район, 2010, тракторист | L4: різноробочий 10 років | M4: одружений, жінка: Бірюкова Катерина Григорівна, Черкаська область, Тальнівський район, с. Лісове, вул. Зільниця, буд. 28 | N4: 0978269441
A5: Коваленко Іван Іванович | C5: =Основний!C15 -> Архіпенко Станіслав Валерійович | E5: =C5=G5 -> FALSE | G5: Бородій Володимир Васильович | H5: Житомирська обл.м.Овруч | I5: Житомирська обл.м.Овруч вул.Мічуріна 10 кв.2 | J5: професійно- технічна | K5: ПТУ№35 м.Овруч у 2003 водій | L5: водій 18 років права А С | M5: дружина:Бородій Світлана Вікторівна-1981-0990938241-Житомирська обл.м.Овруч вул.Мічуріна 10 кв.2 | N5: -
A6: Марюхно Артем Олександрович | C6: =Основний!C16 -> Балагура Сергій Васильович | E6: =C6=G6 -> FALSE | G6: Ващенко Володимир Ігорович | H6: Киівська обл.м.Бровари | I6: Киівська обл.м.Бровари вул.Миколи Костомарова 28а | J6: професійно- технічна | K6: ПФПК у 2005 юрист | L6: будівельник 10 років права В | M6: неодружений батько:Ващенко Шгор Володимирович-1960-0677384870-Киівська обл.м.Бровари вул.Миколи Костомарова 28а | N6: 0975482717
A7: Шегера Роман Володимирович | C7: =Основний!C17 -> Бардичевський Микола Валентинович | E7: =C7=G7 -> FALSE | G7: Винничук Володимир Ярославович | H7: Тернопільська обл.Чортківський р-н.с.Улашківці | I7: Тернопільська обл.Чортківський р-н.с.Улашківці вул.Сонячна 14 | J7: професійно- технічна | K7: Чортківське ВПУ у 2013 слюсар з ремонту автомобілів | L7: овальщик 6 років права В | M7: неодружений мати:Винничук Галина Йосафатівна-1974--974114211-Тернопільська обл.Чортківський р-н.с.Улашківці вул.Сонячна 14 батько:Винничук Ярослав Степанович-1973-0682466460-Тернопільська обл.Чортківський р-н.с.Улашківці вул.Сонячна 14 | N7: 0979289360
A8: Смірнов Артур Артюшевич | C8: =Основний!C18 -> Башкатов Євгеній Володимирович | E8: =C8=G8 -> FALSE | G8: Гарбар Олександр Вікторович | H8: с. Леприн, Житомирська область, Радомишлівський район | I8: Житомирська область, Радомишлівський район, с. Леприн, вул. Лугова, буд. 23 | J8: повна загальна середня | K8: ліцей, м. Радомишль, 2009 | L8: будівельник 5 років | M8: цивільний шлюб, цивільна дружина: Шарапова Надія Петрівна, Житомирська область, Радомишлівський район, с. Леприн, вул. Лугова, буд. 23, 0669208817
A9: Герасименко Павло Сергійович | C9: =Основний!C19 -> Безценний Михайло Вітальйович | E9: =C9=G9 -> FALSE | G9: ГЕРАСИМЕНКО Павло Сергійович | H9: м. Полтава | I9: м. Полтава, вул. Європейська, буд 139, кв. 22 | J9: професійно- технічна | K9: СПТУ №10, м. Полтава | L9: комірник | M9: одружений дружина: Георгієва Юлія Юрієвна - 1986 - 0936718521 - м. Полтава, вул. Великотирнівська, буд. 27/1, кв. 84 | N9: 0936893236
A10: Красножон Михайло Анатолійович | C10: =Основний!C20 -> Береговий Максим Сергійович | E10: =C10=G10 -> FALSE | G10: Горнічний Едуард Юрійович | H10: м. Архангельск, РФ | I10: м. Житомир, вул. Свободи, буд. 52 | J10: базова загальна середня | K10: училище, м. Пулин, водій | L10: будівельник 9 років, Права А Б Ц | M10: цивільний шлюб, цивільна дружина: Городнича Наталія Віталіївна, м. Житомир, вул. Свободи, буд. 52, 0685496100
A11: Меньшиков Анатолій Миколайович | C11: =Основний!C21 -> Білецький Андрій Юрійович | E11: =C11=G11 -> FALSE | G11: Гуменюк Віктор Васильович | H11: с. Солотвин, Бердичівський район, Житомирський область | I11: с. Старий Солотвин, Бердичівський район, провулок Миру, буд. 5 | J11: повна загальна середня | K11: професійно-будівельний ліцей №12, м.Бердичів | L11: будівельник, 12 років | M11: неодружений, мати: Гуменюк Валентина Володимирівна, с. Старий Солотвин, Бердичівський район, провулок Миру, буд. 5, 0972768628 | N11: 0987983165
A12: Чаус Євгеній Русланович | C12: =Основний!C22 -> Борбат Роман Ігорович | E12: =C12=G12 -> FALSE | G12: ДЕНИСЮК Вадим Васильович | H12: Ємільчинська обл с. Симони | I12: Ємільчинська обл с. Симони вул Незалежності буд 21 | J12: базова загальна середня | K12: ЗОШ с. Симони | L12: різноробочий | M12: неодружений сестра: Денисюк Ольга Василівна - 09.03.1989 - 0660494552 - Ємільчинська обл с. Симони вул Незалежності 21 | N12: 0663759546
A13: Юр'єв Роман Русланович | C13: =Основний!C23 -> Бохун Дмитро Миколайович | E13: =C13=G13 -> FALSE | G13: Донець Микола Михайлович | H13: м. Сміла, Черкаська область | I13: Черкаська область, м. Сміла, вул. Філатова, буд. 8, кв. 145 | J13: вища | K13: Національний транспортний університет, м. Київ, 2019, інженер будівельник | L13: майстер дорожніх робіт 1 рік, Права Б | M13: неодружений, мати: Донець Любов Михайлівна, Черкаська область, м. Сміла, вул. Філатова, буд. 8, кв. 145, 0636539977 | N13: 0931913213
A14: Шапран Ігор Олександрович | C14: =Основний!C24 -> Бурдин Михайло Володимирович | E14: =C14=G14 -> FALSE | G14: ДРИЖУК Сергій Юрійович | H14: м. Пирятин Полтавська обл. | I14: Вінницька обл с Журбинці вул Зарічна буд 34 | J14: базова загальна середня | K14: школа-інтернат 2006 м. Козятин | L14: будівельник 10 років Права Б Ц Т | M14: неодружений дружина: Чоботарьова Альбіна Олександрівна - 1993 - Вінницька обл с Журбинці вул Зарічна буд 34 | N14: 0680196331
A15: Донець Микола Михайлович | C15: =Основний!C25 -> Бурлака Сергій Анатолійович | E15: =C15=G15 -> FALSE | G15: ІЛЛЮШИН Ярослав Вікторович | H15: м. Чернігів | I15: м. Вінниця вул. Антона Листопада буд.2 кв 13 | J15: професійно- технічна | K15: ПТУ №16 м. Чернігів пекар | L15: керівник терміналу 2 роки | M15: неодружений дівчина: Лубьянова Анастасія Ігорівна - 28.07.1995 - 0933846576 - м. Вінниця вул. Антона Листопада буд.2 кв 13 | N15: 0954948604
A16: Павленко Микола Володимирович | C16: =Основний!C26 -> Бурлака Сергій Ілліч | E16: =C16=G16 -> FALSE | G16: Ісаєнко Володимир Володимирович | H16: Полтавська область, м. Кременчук | I16: Полтавська область, м. Кременчук, вул. Переяслівська, буд. 44, кв. 13 | J16: професійно- технічна | K16: Кременчуцький коледж національного університету ім. М. Скоропадського, 2016, зварювальне відділення | L16: зварювальник слюсар, 3 роки | M16: неодружений, мати: Ісаєнко Вікторія Володимирівна, м. Кременчук, вул. Переяслівська, буд. 44, кв. 13, 0964325190 | N16: 0636126867
A17: Семенюк Олександр Іванович | C17: =Основний!C27 -> Бут Олег Васильович | E17: =C17=G17 -> FALSE | G17: Коваленко Іван Іванович | H17: Сумська обл.Лебединський р-н.с.Корчани | I17: Сумська обл.Лебединський р-н.с.Василівка вул.Широка 47 | J17: повна загальна середня | K17: Лебединське ПТУ у 1997 тракторист | L17: тракторист 10 років А1 Д | M17: цивільна дружина:Дряхлова Юлія Олександрівна-1984-09723389-Сумська обл.Лебединський р-н.с.Василівка вул.Широка 47 | N17: 0679831091
A18: Марков Віталій Ігорович | C18: =Основний!C28 -> Варус Сергій Васильович | E18: =C18=G18 -> FALSE | G18: Красножон Михайло Анатолійович | H18: м. Полтава | I18: м. Полтава, Решетилівська 50\1, кв. 65 | J18: повна загальна середня | K18: Гімназія №13. м. Полтава, 2014 | L18: Сервісне обслуговування техніки 5 років. Права Б | M18: розлучений, брат: Красножон Антон Анатолійович - вул. Інжерена 11, м. Полтава - 0953848459 | N18: 0689699529
A19: Бережний Євгеній Олегович | C19: =Основний!C29 -> Васілів Володимир Володимирович | E19: =C19=G19 -> FALSE | G19: Кропивницький Віталій Русланович | H19: м. Коростишів, Житомирська область | I19: м. Коростишів, вул. Волошкова, буд. 45 | J19: базова загальна середня | K19: школа №18, смт. Коцюбинське, 2009 | L19: кухар 4 роки | M19: неодружений, батько: Кропивницкий Руслан Олександрович, м. Коростишів, вул. Волошкова, буд. 45, 0954085494 | N19: 0991591289
A20: Ісаєнко Володимир Володимирович | C20: =Основний!C30 -> Вербіцький Тарас Ігорович | E20: =C20=G20 -> FALSE | G20: ЛЕВЧЕНКО Ігор Анатолійович | H20: м. Овруч | I20: Житомирська обл м. Ігнатпіль вул Коворот буд 11 | J20: повна загальна середня | K20: школа 2014 | L20: помічник на лісопилці 6 міс | M20: розлучений сестра: Павленко Анна - 0968254129 - м. Ігнатпіль | N20: 0508495651
A21: Рибачик Роман Іванович | C21: =Основний!C31 -> Веретенніков Дмитро Леонідович | E21: =C21=G21 -> FALSE | G21: МАРКОВ Віталій Ігорович | H21: м. Кременчуг Полтавська обл. | I21: Полтавська обл. м. Кременчуг вул. Мрії 5 кв 19 | J21: вища | K21: КДПУ 2004 інженер механік | L21: ТОВ Кредо 4 роки Права Б Ц | M21: розлучений мати: Маркова Світлана Борисівна - 29.081960 - 0982851680 - Полтавська обл. м. Кременчуг вул. Мрії 5 кв 19 | N21: 0679629311
A22: Горнічний Едуард Юрійович | C22: =Основний!C32 -> Винничук Василь Степанович | E22: =C22=G22 -> FALSE | G22: МАРЮХНО Артем Олександрович | H22: м. Полтава | I22: м. Полтава вул. Європейська, буд 115а, кв. 97 | J22: повна загальна середня | K22: ЗОШ 3, м. Полтава | L22: водій Права Б, Ц, Ц1 | M22: дружина: Бєлоброва Марина Юріївна - 1992 - 0668099423 - м. Полтава, вул. Європейська, буд 115а, кв. 97 | N22: 0958773247
... A24: Степанишин Дмитро Вікторович | C24: =Основний!C34 -> Вознюк Олексій Олександрович | E24: =C24=G24 -> FALSE | G24: НАБОК Валерій Миколайович | H24: с. Усанівка, Сумська обл | I24: Сумська обл., смт Липова Долина, вул. Шевченка, буд. 14 | J24: повна загальна середня | K24: Ліцей, с. Глинськ | L24: Тракторист водій | M24: неодружений. дружина: Добродій Тетяна Миколаївна - 09.05.1988 - 0508030946 - Сумська обл., смт Липова Долина, вул. Шевченка, буд. 14 | N24: 0994797289
A25: Скрипник Сергій Васильович | C25: =Основний!C35 -> Воїнов Максим Олегович | E25: =C25=G25 -> FALSE | G25: Омельченко Сергій Григорович | H25: смт.Ємільчіно, Житомирска область | I25: смт. Ємільчіно, Житомирська область, вул. Садова, буд. 30 | J25: повна загальна середня | K25: Школа №2, Ємільчіно | L25: автослюсар, 5 років | M25: цивільний шлюб, брат: Омельченко Олексій Григорович, смт. Ємільчино, вул. Касьянова, буд. 5
A26: Гарбар Олександр Вікторович | C26: =Основний!C36 -> Волинець Сергій Григорович | E26: =C26=G26 -> FALSE | G26: Павленко Микола Володимирович | H26: м. Кременчук, Полтавська область | I26: м. Кременчук, тупик Глобинський, буд. 5 | J26: вища | K26: Дніпропетровський університет економіки і права, 2007, економічна кібернетика | L26: експерт економічної діяльності, інженер перевідник 15 років | M26: неодружений, брат: Павленко Олександр Володимирович - 0675306999 - м. Кременчук, вул Симоненка, буд. 11 | N26: 0668461344
A27: Тіщенко Олег Анатолійович | C27: =Основний!C37 -> Володін Денис Валентинович | E27: =C27=G27 -> FALSE | G27: РИБАЧИК Роман Іванович | H27: Житомирська обл. с. Відродження | I27: м. Житомир вул. Бориса Тена, 96 кв 13 | J27: професійно- технічна | K27: Училище №9 м. Житомир 2019 кухар, офіціант, бармен | L27: кухар 2 роки Права Б Ц | M27: неодружений брат: Рибачик Ярослав Іванович - 21.02.2007 - 0975595736 - м. Житомир вул. Бориса Тена, 96 кв 13 | N27: 0667511936
A28: Бірюков Євген Анатолійович | C28: =Основний!C38 -> Вороненко Олександр Валерійович | E28: =C28=G28 -> FALSE | G28: Свинаренко Святослав Васильович | H28: м. Черкаси | I28: м. Черкаси, вул. Вернигори, буд. 9, кв. 43 | J28: вища | K28: Черкаський державний технологічний університет, 2013, економіка підприємства | L28: завідуючий складом, 3 роки | M28: одружений, батько: Свинаренко Василь Миколайович, м. Черкаси, вул. Вернигори, буд. 9, кв. 43, 0637896747. мати: Свинаренко Ольга Василівна, м. Черкаси, вул. Вернигори, буд. 9, кв. 43, 0972053582 | N28: 0937058585
A29: Кропивницький Віталій Русланович | C29: =Основний!C39 -> Гаврилюк Роман Миколайович | E29: =C29=G29 -> FALSE | G29: СЕМЕНЮК Олександр Іванович | H29: Полтавська обл. с. Вечірки | I29: Полтавська обл м. Гадяч вул. Подільска буд 7 кв 2 | J29: базова загальна середня | K29: Березоворудський технікум м. Гадяч 2020 | L29: різноробочий | M29: одружений дружина: Семенюк Марина Василівна - 02.03.2000 - 0682860854 - Полтавська обл м. Гадяч вул. Подільска буд 7 кв 2 | N29: 0955497601
A30: Іллюшін Ярослав Вікторович | C30: =Основний!C40 -> Гарап'як Олександр Дмитрович | E30: =C30=G30 -> FALSE | G30: Сєроклін Микола Олегович | H30: м. Буринь, Сумська область | I30: вул. Гая Головенського 26, м. Буринь, Конотопський район, Сумська область | J30: вища | K30: СумДУ, 2021, фінанси та банківська справа | L30: Права Б Ц, Відеомонтажер 3 роки | M30: неодружений, мати: Сєроклін Олена Іванівна - 0661878039 - вул. Гая Головенського 26, м. Буринь, Сумська область | N30: 0992966134
A31: Дрижук Сергій Юрійович | C31: =Основний!C41 -> Герман Микола Анатолійович | E31: =C31=G31 -> FALSE | G31: Сичевський Олександр Олександрович | H31: м. Козятин, Вінницька область | I31: Житомирська область, Ружинський район, смт. Ружин, вул. Київська, буд. 5, кв.5 | J31: повна загальна середня | K31: школа №5, м. Козятин, 2010 | L31: автослюсар, 10 років | M31: розлучений, батько: Сичевський Олександр Юрійович, м. Козятин, вул. Артура Венжика, буд. 48, кв. 15, 0935156984 | N31: 0684359019
A32: Сичевський Олександр Олександрович | C32: =Основний!C42 -> Гімчинський Анатолій Олександрович | E32: =C32=G32 -> FALSE | G32: Скрипник Сергій Васильович | H32: м. Гайсин, Вінницька область | I32: м. Гайсин, Вінницька область, Другий провулок Івана Франка, буд 1. | J32: повна загальна середня | K32: школа №3, м. Гайсин | L32: будівельник 10 років, Права Б | M32: розлучений, мати: Скрипник Тетяна Михайлівна, м. Гайсин, вул. Гайсинська, буд. 35. Скрипник Василь Опанасович, м. Гайсин, вул. Гайсинська, буд. 35 | N32: 0979394554
A33: Бородій Володимир Васильович | C33: =Основний!C43 -> Голінчук Віталій Євгенович | E33: =C33=G33 -> FALSE | G33: Смірнов Артур Артюшович | H33: м.Полтава | I33: м.Полтава вул Івана Мазепи 49кв.55 | J33: вища | K33: ПНТУ ім.Юрія Кондратюка у 2019 тренер бакалаврат здоровя людини | L33: охоронець 6 років права В | M33: мати:Смірнова Ірина Анатоліівна-1972-0503046016-м.Полтава вул.Уютная 15 | N33: 0999646261
A34: Левченко Ігор Анатолійович | C34: =Основний!C44 -> Гончарук Віталій Сергійович | E34: =C34=G34 -> FALSE | G34: СТЕПАНИШИН Дмитро Вікторович | H34: Київська обл. Фастівський р-н, с. Оленівка | I34: Житомирська обл. м. Чуднів вул. Героїв АТО 27 | J34: вища | K34: ЖНАЕУ 2019 агроном | L34: оператор плахофабрики, водій 7 років Права Б Ц1 Ц | M34: одружений дружина: Степанишина Аліна Олегівна - 11.02.1991 - 0667840590 - м. Чуній вул Зелена 23 | N34: 0661413110
A35: Свинаренко Святослав Васильович | C35: =Основний!C45 -> Горійчук Роман Миколайович | E35: =C35=G35 -> FALSE | G35: ТІЩЕНКО Олег Анатолійович | H35: Вінницька обл м. Ямпіль | I35: м. Вінниця масив окружний | J35: вища | K35: ВФЕУ м. Вінниця 2006 бухгалтер економіст | L35: працівник торгівельник 5 років Права Б | M35: одружений дружина: Тіщенко Інна Олександрівна - 04.11.1986 - 0970586338 - м. Вінниця масив окружний | N35: 0965205811
A36: Омельченко Сергій Григорович | C36: =Основний!C46 -> Горобієвській Юрій Віталійович | E36: =C36=G36 -> FALSE | G36: ХМЕЛЬНИЦЬКИЙ Сергій Леонідович | H36: м. Житомир | I36: м. Житомир вул Кибальчича буд 5 кв 15 | J36: вища | K36: УАБП 2016 бухгалтер економіст | L36: машиніст 5 разряда 10 | M36: неодружений мати: Хмельницька Антоніна Миколаївна - 30.01.1953 - 0963675865 - м. Житомир вул Кибальчича буд 5 кв 15 | N36: 0635612931
A37: Ващенко Володимир Ігорович | C37: =Основний!C47 -> Горобцов Назар Сергійович | E37: =C37=G37 -> FALSE | G37: ЧАУС Євген Олександрович | H37: м. Вінниця | I37: м. Вінниця, вул. Київська, буд. 50, кв. 13 | J37: професійно- технічна | K37: ВК НУХТ, м. Вінниця, автомеханік | L37: автомеханік | M37: розлучений батько: Чаус Руслан Олександрович - 1971 - 0674244562 - м. Вінниця, вул. Київська, буд 50, кв. 13 | N37: 0988216124
... A40: Хмельницький Сергій Леонідович | C40: =Основний!C50 -> Гріус Євгеній Русланович | E40: =C40=G40 -> FALSE | G40: Юр'єв Роман Русланович | H40: м. Маріуполь, Донецька область | I40: м. Лубни, Полтавська область, вул. Василенко Миколи, буд. 35, кв. 49 | J40: вища | K40: Полтавська державна аграрна академія, 2016, бухглатерьска справа | L40: Різноробочий, комірник 10 років, Права Б | M40: неодружений, мати: Васильєва Лілія Миколаївна - Германія, +4916096202643; бабуся: Зозуля Віра Миколаївна - 0953288893 - Полтавська область, Оржицький район, с. Чутівка, вул. Голошубова, буд 11; сестра: Васильєва Маргарита Євгенівна - Германія - +491759147056 | N40: 0507020643
C41: =Основний!C51 -> Гулега Валентин Володимирович | E41: =C41=G41 -> FALSE
C42: =Основний!C52 -> Гунчак Микола Васильович | E42: =C42=G42 -> FALSE
C43: =Основний!C53 -> Гуцман Іван Володимирович | E43: =C43=G43 -> FALSE
C44: =Основний!C54 -> Данилюк Олег Вікторович | E44: =C44=G44 -> FALSE
...

Sheet Список
A1: № | B1: Звання | C1: ПІБ | D1: ІПН | E1: Примітка
A2: =Основний!A12 -> 1 | B2: =Основний!B12 -> солдат | C2: =Основний!C12 -> Алєксєєв Максим Олексійович | D2: =Основний!#REF! -> #REF!
A3: =Основний!A13 -> 2 | B3: =Основний!B13 -> солдат | C3: =Основний!C13 -> Андруневчин Михайло Олексійович | D3: =Основний!#REF! -> #REF!
A4: =Основний!A14 -> 3 | B4: =Основний!B14 -> солдат | C4: =Основний!C14 -> Артюх Марк Геннадійович | D4: =Основний!#REF! -> #REF!
A5: =Основний!A15 -> 4 | B5: =Основний!B15 -> солдат | C5: =Основний!C15 -> Архіпенко Станіслав Валерійович | D5: =Основний!#REF! -> #REF!
A6: =Основний!A16 -> 5 | B6: =Основний!B16 -> солдат | C6: =Основний!C16 -> Балагура Сергій Васильович | D6: =Основний!#REF! -> #REF!
A7: =Основний!A17 -> 6 | B7: =Основний!B17 -> солдат | C7: =Основний!C17 -> Бардичевський Микола Валентинович | D7: =Основний!#REF! -> #REF!
A8: =Основний!A18 -> 7 | B8: =Основний!B18 -> солдат | C8: =Основний!C18 -> Башкатов Євгеній Володимирович | D8: =Основний!#REF! -> #REF!
A9: =Основний!A19 -> 8 | B9: =Основний!B19 -> солдат | C9: =Основний!C19 -> Безценний Михайло Вітальйович | D9: =Основний!#REF! -> #REF!
A10: =Основний!A20 -> 9 | B10: =Основний!B20 -> солдат | C10: =Основний!C20 -> Береговий Максим Сергійович | D10: =Основний!#REF! -> #REF!
A11: =Основний!A21 -> 10 | B11: =Основний!B21 -> солдат | C11: =Основний!C21 -> Білецький Андрій Юрійович | D11: =Основний!#REF! -> #REF!
A12: =Основний!#REF! -> #REF! | B12: =Основний!#REF! -> #REF! | C12: =Основний!#REF! -> #REF! | D12: =Основний!#REF! -> #REF!
A13: =Основний!#REF! -> #REF! | B13: =Основний!#REF! -> #REF! | C13: =Основний!#REF! -> #REF! | D13: =Основний!#REF! -> #REF!
A14: =Основний!A22 -> 11 | B14: =Основний!B22 -> солдат | C14: =Основний!C22 -> Борбат Роман Ігорович | D14: =Основний!#REF! -> #REF!
A15: =Основний!A23 -> 12 | B15: =Основний!B23 -> солдат | C15: =Основний!C23 -> Бохун Дмитро Миколайович | D15: =Основний!#REF! -> #REF!
A16: =Основний!A24 -> 13 | B16: =Основний!B24 -> солдат | C16: =Основний!C24 -> Бурдин Михайло Володимирович | D16: =Основний!#REF! -> #REF!
A17: =Основний!A25 -> 14 | B17: =Основний!B25 -> солдат | C17: =Основний!C25 -> Бурлака Сергій Анатолійович | D17: =Основний!#REF! -> #REF!
A18: =Основний!A26 -> 15 | B18: =Основний!B26 -> молодший сержант | C18: =Основний!C26 -> Бурлака Сергій Ілліч | D18: =Основний!#REF! -> #REF!
A19: =Основний!A27 -> 16 | B19: =Основний!B27 -> солдат | C19: =Основний!C27 -> Бут Олег Васильович | D19: =Основний!#REF! -> #REF!
A20: =Основний!A28 -> 17 | B20: =Основний!B28 -> солдат | C20: =Основний!C28 -> Варус Сергій Васильович | D20: =Основний!#REF! -> #REF!
A21: =Основний!A29 -> 18 | B21: =Основний!B29 -> солдат | C21: =Основний!C29 -> Васілів Володимир Володимирович | D21: =Основний!#REF! -> #REF!
A22: =Основний!A30 -> 19 | B22: =Основний!B30 -> солдат | C22: =Основний!C30 -> Вербіцький Тарас Ігорович | D22: =Основний!#REF! -> #REF!
A23: =Основний!A31 -> 20 | B23: =Основний!B31 -> солдат | C23: =Основний!C31 -> Веретенніков Дмитро Леонідович | D23: =Основний!#REF! -> #REF!
A24: =Основний!A32 -> 21 | B24: =Основний!B32 -> солдат | C24: =Основний!C32 -> Винничук Василь Степанович | D24: =Основний!#REF! -> #REF!
A25: =Основний!A33 -> 22 | B25: =Основний!B33 -> солдат | C25: =Основний!C33 -> Вігріян Олег Вікторович | D25: =Основний!#REF! -> #REF!
... A101: =Основний!A109 -> 98 | B101: =Основний!B109 -> солдат | C101: =Основний!C109 -> Мельничук Дмитрій Володимирович | D101: =Основний!#REF! -> #REF!

Sheet Перевірка
A1: {=Основний!A10:A173} -> № з/п | B1: {=CONCATENATE("", Основний!C10:C173)} -> Прізвище ім'я та по батькові | C1: {=CONCATENATE("", TEXT(Основний!F10:F173,"dd.mm.yyyy"))} -> Дата народження | D1: {=CONCATENATE("", Основний!#REF!)} -> #REF! | E1: Перевірка | F1: {=CONCATENATE("", Основний!#REF!)} -> #REF! | G1: Перевірка | H1: {=CONCATENATE("", Основний!#REF!)} -> #REF! | I1: Перевірка | J1: Алфавітка | K1: Д = А | L1: Поіменний Список | M1: Д = ПС | N1: А = ПС
A2: 0 | C2: 00.01.1900 | J2: - | K2: - | L2: - | M2: - | N2: - | O2: =DATEVALUE(C2) <> INT(LEFT(D2,5)) +1 -> #VALUE!
A3: 1 | B3: Алєксєєв Максим Олексійович | C3: 11.04.1999 | E3: =IF(D3="", "", LEN(D3)) | G3: =IF(F3="", "", LEN(F3)) | I3: =IF(H3="", "", LEN(H3)) | J3: Антоненко Руслан Олександрович | K3: =IF(J3="", "", B3=J3) -> FALSE | M3: =IF(L3="", "", B3=L3) | N3: =IF(L3="", "", J3=L3) | O3: =DATEVALUE(C3) <> INT(LEFT(D3,5)) +1 -> #VALUE! | P3: =DATEVALUE(C3) -> 36261
A4: 2 | B4: Андруневчин Михайло Олексійович | C4: 17.06.1990 | E4: =IF(D4="", "", LEN(D4)) | G4: =IF(F4="", "", LEN(F4)) | I4: =IF(H4="", "", LEN(H4)) | J4: Баранов Дмитро Геннадійович | K4: =IF(J4="", "", B4=J4) -> FALSE | M4: =IF(L4="", "", B4=L4) | N4: =IF(L4="", "", J4=L4) | O4: =DATEVALUE(C4) <> INT(LEFT(D4,5)) +1 -> #VALUE!
A5: 3 | B5: Артюх Марк Геннадійович | C5: 15.10.1995 | E5: =IF(D5="", "", LEN(D5)) | G5: =IF(F5="", "", LEN(F5)) | I5: =IF(H5="", "", LEN(H5)) | J5: Боровик Юрій Володимирович | K5: =IF(J5="", "", B5=J5) -> FALSE | M5: =IF(L5="", "", B5=L5) | N5: =IF(L5="", "", J5=L5) | O5: =DATEVALUE(C5) <> INT(LEFT(D5,5)) +1 -> #VALUE!
A6: 4 | B6: Архіпенко Станіслав Валерійович | C6: 19.08.1999 | E6: =IF(D6="", "", LEN(D6)) | G6: =IF(F6="", "", LEN(F6)) | I6: =IF(H6="", "", LEN(H6)) | J6: Горбатенко Олександр Олегович | K6: =IF(J6="", "", B6=J6) -> FALSE | M6: =IF(L6="", "", B6=L6) | N6: =IF(L6="", "", J6=L6)
A7: 5 | B7: Балагура Сергій Васильович | C7: 20.09.1984 | E7: =IF(D7="", "", LEN(D7)) | G7: =IF(F7="", "", LEN(F7)) | I7: =IF(H7="", "", LEN(H7)) | J7: Жестовський Сергій Сергійович | K7: =IF(J7="", "", B7=J7) -> FALSE | M7: =IF(L7="", "", B7=L7) | N7: =IF(L7="", "", J7=L7)
A8: 6 | B8: Бардичевський Микола Валентинович | C8: 14.02.1986 | E8: =IF(D8="", "", LEN(D8)) | G8: =IF(F8="", "", LEN(F8)) | I8: =IF(H8="", "", LEN(H8)) | J8: Ісаков Олександр Сергійович | K8: =IF(J8="", "", B8=J8) -> FALSE | M8: =IF(L8="", "", B8=L8) | N8: =IF(L8="", "", J8=L8)
A9: 7 | B9: Башкатов Євгеній Володимирович | C9: 15.07.1992 | E9: =IF(D9="", "", LEN(D9)) | G9: =IF(F9="", "", LEN(F9)) | I9: =IF(H9="", "", LEN(H9)) | J9: Клімчук Олександр Олександрович | K9: =IF(J9="", "", B9=J9) -> FALSE | M9: =IF(L9="", "", B9=L9) | N9: =IF(L9="", "", J9=L9)
A10: 8 | B10: Безценний Михайло Вітальйович | C10: 14.08.2000 | E10: =IF(D10="", "", LEN(D10)) | G10: =IF(F10="", "", LEN(F10)) | I10: =IF(H10="", "", LEN(H10)) | J10: Колесніков Сергій Сергійович | K10: =IF(J10="", "", B10=J10) -> FALSE | M10: =IF(L10="", "", B10=L10) | N10: =IF(L10="", "", J10=L10)
A11: 9 | B11: Береговий Максим Сергійович | C11: 11.05.1996 | E11: =IF(D11="", "", LEN(D11)) | G11: =IF(F11="", "", LEN(F11)) | I11: =IF(H11="", "", LEN(H11)) | J11: Опанасюк Ігор Петрович | K11: =IF(J11="", "", B11=J11) -> FALSE | M11: =IF(L11="", "", B11=L11) | N11: =IF(L11="", "", J11=L11)
A12: 10 | B12: Білецький Андрій Юрійович | C12: 19.09.1987 | E12: =IF(D12="", "", LEN(D12)) | G12: =IF(F12="", "", LEN(F12)) | I12: =IF(H12="", "", LEN(H12)) | J12: Ручин Дмитро Вікторович | K12: =IF(J12="", "", B12=J12) -> FALSE | M12: =IF(L12="", "", B12=L12) | N12: =IF(L12="", "", J12=L12)
A13: 11 | B13: Борбат Роман Ігорович | C13: 12.08.1999 | E13: =IF(D13="", "", LEN(D13)) | G13: =IF(F13="", "", LEN(F13)) | I13: =IF(H13="", "", LEN(H13)) | J13: Солоденко Анатолій Сергійович | K13: =IF(J13="", "", B13=J13) -> FALSE | M13: =IF(L13="", "", B13=L13) | N13: =IF(L13="", "", J13=L13)
A14: 12 | B14: Бохун Дмитро Миколайович | C14: 18.06.1987 | E14: =IF(D14="", "", LEN(D14)) | G14: =IF(F14="", "", LEN(F14)) | I14: =IF(H14="", "", LEN(H14)) | J14: Фістікан Василь Петрович | K14: =IF(J14="", "", B14=J14) -> FALSE | M14: =IF(L14="", "", B14=L14) | N14: =IF(L14="", "", J14=L14)
A15: 13 | B15: Бурдин Михайло Володимирович | C15: 21.10.1991 | E15: =IF(D15="", "", LEN(D15)) | G15: =IF(F15="", "", LEN(F15)) | I15: =IF(H15="", "", LEN(H15)) | J15: Чабан Михайло Григорович | K15: =IF(J15="", "", B15=J15) -> FALSE | M15: =IF(L15="", "", B15=L15) | N15: =IF(L15="", "", J15=L15)
A16: 14 | B16: Бурлака Сергій Анатолійович | C16: 23.02.1982 | E16: =IF(D16="", "", LEN(D16)) | G16: =IF(F16="", "", LEN(F16)) | I16: =IF(H16="", "", LEN(H16)) | K16: =IF(J16="", "", B16=J16) | M16: =IF(L16="", "", B16=L16) | N16: =IF(L16="", "", J16=L16)
A17: 15 | B17: Бурлака Сергій Ілліч | C17: 26.06.1983 | E17: =IF(D17="", "", LEN(D17)) | G17: =IF(F17="", "", LEN(F17)) | I17: =IF(H17="", "", LEN(H17)) | K17: =IF(J17="", "", B17=J17) | M17: =IF(L17="", "", B17=L17) | N17: =IF(L17="", "", J17=L17)
A18: 16 | B18: Бут Олег Васильович | C18: 27.12.1975 | E18: =IF(D18="", "", LEN(D18)) | G18: =IF(F18="", "", LEN(F18)) | I18: =IF(H18="", "", LEN(H18)) | K18: =IF(J18="", "", B18=J18) | M18: =IF(L18="", "", B18=L18) | N18: =IF(L18="", "", J18=L18)
A19: 17 | B19: Варус Сергій Васильович | C19: 10.05.1982 | E19: =IF(D19="", "", LEN(D19)) | G19: =IF(F19="", "", LEN(F19)) | I19: =IF(H19="", "", LEN(H19)) | K19: =IF(J19="", "", B19=J19) | M19: =IF(L19="", "", B19=L19) | N19: =IF(L19="", "", J19=L19)
A20: 18 | B20: Васілів Володимир Володимирович | C20: 24.01.1983 | E20: =IF(D20="", "", LEN(D20)) | G20: =IF(F20="", "", LEN(F20)) | I20: =IF(H20="", "", LEN(H20)) | K20: =IF(J20="", "", B20=J20) | M20: =IF(L20="", "", B20=L20) | N20: =IF(L20="", "", J20=L20)
A21: 19 | B21: Вербіцький Тарас Ігорович | C21: 16.09.1991 | E21: =IF(D21="", "", LEN(D21)) | G21: =IF(F21="", "", LEN(F21)) | I21: =IF(H21="", "", LEN(H21)) | K21: =IF(J21="", "", B21=J21) | M21: =IF(L21="", "", B21=L21) | N21: =IF(L21="", "", J21=L21)
A22: 20 | B22: Веретенніков Дмитро Леонідович | C22: 15.11.1981 | E22: =IF(D22="", "", LEN(D22)) | G22: =IF(F22="", "", LEN(F22)) | I22: =IF(H22="", "", LEN(H22)) | K22: =IF(J22="", "", B22=J22) | M22: =IF(L22="", "", B22=L22) | N22: =IF(L22="", "", J22=L22)
A23: 21 | B23: Винничук Василь Степанович | C23: 11.04.1985 | E23: =IF(D23="", "", LEN(D23)) | G23: =IF(F23="", "", LEN(F23)) | I23: =IF(H23="", "", LEN(H23)) | K23: =IF(J23="", "", B23=J23) | M23: =IF(L23="", "", B23=L23) | N23: =IF(L23="", "", J23=L23)
A24: 22 | B24: Вігріян Олег Вікторович | C24: 18.04.1980 | E24: =IF(D24="", "", LEN(D24)) | G24: =IF(F24="", "", LEN(F24)) | I24: =IF(H24="", "", LEN(H24)) | K24: =IF(J24="", "", B24=J24) | M24: =IF(L24="", "", B24=L24) | N24: =IF(L24="", "", J24=L24)
A25: 23 | B25: Вознюк Олексій Олександрович | C25: 28.11.1988 | E25: =IF(D25="", "", LEN(D25)) | G25: =IF(F25="", "", LEN(F25)) | I25: =IF(H25="", "", LEN(H25)) | K25: =IF(J25="", "", B25=J25) | M25: =IF(L25="", "", B25=L25) | N25: =IF(L25="", "", J25=L25)
A26: 24 | B26: Воїнов Максим Олегович | C26: 19.08.1994 | E26: =IF(D26="", "", LEN(D26)) | G26: =IF(F26="", "", LEN(F26)) | I26: =IF(H26="", "", LEN(H26)) | K26: =IF(J26="", "", B26=J26) | M26: =IF(L26="", "", B26=L26) | N26: =IF(L26="", "", J26=L26)
A27: 25 | B27: Волинець Сергій Григорович | C27: 21.02.1985 | E27: =IF(D27="", "", LEN(D27)) | G27: =IF(F27="", "", LEN(F27)) | I27: =IF(H27="", "", LEN(H27)) | K27: =IF(J27="", "", B27=J27) | M27: =IF(L27="", "", B27=L27) | N27: =IF(L27="", "", J27=L27)
... A163: 161 | B163: Дураненко Олександр Володимирович | C163: 18.08.1979 | E163: =IF(D163="", "", LEN(D163)) | G163: =IF(F163="", "", LEN(F163)) | I163: =IF(H163="", "", LEN(H163)) | K163: =IF(J163="", "", B163=J163) | M163: =IF(L163="", "", B163=L163) | N163: =IF(L163="", "", J163=L163)
A164: 0 | C164: 00.01.1900 | E164: =IF(D164="", "", LEN(D164)) | G164: =IF(F164="", "", LEN(F164)) | I164: =IF(H164="", "", LEN(H164)) | K164: =IF(J164="", "", B164=J164) | M164: =IF(L164="", "", B164=L164) | N164: =IF(L164="", "", J164=L164)
E165: =IF(D165="", "", LEN(D165)) | G165: =IF(F165="", "", LEN(F165)) | I165: =IF(H165="", "", LEN(H165)) | K165: =IF(J165="", "", B165=J165) | M165: =IF(L165="", "", B165=L165) | N165: =IF(L165="", "", J165=L165)
E166: =IF(D166="", "", LEN(D166)) | G166: =IF(F166="", "", LEN(F166)) | I166: =IF(H166="", "", LEN(H166)) | K166: =IF(J166="", "", B166=J166) | M166: =IF(L166="", "", B166=L166) | N166: =IF(L166="", "", J166=L166)
E167: =IF(D167="", "", LEN(D167)) | G167: =IF(F167="", "", LEN(F167)) | I167: =IF(H167="", "", LEN(H167)) | K167: =IF(J167="", "", B167=J167) | M167: =IF(L167="", "", B167=L167) | N167: =IF(L167="", "", J167=L167)
E168: =IF(D168="", "", LEN(D168)) | G168: =IF(F168="", "", LEN(F168)) | I168: =IF(H168="", "", LEN(H168)) | K168: =IF(J168="", "", B168=J168) | M168: =IF(L168="", "", B168=L168) | N168: =IF(L168="", "", J168=L168)
E169: =IF(D169="", "", LEN(D169)) | G169: =IF(F169="", "", LEN(F169)) | I169: =IF(H169="", "", LEN(H169)) | K169: =IF(J169="", "", B169=J169) | M169: =IF(L169="", "", B169=L169) | N169: =IF(L169="", "", J169=L169)
E170: =IF(D170="", "", LEN(D170)) | G170: =IF(F170="", "", LEN(F170)) | I170: =IF(H170="", "", LEN(H170)) | K170: =IF(J170="", "", B170=J170) | M170: =IF(L170="", "", B170=L170) | N170: =IF(L170="", "", J170=L170)
E171: =IF(D171="", "", LEN(D171)) | G171: =IF(F171="", "", LEN(F171)) | I171: =IF(H171="", "", LEN(H171)) | K171: =IF(J171="", "", B171=J171) | M171: =IF(L171="", "", B171=L171) | N171: =IF(L171="", "", J171=L171)
E172: =IF(D172="", "", LEN(D172)) | G172: =IF(F172="", "", LEN(F172)) | I172: =IF(H172="", "", LEN(H172)) | K172: =IF(J172="", "", B172=J172) | M172: =IF(L172="", "", B172=L172) | N172: =IF(L172="", "", J172=L172)
E173: =IF(D173="", "", LEN(D173)) | G173: =IF(F173="", "", LEN(F173)) | I173: =IF(H173="", "", LEN(H173)) | K173: =IF(J173="", "", B173=J173) | M173: =IF(L173="", "", B173=L173) | N173: =IF(L173="", "", J173=L173)
E174: =IF(D174="", "", LEN(D174)) | G174: =IF(F174="", "", LEN(F174)) | I174: =IF(H174="", "", LEN(H174)) | K174: =IF(J174="", "", B174=J174) | M174: =IF(L174="", "", B174=L174) | N174: =IF(L174="", "", J174=L174)
E175: =IF(D175="", "", LEN(D175)) | G175: =IF(F175="", "", LEN(F175)) | I175: =IF(H175="", "", LEN(H175)) | K175: =IF(J175="", "", B175=J175) | M175: =IF(L175="", "", B175=L175) | N175: =IF(L175="", "", J175=L175)
...

Sheet Аркуш1
C2: `=MOD(MOD(-MID(D2;1;1) + MID(D2;2;1)*5 + MID(D2;3;1)*7 + MID(D2;4;1)*9 + MID(D2;5;1)*4 + MID(D2;6;1)*6 + MID(D2;7;1)*10 + MID(D2;8;1)*5 + MID(D2;9;1)*7; 11);10) <> VALUE( MID(D2;10;1))
C6: `=DATEVALUE( C2) <> INT(LEFT(D2;5)) +1

Sheet Алфавітки
A1: № з/п | B1: В/звання | D1: Місце народження | E1: адреса (фактична) | F1: Освіта | G1: склад сім’ї | H1: № телефону
A2: 1 | B2: солдат | C2: Антоненко Руслан Олександрович | D2: Миколаївська обл. Миколаївський р-н, с. Весняне | E2: м. Миколаїв вул. Айвазовського буд. 6 кв. 809-809 | F2: середня-спеціальна, ПТУ №1 м. Миколаїв 2005 судобудівельник, зварювальник (права категорії Б, ФОП Парус, будівельник 18р.) | G2: Розлучений Мати: Калага Лідія Миронівна, м. Миколаїв вул. Айвазовського буд. 6 кв. 809-809, 0663420925 | H2: 660263238
A3: 8 | B3: солдат | C3: Баранов Дмитро Генащдійович | D3: с. Кірове Базарський р-н Херсонської обл. | E3: Херсонської обл. Базарський р-н, с. Олександрівка вул. Мельнична 5 | F3: середньо-спеціальна Судобудівельний ліцей 2018р. Зварювальник Содозбірник (Категорія прав Б, С1, С, СЕ, далекобійник 4р.) | G3: неодружений Батько: Баранов Генадій Анатолійович Херсонської обл. Базарський р-н, с. Олександрівка вул. Мельнична 5, тел. 0668290286 | H3: 505059149
A4: 12 | B4: солдат | C4: Боровик Юрій Володимирович | D4: м. Миколаїв | E4: м. Миколаїв вул. Восьма Лінія буд. 68 | F4: середньо-спеціальна Теплодарський професійний ліцей 2011р. Кухар (категорія прав Б, автоелектрик 1р) | G4: цивільний шлюб Цивільна дружина: Голубченко Юлія Вадимівна, м. Миколаїв вул. Восьма Лінія буд. 68, тел. 0950975840 | H4: 993803701
A5: 7 | B5: солдат | C5: Горбатенко Олександр Олегович | D5: м. Миколаїв | E5: м. Миколаїв вул. Архітектора Староба 3 кв.1 | F5: повна середня ЗОШ № 64 2009р.(кухар 7р) | G5: неодружений Бабуся: Горбатенко Людмила Іванівна м. Миколаїв вул. Архітектора Староба 6б кв. 24, тел. 0966366295 | H5: 677153559
A6: 4 | B6: солдат | C6: Жестовський Сергій Сергійович | D6: Миколаївська обл. Первомайський р-н, с. Новопавлівка | E6: Миколаївська обл. Первомайський р-н, с. Новопавлівка вул. Роднікова 18 | F6: середньо-спеціальна Одеський професійний ліцей морського транспорту 2008р. електрозварювальник (категорія прав Б, Будівельник 2р.) | G6: Одружений Дружина: Жестовська Ірина Анатоліївна Миколаївська обл. Первомайський р-н, с. Новопавлівка вул. Роднікова 18, 0974890880 | H6: 683977036
A7: 6 | B7: солдат | C7: Ісаков Олександ Сергійович | D7: Кропивницька обл. Новоархангельський р-н с. Скалівські Хутори | E7: Миколаївська обл. Баштанський р-н с. Поляне, вул. Садова, буд. 22 | F7: середньо-спеціальна ЧПБЛ №4 2013р. Маляр-штукатур (Фермерське господарство немировський) | G7: Одружений Дружина: Ісакова Оксана Миколаївна, Миколаївська обл. Баштанський р-н с. Поляне, вул. Садова, буд. 22, тел. 0988180989 | H7: 682269805
A8: 13 | B8: солдат | C8: Клімчкук Олександ Олександрович | D8: Вінницька обл. Хмільницький р-н, смт Бродецьке | E8: Вінницька обл. Хмільницький р-н, смт Бродецьке вул. Першотравнева 72 | F8: повна середня ЗОШ смт. Бродецьке 2007р. (Мясний мультикомплекс транспортувальник 1р.) | G8: одружений Дружина: Клімчук Алла Вадимівна, Вінницька обл. Хмільницький р-н, смт Бродецьке вул. Першотравнева 72, тел. 0631960845 | H8: 990631915
A9: 9 | B9: солдат | C9: Колесніков Сергій Сергійович | D9: с. Балтазарівка Чуплинський р-н, Херсонської обл. | E9: Микорлаївська обл. м. Первомайськ вул. Марія Демченка 33 | F9: середньо-спеціальна Електротехнічний ліцей №7 2013р.електрогазозварювальник (пожежний рятувальник 3р.) | G9: одружений Дружина: Колеснікова Ганна Миколаївна, Микорлаївська обл. м. Первомайськ вул. Марія Демченка 33, тел. 0683767312 | H9: 956741071
A10: 3 | B10: солдат | C10: Опанасюк Ігор Перрович | D10: Миколаївська обл. м. Новий Буг | E10: Миколаївська обл. Новобузький р-н с. Нова Хрестофорівка буд. 65 | F10: середньо-спеціальна Новобузький аграрний професійний ліцей 2013р. (права категорії Б, С, СЕ, Фермерське господарство Орбіта Водій) | G10: Розлучений Мати: Опанасюк Валентина Ігорівна, Миколаївська обл. Новобузький р-н с. Нова Хрестофорівка буд. 65, тел. 0508511843 | H10: 934248356
A11: 11 | B11: солдат | C11: Ручин Дмитро Вікторович | D11: Миколаївська обл. м. Баштанка | E11: Миколаївська обл. м. Баштанка вул. Грушевського 46 | F11: середньо-спеціальна ПТУ №9 м. Баштанка 2015р. Кухар (пекарня 1р) | G11: неодружений Мати: Дмитренко Алла Петрівна, Миколаївська обл. м. Баштанка вул. Грушевського 46, тел, 0636322801 | H11: 983438936
A12: 5 | B12: солдат | C12: Солоденко Анатолій Сергійович | D12: Миколаївська обл. Вознесенський р-н, с. Яструбинове | E12: Миколаївська обл. Вознесенський р-н, с. Яструбинове вул. Першотравнева 20 | F12: середньо-спеціальна ПТУ №18 2016р. будівельник (Гружчик 1р.) | G12: неодружений Сестрат: Черемуха Анастасія Сергіївна, тел. 0985362292 | H12: 938839470
A13: 2 | B13: солдат | C13: Фістікан Василь Петрович | D13: Миколаївська обл. Первомайський р-н, с. Софіївка | E13: Миколаївська обл. Первомайський р-н, с. Синюшин Брід, вул. Перемоги 38 | F13: середньо-спеціальна ПТУ №22 м. Первомайськ 2018р. Маляр-Штукатур (Сканувальник на новій пошті) | G13: Неодружений Мати: Фістікан Марія Вікторівна, Миколаївська обл. Первомайський р-н, с. Синюшин Брід, вул. Молодіжна 8, тел. 0967926486 | H13: 967927329
A14: 10 | B14: солдат | C14: Чабан Михайло Григорович | D14: Миколаївська обл. Березанського р-н, с. Новоподілля | E14: м. Миколаїв, 12 Повздовжня 47а, кв. 59 | F14: середньо-спеціальна ліцей №13 2012р. Автослюсар (СТО 9р) | G14: одружений Дружина: Чабан Влада Владиславівна, м. Миколаїв, 12 Повздовжня 47а, кв. 59, тел. 0971910656 | H14: 967953093
A15: 14 | B15: солдат
A16: 15 | B16: солдат
A17: 16 | B17: солдат
A18: 17 | B18: солдат
A19: 18 | B19: солдат
A20: 19 | B20: солдат
A21: 20 | B21: солдат
A22: 21 | B22: солдат
A23: 22 | B23: солдат
A24: 23 | B24: солдат
A25: 24 | B25: солдат
A26: 25 | B26: солдат
... A101: 100 | B101: солдат
