Workbook

Sheet Основний
A4: ДОНЕСЕННЯ
A5: про зарахування військовослужбовців військової служби за контрактом на навчання до навчального центру (ВВНЗ, ВНП ЗВО)
A6: військова частина А2900
A7: найменування навчального центру (ВВНЗ, ВНЗ ЗВО)
A9: 1. Список військовослужбовців військової служби за контрактом, які зараховані на навчання
A10: № з/п | B10: Військове звання | C10: Прізвище ім'я та по батькові | D10: Військова частина, ТЦК та СП | E10: Область | F10: Дата народження | G10: Освіта | H10: ідентифікаційний код | I10: військовий квиток | J10: Дата та № наказу про зарахування | K10: № телефону | L10: Підрозділ | M10: Куди та коли вибув | N10: З якої частини прибув (для курсантів з бригад) | O10: Примітка | P10: Де знаходиться
A12: 1 | B12: солдат | C12: Алєксєєв Максим Олексійович | D12: Чернівецьким РТЦК та СП в Чернівецькій області | E12: Чернівецька | F12: 36261 | G12: середня | H12: 3626006638 | I12: АГ 469079 | K12: - | L12: 1НР 1НБ | N12: А2582
A13: 2 | B13: солдат | C13: Андруневчин Михайло Олексійович | D13: Вишгородським РТЦК та СП в Київськії області | E13: Київська | F13: 33041 | G13: середня-спеціальна ПТУ №15 м. Дрогобич 2008 | H13: 3304004170 | I13: АГ 162363 | K13: 0972727300 | L13: 1НР 1НБ | N13: А4350
A14: 3 | B14: солдат | C14: Артюх Марк Геннадійович | D14: Верховинським РТЦК та СП в Івано-Франківській області | E14: Івано-Франковьска | F14: 34987 | G14: середня-спеціальна Ліцей №35 м. Красний Луч 2014 | H14: 3498610632 | I14: АГ 126561 | K14: 0663921762 | L14: 1НР 1НБ | N14: А2582 | P14: СЗЧ
A15: 4 | B15: солдат | C15: Архіпенко Станіслав Валерійович | D15: Чернівецьким РТЦК та СП в Чернівецькій області | E15: Чернівецька | F15: 36391 | G15: вища МАУ м. Мелітопіль 2024 | H15: 3639004256 | I15: АГ 469087 | K15: 0664322572 | L15: 1НР 1НБ | N15: А2582
A16: 5 | B16: солдат | C16: Балагура Сергій Васильович | D16: 1-й відділ Бучанського РТЦК та СП в Київськії області | E16: Київська | F16: 30945 | G16: середня-спеціальна ПТУ №58 | H16: 3094402192 | I16: АВ 975416 | K16: 0689247905 | L16: 1НР 1НБ | N16: А4350
A17: 6 | B17: солдат | C17: Бардичевський Микола Валентинович | D17: Фастівським РТЦК та СП в Київськії області | E17: Київська | F17: 31457 | G17: середня | H17: 3145608711 | I17: АВ 978646 | K17: 0683142922 | L17: 1НР 1НБ | N17: А4350
A18: 7 | B18: солдат | C18: Башкатов Євгеній Володимирович | D18: Чугуївським РТЦК та СП в Харківський області | E18: Харківська | F18: 33800 | G18: середня-спеціальна ЧПАЛ №53 м. Чугуїв 2010 | H18: 3379903812 | I18: АВ 149880 | K18: 0664929586 | L18: 1НР 1НБ | N18: А0641 | P18: Шпиталь
A19: 8 | B19: солдат | C19: Безценний Михайло Вітальйович | D19: Новобаварський РТЦК | E19: Харківська | F19: 36752 | G19: середня ЧАЛ 2017 | H19: 3615106494 | I19: АГ560507 | K19: 0664228387 | L19: 1НР 1НБ | N19: А2120
A20: 9 | B20: солдат | C20: Береговий Максим Сергійович | D20: Фастівським РТЦК та СП в Київськії області | E20: Київська | F20: 35196 | G20: середня-спеціальна ПТУ 2014 | H20: 3519504139 | I20: АВ 978572 | K20: 0985651586 | L20: 1НР 1НБ | N20: А4350 | P20: СЗЧ
A21: 10 | B21: солдат | C21: Білецький Андрій Юрійович | D21: Фастівським РТЦК та СП в Київськії області | E21: Київська | F21: 32039 | G21: середня | H21: 3203812324 | I21: АВ 978636 | K21: 0731031358 | L21: 1НР 1НБ | N21: А4350
A22: 11 | B22: солдат | C22: Борбат Роман Ігорович | D22: Верховинським РТЦК та СП в Івано-Франківській області | E22: Івано-Франковьска | F22: 36384 | G22: середня-спеціальна КЄЛ м. Київ 2017 | H22: 3638311398 | I22: АГ 126563 | K22: 0660182242 | L22: 1НР 1НБ | N22: А2582
A23: 12 | B23: солдат | C23: Бохун Дмитро Миколайович | D23: Івано-Франківським РТЦК та СП в Івано-Франківській області | E23: Івано-Франковьска | F23: 31946 | G23: вища ВПУСОТ м. Івано-Франківськ 2006 | H23: 3194516871 | I23: АГ 450607 | K23: 0966368196 | L23: 1НР 1НБ | N23: А2582
A24: 13 | B24: солдат | C24: Бурдин Михайло Володимирович | D24: Івано-Франківським РТЦК та СП в Івано-Франківській області | E24: Івано-Франковьска | F24: 33532 | G24: середня | H24: 3353102414 | I24: АГ 452014 | K24: 0972777305 | L24: 1НР 1НБ | N24: А2582
A25: 14 | B25: солдат | C25: Бурлака Сергій Анатолійович | D25: Новобаварським РТЦК та СП в м. Харків | E25: Харківська | F25: 30005 | G25: середня | H25: 3000420394 | I25: АГ 560539 | K25: 0964995263 | L25: 1НР 1НБ | N25: А0641
A26: 15 | B26: молодший сержант | C26: Бурлака Сергій Ілліч | D26: Чернівецьким РТЦК та СП в Чернівецькій області | E26: Чернівецька | F26: 30493 | G26: середня | H26: 3049228271 | I26: АГ 279314 | K26: - | L26: 1НР 1НБ | N26: А2582
A27: 16 | B27: солдат | C27: Бут Олег Васильович | D27: Вишгородським РТЦК та СП в Київськії області | E27: Київська | F27: 27755 | G27: вища НМАУ ім. Чайковського м. Київ 2001 | H27: 2775409534 | I27: АГ 162385 | K27: 0976083891 | L27: 1НР 1НБ | N27: А4350
A28: 17 | B28: солдат | C28: Варус Сергій Васильович | D28: Чернівецьким РТЦК та СП в Чернівецькій області | E28: Чернівецька | F28: 30081 | G28: вища НАУ м. Київ 2007 | H28: 3009021558 | I28: СО 320367 | K28: 0957248986 | L28: 1НР 1НБ | N28: А2582 | P28: вибув
A29: 18 | B29: солдат | C29: Васілів Володимир Володимирович | D29: Берестинським РТЦК та СП в Харківський області | E29: Харківська | F29: 30340 | G29: середня ПТУ №47 м. Харків 2000 | H29: 3033911073 | I29: АГ 562844 | K29: 0969884015 | L29: 1НР 1НБ | N29: А2120
A30: 19 | B30: солдат | C30: Вербіцький Тарас Ігорович | D30: Івано-Франківським РТЦК та СП в Івано-Франківській області | E30: Івано-Франковьска | F30: 33497 | G30: середня | H30: 3349611691 | I30: СО 217779 | K30: 0955832732 | L30: 1НР 1НБ | N30: А2582
A31: 20 | B31: солдат | C31: Веретенніков Дмитро Леонідович | D31: Новобаварський РТЦК | E31: Луганська | F31: 29905 | G31: середня | H31: 2990408712 | I31: АГ560526 | K31: 0683867988 | L31: 1НР 1НБ | N31: А2120
A32: 21 | B32: солдат | C32: Винничук Василь Степанович | D32: Івано-Франківським РТЦК та СП в Івано-Франківській області | E32: Івано-Франковьска | F32: 31148 | G32: середня | H32: 3114711193 | I32: АГ 450627 | K32: 0687354094 | L32: 1НР 1НБ | N32: А2582 | P32: СЗЧ
A33: 22 | B33: солдат | C33: Вігріян Олег Вікторович | D33: 1-й відділ Бучанського РТЦК та СП в Київськії області | E33: Київська | F33: 29329 | G33: середня-спеціальна СПТУ №122 м. Марків 1998 | H33: 2932801195 | I33: АГ 163193 | K33: 0933938187 | L33: 1НР 1НБ | N33: А4350
A34: 23 | B34: солдат | C34: Вознюк Олексій Олександрович | D34: Фастівським РТЦК та СП в Київськії області | E34: Київська | F34: 32475 | G34: середня-спеціальна ДПТНЗ м. Бориспіль 2017 | H34: 3247413235 | I34: АВ 978645 | K34: 0979812301 | L34: 1НР 1НБ | N34: А4350 | P34: Шпиталь з 22.10
A35: 24 | B35: солдат | C35: Воїнов Максим Олегович | D35: Індустріальний РТЦК | E35: Харківська | F35: 34565 | G35: вища ХТЄІКТЄІ 2021 | H35: 3456401918 | I35: АГ430257 | K35: 0664443373 | L35: 1НР 1НБ | N35: А2120 | P35: Шпиталь
A36: 25 | B36: солдат | C36: Волинець Сергій Григорович | D36: Фастівським РТЦК та СП в Київськії області | E36: Київська | F36: 31099 | G36: середня | H36: 3109821677 | I36: СО 754647 | K36: 0678710106 | L36: 1НР 1НБ | N36: А4350
A37: 26 | B37: солдат | C37: Володін Денис Валентинович | D37: Білоцерківським РТЦК та СП в Київськії області | E37: Київська | F37: 32944 | G37: середня | H37: 3294302479 | I37: АГ 163922 | K37: 0989558750 | L37: 1НР 1НБ | N37: А4350
A38: 27 | B38: солдат | C38: Вороненко Олександр Валерійович | D38: Вишгородським РТЦК та СП в Київськії області | E38: Київська | F38: 36155 | G38: середня | H38: 3615406778 | I38: АГ 162364 | K38: - | L38: 1НР 1НБ | N38: А4350
A39: 28 | B39: солдат | C39: Гаврилюк Роман Миколайович | D39: Чернівецьким РТЦК та СП в Чернівецькій області | E39: Чернівецька | F39: 29836 | G39: середня | H39: 2980424276 | I39: АВ 279493 | K39: - | L39: 1НР 1НБ | N39: А2582
A40: 29 | B40: солдат | C40: Гарап'як Олександр Дмитрович | D40: Коломийським РТЦК та СП в Івано-Франківській області | E40: Івано-Франковьска | F40: 36809 | G40: середня | H40: 3680804158 | I40: АГ 456625 | K40: 0680997500 | L40: 1НР 1НБ | N40: А2582
A41: 30 | B41: солдат | C41: Герман Микола Анатолійович | D41: Вижницьким РТЦК та СП в Чернівецькій області | E41: Чернівецька | F41: 36417 | G41: середня | H41: 3641609090 | I41: АГ 281370 | K41: - | L41: 1НР 1НБ | N41: А2582
A42: 31 | B42: солдат | C42: Гімчинський Анатолій Олександрович | D42: Коломийським РТЦК та СП в Івано-Франківській області | E42: Івано-Франковьска | F42: 36705 | G42: середня-спеціальна ЧПЛЗТ м. Чернівці 2018 | H42: 3670408036 | I42: АГ 456627 | K42: 0666286329 | L42: 1НР 1НБ | N42: А2582
A43: 32 | B43: солдат | C43: Голінчук Віталій Євгенович | D43: Чернівецьким РТЦК та СП в Чернівецькій області | E43: Чернівецька | F43: 31479 | G43: середня | H43: 3147811015 | I43: АГ 469067 | K43: - | L43: 1НР 1НБ | N43: А2582
A44: 33 | B44: солдат | C44: Гончарук Віталій Сергійович | D44: Уманським РТЦК та СП в Черкаській області | E44: Черкаська | F44: 34145 | G44: середня | H44: 3414416590 | I44: АГ 611206 | K44: 0966337483 | L44: 1НР 1НБ | N44: А4350 | P44: СЗЧ
A45: 34 | B45: солдат | C45: Горійчук Роман Миколайович | D45: Чернівецьким РТЦК та СП в Чернівецькій області | E45: Чернівецька | F45: 29874 | G45: середня-спеціальна ПТУ №6 | H45: 2987308977 | I45: АГ 469075 | K45: 0953063456 | L45: 1НР 1НБ | N45: А2582
A46: 35 | B46: солдат | C46: Горобієвській Юрій Віталійович | D46: Чернівецьким РТЦК та СП в Чернівецькій області | E46: Чернівецька | F46: 36803 | G46: середня-спеціальна КПЛ смт. Кельмиці 2017 | H46: 3680207878 | I46: АГ 127396 | K46: 0984169734 | L46: 1НР 1НБ | N46: А2582 | P46: СЗЧ
A47: 36 | B47: солдат | C47: Горобцов Назар Сергійович | D47: Верховинським РТЦК та СП в Івано-Франківській області | E47: Івано-Франковьска | F47: 34757 | G47: вища ВНЗУ м. Полтава 2016 | H47: 3475602919 | I47: АГ 126551 | K47: 0500139239 | L47: 1НР 1НБ | N47: А2582 | P47: СЗЧ
A48: 37 | B48: солдат | C48: Грищенко В'ячеслав Анатолійович | D48: Сумським МТЦК та СП в Сумській області | E48: Сумська | F48: 18.101986 | G48: середня | H48: 3170217134 | I48: АВ 427756 | K48: 0683796504 | L48: 1НР 1НБ | N48: А0641
A49: 38 | B49: солдат | C49: Грищенко Олександр Олексійович | D49: Чернівецьким РТЦК та СП в Чернівецькій області | E49: Чернівецька | F49: 35148 | G49: вища НМЕДАУ м. Дніпро 2019 | H49: 3514705894 | I49: АГ 279449 | K49: 954011715 | L49: 1НР 1НБ | N49: А2582
A50: 39 | B50: солдат | C50: Гріус Євгеній Русланович | D50: Берестинським РТЦК та СП в Харківський області | E50: Харківська | F50: 36795 | G50: середня-спеціальна ПТУ №54 смт. Котильва 2019 | H50: 3679404594 | I50: АГ 562845 | K50: 0664707699 | L50: 1НР 1НБ | N50: А2120
A51: 40 | B51: солдат | C51: Гулега Валентин Володимирович | D51: Індустріальний РТЦК | E51: Харківська | F51: 31863 | G51: вища ХНАМГ 2012 | H51: 3186220836 | I51: АГ430110 | K51: 0976158180 | L51: 1НР 1НБ | N51: А2120
A52: 41 | B52: солдат | C52: Гунчак Микола Васильович | D52: Чернівецьким РТЦК та СП в Чернівецькій області | E52: Чернівецька | F52: 29939 | G52: середня-технічна ЧПТ м. Чернівці | H52: 2993808195 | I52: АГ 127392 | K52: 0950941425 | L52: 1НР 1НБ | N52: А2582
A53: 42 | B53: солдат | C53: Гуцман Іван Володимирович | D53: Івано-Франківським РТЦК та СП в Івано-Франківській області | E53: Івано-Франковьска | F53: 33857 | G53: середня | H53: 3385602290 | I53: АГ 452068 | K53: 0981738264 | L53: 1НР 1НБ | N53: А2582
A54: 43 | B54: солдат | C54: Данилюк Олег Вікторович | D54: Івано-Франківським РТЦК та СП в Івано-Франківській області | E54: Івано-Франковьска | F54: 32086 | G54: середня | H54: 3208505130 | I54: АГ 452044 | K54: 0678190259 | L54: 1НР 1НБ | N54: А2582 | P54: СЗЧ
A55: 44 | B55: солдат | C55: Данилюк Роман Ігорович | D55: Івано-Франківським РТЦК та СП в Івано-Франківській області | E55: Івано-Франковьска | F55: 35634 | G55: середня-спеціальна КЄП м. Івано-Франківськ 2017 | H55: 3563302090 | I55: АГ 122573 | K55: 0674260620 | L55: 1НР 1НБ | N55: А2582
A56: 45 | B56: солдат | C56: Данко Олександр Володимирович | D56: Бориспільським РТЦК та СП в Київськії області | E56: Київська | F56: 31137 | G56: середня | H56: 3113621174 | I56: СО 937986 | K56: 0687222783 | L56: 1НР 1НБ | N56: А4350
A57: 46 | B57: солдат | C57: Джежела Сергій Васильович | D57: Кам'янець-Подільським РТЦК та СП в Хмельницькій області | E57: Хмельницька | F57: 33007 | G57: середня-спеціальна | H57: 3300619871 | I57: АВ 629976 | K57: 0971269145 | L57: 1НР 1НБ | N57: А2582
A58: 47 | B58: солдат | C58: Довжинський Назарій Михайлович | D58: Івано-Франківським РТЦК та СП в Івано-Франківській області | E58: Івано-Франковьска | F58: 32176 | G58: середня-спеціальна ВПУ №21 м. Івано-Франківськ 2007 | H58: 3217503795 | I58: АГ 122597 | K58: 0993699811 | L58: 1НР 1НБ | N58: А2582
A59: 48 | B59: солдат | C59: Єрмоленко Олександр Вячеславович | D59: Краматорським РТЦК | E59: Донецької | F59: 38718 | G59: середня | H59: 3874801975 | I59: АВ996172 | K59: 0951511674 | L59: 1НР 1НБ | N59: А2120 | P59: Шпиталь
A60: 49 | B60: солдат | C60: Жеграй Андрій Андрійович | D60: Чернівецьким РТЦК та СП в Чернівецькій області | E60: Чернівецька | F60: 34711 | G60: вища ЧНУ м. Чернівці 2017 | H60: 3471010559 | I60: АГ 469090 | K60: 0989897096 | L60: 1НР 1НБ | N60: А2582
A61: 50 | B61: солдат | C61: Заведенко Андрій Іванович | D61: Сумським МТЦК та СП в Сумській області | E61: Сумська | F61: 29712 | G61: вища СНАУ м. Суми 2003 | H61: 2971111871 | I61: АВ 218103 | K61: 0955075468 | L61: 1НР 1НБ | N61: А2120
A62: 51 | B62: солдат | C62: Зав'ялець Олег Вячеславович | D62: Чернівецьким РТЦК та СП в Чернівецькій області | E62: Чернівецька | F62: 31911 | G62: середня-спеціальна ПТУ №4 м. Чернівці 2006 | H62: 3191015951 | I62: АГ 469078 | K62: 974922313 | L62: 1НР 1НБ | N62: А2582 | P62: СЗЧ
A63: 52 | B63: солдат | C63: Зеленюк Андрій Юрійович | D63: Чернівецьким РТЦК та СП в Чернівецькій області | E63: Чернівецька | F63: 31182 | G63: середня | H63: 3119117514 | I63: АВ 665044 | K63: 0506642822 | L63: 1НР 1НБ | N63: А2582
A64: 53 | B64: солдат | C64: Землянський Андрій Сергійович | D64: Київський РТЦК та СП в м. Харків | E64: Харківська | F64: 36590 | G64: середня ПТУ №46 м. Харків 2021 | H64: 3658908458 | I64: АВ 906094 | K64: 0954850027 | L64: 1НР 1НБ | N64: А0641
A65: 54 | B65: солдат | C65: Зінчук Вадим Вікторович | D65: Фастівським РТЦК та СП в Київськії області | E65: Київська | F65: 33791 | G65: середня | H65: 3379001073 | I65: АВ 978573 | K65: 0962372304 | L65: 1НР 1НБ | N65: А4350
A66: 55 | B66: солдат | C66: Зубов Денис Олександрович | D66: Косівським РТЦК та СП в Івано-Франківській області | E66: Івано-Франковьска | F66: 35386 | G66: вища ОНПУ м. Одеса 2018 | H66: 3538507878 | I66: АГ 298698 | K66: 0994835953 | L66: 1НР 1НБ | N66: А2582 | P66: СЗЧ
A67: 56 | B67: солдат | C67: Іванов Руслан Андрійович | D67: Броварським РТЦК та СП в Київськії області | E67: Київська | F67: 36535 | G67: середня-спеціальна ЦПД м. Київ 2018 | H67: 3653401818 | I67: АВ 975548 | K67: 0980346832 | L67: 1НР 1НБ | N67: А4350
A68: 57 | B68: солдат | C68: Іванчак Богдан Михайлович | D68: Чернівецьким РТЦК та СП в Чернівецькій області | E68: Чернівецька | F68: 36022 | G68: середня-спеціальна | H68: 3602104230 | I68: АГ 469023 | K68: 0506046584 | L68: 1НР 1НБ | N68: А2582
A69: 58 | B69: солдат | C69: Ігумнов Антон Юрійович | D69: Слобідськимм ОРД | E69: Харківська | F69: 31290 | G69: вища ХІСІ 2008 | H69: 3128919134 | I69: АВ906245 | K69: 0933809995 | L69: 1НР 1НБ | N69: А2120
A70: 59 | B70: солдат | C70: Іліка Сергій Мірчевич | D70: Чернівецьким РТЦК та СП в Чернівецькій області | E70: Чернівецька | F70: 28659 | G70: середня-спеціальна БЛТ м. Чернівці 2008 | H70: 2865823474 | I70: АГ 279494 | K70: 0996862027 | L70: 1НР 1НБ | N70: А2582
A71: 60 | B71: солдат | C71: Караченцев Віталій Станіславович | D71: Новобаварським РТЦК та СП в м. Харків | E71: Харківська | F71: 31400 | G71: середня | H71: 3139909156 | I71: АГ 560503 | K71: 0680966763 | L71: 1НР 1НБ | N71: А2120
A72: 61 | B72: солдат | C72: Каськов Юрій Олександрович | D72: Верховинським РТЦК та СП в Івано-Франківській області | E72: Івано-Франковьска | F72: 30450 | G72: вища ХПІ м. Харків 2007 | H72: 3041923392 | I72: АГ 126560 | K72: - | L72: 1НР 1НБ | N72: А2582 | P72: СЗЧ
A73: 62 | B73: солдат | C73: Кашенко Евгеній Олександрович | D73: Купільн.ШевченковськийсДвор | E73: Харківська | F73: 33775 | G73: ссередня | H73: 3377405219 | I73: СО108110 | K73: - | L73: 1НР 1НБ | N73: А2120
A74: 63 | B74: солдат | C74: Кириленко Микола Васильович | D74: Обухівським РТЦК та СП в Київський області | E74: Київська | F74: 31687 | G74: середня | H74: 3168607755 | I74: АГ 162886 | K74: 0999005425 | L74: 1НР 1НБ | N74: А4350
A75: 64 | B75: молодший сержант | C75: Климчук Роман Михайлович | D75: Івано-Франківським РТЦК та СП в Івано-Франківській області | E75: Івано-Франковьска | F75: 34583 | G75: середня | H75: 3458208979 | I75: АГ 452111 | K75: - | L75: 1НР 1НБ | N75: А2582 | P75: СЗЧ
A76: 65 | B76: солдат | C76: Кобевко Василь Іванович | D76: Коломийським РТЦК та СП в Івано-Франківській області | E76: Івано-Франковьска | F76: 34169 | G76: середня | H76: 3416815755 | I76: АГ 456567 | K76: 0637776668 | L76: 1НР 1НБ | N76: А2582
A77: 66 | B77: солдат | C77: Ковпаша Руслан Юрійович | D77: Шевченченківським РТЦК та СП в м. Харків | E77: Харківська | F77: 36229 | G77: середня-спеціальна ХНАК м. Харків 2018 | H77: 3622803415 | I77: АВ 906529 | K77: 0683148769 | L77: 1НР 1НБ | N77: А2120
A78: 67 | B78: солдат | C78: Козак Микола Валерійович | D78: Чернівецьким РТЦК та СП в Чернівецькій області | E78: Чернівецька | F78: 31648 | G78: вища ЧНУ м. Чернівці 2010 | H78: 3164709216 | I78: АГ 279475 | K78: 0954194877 | L78: 1НР 1НБ | N78: А2582 | P78: вибув
A79: 68 | B79: старший солдат | C79: Козацький Ярослав Анатолійович | D79: Верховинським РТЦК та СП в Івано-Франківській області | E79: Івано-Франковьска | F79: 32960 | G79: середня-спеціальна ПТУ м. Щорса | H79: 3295914450 | I79: АГ 126559 | K79: 0939387810 | L79: 1НР 1НБ | N79: А2582
A80: 69 | B80: солдат | C80: Козлов Олександр Павлович | D80: Куп'янським РТЦК та СП в Харківській області | E80: Харківська | F80: 31229 | G80: середня | H80: 3086310911 | I80: АГ 561634 | K80: 0667082900 | L80: 1НР 1НБ | N80: А2120 | P80: СЗЧ
A81: 70 | B81: солдат | C81: Колбянов Ігор Павлович | D81: Чернівецьким РТЦК та СП в Чернівецькій області | E81: Чернівецька | F81: 35579 | G81: середня | H81: 3557813275 | I81: АГ 469100 | K81: 0674989261 | L81: 1НР 1НБ | N81: А2582
A82: 71 | B82: старший солдат | C82: Колєсніков Вадим Анатолійович | D82: Верховинським РТЦК та СП в Івано-Франківській області | E82: Івано-Франковьска | F82: 30711 | G82: серденя-спеціальна ВПУ №30 м. Пологи 2002 | H82: 3071021813 | I82: АГ 126537 | K82: 0668726778 | L82: 1НР 1НБ | N82: А2582
A83: 72 | B83: солдат | C83: Коляда Олег Матвійович | D83: Вишгородським РТЦК та СП в Київськії області | E83: Київська | F83: 28529 | G83: середня-спеціальна СПТУ №42 м. Погрибище 1996 | H83: 2852808993 | I83: АГ 162362 | K83: 0632005156 | L83: 1НР 1НБ | N83: А4350
A84: 73 | B84: солдат | C84: Корнієнко Андрій Михайлович | D84: 2-м відділом Броварського РТЦК та СП Київської області | E84: Київська | F84: 35028 | G84: неповна середня | H84: 3502707854 | I84: АВ 975551 | K84: - | L84: 1НР 1НБ | N84: А4350
A85: 74 | B85: солдат | C85: Коротошин Іван Миколайович | D85: Івано-Франківським РТЦК та СП в Івано-Франківській області | E85: Івано-Франковьска | F85: 35908 | G85: середня | H85: 3590710798 | I85: АГ 123490 | K85: 0983498036 | L85: 1НР 1НБ | N85: А2582
A86: 75 | B86: солдат | C86: Косарчук Віталій Юрійович | D86: Уманським РТЦК та СП в Черкаській області | E86: Черкаська | F86: 33739 | G86: середня | H86: 3373818190 | I86: АГ 611209 | K86: 0635692899 | L86: 1НР 1НБ | N86: А4350 | P86: СЗЧ
A87: 76 | B87: солдат | C87: Кравченко Антон Олександрович | D87: Київський РТЦК та СП в м. Харків | E87: Харківська | F87: 33304 | G87: середня-спеціальна ПТУ №31 м. Запоріжжя 2009 | H87: 3330313758 | I87: АВ 905813 | K87: 0994410650 | L87: 1НР 1НБ | N87: А0641
A88: 77 | B88: солдат | C88: Кривець Олександр Вікторович | D88: Сумським МТЦК та СП в Сумській області | E88: Сумська | F88: 30999 | G88: середня-спеціальна ПТУ №43 м. Авдіївка 2003 | H88: 3099802491 | I88: МО 602308 | K88: 0955540828 | L88: 1НР 1НБ | N88: А0641
A89: 78 | B89: солдат | C89: Кролевець Костянтин Сергійович | D89: Чернівецьким РТЦК та СП в Чернівецькій області | E89: Чернівецька | F89: 32911 | G89: вища ДОННТУ м. Донецьк 2012 | H89: 3291006235 | I89: СО 981572 | K89: 0993207404 | L89: 1НР 1НБ | N89: А2582
A90: 79 | B90: старший солдат | C90: Кузик Роман Георгійович | D90: Чернівецьким РТЦК та СП в Чернівецькій області | E90: Чернівецька | F90: 30049 | G90: середня-спееціальна ПТУ №22 м. Глибока 1999 | H90: 3004818074 | I90: МО 425731 | K90: 0957077366 | L90: 1НР 1НБ | N90: А2582
A91: 80 | B91: солдат | C91: Кузьменко Сергій Володимирович | D91: 1-й відділ Житомирського РТЦК та СП в Житомирській області | E91: Житомирська | F91: 30002 | G91: середня | H91: 3000120054 | I91: АГ 627206 | K91: 0978768162 | L91: 1НР 1НБ | N91: А4350
A92: 81 | B92: солдат | C92: Кулик В'ячеслав Валентинович | D92: Фастівським РТЦК та СП в Київськії області | E92: Київська | F92: 30817 | G92: вища ДУІКТ м. Київ 2007 | H92: 3081620577 | I92: АВ 978590 | K92: 0677572752 | L92: 1НР 1НБ | N92: А4350 | P92: СЗЧ
A93: 82 | B93: солдат | C93: Кучак Юрій Богданович | D93: Надвірнянський РТЦК та СП Івано-Франківський області | E93: Івано-Франковьска | F93: 31070 | G93: середня | H93: 3106908972 | I93: АГ 457689 | K93: 0987513301 | L93: 1НР 1НБ | N93: А2582
A94: 83 | B94: солдат | C94: Кучеров Сергій Вікторович | D94: 1-й відділ Бучанського РТЦК та СП в Київськії області | E94: Київська | F94: 28449 | G94: вища ЛДАУ м. Луганськ 1999 | H94: 2844808713 | I94: АГ 163195 | K94: 0952862431 | L94: 1НР 1НБ | N94: А4350
A95: 84 | B95: солдат | C95: Лазарев Володимир Володимирович | D95: Чугуївським РТЦК та СП в Харківський області | E95: Харківська | F95: 28886 | G95: середня ПТУ с. Лиман 1996 | H95: 2888500930 | I95: АГ 561303 | K95: 0687571635 | L95: 1НР 1НБ | N95: А2120
A96: 85 | B96: солдат | C96: Лакуста Дмитро Степанович | D96: Чернівецьким РТЦК та СП в Чернівецькій області | E96: Чернівецька | F96: 34685 | G96: вища ХПІ м. Харків | H96: 3468408470 | I96: АГ 279309 | K96: 0985866974 | L96: 1НР 1НБ | N96: А2582 | P96: СЗЧ
A97: 86 | B97: солдат | C97: Лех Тарас Ігорович | D97: Чернівецьким РТЦК та СП в Чернівецькій області | E97: Чернівецька | F97: 33386 | G97: вища ЧНУ м. Чернівці 2014 | H97: 3338513597 | I97: АГ 127411 | K97: 0665853713 | L97: 1НР 1НБ | N97: А2582 | P97: СЗЧ
A98: 87 | B98: солдат | C98: Луканюк Тарас Ілліч | D98: Чернівецьким РТЦК та СП в Чернівецькій області | E98: Чернівецька | F98: 31682 | G98: середня-технічна ВПХУ №5 м. Чернівці 2006 | H98: 3168114334 | I98: АГ 127407 | K98: 0978133800 | L98: 1НР 1НБ | N98: А2582
A99: 88 | B99: солдат | C99: Маковський Андрій Віталійович | D99: Івано-Франківським РТЦК та СП в Івано-Франківській області | E99: Івано-Франковьска | F99: 37341 | G99: середня | H99: 3734006854 | I99: АГ 452071 | K99: 0980177218 | L99: 1НР 1НБ | N99: А2582 | P99: СЗЧ
A100: 89 | B100: солдат | C100: Максимюк Тарас Миколайович | D100: Івано-Франківським РТЦК та СП в Івано-Франківській області | E100: Івано-Франковьска | F100: 34615 | G100: середня | H100: 3461400679 | I100: АГ 450608 | K100: - | L100: 1НР 1НБ | N100: А2582
A101: 90 | B101: солдат | C101: Маланчин Роман Зіновійович | D101: Стрийським РТЦК та СП в Львівській області | E101: Львівська | F101: 34666 | G101: середня-спеціальна МКМ м. Львів 2013 | H101: 3466506152 | I101: АГ 509382 | K101: 0936379333 | L101: 1НР 1НБ | N101: А2582
A102: 91 | B102: солдат | C102: Мантуленко Владислав Костянтинович | D102: Верховинським РТЦК та СП в Івано-Франківській області | E102: Івано-Франковьска | F102: 34503 | G102: вища КПДУ м. Кривий Ріг 2018 | H102: 3450209810 | I102: АГ 126538 | K102: 0672629394 | L102: 1НР 1НБ | N102: А2582
A103: 92 | B103: солдат | C103: Марковчин Олександр Дмитрович | D103: Рахівським РТЦК та СП в Закарпатській області | E103: Закарпатська | F103: 36364 | G103: вища ПолтНТУ м. Полтава 2025 | H103: 3636301512 | I103: АГ 116003 | K103: 0970445305 | L103: 1НР 1НБ | N103: А2582
A104: 93 | B104: солдат | C104: Мартиненко Олексій Олександрович | D104: Броварським РТЦК та СП в Київськії області | E104: Київська | F104: 36766 | G104: середня-спеціальна КПБЛ м. Київ 2016 | H104: 3676508659 | I104: АВ 975543 | K104: 0500607125 | L104: 1НР 1НБ | N104: А4350 | P104: СЗЧ
A105: 94 | B105: солдат | C105: Марфіч Василь Васильович | D105: Рахівським РТЦК та СП в Закарпатській області | E105: Закарпатська | F105: 35098 | G105: середня | H105: 3509706196 | I105: АГ 237993 | K105: - | L105: 1НР 1НБ | N105: А2582 | P105: СЗЧ
...

Sheet Settings
A1: базова загальна середня | C1: Придатний до військової служби | J1: Вінницька | K1: солдат | L1: I Rh -
A2: повна загальна середня | C2: Придатний до служби на підводних човнох, на надводних кораблях, у морській піхоті, Десантно-штурмових військах, спеціальних спорудах, підрозділах спеціального призначення | E2: Вінниця | F2: 1 відділ Хмільницький РТЦК | G2: першого відділу Хмільницького районного | H2: Вінницька | I2: Вінницького ОТЦК та СП | J2: Волинь | K2: старший солдат | L2: I Rh +
A3: професійно- технічна | C3: Придатний до служби у військових частинах забезпечення, ТЦК та СП, ВВНЗ, навчальних центрах, закладах (установах), медичних підрозділах, підрозділах логістики, зв'язку, оперативного забезпечення, охорони | E3: Вінниця | F3: 2 відділ Хмільницький РТЦК | G3: другого відділу Хмільницького районного | H3: Вінницька | I3: Вінницького ОТЦК та СП | J3: Дніпро | K3: молодший сержант | L3: II Rh -
A4: вища | E4: Вінниця | F4: 7 відділ Вінницький РТЦК | G4: сьомого відділу Вінницького районного | H4: Вінницька | I4: Вінницького ОТЦК та СП | J4: Донецьк | K4: сержант | L4: II Rh +
E5: Вінниця | F5: Вінницький ОМТЦК | G5: Вінницького об'єднаного міського | H5: Вінницька | I5: Вінницького ОТЦК та СП | J5: Житомир | K5: старший сержант | L5: III Rh -
E6: Вінниця | F6: 1 відділ Вінницький РТЦК | G6: першого відділу Вінницького районного | H6: Вінницька | I6: Вінницького ОТЦК та СП | J6: Закарпаття | K6: штаб-сержант | L6: III Rh +
E7: Вінниця | F7: 1 відділ Жмеринський РТЦК | G7: першого відділу Жмеринського районного | H7: Вінницька | I7: Вінницького ОТЦК та СП | J7: Запоріжжя | K7: матрос | L7: IV Rh -
E8: Вінниця | F8: Тульчинський РТЦК | G8: Тульчинського районного | H8: Вінницька | I8: Вінницького ОТЦК та СП | J8: Івано-Франківськ | K8: старший матрос | L8: IV Rh +
E9: Вінниця | F9: Хмільницький РТЦК | G9: Хмільницького районного | H9: Вінницька | I9: Вінницького ОТЦК та СП | J9: Київ місто | K9: старшина
E10: Вінниця | F10: 1 відділ Могилів-Подільський РТЦК | G10: першого відділу Могилів-Подільського районного | H10: Вінницька | I10: Вінницького ОТЦК та СП | J10: Київ обл | K10: старшина I статті
E11: Вінниця | F11: 1 відділ Тульчинський РТЦК | G11: першого відділу Тульчинського районного | H11: Вінницька | I11: Вінницького ОТЦК та СП | J11: Кропивницький | K11: головний старшина
E12: Вінниця | F12: 2 відділ Вінницький РТЦК | G12: другого відділу Вінницького районного | H12: Вінницька | I12: Вінницького ОТЦК та СП | J12: Луганськ | K12: прапорщик
E13: Вінниця | F13: 2 відділ Жмеринський РТЦК | G13: другого відділу Жмеринського районного | H13: Вінницька | I13: Вінницького ОТЦК та СП | J13: Львів
E14: Вінниця | F14: 2 відділ Могилів-Подільський РТЦК | G14: другого відділу Могилів-Подільського районного | H14: Вінницька | I14: Вінницького ОТЦК та СП | J14: Миколаїв
E15: Вінниця | F15: 2 відділ Тульчинський РТЦК | G15: другого відділу Тульчинського районного | H15: Вінницька | I15: Вінницького ОТЦК та СП | J15: Одеса
E16: Вінниця | F16: 3 відділ Вінницький РТЦК | G16: третього відділу Вінницького районного | H16: Вінницька | I16: Вінницького ОТЦК та СП | J16: Полтава
E17: Вінниця | F17: 3 відділ Могилів-Подільський РТЦК | G17: третього відділу Могилів-Подільського районного | H17: Вінницька | I17: Вінницького ОТЦК та СП | J17: Рівне
E18: Вінниця | F18: 3 відділ Тульчинський РТЦК | G18: третього відділу Тульчинського районного | H18: Вінницька | I18: Вінницького ОТЦК та СП | J18: Суми
E19: Вінниця | F19: 4 відділ Вінницький РТЦК | G19: четвертого відділу Вінницького районного | H19: Вінницька | I19: Вінницького ОТЦК та СП | J19: Тернопіль
E20: Вінниця | F20: 5 відділ Вінницький РТЦК | G20: п'ятого відділу Вінницького районного | H20: Вінницька | I20: Вінницького ОТЦК та СП | J20: Харків
E21: Вінниця | F21: 6 відділ Вінницький РТЦК | G21: шостого відділу Вінницького районного | H21: Вінницька | I21: Вінницького ОТЦК та СП | J21: Херсон
E22: Вінниця | F22: Вінницький РТЦК | G22: Вінницького районного | H22: Вінницька | I22: Вінницького ОТЦК та СП | J22: Хмельницький
E23: Вінниця | F23: Гайсинський РТЦК | G23: Гайсинського районного | H23: Вінницька | I23: Вінницького ОТЦК та СП | J23: Черкаси
E24: Вінниця | F24: 1 відділ Гайсинський РТЦК | G24: першого відділу Гайсинського районного | H24: Вінницька | I24: Вінницького ОТЦК та СП | J24: Чернівці
E25: Вінниця | F25: 2 відділ Гайсинський РТЦК | G25: другого відділу Гайсинського районного | H25: Вінницька | I25: Вінницького ОТЦК та СП | J25: Чернігів
E26: Вінниця | F26: Жмеринський РТЦК | G26: Жмеринського районного | H26: Вінницька | I26: Вінницького ОТЦК та СП
E27: Вінниця | F27: Могилів-Подільський РТЦК | G27: Могилів-Подільського районного | H27: Вінницька | I27: Вінницького ОТЦК та СП
E28: Волинь | F28: 1 відділ Камінь-Каширський РТЦК | G28: першого відділу Камінь-Каширського районного | H28: Волинська | I28: Волинського ОТЦК та СП
E29: Волинь | F29: 1 відділ Ковельський РТЦК | G29: першого відділу Ковельського районного | H29: Волинська | I29: Волинського ОТЦК та СП
E30: Волинь | F30: 2 відділ Ковельський РТЦК | G30: другого відділу Ковельського районного | H30: Волинська | I30: Волинського ОТЦК та СП
E31: Волинь | F31: 4 відділ Ковельський РТЦК | G31: четвертого відділу Ковельського районного | H31: Волинська | I31: Волинського ОТЦК та СП
E32: Волинь | F32: 3 відділ Ковельський РТЦК | G32: третього відділу Ковельського районного | H32: Волинська | I32: Волинського ОТЦК та СП
E33: Волинь | F33: 5 відділ Ковельський РТЦК | G33: п'ятого відділу Ковельського районного | H33: Волинська | I33: Волинського ОТЦК та СП
E34: Волинь | F34: Луцький ОМТЦК | G34: Луцького об'єднаного міського | H34: Волинська | I34: Волинського ОТЦК та СП
E35: Волинь | F35: 2 відділ Камінь-Каширський РТЦК | G35: другого відділу Камінь-Каширського районного | H35: Волинська | I35: Волинського ОТЦК та СП
E36: Волинь | F36: 1 відділ Луцький РТЦК | G36: першого відділу Луцького районного | H36: Волинська | I36: Волинського ОТЦК та СП
E37: Волинь | F37: 2 відділ Луцький РТЦК | G37: другого відділу Луцького районного | H37: Волинська | I37: Волинського ОТЦК та СП
... E56: Дніпро | F56: 2 відділ Дніпровського РТЦК та СП | G56: другого відділу Дніпровського районного | H56: Дніпропетровська | I56: Дніпропетровського ОТЦК та СП
D57: міста Дніпра | E57: Дніпро | F57: Дніпровський РТЦК та СП | G57: Дніпровського районного | H57: Дніпропетровська | I57: Дніпропетровського ОТЦК та СП
D58: міста Дніпра | E58: Дніпро | F58: Індустріальний РТЦК та СП | G58: Індустріального районного | H58: Дніпропетровська | I58: Дніпропетровського ОТЦК та СП
E59: Дніпро | F59: Кам'янського РТЦК та СП | G59: Кам'янського районного | H59: Дніпропетровська | I59: Дніпропетровського ОТЦК та СП
E60: Дніпро | F60: 2 відділ Криворізького РТЦК та СП | G60: другого відділу Криворізького районного | H60: Дніпропетровська | I60: Дніпропетровського ОТЦК та СП
E61: Дніпро | F61: Криворізький РТЦК та СП | G61: Криворізького районного | H61: Дніпропетровська | I61: Дніпропетровського ОТЦК та СП
E62: Дніпро | F62: 2 відділ Синельниківського РТЦК та СП | G62: другого відділу Синельниківського районного | H62: Дніпропетровська | I62: Дніпропетровського ОТЦК та СП
E63: Дніпро | F63: Новокодацький РТЦК та СП | G63: Новокодацького районного | H63: Дніпропетровська | I63: Дніпропетровського ОТЦК та СП
E64: Дніпро | F64: Покровсько-Тернівський РТЦК та СП | G64: Покровсько-Тернівського районного | H64: Дніпропетровська | I64: Дніпропетровського ОТЦК та СП
E65: Дніпро | F65: Самарський РТЦК та СП | G65: Самарського районного | H65: Дніпропетровська | I65: Дніпропетровського ОТЦК та СП
E66: Дніпро | F66: Соборний РТЦК та СП | G66: Соборного районного | H66: Дніпропетровська | I66: Дніпропетровського ОТЦК та СП
E67: Дніпро | F67: 3 відділ Дніпровського РТЦК та СП | G67: третього відділу Дніпровського районного | H67: Дніпропетровська | I67: Дніпропетровського ОТЦК та СП
D68: міста Дніпра | E68: Дніпро | F68: Шевченківський РТЦК та СП | G68: Шевченківського районного | H68: Дніпропетровська | I68: Дніпропетровського ОТЦК та СП
E69: Дніпро | F69: 3 відділ Криворізького РТЦК та СП | G69: третього відділу Криворізького районного | H69: Дніпропетровська | I69: Дніпропетровського ОТЦК та СП
E70: Дніпро | F70: 3 відділ Нікопольський РТЦК та СП | G70: третього відділу Нікопольського районного | H70: Дніпропетровська | I70: Дніпропетровського ОТЦК та СП
E71: Дніпро | F71: 3 відділ Нікопольського РТЦК та СП | G71: третього відділу Нікопольського районного | H71: Дніпропетровська | I71: Дніпропетровського ОТЦК та СП
E72: Дніпро | F72: 3 відділ Синельниківського РТЦК та СП | G72: третього відділу Синельниківського районного | H72: Дніпропетровська | I72: Дніпропетровського ОТЦК та СП
E73: Дніпро | F73: 4 відділ Синельниківського РТЦК та СП | G73: четвертого відділу Синельниківського районного | H73: Дніпропетровська | I73: Дніпропетровського ОТЦК та СП
E74: Дніпро | F74: 5 відділ Синельниківського РТЦК та СП | G74: п'ятого відділу Синельниківського районного | H74: Дніпропетровська | I74: Дніпропетровського ОТЦК та СП
E75: Дніпро | F75: Дніпровський ОТЦК та СП | G75: Дніпровського обласного | H75: Дніпропетровська | I75: Дніпропетровського ОТЦК та СП
E76: Дніпро | F76: Інгулецький РТЦК та СП | G76: Інгулецького районного | H76: Дніпропетровська | I76: Дніпропетровського ОТЦК та СП
E77: Дніпро | F77: Криворізький РТЦК та СП | G77: Криворізького районного | H77: Дніпропетровська | I77: Дніпропетровського ОТЦК та СП
E78: Дніпро | F78: Металургійно-Довгинцівський ОРТЦК та СП | G78: Металургійно-Довгинцівського об'єднаного районного | H78: Дніпропетровська | I78: Дніпропетровського ОТЦК та СП
E79: Дніпро | F79: Нікопольський РТЦК та СП | G79: Нікопольського районного | H79: Дніпропетровська | I79: Дніпропетровського ОТЦК та СП
E80: Дніпро | F80: Новомосковський РТЦК та СП | G80: Новомосковського районного | H80: Дніпропетровська | I80: Дніпропетровського ОТЦК та СП
... E133: Запоріжжя | F133: Василівський РТЦК та СП | G133: Василівського районного | H133: Запорізька | I133: Запорізького ОТЦК та СП
D134: міста Запоріжжя | E134: Запоріжжя | F134: Заводський РТЦК та СП | G134: Заводського районного | H134: Запорізька | I134: Запорізького ОТЦК та СП
E135: Запоріжжя | F135: Запорізький РТЦК та СП | G135: Запорізького районного | H135: Запорізька | I135: Запорізького ОТЦК та СП
E136: Запоріжжя | F136: Комунарський РТЦК та СП | G136: Комунарського районного | H136: Запорізька | I136: Запорізького ОТЦК та СП
E137: Запоріжжя | F137: 1 відділ Мелітопольський РТЦК та СП | G137: першого відділу Мелітопольського районного | H137: Запорізька | I137: Запорізького ОТЦК та СП
E138: Запоріжжя | F138: Мелітопольський РТЦК та СП | G138: Мелітопольського районного | H138: Запорізька | I138: Запорізького ОТЦК та СП
E139: Запоріжжя | F139: Пологівський РТЦК та СП | G139: Пологівського районного | H139: Запорізька | I139: Запорізького ОТЦК та СП
E140: Запоріжжя | F140: 3 відділ Пологівського РТЦК та СП | G140: третього відділу Пологівського районного | H140: Запорізька | I140: Запорізького ОТЦК та СП
E141: Запоріжжя | F141: Хортицький РТЦК та СП | G141: Хортицького районного | H141: Запорізька | I141: Запорізького ОТЦК та СП
D142: міста Запоріжжя | E142: Запоріжжя | F142: Центральний ОРТЦК та СП | G142: Центрального об'єднаного районного | H142: Запорізька | I142: Запорізького ОТЦК та СП
D143: міста Запоріжжя | E143: Запоріжжя | F143: Шевченківський РТЦК та СП | G143: Шевченківського районного | H143: Запорізька | I143: Запорізького ОТЦК та СП
E144: Івано-Франківськ | F144: 1 відділ Івано-Франківський РТЦК | G144: першого відділу Івано-Франківського районного | H144: Івано-Франківська | I144: Івано-Франківського ОТЦК та СП
E145: Івано-Франківськ | F145: 1 відділ Калуський РТЦК | G145: першого відділу Калуського районного | H145: Івано-Франківська | I145: Івано-Франківського ОТЦК та СП
E146: Івано-Франківськ | F146: 1 відділ Коломийський РТЦК | G146: першого відділу Коломийського районного | H146: Івано-Франківська | I146: Івано-Франківського ОТЦК та СП
E147: Івано-Франківськ | F147: 2 відділ Івано-Франківський РТЦК | G147: другого відділу Івано-Франківського районного | H147: Івано-Франківська | I147: Івано-Франківського ОТЦК та СП
E148: Івано-Франківськ | F148: 2 відділ Калуський РТЦК | G148: другого відділу Калуського районного | H148: Івано-Франківська | I148: Івано-Франківського ОТЦК та СП
E149: Івано-Франківськ | F149: 2 відділ Коломийський РТЦК | G149: другого відділу Коломийського районного | H149: Івано-Франківська | I149: Івано-Франківського ОТЦК та СП
E150: Івано-Франківськ | F150: 3 відділ Івано-Франківський РТЦК | G150: третього відділу Івано-Франківського районного | H150: Івано-Франківська | I150: Івано-Франківського ОТЦК та СП
E151: Івано-Франківськ | F151: 4 відділ Івано-Франківський РТЦК | G151: четвертого відділу Івано-Франківського районного | H151: Івано-Франківська | I151: Івано-Франківського ОТЦК та СП
E152: Івано-Франківськ | F152: Верховинський РТЦК | G152: Верховинського районного | H152: Івано-Франківська | I152: Івано-Франківського ОТЦК та СП
E153: Івано-Франківськ | F153: Івано-Франківський МТЦК | G153: Івано-Франківського міського | H153: Івано-Франківська | I153: Івано-Франківського ОТЦК та СП
E154: Івано-Франківськ | F154: Івано-Франківський ОТЦК | G154: Івано-Франківського обласного | H154: Івано-Франківська | I154: Івано-Франківського ОТЦК та СП
E155: Івано-Франківськ | F155: Івано-Франківський РТЦК | G155: Івано-Франківського районного | H155: Івано-Франківська | I155: Івано-Франківського ОТЦК та СП
... E162: Київ місто | F162: Деснянський РТЦК | G162: Деснянського районного | H162: Київ місто | I162: Київського МТЦК та СП
D163: міста Києва | E163: Київ місто | F163: Дніпровський РТЦК | G163: Дніпровського районного | H163: Київ місто | I163: Київського МТЦК та СП
E164: Київ місто | F164: Оболонський РТЦК | G164: Оболонського районного | H164: Київ місто | I164: Київського МТЦК та СП
E165: Київ місто | F165: Печерський РТЦК | G165: Печерського районного | H165: Київ місто | I165: Київського МТЦК та СП
D166: міста Києва | E166: Київ місто | F166: Подільський РТЦК | G166: Подільського районного | H166: Київ місто | I166: Київського МТЦК та СП
E167: Київ місто | F167: Святошинський РТЦК | G167: Святошинського районного | H167: Київ місто | I167: Київського МТЦК та СП
E168: Київ місто | F168: Солом'янський РТЦК | G168: Солом'янського районного | H168: Київ місто | I168: Київського МТЦК та СП
D169: міста Києва | E169: Київ місто | F169: Шевченківський РТЦК | G169: Шевченківського районного | H169: Київ місто | I169: Київського МТЦК та СП
E170: Київ обл | F170: 1 відділ Бориспільський РТЦК | G170: першого відділу Бориспільського районного | H170: Київ обл | I170: Київського ОТЦК та СП
E171: Київ обл | F171: 1 відділ Бучанський РТЦК | G171: першого відділу Бучанського районного | H171: Київ обл | I171: Київського ОТЦК та СП
E172: Київ обл | F172: 1 відділ Вишгородський РТЦК | G172: першого відділу Вишгородського районного | H172: Київ обл | I172: Київського ОТЦК та СП
E173: Київ обл | F173: 1 відділ Обухівський РТЦК | G173: першого відділу Обухівського районного | H173: Київ обл | I173: Київського ОТЦК та СП
E174: Київ обл | F174: 1 відділ Білоцерківський РТЦК | G174: першого відділу Білоцерківського районного | H174: Київ обл | I174: Київського ОТЦК та СП
E175: Київ обл | F175: 2 відділ Білоцерківський РТЦК | G175: другого відділу Білоцерківського районного | H175: Київ обл | I175: Київського ОТЦК та СП
E176: Київ обл | F176: 2 відділ Бориспільський РТЦК | G176: другого відділу Бориспільського районного | H176: Київ обл | I176: Київського ОТЦК та СП
...

Sheet перевірки
A2: Сєроклін Микола Олегович | C2: =Основний!C12 -> Алєксєєв Максим Олексійович | E2: =C2=G2 -> FALSE | G2: Батура Віктор Сергійович | H2: Полтавська область, Глобинський район, с. Малинівка | I2: вул. Крамського 2, м. Полтава | J2: вища | K2: Полтавський аграрний інститут, 2019, Інженер сільсько господарської техніки | L2: Будівельник 10 років | M2: неодружений, мати: Даценко Алла Олексіївна - 0968398894, м. Глобино; сестра: Лещенко Єлизавета Сергіївна - 0689734287 - м. Полтава | N2: 0985986153
A3: Набок Валерій Миколайович | C3: =Основний!C13 -> Андруневчин Михайло Олексійович | E3: =C3=G3 -> FALSE | G3: Бережний Євгеній Олегович | H3: Донецька обл.м.Славянськ | I3: Полтавська обл.м.Лохвиця вул.Лесі Украінки 9 | J3: професійно- технічна | K3: Ромницьке ВПУ у 2016 електромеханік | L3: продавець консультант 3 роки | M3: неодружений мати:Харченко Оксана Олександрівна-1973-0955536441-Полтавська обл.м.Лохвиця вул.Лесі Украінки 9 вітчим:Харченко Олександр Олексійович-1972-0666224233-Полтавська обл.м.Лохвиця вул.Лесі Украінки 9 | N3: 0682701392
A4: Батура Віктор Сергійович | C4: =Основний!C14 -> Артюх Марк Геннадійович | E4: =C4=G4 -> FALSE | G4: Бірюков Євген Анатолійович | H4: Великоновосільківський район, Донецька область, с. Шевченка | I4: Черкаська область, Тальнівський район, с. Лісове, вул. Зільниця, буд. 28 | J4: професійно- технічна | K4: ПТУ Великоновосільківський район, 2010, тракторист | L4: різноробочий 10 років | M4: одружений, жінка: Бірюкова Катерина Григорівна, Черкаська область, Тальнівський район, с. Лісове, вул. Зільниця, буд. 28 | N4: 0978269441
A5: Коваленко Іван Іванович | C5: =Основний!C15 -> Архіпенко Станіслав Валерійович | E5: =C5=G5 -> FALSE | G5: Бородій Володимир Васильович | H5: Житомирська обл.м.Овруч | I5: Житомирська обл.м.Овруч вул.Мічуріна 10 кв.2 | J5: професійно- технічна | K5: ПТУ№35 м.Овруч у 2003 водій | L5: водій 18 років права А С | M5: дружина:Бородій Світлана Вікторівна-1981-0990938241-Житомирська обл.м.Овруч вул.Мічуріна 10 кв.2 | N5: -
A6: Марюхно Артем Олександрович | C6: =Основний!C16 -> Балагура Сергій Васильович | E6: =C6=G6 -> FALSE | G6: Ващенко Володимир Ігорович | H6: Киівська обл.м.Бровари | I6: Киівська обл.м.Бровари вул.Миколи Костомарова 28а | J6: професійно- технічна | K6: ПФПК у 2005 юрист | L6: будівельник 10 років права В | M6: неодружений батько:Ващенко Шгор Володимирович-1960-0677384870-Киівська обл.м.Бровари вул.Миколи Костомарова 28а | N6: 0975482717
A7: Шегера Роман Володимирович | C7: =Основний!C17 -> Бардичевський Микола Валентинович | E7: =C7=G7 -> FALSE | G7: Винничук Володимир Ярославович | H7: Тернопільська обл.Чортківський р-н.с.Улашківці | I7: Тернопільська обл.Чортківський р-н.с.Улашківці вул.Сонячна 14 | J7: професійно- технічна | K7: Чортківське ВПУ у 2013 слюсар з ремонту автомобілів | L7: овальщик 6 років права В | M7: неодружений мати:Винничук Галина Йосафатівна-1974--974114211-Тернопільська обл.Чортківський р-н.с.Улашківці вул.Сонячна 14 батько:Винничук Ярослав Степанович-1973-0682466460-Тернопільська обл.Чортківський р-н.с.Улашківці вул.Сонячна 14 | N7: 0979289360
A8: Смірнов Артур Артюшевич | C8: =Основний!C18 -> Башкатов Євгеній Володимирович | E8: =C8=G8 -> FALSE | G8: Гарбар Олександр Вікторович | H8: с. Леприн, Житомирська область, Радомишлівський район | I8: Житомирська область, Радомишлівський район, с. Леприн, вул. Лугова, буд. 23 | J8: повна загальна середня | K8: ліцей, м. Радомишль, 2009 | L8: будівельник 5 років | M8: цивільний шлюб, цивільна дружина: Шарапова Надія Петрівна, Житомирська область, Радомишлівський район, с. Леприн, вул. Лугова, буд. 23, 0669208817
A9: Герасименко Павло Сергійович | C9: =Основний!C19 -> Безценний Михайло Вітальйович | E9: =C9=G9 -> FALSE | G9: ГЕРАСИМЕНКО Павло Сергійович | H9: м. Полтава | I9: м. Полтава, вул. Європейська, буд 139, кв. 22 | J9: професійно- технічна | K9: СПТУ №10, м. Полтава | L9: комірник | M9: одружений дружина: Георгієва Юлія Юрієвна - 1986 - 0936718521 - м. Полтава, вул. Великотирнівська, буд. 27/1, кв. 84 | N9: 0936893236
A10: Красножон Михайло Анатолійович | C10: =Основний!C20 -> Береговий Максим Сергійович | E10: =C10=G10 -> FALSE | G10: Горнічний Едуард Юрійович | H10: м. Архангельск, РФ | I10: м. Житомир, вул. Свободи, буд. 52 | J10: базова загальна середня | K10: училище, м. Пулин, водій | L10: будівельник 9 років, Права А Б Ц | M10: цивільний шлюб, цивільна дружина: Городнича Наталія Віталіївна, м. Житомир, вул. Свободи, буд. 52, 0685496100
A11: Меньшиков Анатолій Миколайович | C11: =Основний!C21 -> Білецький Андрій Юрійович | E11: =C11=G11 -> FALSE | G11: Гуменюк Віктор Васильович | H11: с. Солотвин, Бердичівський район, Житомирський область | I11: с. Старий Солотвин, Бердичівський район, провулок Миру, буд. 5 | J11: повна загальна середня | K11: професійно-будівельний ліцей №12, м.Бердичів | L11: будівельник, 12 років | M11: неодружений, мати: Гуменюк Валентина Володимирівна, с. Старий Солотвин, Бердичівський район, провулок Миру, буд. 5, 0972768628 | N11: 0987983165
A12: Чаус Євгеній Русланович | C12: =Основний!C22 -> Борбат Роман Ігорович | E12: =C12=G12 -> FALSE | G12: ДЕНИСЮК Вадим Васильович | H12: Ємільчинська обл с. Симони | I12: Ємільчинська обл с. Симони вул Незалежності буд 21 | J12: базова загальна середня | K12: ЗОШ с. Симони | L12: різноробочий | M12: неодружений сестра: Денисюк Ольга Василівна - 09.03.1989 - 0660494552 - Ємільчинська обл с. Симони вул Незалежності 21 | N12: 0663759546
A13: Юр'єв Роман Русланович | C13: =Основний!C23 -> Бохун Дмитро Миколайович | E13: =C13=G13 -> FALSE | G13: Донець Микола Михайлович | H13: м. Сміла, Черкаська область | I13: Черкаська область, м. Сміла, вул. Філатова, буд. 8, кв. 145 | J13: вища | K13: Національний транспортний університет, м. Київ, 2019, інженер будівельник | L13: майстер дорожніх робіт 1 рік, Права Б | M13: неодружений, мати: Донець Любов Михайлівна, Черкаська область, м. Сміла, вул. Філатова, буд. 8, кв. 145, 0636539977 | N13: 0931913213
A14: Шапран Ігор Олександрович | C14: =Основний!C24 -> Бурдин Михайло Володимирович | E14: =C14=G14 -> FALSE | G14: ДРИЖУК Сергій Юрійович | H14: м. Пирятин Полтавська обл. | I14: Вінницька обл с Журбинці вул Зарічна буд 34 | J14: базова загальна середня | K14: школа-інтернат 2006 м. Козятин | L14: будівельник 10 років Права Б Ц Т | M14: неодружений дружина: Чоботарьова Альбіна Олександрівна - 1993 - Вінницька обл с Журбинці вул Зарічна буд 34 | N14: 0680196331
A15: Донець Микола Михайлович | C15: =Основний!C25 -> Бурлака Сергій Анатолійович | E15: =C15=G15 -> FALSE | G15: ІЛЛЮШИН Ярослав Вікторович | H15: м. Чернігів | I15: м. Вінниця вул. Антона Листопада буд.2 кв 13 | J15: професійно- технічна | K15: ПТУ №16 м. Чернігів пекар | L15: керівник терміналу 2 роки | M15: неодружений дівчина: Лубьянова Анастасія Ігорівна - 28.07.1995 - 0933846576 - м. Вінниця вул. Антона Листопада буд.2 кв 13 | N15: 0954948604
A16: Павленко Микола Володимирович | C16: =Основний!C26 -> Бурлака Сергій Ілліч | E16: =C16=G16 -> FALSE | G16: Ісаєнко Володимир Володимирович | H16: Полтавська область, м. Кременчук | I16: Полтавська область, м. Кременчук, вул. Переяслівська, буд. 44, кв. 13 | J16: професійно- технічна | K16: Кременчуцький коледж національного університету ім. М. Скоропадського, 2016, зварювальне відділення | L16: зварювальник слюсар, 3 роки | M16: неодружений, мати: Ісаєнко Вікторія Володимирівна, м. Кременчук, вул. Переяслівська, буд. 44, кв. 13, 0964325190 | N16: 0636126867
A17: Семенюк Олександр Іванович | C17: =Основний!C27 -> Бут Олег Васильович | E17: =C17=G17 -> FALSE | G17: Коваленко Іван Іванович | H17: Сумська обл.Лебединський р-н.с.Корчани | I17: Сумська обл.Лебединський р-н.с.Василівка вул.Широка 47 | J17: повна загальна середня | K17: Лебединське ПТУ у 1997 тракторист | L17: тракторист 10 років А1 Д | M17: цивільна дружина:Дряхлова Юлія Олександрівна-1984-09723389-Сумська обл.Лебединський р-н.с.Василівка вул.Широка 47 | N17: 0679831091
A18: Марков Віталій Ігорович | C18: =Основний!C28 -> Варус Сергій Васильович | E18: =C18=G18 -> FALSE | G18: Красножон Михайло Анатолійович | H18: м. Полтава | I18: м. Полтава, Решетилівська 50\1, кв. 65 | J18: повна загальна середня | K18: Гімназія №13. м. Полтава, 2014 | L18: Сервісне обслуговування техніки 5 років. Права Б | M18: розлучений, брат: Красножон Антон Анатолійович - вул. Інжерена 11, м. Полтава - 0953848459 | N18: 0689699529
A19: Бережний Євгеній Олегович | C19: =Основний!C29 -> Васілів Володимир Володимирович | E19: =C19=G19 -> FALSE | G19: Кропивницький Віталій Русланович | H19: м. Коростишів, Житомирська область | I19: м. Коростишів, вул. Волошкова, буд. 45 | J19: базова загальна середня | K19: школа №18, смт. Коцюбинське, 2009 | L19: кухар 4 роки | M19: неодружений, батько: Кропивницкий Руслан Олександрович, м. Коростишів, вул. Волошкова, буд. 45, 0954085494 | N19: 0991591289
A20: Ісаєнко Володимир Володимирович | C20: =Основний!C30 -> Вербіцький Тарас Ігорович | E20: =C20=G20 -> FALSE | G20: ЛЕВЧЕНКО Ігор Анатолійович | H20: м. Овруч | I20: Житомирська обл м. Ігнатпіль вул Коворот буд 11 | J20: повна загальна середня | K20: школа 2014 | L20: помічник на лісопилці 6 міс | M20: розлучений сестра: Павленко Анна - 0968254129 - м. Ігнатпіль | N20: 0508495651
A21: Рибачик Роман Іванович | C21: =Основний!C31 -> Веретенніков Дмитро Леонідович | E21: =C21=G21 -> FALSE | G21: МАРКОВ Віталій Ігорович | H21: м. Кременчуг Полтавська обл. | I21: Полтавська обл. м. Кременчуг вул. Мрії 5 кв 19 | J21: вища | K21: КДПУ 2004 інженер механік | L21: ТОВ Кредо 4 роки Права Б Ц | M21: розлучений мати: Маркова Світлана Борисівна - 29.081960 - 0982851680 - Полтавська обл. м. Кременчуг вул. Мрії 5 кв 19 | N21: 0679629311
A22: Горнічний Едуард Юрійович | C22: =Основний!C32 -> Винничук Василь Степанович | E22: =C22=G22 -> FALSE | G22: МАРЮХНО Артем Олександрович | H22: м. Полтава | I22: м. Полтава вул. Європейська, буд 115а, кв. 97 | J22: повна загальна середня | K22: ЗОШ 3, м. Полтава | L22: водій Права Б, Ц, Ц1 | M22: дружина: Бєлоброва Марина Юріївна - 1992 - 0668099423 - м. Полтава, вул. Європейська, буд 115а, кв. 97 | N22: 0958773247
... A24: Степанишин Дмитро Вікторович | C24: =Основний!C34 -> Вознюк Олексій Олександрович | E24: =C24=G24 -> FALSE | G24: НАБОК Валерій Миколайович | H24: с. Усанівка, Сумська обл | I24: Сумська обл., смт Липова Долина, вул. Шевченка, буд. 14 | J24: повна загальна середня | K24: Ліцей, с. Глинськ | L24: Тракторист водій | M24: неодружений. дружина: Добродій Тетяна Миколаївна - 09.05.1988 - 0508030946 - Сумська обл., смт Липова Долина, вул. Шевченка, буд. 14 | N24: 0994797289
A25: Скрипник Сергій Васильович | C25: =Основний!C35 -> Воїнов Максим Олегович | E25: =C25=G25 -> FALSE | G25: Омельченко Сергій Григорович | H25: смт.Ємільчіно, Житомирска область | I25: смт. Ємільчіно, Житомирська область, вул. Садова, буд. 30 | J25: повна загальна середня | K25: Школа №2, Ємільчіно | L25: автослюсар, 5 років | M25: цивільний шлюб, брат: Омельченко Олексій Григорович, смт. Ємільчино, вул. Касьянова, буд. 5
A26: Гарбар Олександр Вікторович | C26: =Основний!C36 -> Волинець Сергій Григорович | E26: =C26=G26 -> FALSE | G26: Павленко Микола Володимирович | H26: м. Кременчук, Полтавська область | I26: м. Кременчук, тупик Глобинський, буд. 5 | J26: вища | K26: Дніпропетровський університет економіки і права, 2007, економічна кібернетика | L26: експерт економічної діяльності, інженер перевідник 15 років | M26: неодружений, брат: Павленко Олександр Володимирович - 0675306999 - м. Кременчук, вул Симоненка, буд. 11 | N26: 0668461344
A27: Тіщенко Олег Анатолійович | C27: =Основний!C37 -> Володін Денис Валентинович | E27: =C27=G27 -> FALSE | G27: РИБАЧИК Роман Іванович | H27: Житомирська обл. с. Відродження | I27: м. Житомир вул. Бориса Тена, 96 кв 13 | J27: професійно- технічна | K27: Училище №9 м. Житомир 2019 кухар, офіціант, бармен | L27: кухар 2 роки Права Б Ц | M27: неодружений брат: Рибачик Ярослав Іванович - 21.02.2007 - 0975595736 - м. Житомир вул. Бориса Тена, 96 кв 13 | N27: 0667511936
A28: Бірюков Євген Анатолійович | C28: =Основний!C38 -> Вороненко Олександр Валерійович | E28: =C28=G28 -> FALSE | G28: Свинаренко Святослав Васильович | H28: м. Черкаси | I28: м. Черкаси, вул. Вернигори, буд. 9, кв. 43 | J28: вища | K28: Черкаський державний технологічний університет, 2013, економіка підприємства | L28: завідуючий складом, 3 роки | M28: одружений, батько: Свинаренко Василь Миколайович, м. Черкаси, вул. Вернигори, буд. 9, кв. 43, 0637896747. мати: Свинаренко Ольга Василівна, м. Черкаси, вул. Вернигори, буд. 9, кв. 43, 0972053582 | N28: 0937058585
A29: Кропивницький Віталій Русланович | C29: =Основний!C39 -> Гаврилюк Роман Миколайович | E29: =C29=G29 -> FALSE | G29: СЕМЕНЮК Олександр Іванович | H29: Полтавська обл. с. Вечірки | I29: Полтавська обл м. Гадяч вул. Подільска буд 7 кв 2 | J29: базова загальна середня | K29: Березоворудський технікум м. Гадяч 2020 | L29: різноробочий | M29: одружений дружина: Семенюк Марина Василівна - 02.03.2000 - 0682860854 - Полтавська обл м. Гадяч вул. Подільска буд 7 кв 2 | N29: 0955497601
A30: Іллюшін Ярослав Вікторович | C30: =Основний!C40 -> Гарап'як Олександр Дмитрович | E30: =C30=G30 -> FALSE | G30: Сєроклін Микола Олегович | H30: м. Буринь, Сумська область | I30: вул. Гая Головенського 26, м. Буринь, Конотопський район, Сумська область | J30: вища | K30: СумДУ, 2021, фінанси та банківська справа | L30: Права Б Ц, Відеомонтажер 3 роки | M30: неодружений, мати: Сєроклін Олена Іванівна - 0661878039 - вул. Гая Головенського 26, м. Буринь, Сумська область | N30: 0992966134
A31: Дрижук Сергій Юрійович | C31: =Основний!C41 -> Герман Микола Анатолійович | E31: =C31=G31 -> FALSE | G31: Сичевський Олександр Олександрович | H31: м. Козятин, Вінницька область | I31: Житомирська область, Ружинський район, смт. Ружин, вул. Київська, буд. 5, кв.5 | J31: повна загальна середня | K31: школа №5, м. Козятин, 2010 | L31: автослюсар, 10 років | M31: розлучений, батько: Сичевський Олександр Юрійович, м. Козятин, вул. Артура Венжика, буд. 48, кв. 15, 0935156984 | N31: 0684359019
A32: Сичевський Олександр Олександрович | C32: =Основний!C42 -> Гімчинський Анатолій Олександрович | E32: =C32=G32 -> FALSE | G32: Скрипник Сергій Васильович | H32: м. Гайсин, Вінницька область | I32: м. Гайсин, Вінницька область, Другий провулок Івана Франка, буд 1. | J32: повна загальна середня | K32: школа №3, м. Гайсин | L32: будівельник 10 років, Права Б | M32: розлучений, мати: Скрипник Тетяна Михайлівна, м. Гайсин, вул. Гайсинська, буд. 35. Скрипник Василь Опанасович, м. Гайсин, вул. Гайсинська, буд. 35 | N32: 0979394554
A33: Бородій Володимир Васильович | C33: =Основний!C43 -> Голінчук Віталій Євгенович | E33: =C33=G33 -> FALSE | G33: Смірнов Артур Артюшович | H33: м.Полтава | I33: м.Полтава вул Івана Мазепи 49кв.55 | J33: вища | K33: ПНТУ ім.Юрія Кондратюка у 2019 тренер бакалаврат здоровя людини | L33: охоронець 6 років права В | M33: мати:Смірнова Ірина Анатоліівна-1972-0503046016-м.Полтава вул.Уютная 15 | N33: 0999646261
A34: Левченко Ігор Анатолійович | C34: =Основний!C44 -> Гончарук Віталій Сергійович | E34: =C34=G34 -> FALSE | G34: СТЕПАНИШИН Дмитро Вікторович | H34: Київська обл. Фастівський р-н, с. Оленівка | I34: Житомирська обл. м. Чуднів вул. Героїв АТО 27 | J34: вища | K34: ЖНАЕУ 2019 агроном | L34: оператор плахофабрики, водій 7 років Права Б Ц1 Ц | M34: одружений дружина: Степанишина Аліна Олегівна - 11.02.1991 - 0667840590 - м. Чуній вул Зелена 23 | N34: 0661413110
A35: Свинаренко Святослав Васильович | C35: =Основний!C45 -> Горійчук Роман Миколайович | E35: =C35=G35 -> FALSE | G35: ТІЩЕНКО Олег Анатолійович | H35: Вінницька обл м. Ямпіль | I35: м. Вінниця масив окружний | J35: вища | K35: ВФЕУ м. Вінниця 2006 бухгалтер економіст | L35: працівник торгівельник 5 років Права Б | M35: одружений дружина: Тіщенко Інна Олександрівна - 04.11.1986 - 0970586338 - м. Вінниця масив окружний | N35: 0965205811
A36: Омельченко Сергій Григорович | C36: =Основний!C46 -> Горобієвській Юрій Віталійович | E36: =C36=G36 -> FALSE | G36: ХМЕЛЬНИЦЬКИЙ Сергій Леонідович | H36: м. Житомир | I36: м. Житомир вул Кибальчича буд 5 кв 15 | J36: вища | K36: УАБП 2016 бухгалтер економіст | L36: машиніст 5 разряда 10 | M36: неодружений мати: Хмельницька Антоніна Миколаївна - 30.01.1953 - 0963675865 - м. Житомир вул Кибальчича буд 5 кв 15 | N36: 0635612931
A37: Ващенко Володимир Ігорович | C37: =Основний!C47 -> Горобцов Назар Сергійович | E37: =C37=G37 -> FALSE | G37: ЧАУС Євген Олександрович | H37: м. Вінниця | I37: м. Вінниця, вул. Київська, буд. 50, кв. 13 | J37: професійно- технічна | K37: ВК НУХТ, м. Вінниця, автомеханік | L37: автомеханік | M37: розлучений батько: Чаус Руслан Олександрович - 1971 - 0674244562 - м. Вінниця, вул. Київська, буд 50, кв. 13 | N37: 0988216124
... A40: Хмельницький Сергій Леонідович | C40: =Основний!C50 -> Гріус Євгеній Русланович | E40: =C40=G40 -> FALSE | G40: Юр'єв Роман Русланович | H40: м. Маріуполь, Донецька область | I40: м. Лубни, Полтавська область, вул. Василенко Миколи, буд. 35, кв. 49 | J40: вища | K40: Полтавська державна аграрна академія, 2016, бухглатерьска справа | L40: Різноробочий, комірник 10 років, Права Б | M40: неодружений, мати: Васильєва Лілія Миколаївна - Германія, +4916096202643; бабуся: Зозуля Віра Миколаївна - 0953288893 - Полтавська область, Оржицький район, с. Чутівка, вул. Голошубова, буд 11; сестра: Васильєва Маргарита Євгенівна - Германія - +491759147056 | N40: 0507020643
C41: =Основний!C51 -> Гулега Валентин Володимирович | E41: =C41=G41 -> FALSE
C42: =Основний!C52 -> Гунчак Микола Васильович | E42: =C42=G42 -> FALSE
C43: =Основний!C53 -> Гуцман Іван Володимирович | E43: =C43=G43 -> FALSE
C44: =Основний!C54 -> Данилюк Олег Вікторович | E44: =C44=G44 -> FALSE
C45: =Основний!C55 -> Данилюк Роман Ігорович | E45: =C45=G45 -> FALSE
C46: =Основний!C56 -> Данко Олександр Володимирович | E46: =C46=G46 -> FALSE
C47: =Основний!C57 -> Джежела Сергій Васильович | E47: =C47=G47 -> FALSE
C48: =Основний!C58 -> Довжинський Назарій Михайлович | E48: =C48=G48 -> FALSE
C49: =Основний!C59 -> Єрмоленко Олександр Вячеславович | E49: =C49=G49 -> FALSE
C50: =Основний!C60 -> Жеграй Андрій Андрійович | E50: =C50=G50 -> FALSE
C51: =Основний!C61 -> Заведенко Андрій Іванович | E51: =C51=G51 -> FALSE
C52: =Основний!C62 -> Зав'ялець Олег Вячеславович | E52: =C52=G52 -> FALSE
... C93: =Основний!C103 -> Марковчин Олександр Дмитрович | E93: =C93=G93 -> FALSE
C94: =Основний!C104 -> Мартиненко Олексій Олександрович
C95: =Основний!C105 -> Марфіч Василь Васильович
C96: =Основний!C106 -> Медведев Богдан Ігорович
C97: =Основний!C107 -> Мельник Ілля Ілліч
C98: =Основний!C108 -> Мельникович Андрій Васильович
C99: =Основний!C109 -> Мельничук Дмитрій Володимирович
C100: =Основний!C110 -> Мецлер Сергій Олександрович
C101: =Основний!C111 -> Мірошниченко Руслан Станіславович
C102: =Основний!C112 -> Мітрохін Максим Сергійович
C103: =Основний!C113 -> Міщенко Андрій Сергійович
C104: =Основний!C114 -> Мусієнко Руслан Миколайович
C105: =Основний!C115 -> Никоряк Василь Васильович
C106: =Основний!C116 -> Обихвіст Богдан Олександрович

Sheet Список
A1: № | B1: Звання | C1: ПІБ | D1: ІПН | E1: Примітка
A2: =Основний!A12 -> 1 | B2: =Основний!B12 -> солдат | C2: =Основний!C12 -> Алєксєєв Максим Олексійович | D2: =Основний!#REF! -> #REF!
A3: =Основний!A13 -> 2 | B3: =Основний!B13 -> солдат | C3: =Основний!C13 -> Андруневчин Михайло Олексійович | D3: =Основний!#REF! -> #REF!
A4: =Основний!A14 -> 3 | B4: =Основний!B14 -> солдат | C4: =Основний!C14 -> Артюх Марк Геннадійович | D4: =Основний!#REF! -> #REF!
A5: =Основний!A15 -> 4 | B5: =Основний!B15 -> солдат | C5: =Основний!C15 -> Архіпенко Станіслав Валерійович | D5: =Основний!#REF! -> #REF!
A6: =Основний!A16 -> 5 | B6: =Основний!B16 -> солдат | C6: =Основний!C16 -> Балагура Сергій Васильович | D6: =Основний!#REF! -> #REF!
A7: =Основний!A17 -> 6 | B7: =Основний!B17 -> солдат | C7: =Основний!C17 -> Бардичевський Микола Валентинович | D7: =Основний!#REF! -> #REF!
A8: =Основний!A18 -> 7 | B8: =Основний!B18 -> солдат | C8: =Основний!C18 -> Башкатов Євгеній Володимирович | D8: =Основний!#REF! -> #REF!
A9: =Основний!A19 -> 8 | B9: =Основний!B19 -> солдат | C9: =Основний!C19 -> Безценний Михайло Вітальйович | D9: =Основний!#REF! -> #REF!
A10: =Основний!A20 -> 9 | B10: =Основний!B20 -> солдат | C10: =Основний!C20 -> Береговий Максим Сергійович | D10: =Основний!#REF! -> #REF!
A11: =Основний!A21 -> 10 | B11: =Основний!B21 -> солдат | C11: =Основний!C21 -> Білецький Андрій Юрійович | D11: =Основний!#REF! -> #REF!
A12: =Основний!#REF! -> #REF! | B12: =Основний!#REF! -> #REF! | C12: =Основний!#REF! -> #REF! | D12: =Основний!#REF! -> #REF!
A13: =Основний!#REF! -> #REF! | B13: =Основний!#REF! -> #REF! | C13: =Основний!#REF! -> #REF! | D13: =Основний!#REF! -> #REF!
A14: =Основний!A22 -> 11 | B14: =Основний!B22 -> солдат | C14: =Основний!C22 -> Борбат Роман Ігорович | D14: =Основний!#REF! -> #REF!
A15: =Основний!A23 -> 12 | B15: =Основний!B23 -> солдат | C15: =Основний!C23 -> Бохун Дмитро Миколайович | D15: =Основний!#REF! -> #REF!
A16: =Основний!A24 -> 13 | B16: =Основний!B24 -> солдат | C16: =Основний!C24 -> Бурдин Михайло Володимирович | D16: =Основний!#REF! -> #REF!
A17: =Основний!A25 -> 14 | B17: =Основний!B25 -> солдат | C17: =Основний!C25 -> Бурлака Сергій Анатолійович | D17: =Основний!#REF! -> #REF!
A18: =Основний!A26 -> 15 | B18: =Основний!B26 -> молодший сержант | C18: =Основний!C26 -> Бурлака Сергій Ілліч | D18: =Основний!#REF! -> #REF!
A19: =Основний!A27 -> 16 | B19: =Основний!B27 -> солдат | C19: =Основний!C27 -> Бут Олег Васильович | D19: =Основний!#REF! -> #REF!
A20: =Основний!A28 -> 17 | B20: =Основний!B28 -> солдат | C20: =Основний!C28 -> Варус Сергій Васильович | D20: =Основний!#REF! -> #REF!
A21: =Основний!A29 -> 18 | B21: =Основний!B29 -> солдат | C21: =Основний!C29 -> Васілів Володимир Володимирович | D21: =Основний!#REF! -> #REF!
A22: =Основний!A30 -> 19 | B22: =Основний!B30 -> солдат | C22: =Основний!C30 -> Вербіцький Тарас Ігорович | D22: =Основний!#REF! -> #REF!
A23: =Основний!A31 -> 20 | B23: =Основний!B31 -> солдат | C23: =Основний!C31 -> Веретенніков Дмитро Леонідович | D23: =Основний!#REF! -> #REF!
A24: =Основний!A32 -> 21 | B24: =Основний!B32 -> солдат | C24: =Основний!C32 -> Винничук Василь Степанович | D24: =Основний!#REF! -> #REF!
A25: =Основний!A33 -> 22 | B25: =Основний!B33 -> солдат | C25: =Основний!C33 -> Вігріян Олег Вікторович | D25: =Основний!#REF! -> #REF!
... A101: =Основний!A109 -> 98 | B101: =Основний!B109 -> солдат | C101: =Основний!C109 -> Мельничук Дмитрій Володимирович | D101: =Основний!#REF! -> #REF!

Sheet Перевірка
A1: {=Основний!A10:A173} -> № з/п | B1: {=CONCATENATE("", Основний!C10:C173)} -> Прізвище ім'я та по батькові | C1: {=CONCATENATE("", TEXT(Основний!F10:F173,"dd.mm.yyyy"))} -> Дата народження | D1: {=CONCATENATE("", Основний!#REF!)} -> #REF! | E1: Перевірка | F1: {=CONCATENATE("", Основний!#REF!)} -> #REF! | G1: Перевірка | H1: {=CONCATENATE("", Основний!#REF!)} -> #REF! | I1: Перевірка | J1: Алфавітка | K1: Д = А | L1: Поіменний Список | M1: Д = ПС | N1: А = ПС
A2: 0 | C2: 00.01.1900 | J2: - | K2: - | L2: - | M2: - | N2: - | O2: =DATEVALUE(C2) <> INT(LEFT(D2,5)) +1 -> #VALUE!
A3: 1 | B3: Алєксєєв Максим Олексійович | C3: 11.04.1999 | E3: =IF(D3="", "", LEN(D3)) | G3: =IF(F3="", "", LEN(F3)) | I3: =IF(H3="", "", LEN(H3)) | J3: Антоненко Руслан Олександрович | K3: =IF(J3="", "", B3=J3) -> FALSE | M3: =IF(L3="", "", B3=L3) | N3: =IF(L3="", "", J3=L3) | O3: =DATEVALUE(C3) <> INT(LEFT(D3,5)) +1 -> #VALUE! | P3: =DATEVALUE(C3) -> 36261
A4: 2 | B4: Андруневчин Михайло Олексійович | C4: 17.06.1990 | E4: =IF(D4="", "", LEN(D4)) | G4: =IF(F4="", "", LEN(F4)) | I4: =IF(H4="", "", LEN(H4)) | J4: Баранов Дмитро Геннадійович | K4: =IF(J4="", "", B4=J4) -> FALSE | M4: =IF(L4="", "", B4=L4) | N4: =IF(L4="", "", J4=L4) | O4: =DATEVALUE(C4) <> INT(LEFT(D4,5)) +1 -> #VALUE!
A5: 3 | B5: Артюх Марк Геннадійович | C5: 15.10.1995 | E5: =IF(D5="", "", LEN(D5)) | G5: =IF(F5="", "", LEN(F5)) | I5: =IF(H5="", "", LEN(H5)) | J5: Боровик Юрій Володимирович | K5: =IF(J5="", "", B5=J5) -> FALSE | M5: =IF(L5="", "", B5=L5) | N5: =IF(L5="", "", J5=L5) | O5: =DATEVALUE(C5) <> INT(LEFT(D5,5)) +1 -> #VALUE!
A6: 4 | B6: Архіпенко Станіслав Валерійович | C6: 19.08.1999 | E6: =IF(D6="", "", LEN(D6)) | G6: =IF(F6="", "", LEN(F6)) | I6: =IF(H6="", "", LEN(H6)) | J6: Горбатенко Олександр Олегович | K6: =IF(J6="", "", B6=J6) -> FALSE | M6: =IF(L6="", "", B6=L6) | N6: =IF(L6="", "", J6=L6)
A7: 5 | B7: Балагура Сергій Васильович | C7: 20.09.1984 | E7: =IF(D7="", "", LEN(D7)) | G7: =IF(F7="", "", LEN(F7)) | I7: =IF(H7="", "", LEN(H7)) | J7: Жестовський Сергій Сергійович | K7: =IF(J7="", "", B7=J7) -> FALSE | M7: =IF(L7="", "", B7=L7) | N7: =IF(L7="", "", J7=L7)
A8: 6 | B8: Бардичевський Микола Валентинович | C8: 14.02.1986 | E8: =IF(D8="", "", LEN(D8)) | G8: =IF(F8="", "", LEN(F8)) | I8: =IF(H8="", "", LEN(H8)) | J8: Ісаков Олександр Сергійович | K8: =IF(J8="", "", B8=J8) -> FALSE | M8: =IF(L8="", "", B8=L8) | N8: =IF(L8="", "", J8=L8)
A9: 7 | B9: Башкатов Євгеній Володимирович | C9: 15.07.1992 | E9: =IF(D9="", "", LEN(D9)) | G9: =IF(F9="", "", LEN(F9)) | I9: =IF(H9="", "", LEN(H9)) | J9: Клімчук Олександр Олександрович | K9: =IF(J9="", "", B9=J9) -> FALSE | M9: =IF(L9="", "", B9=L9) | N9: =IF(L9="", "", J9=L9)
A10: 8 | B10: Безценний Михайло Вітальйович | C10: 14.08.2000 | E10: =IF(D10="", "", LEN(D10)) | G10: =IF(F10="", "", LEN(F10)) | I10: =IF(H10="", "", LEN(H10)) | J10: Колесніков Сергій Сергійович | K10: =IF(J10="", "", B10=J10) -> FALSE | M10: =IF(L10="", "", B10=L10) | N10: =IF(L10="", "", J10=L10)
A11: 9 | B11: Береговий Максим Сергійович | C11: 11.05.1996 | E11: =IF(D11="", "", LEN(D11)) | G11: =IF(F11="", "", LEN(F11)) | I11: =IF(H11="", "", LEN(H11)) | J11: Опанасюк Ігор Петрович | K11: =IF(J11="", "", B11=J11) -> FALSE | M11: =IF(L11="", "", B11=L11) | N11: =IF(L11="", "", J11=L11)
A12: 10 | B12: Білецький Андрій Юрійович | C12: 19.09.1987 | E12: =IF(D12="", "", LEN(D12)) | G12: =IF(F12="", "", LEN(F12)) | I12: =IF(H12="", "", LEN(H12)) | J12: Ручин Дмитро Вікторович | K12: =IF(J12="", "", B12=J12) -> FALSE | M12: =IF(L12="", "", B12=L12) | N12: =IF(L12="", "", J12=L12)
A13: 11 | B13: Борбат Роман Ігорович | C13: 12.08.1999 | E13: =IF(D13="", "", LEN(D13)) | G13: =IF(F13="", "", LEN(F13)) | I13: =IF(H13="", "", LEN(H13)) | J13: Солоденко Анатолій Сергійович | K13: =IF(J13="", "", B13=J13) -> FALSE | M13: =IF(L13="", "", B13=L13) | N13: =IF(L13="", "", J13=L13)
A14: 12 | B14: Бохун Дмитро Миколайович | C14: 18.06.1987 | E14: =IF(D14="", "", LEN(D14)) | G14: =IF(F14="", "", LEN(F14)) | I14: =IF(H14="", "", LEN(H14)) | J14: Фістікан Василь Петрович | K14: =IF(J14="", "", B14=J14) -> FALSE | M14: =IF(L14="", "", B14=L14) | N14: =IF(L14="", "", J14=L14)
A15: 13 | B15: Бурдин Михайло Володимирович | C15: 21.10.1991 | E15: =IF(D15="", "", LEN(D15)) | G15: =IF(F15="", "", LEN(F15)) | I15: =IF(H15="", "", LEN(H15)) | J15: Чабан Михайло Григорович | K15: =IF(J15="", "", B15=J15) -> FALSE | M15: =IF(L15="", "", B15=L15) | N15: =IF(L15="", "", J15=L15)
A16: 14 | B16: Бурлака Сергій Анатолійович | C16: 23.02.1982 | E16: =IF(D16="", "", LEN(D16)) | G16: =IF(F16="", "", LEN(F16)) | I16: =IF(H16="", "", LEN(H16)) | K16: =IF(J16="", "", B16=J16) | M16: =IF(L16="", "", B16=L16) | N16: =IF(L16="", "", J16=L16)
A17: 15 | B17: Бурлака Сергій Ілліч | C17: 26.06.1983 | E17: =IF(D17="", "", LEN(D17)) | G17: =IF(F17="", "", LEN(F17)) | I17: =IF(H17="", "", LEN(H17)) | K17: =IF(J17="", "", B17=J17) | M17: =IF(L17="", "", B17=L17) | N17: =IF(L17="", "", J17=L17)
A18: 16 | B18: Бут Олег Васильович | C18: 27.12.1975 | E18: =IF(D18="", "", LEN(D18)) | G18: =IF(F18="", "", LEN(F18)) | I18: =IF(H18="", "", LEN(H18)) | K18: =IF(J18="", "", B18=J18) | M18: =IF(L18="", "", B18=L18) | N18: =IF(L18="", "", J18=L18)
A19: 17 | B19: Варус Сергій Васильович | C19: 10.05.1982 | E19: =IF(D19="", "", LEN(D19)) | G19: =IF(F19="", "", LEN(F19)) | I19: =IF(H19="", "", LEN(H19)) | K19: =IF(J19="", "", B19=J19) | M19: =IF(L19="", "", B19=L19) | N19: =IF(L19="", "", J19=L19)
A20: 18 | B20: Васілів Володимир Володимирович | C20: 24.01.1983 | E20: =IF(D20="", "", LEN(D20)) | G20: =IF(F20="", "", LEN(F20)) | I20: =IF(H20="", "", LEN(H20)) | K20: =IF(J20="", "", B20=J20) | M20: =IF(L20="", "", B20=L20) | N20: =IF(L20="", "", J20=L20)
A21: 19 | B21: Вербіцький Тарас Ігорович | C21: 16.09.1991 | E21: =IF(D21="", "", LEN(D21)) | G21: =IF(F21="", "", LEN(F21)) | I21: =IF(H21="", "", LEN(H21)) | K21: =IF(J21="", "", B21=J21) | M21: =IF(L21="", "", B21=L21) | N21: =IF(L21="", "", J21=L21)
A22: 20 | B22: Веретенніков Дмитро Леонідович | C22: 15.11.1981 | E22: =IF(D22="", "", LEN(D22)) | G22: =IF(F22="", "", LEN(F22)) | I22: =IF(H22="", "", LEN(H22)) | K22: =IF(J22="", "", B22=J22) | M22: =IF(L22="", "", B22=L22) | N22: =IF(L22="", "", J22=L22)
A23: 21 | B23: Винничук Василь Степанович | C23: 11.04.1985 | E23: =IF(D23="", "", LEN(D23)) | G23: =IF(F23="", "", LEN(F23)) | I23: =IF(H23="", "", LEN(H23)) | K23: =IF(J23="", "", B23=J23) | M23: =IF(L23="", "", B23=L23) | N23: =IF(L23="", "", J23=L23)
A24: 22 | B24: Вігріян Олег Вікторович | C24: 18.04.1980 | E24: =IF(D24="", "", LEN(D24)) | G24: =IF(F24="", "", LEN(F24)) | I24: =IF(H24="", "", LEN(H24)) | K24: =IF(J24="", "", B24=J24) | M24: =IF(L24="", "", B24=L24) | N24: =IF(L24="", "", J24=L24)
A25: 23 | B25: Вознюк Олексій Олександрович | C25: 28.11.1988 | E25: =IF(D25="", "", LEN(D25)) | G25: =IF(F25="", "", LEN(F25)) | I25: =IF(H25="", "", LEN(H25)) | K25: =IF(J25="", "", B25=J25) | M25: =IF(L25="", "", B25=L25) | N25: =IF(L25="", "", J25=L25)
A26: 24 | B26: Воїнов Максим Олегович | C26: 19.08.1994 | E26: =IF(D26="", "", LEN(D26)) | G26: =IF(F26="", "", LEN(F26)) | I26: =IF(H26="", "", LEN(H26)) | K26: =IF(J26="", "", B26=J26) | M26: =IF(L26="", "", B26=L26) | N26: =IF(L26="", "", J26=L26)
A27: 25 | B27: Волинець Сергій Григорович | C27: 21.02.1985 | E27: =IF(D27="", "", LEN(D27)) | G27: =IF(F27="", "", LEN(F27)) | I27: =IF(H27="", "", LEN(H27)) | K27: =IF(J27="", "", B27=J27) | M27: =IF(L27="", "", B27=L27) | N27: =IF(L27="", "", J27=L27)
... A163: 161 | B163: Дураненко Олександр Володимирович | C163: 18.08.1979 | E163: =IF(D163="", "", LEN(D163)) | G163: =IF(F163="", "", LEN(F163)) | I163: =IF(H163="", "", LEN(H163)) | K163: =IF(J163="", "", B163=J163) | M163: =IF(L163="", "", B163=L163) | N163: =IF(L163="", "", J163=L163)
A164: 0 | C164: 00.01.1900 | E164: =IF(D164="", "", LEN(D164)) | G164: =IF(F164="", "", LEN(F164)) | I164: =IF(H164="", "", LEN(H164)) | K164: =IF(J164="", "", B164=J164) | M164: =IF(L164="", "", B164=L164) | N164: =IF(L164="", "", J164=L164)
E165: =IF(D165="", "", LEN(D165)) | G165: =IF(F165="", "", LEN(F165)) | I165: =IF(H165="", "", LEN(H165)) | K165: =IF(J165="", "", B165=J165) | M165: =IF(L165="", "", B165=L165) | N165: =IF(L165="", "", J165=L165)
E166: =IF(D166="", "", LEN(D166)) | G166: =IF(F166="", "", LEN(F166)) | I166: =IF(H166="", "", LEN(H166)) | K166: =IF(J166="", "", B166=J166) | M166: =IF(L166="", "", B166=L166) | N166: =IF(L166="", "", J166=L166)
E167: =IF(D167="", "", LEN(D167)) | G167: =IF(F167="", "", LEN(F167)) | I167: =IF(H167="", "", LEN(H167)) | K167: =IF(J167="", "", B167=J167) | M167: =IF(L167="", "", B167=L167) | N167: =IF(L167="", "", J167=L167)
E168: =IF(D168="", "", LEN(D168)) | G168: =IF(F168="", "", LEN(F168)) | I168: =IF(H168="", "", LEN(H168)) | K168: =IF(J168="", "", B168=J168) | M168: =IF(L168="", "", B168=L168) | N168: =IF(L168="", "", J168=L168)
E169: =IF(D169="", "", LEN(D169)) | G169: =IF(F169="", "", LEN(F169)) | I169: =IF(H169="", "", LEN(H169)) | K169: =IF(J169="", "", B169=J169) | M169: =IF(L169="", "", B169=L169) | N169: =IF(L169="", "", J169=L169)
E170: =IF(D170="", "", LEN(D170)) | G170: =IF(F170="", "", LEN(F170)) | I170: =IF(H170="", "", LEN(H170)) | K170: =IF(J170="", "", B170=J170) | M170: =IF(L170="", "", B170=L170) | N170: =IF(L170="", "", J170=L170)
E171: =IF(D171="", "", LEN(D171)) | G171: =IF(F171="", "", LEN(F171)) | I171: =IF(H171="", "", LEN(H171)) | K171: =IF(J171="", "", B171=J171) | M171: =IF(L171="", "", B171=L171) | N171: =IF(L171="", "", J171=L171)
E172: =IF(D172="", "", LEN(D172)) | G172: =IF(F172="", "", LEN(F172)) | I172: =IF(H172="", "", LEN(H172)) | K172: =IF(J172="", "", B172=J172) | M172: =IF(L172="", "", B172=L172) | N172: =IF(L172="", "", J172=L172)
E173: =IF(D173="", "", LEN(D173)) | G173: =IF(F173="", "", LEN(F173)) | I173: =IF(H173="", "", LEN(H173)) | K173: =IF(J173="", "", B173=J173) | M173: =IF(L173="", "", B173=L173) | N173: =IF(L173="", "", J173=L173)
E174: =IF(D174="", "", LEN(D174)) | G174: =IF(F174="", "", LEN(F174)) | I174: =IF(H174="", "", LEN(H174)) | K174: =IF(J174="", "", B174=J174) | M174: =IF(L174="", "", B174=L174) | N174: =IF(L174="", "", J174=L174)
E175: =IF(D175="", "", LEN(D175)) | G175: =IF(F175="", "", LEN(F175)) | I175: =IF(H175="", "", LEN(H175)) | K175: =IF(J175="", "", B175=J175) | M175: =IF(L175="", "", B175=L175) | N175: =IF(L175="", "", J175=L175)
E176: =IF(D176="", "", LEN(D176)) | G176: =IF(F176="", "", LEN(F176)) | I176: =IF(H176="", "", LEN(H176)) | K176: =IF(J176="", "", B176=J176) | M176: =IF(L176="", "", B176=L176) | N176: =IF(L176="", "", J176=L176)
... E202: =IF(D202="", "", LEN(D202)) | G202: =IF(F202="", "", LEN(F202)) | I202: =IF(H202="", "", LEN(H202)) | K202: =IF(J202="", "", B202=J202) | M202: =IF(L202="", "", B202=L202) | N202: =IF(L202="", "", J202=L202)
K203: =IF(J203="", "", B203=J203)
K204: =IF(J204="", "", B204=J204)
K205: =IF(J205="", "", B205=J205)
K206: =IF(J206="", "", B206=J206)
K207: =IF(J207="", "", B207=J207)
K208: =IF(J208="", "", B208=J208)
K209: =IF(J209="", "", B209=J209)
K210: =IF(J210="", "", B210=J210)
K211: =IF(J211="", "", B211=J211)
K212: =IF(J212="", "", B212=J212)
K213: =IF(J213="", "", B213=J213)
K214: =IF(J214="", "", B214=J214)
... K627: =IF(J627="", "", B627=J627)

Sheet Аркуш1
C2: `=MOD(MOD(-MID(D2;1;1) + MID(D2;2;1)*5 + MID(D2;3;1)*7 + MID(D2;4;1)*9 + MID(D2;5;1)*4 + MID(D2;6;1)*6 + MID(D2;7;1)*10 + MID(D2;8;1)*5 + MID(D2;9;1)*7; 11);10) <> VALUE( MID(D2;10;1))
C6: `=DATEVALUE( C2) <> INT(LEFT(D2;5)) +1

Sheet Алфавітки
A1: № з/п | B1: В/звання | D1: Місце народження | E1: адреса (фактична) | F1: Освіта | G1: склад сім’ї | H1: № телефону
A2: 1 | B2: солдат | C2: Антоненко Руслан Олександрович | D2: Миколаївська обл. Миколаївський р-н, с. Весняне | E2: м. Миколаїв вул. Айвазовського буд. 6 кв. 809-809 | F2: середня-спеціальна, ПТУ №1 м. Миколаїв 2005 судобудівельник, зварювальник (права категорії Б, ФОП Парус, будівельник 18р.) | G2: Розлучений Мати: Калага Лідія Миронівна, м. Миколаїв вул. Айвазовського буд. 6 кв. 809-809, 0663420925 | H2: 660263238
A3: 8 | B3: солдат | C3: Баранов Дмитро Генащдійович | D3: с. Кірове Базарський р-н Херсонської обл. | E3: Херсонської обл. Базарський р-н, с. Олександрівка вул. Мельнична 5 | F3: середньо-спеціальна Судобудівельний ліцей 2018р. Зварювальник Содозбірник (Категорія прав Б, С1, С, СЕ, далекобійник 4р.) | G3: неодружений Батько: Баранов Генадій Анатолійович Херсонської обл. Базарський р-н, с. Олександрівка вул. Мельнична 5, тел. 0668290286 | H3: 505059149
A4: 12 | B4: солдат | C4: Боровик Юрій Володимирович | D4: м. Миколаїв | E4: м. Миколаїв вул. Восьма Лінія буд. 68 | F4: середньо-спеціальна Теплодарський професійний ліцей 2011р. Кухар (категорія прав Б, автоелектрик 1р) | G4: цивільний шлюб Цивільна дружина: Голубченко Юлія Вадимівна, м. Миколаїв вул. Восьма Лінія буд. 68, тел. 0950975840 | H4: 993803701
A5: 7 | B5: солдат | C5: Горбатенко Олександр Олегович | D5: м. Миколаїв | E5: м. Миколаїв вул. Архітектора Староба 3 кв.1 | F5: повна середня ЗОШ № 64 2009р.(кухар 7р) | G5: неодружений Бабуся: Горбатенко Людмила Іванівна м. Миколаїв вул. Архітектора Староба 6б кв. 24, тел. 0966366295 | H5: 677153559
A6: 4 | B6: солдат | C6: Жестовський Сергій Сергійович | D6: Миколаївська обл. Первомайський р-н, с. Новопавлівка | E6: Миколаївська обл. Первомайський р-н, с. Новопавлівка вул. Роднікова 18 | F6: середньо-спеціальна Одеський професійний ліцей морського транспорту 2008р. електрозварювальник (категорія прав Б, Будівельник 2р.) | G6: Одружений Дружина: Жестовська Ірина Анатоліївна Миколаївська обл. Первомайський р-н, с. Новопавлівка вул. Роднікова 18, 0974890880 | H6: 683977036
A7: 6 | B7: солдат | C7: Ісаков Олександ Сергійович | D7: Кропивницька обл. Новоархангельський р-н с. Скалівські Хутори | E7: Миколаївська обл. Баштанський р-н с. Поляне, вул. Садова, буд. 22 | F7: середньо-спеціальна ЧПБЛ №4 2013р. Маляр-штукатур (Фермерське господарство немировський) | G7: Одружений Дружина: Ісакова Оксана Миколаївна, Миколаївська обл. Баштанський р-н с. Поляне, вул. Садова, буд. 22, тел. 0988180989 | H7: 682269805
A8: 13 | B8: солдат | C8: Клімчкук Олександ Олександрович | D8: Вінницька обл. Хмільницький р-н, смт Бродецьке | E8: Вінницька обл. Хмільницький р-н, смт Бродецьке вул. Першотравнева 72 | F8: повна середня ЗОШ смт. Бродецьке 2007р. (Мясний мультикомплекс транспортувальник 1р.) | G8: одружений Дружина: Клімчук Алла Вадимівна, Вінницька обл. Хмільницький р-н, смт Бродецьке вул. Першотравнева 72, тел. 0631960845 | H8: 990631915
A9: 9 | B9: солдат | C9: Колесніков Сергій Сергійович | D9: с. Балтазарівка Чуплинський р-н, Херсонської обл. | E9: Микорлаївська обл. м. Первомайськ вул. Марія Демченка 33 | F9: середньо-спеціальна Електротехнічний ліцей №7 2013р.електрогазозварювальник (пожежний рятувальник 3р.) | G9: одружений Дружина: Колеснікова Ганна Миколаївна, Микорлаївська обл. м. Первомайськ вул. Марія Демченка 33, тел. 0683767312 | H9: 956741071
A10: 3 | B10: солдат | C10: Опанасюк Ігор Перрович | D10: Миколаївська обл. м. Новий Буг | E10: Миколаївська обл. Новобузький р-н с. Нова Хрестофорівка буд. 65 | F10: середньо-спеціальна Новобузький аграрний професійний ліцей 2013р. (права категорії Б, С, СЕ, Фермерське господарство Орбіта Водій) | G10: Розлучений Мати: Опанасюк Валентина Ігорівна, Миколаївська обл. Новобузький р-н с. Нова Хрестофорівка буд. 65, тел. 0508511843 | H10: 934248356
A11: 11 | B11: солдат | C11: Ручин Дмитро Вікторович | D11: Миколаївська обл. м. Баштанка | E11: Миколаївська обл. м. Баштанка вул. Грушевського 46 | F11: середньо-спеціальна ПТУ №9 м. Баштанка 2015р. Кухар (пекарня 1р) | G11: неодружений Мати: Дмитренко Алла Петрівна, Миколаївська обл. м. Баштанка вул. Грушевського 46, тел, 0636322801 | H11: 983438936
A12: 5 | B12: солдат | C12: Солоденко Анатолій Сергійович | D12: Миколаївська обл. Вознесенський р-н, с. Яструбинове | E12: Миколаївська обл. Вознесенський р-н, с. Яструбинове вул. Першотравнева 20 | F12: середньо-спеціальна ПТУ №18 2016р. будівельник (Гружчик 1р.) | G12: неодружений Сестрат: Черемуха Анастасія Сергіївна, тел. 0985362292 | H12: 938839470
A13: 2 | B13: солдат | C13: Фістікан Василь Петрович | D13: Миколаївська обл. Первомайський р-н, с. Софіївка | E13: Миколаївська обл. Первомайський р-н, с. Синюшин Брід, вул. Перемоги 38 | F13: середньо-спеціальна ПТУ №22 м. Первомайськ 2018р. Маляр-Штукатур (Сканувальник на новій пошті) | G13: Неодружений Мати: Фістікан Марія Вікторівна, Миколаївська обл. Первомайський р-н, с. Синюшин Брід, вул. Молодіжна 8, тел. 0967926486 | H13: 967927329
A14: 10 | B14: солдат | C14: Чабан Михайло Григорович | D14: Миколаївська обл. Березанського р-н, с. Новоподілля | E14: м. Миколаїв, 12 Повздовжня 47а, кв. 59 | F14: середньо-спеціальна ліцей №13 2012р. Автослюсар (СТО 9р) | G14: одружений Дружина: Чабан Влада Владиславівна, м. Миколаїв, 12 Повздовжня 47а, кв. 59, тел. 0971910656 | H14: 967953093
A15: 14 | B15: солдат
A16: 15 | B16: солдат
A17: 16 | B17: солдат
A18: 17 | B18: солдат
A19: 18 | B19: солдат
A20: 19 | B20: солдат
A21: 20 | B21: солдат
A22: 21 | B22: солдат
A23: 22 | B23: солдат
A24: 23 | B24: солдат
A25: 24 | B25: солдат
A26: 25 | B26: солдат
... A101: 100 | B101: солдат
