Workbook

Sheet Основний
V2: Додаток
V3: (Форма 5.10. ОС)
A4: ДОНЕСЕННЯ
A5: про зарахування військовослужбовців військової служби за контрактом на навчання до навчального центру (ВВНЗ, ВНП ЗВО)
A6: військова частина А2900
A7: найменування навчального центру (ВВНЗ, ВНЗ ЗВО)
A9: 1. Список військовослужбовців військової служби за контрактом, які зараховані на навчання
A10: № з/п | B10: Військове звання | C10: Прізвище ім'я та по батькові | D10: Військова частина, ТЦК та СП | E10: Область | F10: Дата народження | G10: ідентифікаційний код | H10: військовий квиток | I10: Паспорт, ким і коли виданий | J10: Місце народження | K10: адреса (фактична) | L10: Рівень освіти | M10: Заклад який закінчив Рік закінчення Професія | N10: Професійний досвід Права | O10: склад сім’ї | P10: № телефону | Q10: ВОС (попередній) | R10: Спеціальність, за якою зарахований на навчання | U10: Дата зарахування | V10: № наказу про зарахування | W10: присяга | X10: Дата висновку ВЛК | Y10: Придатність | Z10: Група крові | AA10: З якої частини прибув (для курсантів з бригад) | AB10: Примітка | AC10: Де знаходиться
R11: посада | S11: ВОС | T11: код посади
A12: 1 | B12: солдат | C12: Айб Руслан Ігорович | D12: Ніжинський РТЦК та СП у Чернігівській обл. 14 серпня 2025 року | E12: Чернігівська | F12: 38702 | G12: 3870108631 | H12: Військово-обліковий документ | I12: 011999494 виданий 5310 25.06.2025 | J12: Полтавська обл., Шишацький р-н, с. Воскобійники | K12: Полтавська обл, Миргородський р-н, с. Вертелецьке, вул. Центральна, буд. 14 | L12: повна загальна середня | M12: ЗОШ I-III ст. у с. Воскобійники, 2023р | N12: охоронець, різноробочий | O12: мати: Сергійчук Надія Олександрівна, (1985рн), Полтавська обл., Миргородський р-н, с. Воскобійники, вул. Освітянська, буд. 30, 0951447055 вітчим: Сергійчук Олександр Валерійович, Полтавська обл., Миргородський р-н, с. Воскобійники, вул. Освітянська, буд. 30, 0505491569 | P12: 0508675220 | R12: курсант | S12: 100 | U12: 14.08.2025 №246-РС | V12: №246-РС | W12: =IF(C12="","",IF(Q12="","ні","так")) -> ні | X12: 45881 | Y12: Придатний до військової служби | Z12: I Rh - | AA12: ТЦК
A13: 2 | B13: солдат | C13: Антонович В'ячеслав Васильович | D13: Житомирський ОМТЦК та СП в м. Житомир 15 серпня 2025 року | E13: Житомирська | F13: 32273 | G13: 3227217172 | H13: АГ 168641 | I13: ВН 259143 Житомирським МВ УМВС УКР в Житомирській обл 11.05.2004 | J13: м. Житомир | K13: м. Житомир вул. Малікова буд. 2 кв. 110 | L13: базова загальна середня | M13: - | N13: не працював | O13: неодружений мати: Антонович Наталья Василівна - 1970 - 0963606931 - м. Житомир вул. Малікова буд. 2 кв. 110 | P13: 0685527532 | R13: курсант | S13: 100 | U13: 45884 | V13: № 234 | W13: =IF(C13="","",IF(Q13="","ні","так")) -> ні | X13: 45883 | Y13: Придатний до служби на підводних човнох, на надводних кораблях, у морській піхоті, Десантно-штурмових військах, спеціальних спорудах, підрозділах спеціального призначення | AA13: ТЦК
A14: 3 | B14: солдат | C14: Базилевич Максим Олександрович | D14: Полтавський ОМТЦК та СП у м. Полтава 17 серпня 2025 року | E14: Полтавська | F14: 32690 | G14: 3268912293 | H14: АВ 172221 | I14: КО 617398 Лубенським МРВ УМВС УКР в Полтавській обл 18.07.2005 | J14: Полтавська обл м. Лубни | K14: м. Полтава вул Баленка буд 5 кв 87 | L14: вища | M14: КНЕУ ім Вадима Гетьмана 2011 економіст | N14: представник торгівельний 14 років | O14: одружений дружина : Базилевич Діана Юріївна - 03.09.1996 - 0957356194 - м. Полтава вул Баленка буд 5 кв 87 | P14: 0995312884 | Q14: 900 053А | R14: курсант | S14: 100 | U14: 45886 | V14: № 236 | W14: =IF(C14="","",IF(Q14="","ні","так")) -> так | X14: 45885 | Y14: Придатний до військової служби | Z14: II Rh + | AA14: ТЦК
A15: 4 | B15: солдат | C15: Балацький Микола Анатолійович | D15: Кременчуцький РТЦК та СП у Полтавській обл. 15 серпня 2025 року | E15: Полтавська | F15: 31443 | G15: 3144208030 | H15: АВ957593 | I15: ЕА996938 Світловодським МРВ УМВС України в Кіровоградській обл. 20.05.2003 | J15: Кіровоградська обл. м. Світловодськ | K15: Кіровоградська обл. м. Світловодськ вул. Героїв України буд. 41 кв. 129 | L15: професійно- технічна | M15: СТРП м. Світловодськ 2001 технік-програмист | N15: ФОП (ремонт авто) - 20 років Права Б | O15: неодружений донька: Балацька Марія Миколаївна - 2007 - 0969201892 - м. Світловодськ вул. Героїв України буд. 41 кв. 129 | P15: 0672569931 | R15: курсант | S15: 100 | U15: 45884 | V15: № 234 | W15: =IF(C15="","",IF(Q15="","ні","так")) -> ні | X15: 45883 | Y15: Придатний до військової служби | Z15: I Rh + | AA15: ТЦК | AB15: А2120 по розподілу рекомендаційний лист
A16: 5 | B16: старший солдат | C16: Барабаш Олександр Сергійович | D16: Полтавський ОМТЦК та СП у м. Полтава 16 серпня 2025 року | E16: Полтавська | F16: 31060 | G16: 3105913413 | H16: МО738589 | I16: КО180550 Октябрським РВ ПМУ УМВС України в Полтавській обл. 29.01.2001 | J16: м. Полтава | K16: м. Полтава вул. Європейська буд 147 кв. 36 | L16: професійно- технічна | M16: ПКТ м. Полтава 2003 товарознавець | N16: Мебляр - 15 років Права Б | O16: неодружений брат: Барабаш Віктор Сергійович - 1986 - 0950923228 - м. Полтава вул. Європейська буд 147 кв. 36 | P16: 0955978537 | Q16: 474840Р | R16: курсант | S16: 100 | U16: 45885 | V16: № 235 | W16: так | X16: 45884 | Y16: Придатний до військової служби | Z16: I Rh + | AA16: ТЦК
A17: 6 | B17: солдат | C17: Батура Віктор Сергійович | D17: Полтавський РТЦК та СП у м. Полтава 14 серпня 2025 року | E17: Полтавська | F17: 35773 | G17: 3577210396 | H17: АВ 953044 | I17: КО 947895 Глобинським РС УДМС УКР в Полтавській обл 18.12.2013 | J17: Полтавська область, Глобинський район, с. Малинівка | K17: вул. Крамського 2, м. Полтава | L17: вища | M17: Полтавський аграрний інститут, 2019, Інженер сільсько господарської техніки | N17: Будівельник 10 років | O17: неодружений, мати: Даценко Алла Олексіївна - 0968398894, м. Глобино; сестра: Лещенко Єлизавета Сергіївна - 0689734287 - м. Полтава | P17: 0985986153 | R17: курсант | S17: 100 | U17: 45883 | V17: № 233 | W17: =IF(C17="","",IF(Q17="","ні","так")) -> ні | X17: 45882 | Y17: Придатний до служби на підводних човнох, на надводних кораблях, у морській піхоті, Десантно-штурмових військах, спеціальних спорудах, підрозділах спеціального призначення | AA17: ТЦК
A18: 7 | B18: солдат | C18: Белінський Сергій Юрійович | D18: Житомирський ОМТЦК та СП в м. Житомир 15 серпня 2025 року | E18: Житомирська | F18: 33583 | G18: 3358218091 | H18: АГ 168639 | I18: ВН 440083 Богунським РВ УМВС УКР в Житомирській обл 27.09.2008 | J18: м. Житомир | K18: м. Житомир вул Синельниківська буд 14 кв 159 | L18: вища | M18: ПУЕТ 2014 технолог | N18: перукар 12 років | O18: одружений дружини: Белінська Анастасія Олегівна - 15.07.1998 - 0938124988 - м. Житомир вул Синельниниківська буд 14 кв 159 | P18: 0991189911 | R18: курсант | S18: 100 | U18: 45884 | V18: № 234 | W18: =IF(C18="","",IF(Q18="","ні","так")) -> ні | X18: 45884 | Y18: Придатний до служби на підводних човнох, на надводних кораблях, у морській піхоті, Десантно-штурмових військах, спеціальних спорудах, підрозділах спеціального призначення | AA18: ТЦК | AB18: А2298 по розподілу рекомендаційний лист (барбер)
A19: 8 | B19: солдат | C19: Бережний Євгеній Олегович | D19: Миргородський РТЦК та СП у Полтавській обл. 14 серпня 2025 року | E19: Полтавська | F19: 34751 | G19: 3475012057 | H19: АВ 956834 | I19: 004876368 | J19: Донецька обл.м.Славянськ | K19: Полтавська обл.м.Лохвиця вул.Лесі Украінки 9 | L19: професійно- технічна | M19: Ромницьке ВПУ у 2016 електромеханік | N19: продавець консультант 3 роки | O19: неодружений мати:Харченко Оксана Олександрівна-1973-0955536441-Полтавська обл.м.Лохвиця вул.Лесі Украінки 9 вітчим:Харченко Олександр Олексійович-1972-0666224233-Полтавська обл.м.Лохвиця вул.Лесі Украінки 9 | P19: 0682701392 | R19: курсант | S19: 100 | U19: 45883 | V19: № 233 | W19: =IF(C19="","",IF(Q19="","ні","так")) -> ні | X19: 45882 | Y19: Придатний до військової служби | Z19: IV Rh + | AA19: ТЦК
A20: 9 | B20: солдат | C20: Білоус Сергій Олегович | D20: Черкаський РТЦК та СП у м. Черкаси 16 серпня 2025 року | E20: Черкаська | F20: 34479 | G20: 3447814437 | H20: АГ006855 | I20: 004240947 виданий 7119 22.11.2019 | J20: Кіровоградська обл с Красносілля | K20: Черкаська обл м Кам'янка вул Ярослава Мудрого буд 60 | L20: професійно- технічна | M20: ДНЗ ЦППРК №12 2013 маляр штукатур | N20: маляр штукатур 2 роки | O20: неодружений брат: Білоус Віталій Олегович - 24.01.1999 - 0997693556 - Черкаська обл м Кам'янка вул Ярослава Мудрого буд 60 мати: Ковиряга Тетяна Михайлівна - 03.11.1978 - 0635315582 - Чехія | P20: 0995395407 | R20: курсант | S20: 100 | U20: 45885 | V20: № 235 | W20: ні | X20: 45884 | Y20: Придатний до військової служби | Z20: II Rh + | AA20: ТЦК
A21: 10 | B21: солдат | C21: Бірюков Євген Анатолійович | D21: Звенигородський РТЦК та СП у Черкаській обл. 14 серпня 2025 року | E21: Черкаська | F21: 33628 | G21: 3362702414 | H21: АГ607466 | I21: ВК534270 Великоновосілківським РВ ГУ МВС України в Донецькій обл. 11.09.2008 | J21: Великоновосільківський район, Донецька область, с. Шевченка | K21: Черкаська область, Тальнівський район, с. Лісове, вул. Зільниця, буд. 28 | L21: професійно- технічна | M21: ПТУ Великоновосільківський район, 2010, тракторист | N21: різноробочий 10 років | O21: одружений, жінка: Бірюкова Катерина Григорівна, Черкаська область, Тальнівський район, с. Лісове, вул. Зільниця, буд. 28 | P21: 0978269441 | R21: курсант | S21: 100 | U21: 45883 | V21: № 233 | W21: так | X21: 45882 | Y21: Придатний до військової служби | Z21: II Rh - | AA21: ТЦК | AB21: А0281 по розподілу рекомендаційний лист
A22: 11 | B22: солдат | C22: Бобровський Олександр Іванович | D22: Житомирський ОМТЦК та СП в м. Житомир 16 серпня 2025 року | E22: Житомирська | F22: 32537 | G22: 3253620012 | H22: Тимчасове посвідчення військовозобов'язаного "220220231745656600023 | I22: МЮ 079208 Корецьким РВ УМВС УКР в Рівненській обл 09.03.2006 | J22: Рівненська обл м. Корець | K22: Жиомирська обл м. Житомир вул Покровська 193 | L22: вища | M22: м. Дубно Відкритий вищик навч заклад унів розвитку 2010 діловодство секретарь коледж 2008 м. Рівне РДБЗ стоматологія ортопедична зубний технік | N22: зубний технік 12р права відсутні | O22: неодружений сестра: Бобровська Людмила Іванівана - 1989 - 0739909798 - Рівненська обл м. Корець вул Лесі УКР 24а. Мати: Бобровська Валентина Федорівна - 1957 - 0680452987 - | R22: курсант | S22: 100 | U22: 16.08.2025 №248-РС | V22: №248-РС | W22: =IF(C22="","",IF(Q22="","ні","так")) -> ні | X22: 45884 | Y22: Придатний до військової служби | Z22: II Rh + | AA22: ТЦК | AB22: А5060 по розподілу рекомендаційний лист
A23: 12 | B23: солдат | C23: Бондаренко Роман Ігорович | D23: Черкаський ОМТЦК та СП у м. Черкаси 17 серпня 2025 року | E23: Черкаська | F23: 33948 | G23: 3394716715 | H23: АГ 610686 | I23: ЕВ 220303 | J23: Кіровоградська обл, смт Капітанівка | K23: м.Черкаси, вул.Сумгаїтська 59, кв.76 | L23: вища | M23: Кіровоградський національний сільскогосподарський університет, 2015 | N23: менеджер з постачання, права Б, Ц | O23: одружений, Бондаренко Олена Володимирівна-1993- м.Черкаси, вул.Сумгаїтська 59, кв.76, тел-0977096731 | P23: 0987228744 | R23: курсант | S23: 100 | U23: 45886 | V23: № 236 | W23: =IF(C23="","",IF(Q23="","ні","так")) -> ні | X23: 45885 | Y23: Придатний до військової служби | AA23: ТЦК
A24: 13 | B24: молодший сержант | C24: Боришевський Олександр Петрович | D24: Роменський РТЦК та СП у Сумській обл. 16 серпня 2025 року | E24: Сумська | F24: 30121 | G24: 3012010737 | H24: МО351484 | I24: МА604703 Роменським МРВ УМВС України в Сумській обл. 02.02.1999 | J24: Сумська обл. м. Ромни | K24: Сумська обл. м. Ромни бульвар Свободи буд. 2 кв. 101 | L24: повна загальна середня | M24: ЗОШ | N24: Будівельник - 12 років | O24: неодружений мати: Боришевська Ніна Миколаївна - 1952 - 0979482530 - м. Ромни бульвар Свободи буд. 2 кв. 101 | P24: 0978112501 | Q24: 121144А | R24: курсант | S24: 100 | U24: 45885 | V24: № 235 | W24: так | X24: 45884 | Y24: Придатний до військової служби | Z24: II Rh + | AA24: ТЦК
A25: 14 | B25: солдат | C25: Бородій Володимир Васильович | D25: Коростенський РТЦК та СП у Житомирській обл. 14 серпня 2025 року | E25: Житомирська | F25: 31403 | G25: 3140211191 | H25: АГ169614 | I25: ВН071243 Овруцьким РВ УМВС України в Житомирській обл. 24.01.1986 | J25: Житомирська обл.м.Овруч | K25: Житомирська обл.м.Овруч вул.Мічуріна 10 кв.2 | L25: професійно- технічна | M25: ПТУ№35 м.Овруч у 2003 водій | N25: водій 18 років права А С | O25: дружина:Бородій Світлана Вікторівна-1981-0990938241-Житомирська обл.м.Овруч вул.Мічуріна 10 кв.2 | P25: - | R25: курсант | U25: 45883 | V25: =IF(B25="","",IF(P25="","ні","так")) -> так | W25: так | X25: 45882 | Y25: Придатний до військової служби | Z25: IV Rh + | AA25: ТЦК
A26: 15 | B26: старший солдат | C26: Бубало Олександр Сергійович | D26: Вінницький РТЦК та СП в м. Вінниця 16 серпня 2025 року | E26: Вінницька | F26: 36054 | G26: 3605308718 | H26: АГ143276 | I26: 010715096 виданий 0534 14.06.2024 | J26: Вінницька обл. с. Побережне | K26: Вінницька обл. м. Немирів вул. Садова буд. 23 | L26: професійно- технічна | M26: НПТУ м. Немирів 2017 електрогазозварювальник | N26: Кровельщик - 5 років Права Б | O26: одружений дружина: Бубало Анастасія Олександрівна - 2000 - 0675840717 - м. Немирів вул. Садова буд. 23 | P26: 0681258474 | Q26: 790037А | R26: курсант | S26: 100 | U26: 45885 | V26: № 235 | W26: так | X26: 45884 | Y26: Придатний до військової служби | AA26: ТЦК
A27: 16 | B27: солдат | C27: Будник Сергій Ігорович | D27: Полтавський ОМТЦК та СП у м. Полтава 17 серпня 2025 року | E27: Полтавська | F27: 36049 | G27: 3604802912 | H27: АВ 969136 | I27: 009865823 5301 31.10.2023 | J27: Полтавська обл с Сватки | K27: м. Полтава просп Віталія Грицаєнка буд 29кв 218 | L27: вища | M27: Полтавська політехніка ім. Ю. Кондратюка 2020 будівництво та цивільна інженерія | N27: реклама і ІТ 5 років Права Б | O27: неодружений мати: Бідник марина Григоріївна - 28.10.1977 - 0950214918 - Полтавська обл м. Гадяч пров Горний буд 9/1 дівчина: Коваленко Анна Михайлівна - 01.07.2000 - 0660643255 - м. Полтава вул Сковороди буд 2В | P27: 0994801940 | R27: курсант | S27: 100 | U27: 45886 | V27: № 236 | W27: =IF(C27="","",IF(Q27="","ні","так")) -> ні | X27: 45885 | Y27: Придатний до військової служби | AA27: ТЦК
A28: 17 | B28: солдат | C28: Бумар Антон Миколайович | D28: Черкаський РТЦК та СП у м. Черкаси 16 серпня 2025 року | E28: Черкаська | F28: 36743 | G28: 3674207816 | H28: АГ607948 | I28: НЕ780739 Канівським РС УДМС України в Черкаській обл. 11.08.2016 | J28: Черкаська обл. м. Канів | K28: Черкаська обл. Канівськай район с. Малий Ржавець вул. Хутірська буд. 10 | L28: професійно- технічна | M28: Колдеж м. Черкаси 2019 Ремонт автомобілів | N28: Налагоджувальник устаткування - 5 років Права Б | O28: одружений дружина: Бумар Олександра Миколаївна - 2003 - 0951888792 - с. Малий Ржавець вул. Хутірська буд. 10 | P28: 0636532154 | R28: курсант | S28: 100 | U28: 45885 | V28: № 235 | W28: ні | X28: 45884 | Y28: Придатний до військової служби | Z28: III Rh + | AA28: ТЦК
A29: 18 | B29: солдат | C29: Бунчук Ярослав Олександрович | D29: Кременчуцький РТЦК та СП у Полтавській обл. 15 серпня 2025 року | E29: Полтавська | F29: 35396 | G29: 3539506257 | H29: АВ957493 | I29: КО939820 Автозаводським РВ у м. Кременчуці УДМС України в Полтавській обл. 31.08.2013 | J29: м. Кременчуг | K29: м. Кременчуг пров Гвардійський буд 6 кв 6 | L29: професійно- технічна | M29: ПТУ №22 2018 м. Кременчуг слюсар | N29: різноробочий 8 років | O29: громадняський шлюб мати: Головко Юлія Олександрівна - 1974 - 0972064668 - м. Кременчуг пров Гвардійський буд 6 кв 6 | P29: 0660896162 | R29: курсант | S29: 100 | U29: 45884 | V29: № 234 | W29: =IF(C29="","",IF(Q29="","ні","так")) -> ні | X29: 45883 | Y29: Придатний до військової служби | Z29: I Rh + | AA29: ТЦК
A30: 19 | B30: солдат | C30: Вавілкін Олександр Сергійович | D30: Черкаський ОМТЦК та СП у м. Черкаси 17 серпня 2025 року | E30: Черкаська | F30: 29212 | G30: 2921106870 | H30: АГ 610683 | I30: НС 315869 | J30: м Черкаси | K30: Черкаська обл. м. Канів вул. 206-ої дивізії буд. 10 кв. 102 | L30: вища | M30: ЧДТУ м. Черкаси 2003 графічний дизайн | N30: Директор - 14 років | O30: одружений дружина: Прудка Катерина Григорівна - 1988 - 0633123850 - м. Канів вул. 206-ої дивізії буд. 10 кв. 102 | P30: 0934284068 | R30: курсант | S30: 100 | U30: 45886 | V30: № 236 | W30: =IF(C30="","",IF(Q30="","ні","так")) -> ні | X30: 45885 | Y30: Придатний до військової служби | Z30: II Rh + | AA30: ТЦК
A31: 20 | B31: молодший сержант | C31: Ващенко Володимир Ігорович | D31: Житомирський ОМТЦК та СП в м. Житомир 14 серпня 2025 року | E31: Житомирська | F31: 31489 | G31: 3148810797 | H31: СО010601 | I31: 011053781 виданий 1810 12.09.2024 | J31: Киівська обл.м.Бровари | K31: Киівська обл.м.Бровари вул.Миколи Костомарова 28а | L31: професійно- технічна | M31: ПФПК у 2005 юрист | N31: будівельник 10 років права В | O31: неодружений батько:Ващенко Шгор Володимирович-1960-0677384870-Киівська обл.м.Бровари вул.Миколи Костомарова 28а | P31: 0975482717 | R31: курсант | U31: 45883 | V31: № 233 | W31: так | X31: 45883 | Y31: Придатний до військової служби | Z31: III Rh + | AA31: ТЦК | AB31: А4350
A32: 21 | B32: солдат | C32: Верещак Сергій Олександрович | D32: Полтавський ОМТЦК та СП у м. Полтава 17 серпня 2025 року | E32: Полтавська | F32: 35482 | G32: 3548105379 | H32: АВ 969139 | I32: 00829765 5312 03.10.2022 | J32: м. Полтава | K32: м. Полтава вул. Івана Мазепи буд. 16 кв. 108 | L32: повна загальна середня | M32: ЗОШ | N32: Водій Права Б | O32: неодружений сестра: Верещак Іра Юрієвна - 2009 - 0956873285 - м. Полтава вул. Івана Мазепи буд. 16 кв. 108 | P32: 0994612007 | R32: курсант | S32: 100 | U32: 45886 | V32: № 236 | W32: =IF(C32="","",IF(Q32="","ні","так")) -> ні | X32: 45885 | Y32: Придатний до військової служби | AA32: ТЦК
A33: 22 | B33: солдат | C33: Винничук Володимир Ярославович | D33: Чортківський РТЦК та СП у Тернопільській обл. 14 серпня 2025 року | E33: Тернопільська | F33: 35279 | G33: 3527809298 | H33: АВ 878038 | I33: НЮ 301194 | J33: Тернопільська обл.Чортківський р-н.с.Улашківці | K33: Тернопільська обл.Чортківський р-н.с.Улашківці вул.Сонячна 14 | L33: професійно- технічна | M33: Чортківське ВПУ у 2013 слюсар з ремонту автомобілів | N33: овальщик 6 років права В | O33: неодружений мати:Винничук Галина Йосафатівна-1974--974114211-Тернопільська обл.Чортківський р-н.с.Улашківці вул.Сонячна 14 батько:Винничук Ярослав Степанович-1973-0682466460-Тернопільська обл.Чортківський р-н.с.Улашківці вул.Сонячна 14 | P33: 0979289360 | R33: курсант | S33: 100 | U33: 45883 | V33: № 233 | W33: =IF(C33="","",IF(Q33="","ні","так")) -> ні | X33: 45882 | Y33: Придатний до військової служби | AA33: ТЦК
A34: 23 | B34: солдат | C34: Гавриляков Ростислав Олександрович | D34: Прилуцький РТЦК та СП у Чернігівській обл. 16 серпня 2025 року | E34: Чернігівська | F34: 35235 | G34: 3523404354 | H34: АГ337283 | I34: 006363494 виданий 7426 14.07.2021 | J34: Чернігівська обл м Прилуки | K34: Чернігівська обл м Прилуки вул Коптєва буд 37 кв 84 | L34: професійно- технічна | M34: ДВНЗ "Київський механіко-технологічний коледж" 2019 авто транспорт | N34: автомийка 2 роки Права Б Ц | O34: одружений дружина: Гаврилякова Дар'я Володимрівна - 06.07.1997 - 0937874871 Чернігівська обл м. Прилуки вул Коптєва буд 37 кв 84 | P34: 0960306335 | R34: курсант | S34: 100 | U34: 45885 | V34: № 235 | W34: ні | X34: 45884 | Y34: Придатний до військової служби | Z34: II Rh + | AA34: ТЦК
A35: 24 | B35: солдат | C35: Гарбар Олександр Вікторович | D35: Житомирський РТЦК та СП в м. Житомир 14 серпня 2025 року | E35: Житомирська | F35: 33131 | G35: 3313005154 | H35: АГ626555 | I35: ВН379704 Радомишильським РВ УМВС України в Житомирській обл. 27.02.2007 | J35: с. Леприн, Житомирська область, Радомишлівський район | K35: Житомирська область, Радомишлівський район, с. Леприн, вул. Лугова, буд. 23 | L35: повна загальна середня | M35: ліцей, м. Радомишль, 2009 | N35: будівельник 5 років | O35: цивільний шлюб, цивільна дружина: Шарапова Надія Петрівна, Житомирська область, Радомишлівський район, с. Леприн, вул. Лугова, буд. 23, 0669208817 | R35: курсант | S35: 100 | U35: 45883 | V35: № 233 | W35: =IF(C35="","",IF(Q35="","ні","так")) -> ні | X35: 45882 | Y35: Придатний до військової служби | Z35: I Rh + | AA35: ТЦК
A36: 25 | B36: солдат | C36: Гарбуз Микола Олександрович | D36: Полтавський РТЦК та СП у м. Полтава 15 серпня 2025 року | E36: Полтавська | F36: 31339 | G36: 3133815678 | H36: АВ 953084 | I36: 005230232 5323 21.09.2020 | J36: Харківська обл м. Погодухів | K36: Полтавська обл м. Зіньків вул Воздвиженська буд 64 кв 52 | L36: професійно- технічна | M36: ХПЛЗТ м. Харків провідник пасажирського вагону | N36: монтажник залізобетонних конструкцій 4 роки | O36: громадянський шлюб дружина: Рижа Натяля Павлівна - 1988 - 0954012422 - Полтавська обл м. Зіньків вул Воздвиженська 64 кв 52 | P36: 0995462100 | R36: курсант | S36: 100 | U36: 45884 | V36: № 234 | W36: =IF(C36="","",IF(Q36="","ні","так")) -> ні | X36: 45883 | Y36: Придатний до військової служби | AA36: ТЦК | AB36: А0284 по розподілу рекомендаційний лист
A37: 26 | B37: солдат | C37: Гасанов Анатолій Миколайович | D37: Полтавський ОМТЦК та СП у м. Полтава 15 серпня 2025 року | E37: Полтавська | F37: 32267 | G37: 3226612314 | H37: АВ 969122 | I37: 001014469 | J37: Полтавська обл м. Лубни | K37: м. Полтава вул Героїв України буд 10/1 кв 116 | L37: вища | M37: ПДАА м. Полтава 2012 організація обліку | N37: автомаляр 7 років Права А Б Ц Т | O37: одружений дружина: Гасанова Ілона Фікаратівна - 17.06.1986 - 0504016336 - м. Полтава вул Героїв України буд 10/1 кв 116 | P37: 0667707756 | R37: курсант | S37: 100 | U37: 45884 | V37: № 234 | W37: =IF(C37="","",IF(Q37="","ні","так")) -> ні | X37: 45883 | Y37: Придатний до військової служби | Z37: II Rh + | AA37: ТЦК
A38: 27 | B38: солдат | C38: Герасименко Павло Сергійович | D38: Полтавський ОМТЦК та СП у м. Полтава 14 серпня 2025 року | E38: Полтавська | F38: 32370 | G38: 3236913836 | H38: АВ 969115 | I38: КО 954702 Київським РВ у м. Полтаві УДМС УКР в Полтавській обл 25.03.2014 | J38: м. Полтава | K38: м. Полтава, вул. Європейська, буд 139, кв. 22 | L38: професійно- технічна | M38: СПТУ №10, м. Полтава | N38: комірник | O38: одружений дружина: Георгієва Юлія Юрієвна - 1986 - 0936718521 - м. Полтава, вул. Великотирнівська, буд. 27/1, кв. 84 | P38: 0936893236 | R38: курсант | S38: 100 | U38: 45883 | V38: № 233 | W38: =IF(C38="","",IF(Q38="","ні","так")) -> ні | X38: 45882 | Y38: Придатний до військової служби | AA38: ТЦК
A39: 28 | B39: солдат | C39: Гігін Роман Олександрович | D39: Полтавський ОМТЦК та СП у м. Полтава 16 серпня 2025 року | E39: Полтавська | F39: 33147 | G39: 3314610037 | H39: СО492198 | I39: КО925931 Полтавським відділом УДМС У Полтавській обл. 14.04.2013 | J39: м. Полтава | K39: м. Полтава вул Гетьмана Сагайдачного буд 8 кв 40 | L39: повна загальна середня | M39: Тахттаулівська ЗОШ 1-3 ст 2007 | N39: водоканал 12 років Права Б Ц | O39: одружений дружина: Гігіна Марина Андріївна - 23.05.1993 - 0665322732 - м. Полтава вул Гетьмана Сагайдачного буд 8 кв 40 | P39: 0952250702 | Q39: 100915П | R39: курсант | S39: 100 | U39: 45885 | V39: № 235 | W39: так | X39: 45884 | Y39: Придатний до військової служби | Z39: I Rh + | AA39: ТЦК
A40: 29 | B40: солдат | C40: Гірний Михайло Ярославович | D40: Кременчуцький РТЦК та СП у Полтавській обл. 15 серпня 2025 року | E40: Полтавська | F40: 31767 | G40: 3176614296 | H40: АВ 957590 | J40: Миколаївська обл с. Снігорівка | K40: Миколаївська обл с. Снігорівка вул Гагаріна буд 143 | L40: професійно- технічна | M40: ПТУ 2006 маляр | N40: маляр 20 років Права В | O40: розлучений мати: Гірна Ольга Степанівна - 1963 - 0661597827 - Миколаївська обл с. Снігорівка вул Гагаріна буд 143 | P40: 0992689079 | R40: курсант | S40: 100 | U40: 45884 | V40: № 234 | W40: =IF(C40="","",IF(Q40="","ні","так")) -> ні | X40: 45883 | Y40: Придатний до військової служби | AA40: ТЦК
A41: 30 | B41: старший солдат | C41: Головач Ярослав Владиславович | D41: Корюківський РТЦК та СП у Чернігівській обл. 16 серпня 2025 року | E41: Чернігівська | F41: 35548 | G41: 3554708757 | H41: АВ449090 | I41: НМ453287 Щорським РС УДМС України в Чернігівській обл. 22.06.2013 | J41: Чернігівська обл.м.Сновськ | K41: Чернігівська обл.Карюкавський р-н.с.Зальнище вул. Логова буд.2 | L41: професійно- технічна | M41: Сновське ВПУ у 2016 штукатур -маляр плиточник | N41: сільське господарство 8 років Права В | O41: неодружений тітка:Згонник Олена Миколаівна 1980-0683652312 Чернігівська обл.с.Нові-млини вул.Річна буд.2 сестра:Головач Ангеліна Владиславівна-2003-0950913590-м.Киів | P41: 0681918370 | Q41: 886040А | R41: курсант | S41: 100 | U41: 45885 | V41: № 235 | W41: так | X41: 45884 | Y41: Придатний до військової служби | Z41: IV Rh + | AA41: ТЦК
A42: 31 | B42: солдат | C42: Горнічний Едуард Юрійович | D42: Житомирський ОМТЦК та СП в м. Житомир 14 серпня 2025 року | E42: Житомирська | F42: 30401 | G42: 3040016313 | H42: АГ168630 | I42: 006034254 виданий 1832 28.04.2021 | J42: м. Архангельск, РФ | K42: м. Житомир, вул. Свободи, буд. 52 | L42: базова загальна середня | M42: училище, м. Пулин, водій | N42: будівельник 9 років, Права А Б Ц | O42: цивільний шлюб, цивільна дружина: Городнича Наталія Віталіївна, м. Житомир, вул. Свободи, буд. 52, 0685496100 | R42: курсант | S42: 100 | U42: 45883 | V42: № 233 | W42: =IF(C42="","",IF(Q42="","ні","так")) -> ні | X42: 45882 | Y42: Придатний до військової служби | Z42: II Rh + | AA42: ТЦК
A43: 32 | B43: солдат | C43: Горохівський Ігор Валерійович | D43: Звенигородський РТЦК та СП у Черкаській обл. 15 серпня 2025 року | E43: Черкаська | F43: 32832 | G43: 3283117899 | H43: АГ 607614 | I43: НЕ 449407 | J43: Черкаська обл. с. Мар'янівка | K43: Черкаська обл. с. Мар'янівка вул. Центральна буд. 105 | L43: вища | M43: АПБ ім. героїв Чернобиля м. Черкаси 2012 пожежник | N43: Водій - 20 років Права А Б Ц Д Е | O43: неодружений мати: Горохівська Людмила Володимирівна - 1970 - 0973445659 - с. Мар'янівка вул. Центральна буд. 105 | P43: 0974705144 | R43: курсант | S43: 100 | U43: 45884 | V43: № 234 | W43: =IF(C43="","",IF(Q43="","ні","так")) -> ні | X43: 45883 | Y43: Придатний до військової служби | AA43: ТЦК
A44: 33 | B44: старший солдат | C44: Губенко Віктор Миколайович | D44: Кременчуцький РТЦК та СП у Полтавській обл. 17 серпня 2025 року | E44: Полтавська | F44: 33336 | G44: 3333509070 | H44: АВ 957498 | I44: КО 708289 | J44: Полтавська обл. м. Комсомольск | K44: Полтавська обл. м. Горішні Плавні проспект Героїв Дніпра буд. 2 кв. 23 | L44: професійно- технічна | M44: Технікум м. Горішні Плавні 2011 електрик | N44: Електрик - 14 років Права Б | O44: неодружений мати: Губенко Олександра Єрмилівна - 1963 - 0978825815 - м. Горішні Плавні проспект Героїв Дніпра буд. 2 кв. 23 | P44: 0680945428 | Q44: 446 182А | R44: курсант | S44: 100 | U44: 45886 | V44: № 236 | W44: =IF(C44="","",IF(Q44="","ні","так")) -> так | X44: 45885 | Y44: Придатний до військової служби | Z44: IV Rh + | AA44: ТЦК | AB44: А2120 по розподілу рекомендаційний лист
A45: 34 | B45: солдат | C45: Губенко Олександр Миколайович | D45: Кременчуцький РТЦК та СП у Полтавській обл. 17 серпня 2025 року | E45: Полтавська | F45: 30455 | G45: 3045406453 | H45: МО 367571 | I45: КН 975728 | J45: Кіровоградська обл. м. Світловодськ | K45: Полтавська обл. м. Горішні Плавні вул. Добровольского буд. 41 кв. 1 | L45: професійно- технічна | M45: ПТУ м. Горишні Плавні 2001 електрогазозварювальник | N45: Зварювальник - 22 роки | O45: одружений дружина: Губенко Наталія Вікторівна - 1977- 0957195800 - м. Горішні Плавні вул. Добровольского буд. 41 кв. 1 | P45: 0669210058 | Q45: 003 256Б | R45: курсант | S45: 100 | U45: 45886 | V45: № 236 | W45: =IF(C45="","",IF(Q45="","ні","так")) -> так | X45: 45885 | Y45: Придатний до військової служби | Z45: I Rh + | AA45: ТЦК | AB45: А2120 по розподілу рекомендаційний лист
A46: 35 | B46: солдат | C46: Гуменюк Валерій Володимирович | D46: Житомирський РТЦК та СП в м. Житомир 16 серпня 2025 року | E46: Житомирська | F46: 31468 | G46: 3146715032 | H46: АГ 626632 | I46: ВН 144394 | J46: м. Житомир | K46: м. Житомир проспект Миру буд. 23 кв. 30 | L46: професійно- технічна | M46: ПТУ м. Житомир 2003 Маляр | N46: Будівельник - 6 років Права Б | O46: неодружений мати: Гуменюк Лідія Олександрівна - 1960 - 0671217640 - м. Житомир проспект Миру буд. 23 кв. 30 | P46: 0978493045 | R46: курсант | S46: 100 | U46: 45885 | V46: № 235 | W46: =IF(C46="","",IF(Q46="","ні","так")) -> ні | X46: 45884 | Y46: Придатний до військової служби | AA46: ТЦК
A47: 36 | B47: солдат | C47: Гуменюк Віктор Васильович | D47: Житомирський ОМТЦК та СП в м. Житомир 14 серпня 2025 року | E47: Житомирська | F47: 34726 | G47: 3472514995 | H47: АГ 168631 | I47: 004878338 1814 23.06.2020 | J47: с. Солотвин, Бердичівський район, Житомирський область | K47: с. Старий Солотвин, Бердичівський район, провулок Миру, буд. 5 | L47: повна загальна середня | M47: професійно-будівельний ліцей №12, м.Бердичів | N47: будівельник, 12 років | O47: неодружений, мати: Гуменюк Валентина Володимирівна, с. Старий Солотвин, Бердичівський район, провулок Миру, буд. 5, 0972768628 | P47: 0987983165 | R47: курсант | S47: 100 | U47: 45883 | V47: № 233 | W47: =IF(C47="","",IF(Q47="","ні","так")) -> ні | X47: 45882 | Y47: Придатний до служби на підводних човнох, на надводних кораблях, у морській піхоті, Десантно-штурмових військах, спеціальних спорудах, підрозділах спеціального призначення | AA47: ТЦК
A48: 37 | B48: солдат | C48: Гуща Володимир Миколайович | D48: Шосткинським РТЦК та СП у Сумській обл. 16 серпня 2025 року | E48: Сумська | F48: 30458 | G48: 3045721671 | H48: АГ024855 | I48: НК660550 Новгород-Сіверським РВ УМВС України в Чернігівській обл. 14.10.1999 | J48: Сумська обл. м. Шостка | K48: Сумська обл. м. Шостка вул. Центральної Ради буд. 15 кв. 215 | L48: професійно- технічна | M48: ПТУ м. Шостка 2003 Слюсар | N48: Будівельник - 6 років Права Б Ц | O48: одружений дружина: Гуща Наталія Анатоліївна - 1981 - 0999338067 - м. Шостка вул. Центральної Ради буд. 15 кв. 215 | P48: 0995024865 | R48: курсант | S48: 100 | U48: 45885 | V48: № 235 | W48: ні | X48: 45884 | Y48: Придатний до військової служби | Z48: II Rh + | AA48: ТЦК
A49: 38 | B49: солдат | C49: Данчук Анатолій Сергійович | D49: Житомирський ОМТЦК та СП в м. Житомир 17 серпня 2025 року | E49: Житомирська | F49: 33009 | G49: 3300813652 | H49: АГ168646 | I49: КР 899427 | J49: м. Чернівці | K49: м. Чернівці вул. Руська буд. 289 кв. 14 | L49: вища | M49: ЧНУ м. Чернівці 2012 програміст | N49: Програміст - 10 років Права Б | O49: - | P49: - | R49: курсант | S49: 100 | U49: 45886 | V49: № 236 | W49: =IF(C49="","",IF(Q49="","ні","так")) -> ні | X49: 45885 | Y49: Придатний до служби на підводних човнох, на надводних кораблях, у морській піхоті, Десантно-штурмових військах, спеціальних спорудах, підрозділах спеціального призначення | AA49: ТЦК
A50: 39 | B50: солдат | C50: Дем'яненко Артур Русланович | D50: Житомирський ОМТЦК та СП в м. Житомир 15 серпня 2025 року | E50: Житомирська | F50: 33599 | G50: 3359813436 | H50: АГ168638 | I50: ВН428439 Корольовським РВ УМВС України в Житомирській обл. 10.06.2008 | J50: м. Житомир | K50: м. Житомир вул. Шевченка буд. 107 кв. 285 | L50: професійно- технічна | M50: ВПУ ЖДТУ №17 м. Житомир 2011 оператор КН | N50: Слюсар - 6 років | O50: неодружений мати: Дем'яненко Валентина Анатоліївна - 1978 - 0730212174 - м. Житомир вул. Шевченка буд. 107 кв. 285 | P50: 0505483980 | R50: курсант | S50: 100 | U50: 45884 | V50: № 234 | W50: =IF(C50="","",IF(Q50="","ні","так")) -> ні | X50: 45884 | Y50: Придатний до військової служби | Z50: II Rh + | AA50: ТЦК | AB50: А5060 по розподілу рекомендаційний лист
A51: 40 | B51: солдат | C51: Денисов Юрій Володимирович | D51: Лубенський РТЦК та СП у Полтавській обл. 17 серпня 2025 року | E51: Полтавська | F51: 31812 | G51: 3181109434 | H51: АГ599011 | I51: КО 585321 | J51: Смоленська обл, Новодушинський р-н, с.Високе рф(расєя) | K51: Полтавська обл, Лубенський р-н, с.Круподеренці, вулТравнева 5 | L51: професійно- технічна | M51: Круподеренськат ЗОШ | N51: вилучене | O51: одружений, Денисова Катерина Анатоліївна-1987-Полтавська обл, Лубенський р-н, с Круподеренці, вул.Травнева 5, тел-0992337875 | P51: 0500377540 | R51: курсант | S51: 100 | U51: 45886 | V51: № 236 | W51: =IF(C51="","",IF(Q51="","ні","так")) -> ні | X51: 45885 | Y51: Придатний до військової служби | AA51: ТЦК
A52: 41 | B52: солдат | C52: Денисюк Вадим Васильович | D52: Звягельський РТЦК та СП в Житомирській обл. 14 серпня 2025 року | E52: Житомирська | F52: 36181 | G52: 3618011977 | H52: АГ 365249 | I52: ВН 661281 Ємільчинським РС УДМС УКР в Житомирській обл 12.06.2015 | J52: Ємільчинська обл с. Симони | K52: Ємільчинська обл с. Симони вул Незалежності буд 21 | L52: базова загальна середня | M52: ЗОШ с. Симони | N52: різноробочий | O52: неодружений сестра: Денисюк Ольга Василівна - 09.03.1989 - 0660494552 - Ємільчинська обл с. Симони вул Незалежності 21 | P52: 0663759546 | R52: курсант | S52: 100 | U52: 45883 | V52: № 233 | W52: =IF(C52="","",IF(Q52="","ні","так")) -> ні | X52: 45882 | Y52: Придатний до військової служби | Z52: I Rh + | AA52: ТЦК
A53: 42 | B53: солдат | C53: Дерев'янко Владислав Станіславович | D53: Полтавський ОМТЦК та СП у м. Полтава 17 серпня 2025 року | E53: Полтавська | F53: 33148 | G53: 3314714072 | H53: СО 630614 | I53: КО 976401 Київським РВ у м. Полтаві УДМС УКР в Полтавській обл 23.09.2014 | J53: м. Полтава | K53: м.Полтава вул. Дундича буд. 58 | L53: професійно- технічна | M53: ПТУ м. Полтава 2009 оператор ПК | N53: Комірник - 3 роки | O53: неодружений мати: Кірданова Наталія Леонідівна - 1973 - 0999580139 - м.Полтава вул. Дундича буд. 58 | P53: 0995013139 | R53: курсант | S53: 100 | U53: 45886 | V53: № 236 | W53: =IF(C53="","",IF(Q53="","ні","так")) -> ні | X53: 45885 | Y53: Придатний до військової служби | AA53: ТЦК
A54: 43 | B54: солдат | C54: Дзюба Станіслав Вікторович | D54: Лубенський РТЦК та СП у Полтавській обл. 16 серпня 2025 року | E54: Полтавська | F54: 35343 | G54: 3534209954 | H54: АГ 599039 | J54: Плтавська обл с Великоселедська | K54: Полтавська обл м. Лубни 1 пров Авіаторський буд 6 | L54: базова загальна середня | M54: 3 школа м. Лубни 2016 | N54: різноробочий 2 роки | O54: неодружений сестра: Дзюба Неля Вікторівна - 12.01.1998 - 0958182267 - м. Лубни вул Залізнична буд 41 | P54: 0937900288 | R54: курсант | S54: 100 | U54: 45885 | V54: № 235 | W54: =IF(C54="","",IF(Q54="","ні","так")) -> ні | X54: 45884 | Y54: Придатний до військової служби | AA54: ТЦК | AB54: А0281 по розподілу рекомендаційний лист
A55: 44 | B55: старший солдат | C55: Должніков Олександр Анатолійович | D55: Конотопський РТЦК та СП в Сумській обл. 16 серпня 2025 року | E55: Сумська | F55: 30584 | G55: 3058306894 | H55: МО533706 | I55: 010128361 виданий 5928 09.01.2024 | J55: Сумська обл. смт. Ямполь | K55: Сумська обл. смт. Ямполь вул. Спасопреображенська буд. 27 кв. 36 | L55: вища | M55: СНАУ м. Суми 2017 Агроном | N55: Агроном 12 років Права Б | O55: неодружений мати: Должнікова Ольга Федорівна - 1950 - 0545621226 - смт. Ямполь вул. Спасопреображенська буд. 27 кв. 36 | P55: 0978314370 | Q55: 503810Р | R55: курсант | S55: 100 | U55: 45885 | V55: № 235 | W55: так | X55: 45884 | Y55: Придатний до військової служби | Z55: II Rh - | AA55: ТЦК
A56: 45 | B56: солдат | C56: Донець Микола Михайлович | D56: Лубенський РТЦК та СП у Полтавській обл. 14 серпня 2025 року | E56: Полтавська | F56: 35207 | G56: 3520614972 | H56: АВ956575 | I56: 000606292 виданий 8030 08.06.2017 | J56: м. Сміла, Черкаська область | K56: Черкаська область, м. Сміла, вул. Філатова, буд. 8, кв. 145 | L56: вища | M56: Національний транспортний університет, м. Київ, 2019, інженер будівельник | N56: майстер дорожніх робіт 1 рік, Права Б | O56: неодружений, мати: Донець Любов Михайлівна, Черкаська область, м. Сміла, вул. Філатова, буд. 8, кв. 145, 0636539977 | P56: 0931913213 | R56: курсант | S56: 100 | U56: 45883 | V56: № 233 | W56: =IF(C56="","",IF(Q56="","ні","так")) -> ні | X56: 45882 | Y56: Придатний до військової служби | AA56: ТЦК | AB56: А0281 по розподілу рекомендаційний лист
A57: 46 | B57: старший солдат | C57: Дригало Юрій Михайлович | D57: Сумський МТЦК та СП у м. Суми 17 серпня 2025 року | E57: Сумська | F57: 33613 | G57: 3361213973 | H57: СО 910343 | I57: МВ 494261 | J57: м. Суми | K57: м. Суми вул. Г. Кондрат'єва буд. 143 кв. 192 | L57: професійно- технічна | M57: СКТ м. Суми 2010 адміністратор | N57: Автомеханік - 3 роки | O57: неодружений мати: Дригало Людмила Василівна - 1969 - 0957979296 - м. Суми вул. Г. Кондрат'єва буд. 143 кв. 192 | P57: 0953200256 | Q57: 790 037А | R57: курсант | S57: 100 | U57: 45886 | V57: № 236 | W57: =IF(C57="","",IF(Q57="","ні","так")) -> так | X57: 45885 | Y57: Придатний до військової служби | Z57: I Rh + | AA57: ТЦК
A58: 47 | B58: солдат | C58: Дрижук Сергій Юрійович | D58: Хмільницький РТЦК та СП у Вінницькій обл. 14 серпня 2025 року | E58: Вінницька | F58: 33197 | G58: 3319602298 | H58: АГ 141893 | I58: 002004572 0520 23.08.2018 | J58: м. Пирятин Полтавська обл. | K58: Вінницька обл с Журбинці вул Зарічна буд 34 | L58: базова загальна середня | M58: школа-інтернат 2006 м. Козятин | N58: будівельник 10 років Права Б Ц Т | O58: неодружений дружина: Чоботарьова Альбіна Олександрівна - 1993 - Вінницька обл с Журбинці вул Зарічна буд 34 | P58: 0680196331 | R58: курсант | S58: 100 | U58: 45883 | V58: № 233 | W58: =IF(C58="","",IF(Q58="","ні","так")) -> ні | X58: 45586 | Y58: Придатний до військової служби | Z58: II Rh + | AA58: ТЦК
A59: 48 | B59: солдат | C59: Єдемський Микола Миколайович | D59: Житомирський РТЦК та СП в м. Житомир 16 серпня 2025 року | E59: Житомирська | F59: 32268 | G59: 3226721255 | H59: АГ 626635 | I59: МЕ 376259 | J59: м. Київ | K59: м. Київ вул Доманицького буд 1В кв 73 | L59: вища | M59: КРОК 2010 економіка підприємства | N59: менеджер зі збуту 11 років | O59: одружений дружина: Єдемська Марина Ігорівна - 29.01.1992 - 0508432724 - м. Київ вул Чоколівський бул-р буд 18 кв 30 | P59: 0952867906 | R59: курсант | S59: 100 | U59: 45885 | V59: № 235 | W59: =IF(C59="","",IF(Q59="","ні","так")) -> ні | X59: 45884 | Y59: Придатний до військової служби | AA59: ТЦК
A60: 49 | B60: солдат | C60: Ємець Володимир Володимирович | D60: Лубенський РТЦК та СП у Полтавській обл. 17 серпня 2025 року | E60: Полтавська | F60: 31811 | G60: 3181014453 | H60: АВ 956531 | I60: КО 565724 | J60: Полтавська обл. Гребінківський район с. Топелеве | K60: Полтавська обл. Гребінківський район с. Топелеве провулок Затушний буд. 61 | L60: професійно- технічна | M60: ВПУ №26 м. Київ 2007 технік-будівельник | N60: Будівельник - 18 років | O60: неодружений мати: Ємець Валентина Миколаївна - 1963 - 0630699984 - м. Грибінка вул. Котляревського буд. 4 | P60: 0970890336 | R60: курсант | S60: 100 | U60: 45886 | V60: № 236 | W60: =IF(C60="","",IF(Q60="","ні","так")) -> ні | X60: 45885 | Y60: Придатний до військової служби | AA60: ТЦК
A61: 50 | B61: солдат | C61: Єрицян Руслан Саргісович | D61: Лубенський РТЦК та СП у Полтавській обл. 16 серпня 2025 року | E61: Полтавська | F61: 35955 | G61: 3595409514 | H61: АВ956579 | I61: КО955999 Пирятинським РС УДМС України в Полтавській обл. 09.06.2014 | J61: Полтавська обл с Березова Рудка | K61: Полтавська обл с. Березова Рудка вул Куйбешева буд 52 | L61: професійно- технічна | M61: Березаворудський коледж 2017 технолог переробник | N61: ріноробочий 6 років Права Б | O61: цивільний шлюб дружина: Кривенко Хрестина Юріївна - 03.10.2003 - Полтавська обл с. Березова Рудка вул Куйбешева буд 52 | P61: 0964434839 | R61: курсант | S61: 100 | U61: 45885 | V61: № 235 | W61: ні | X61: 45884 | Y61: Придатний до військової служби | Z61: II Rh + | AA61: ТЦК | AB61: А0281 по розподілу рекомендаційний лист
A62: 51 | B62: солдат | C62: Єрмоленко Денис Олексійович | D62: Полтавський ОМТЦК та СП у м. Полтава 17 серпня 2025 року | E62: Полтавська | F62: 36742 | G62: 3674111052 | H62: АВ 969138 | I62: АО 352774 П'ятихацьким РС ГУ ДМС УКР в Дніпропетровській обл 06.09.2016 | J62: Дніпропетровська обл. м. П'ятихатки | K62: м. Полтава вул. Героїв АТО буд. 118 к.2 кв. 10 | L62: професійно- технічна | M62: Медичний коледж м. Полтава 2021 медбрат | N62: Комірник - 2 роки Права Б | O62: неодружений мати: Єрмоленко Наталія Олегівна - 1977 - 0970455855 - м. Полтава вул. Героїв АТО буд. 118 к.2 кв. 10 | P62: 0991344775 | R62: курсант | S62: 100 | U62: 45886 | V62: № 236 | W62: =IF(C62="","",IF(Q62="","ні","так")) -> ні | X62: 45885 | Y62: Придатний до військової служби | Z62: II Rh + | AA62: ТЦК
A63: 52 | B63: солдат | C63: Жадан Сергій Вячеславович | D63: Полтавський ОМТЦК та СП у м. Полтава 16 серпня 2025 року | E63: Полтавська | F63: 31108 | G63: 3110704391 | H63: МО738591 | I63: КО241557 Октябрським РВ ПМУ УМВС України в Полтавській обл. 20.04.2001 | J63: м. Полтава | K63: м. Полтава вул. Огнівська буд. 12 кв. 101 | L63: вища | M63: ПНГІ м. Полтава 2009 інженер | N63: Заступник директора - 8 років Права Б | O63: одружений дружина: Жадан Світлана Анатоліївна - 1987 - 0960997422 - м. Полтава вул. Огнівська буд. 12 кв. 101 | P63: 0990578290 | Q63: 100915Р | R63: курсант | S63: 100 | U63: 45885 | V63: № 235 | W63: так | X63: 45884 | Y63: Придатний до військової служби | Z63: II Rh + | AA63: ТЦК
A64: 53 | B64: солдат | C64: Жуган Віталій Юрійович | D64: Черкаський РТЦК та СП у м. Черкаси 17 серпня 2025 року | E64: Черкаська | F64: 35172 | G64: 3517115155 | H64: АГ 609055 | I64: НЕ 682845 | J64: Черкаська обл с Дубівка | K64: Черкаська обл с. Дубівка вул Партизанська буд 10 | L64: професійно- технічна | M64: Будівельне училище №12 с Сміла 2017 штукатур плиточник | N64: різноробочий 4 роки | O64: неодружений мати: Жуган Валентина Степанівна - 31.03.1974 - 0983881692 - Черкаська обл с. Дубівка вул Партизанська буд 10 | P64: 0639824952 | R64: курсант | S64: 100 | U64: 45886 | V64: № 236 | W64: =IF(C64="","",IF(Q64="","ні","так")) -> ні | X64: 45885 | Y64: Придатний до військової служби | Z64: II Rh - | AA64: ТЦК
A65: 54 | B65: солдат | C65: Жулінський Сергій Вікторович | D65: Житомирський РТЦК та СП в м. Житомир 15 серпня 2025 року | E65: Житомирська | F65: 35998 | G65: 3599707356 | H65: АГ626539 | I65: 004943438 виданий 1810 13.07.2020 | J65: м. Житомир | K65: м. Житомир вул. Корольова буд. 26 кв. 5 | L65: професійно- технічна | M65: ЦПТО м. Житомир тракторист | N65: Експедитор 5 років Права Є Б Д Ц | O65: неодружений мати: Грабчук Елла Дмитрівна - 1972 - 0669854441 - вул. Корольова буд. 26 кв. 5 | P65: 0996433472 | R65: курсант | S65: 100 | U65: 45884 | V65: № 234 | W65: =IF(C65="","",IF(Q65="","ні","так")) -> ні | X65: 45883 | Y65: Придатний до служби на підводних човнох, на надводних кораблях, у морській піхоті, Десантно-штурмових військах, спеціальних спорудах, підрозділах спеціального призначення | Z65: II Rh + | AA65: ТЦК | AB65: А2298 по розподілу рекомендаційний лист
A66: 55 | B66: солдат | C66: Здан Андрій Володимирович | D66: Житомирський ОМТЦК та СП в м. Житомир 15 серпня 2025 року | E66: Житомирська | F66: 34358 | G66: 3435713337 | H66: АГ168640 | I66: ВН488370 Бердичівським МВ УМВС України в Житомирській обл. 09.04.2010 | J66: м. Бердичів | K66: м. Житомир вул Площа привокзальна буд 5 кв 13 | L66: професійно- технічна | M66: МВПУЗТ 2012 провідник залізничних вагонів | N66: фахівець з викладки товару 1.5 роки | O66: неодружений сестра: Кошель Ольга Володимирівна - 09.08.1999 - 0674568502 - м. Житомир | P66: 0977592219 | R66: курсант | S66: 100 | U66: 45884 | V66: № 234 | W66: =IF(C66="","",IF(Q66="","ні","так")) -> ні | X66: 45884 | Y66: Придатний до служби на підводних човнох, на надводних кораблях, у морській піхоті, Десантно-штурмових військах, спеціальних спорудах, підрозділах спеціального призначення | AA66: ТЦК
A67: 56 | B67: солдат | C67: Зоркін Богдан Вікторович | D67: Черкаський ОМТЦК та СП у м. Черкаси 17 серпня 2025 року | E67: Черкаська | F67: 35211 | G67: 3521014277 | H67: АГ 610712 | I67: 007612111 | J67: Черкаська обл. Звенигородський район с. Моринці | K67: м. Черкаси вул. А. Лупеноса буд. 37 кв. 35 | L67: повна загальна середня | M67: ЗОШ | N67: Обвалювальник м'ся - 10 років | O67: неодружений мати: Зоркіна Надія Ільївна - 1955 -за кордоном | P67: 0969729930 | R67: курсант | S67: 100 | U67: 45886 | V67: № 236 | W67: =IF(C67="","",IF(Q67="","ні","так")) -> ні | X67: 45885 | Y67: Придатний до військової служби | Z67: I Rh + | AA67: ТЦК
A68: 57 | B68: солдат | C68: Іванов Назар Валерійович | D68: Черкаський РТЦК та СП у м. Черкаси 16 серпня 2025 року | E68: Черкаська | F68: 35966 | G68: 3596505192 | H68: АВ688845 | I68: 006598685 виданий 7126 20.08.2021 | J68: Кіровоградська обл с Жовтневе | K68: м. Сміла вул Жуковського буд 113 | L68: професійно- технічна | M68: СЦППРК м. Сміла 2016 маляр штукатур | N68: маляр штукатур 4 роки | O68: цивільний шлюб дружина: Хрипун Яна Володимирівна - 20.04.2005 - 0988383881 - м. Кам'янка вул Польова буд 35 | P68: 0937050289 | Q68: 107654А/662 | R68: курсант | S68: 100 | U68: 45885 | V68: № 235 | W68: так | X68: 45884 | Y68: Придатний до військової служби | Z68: II Rh + | AA68: ТЦК
A69: 58 | B69: солдат | C69: Івасенко Павло Михайлович | D69: Корюківський РТЦК та СП у Чернігівській обл. 17 серпня 2025 року | E69: Чернігівська | F69: 34307 | G69: 3430601397 | H69: АГ 338921 | I69: 002860544 | J69: Чернігівська обл. Сосницький район с. Чорнотичі | K69: Чернігівська обл. Сосницький район с. Чорнотичі вул. Нагірнівка буд. 12 | L69: базова загальна середня | M69: ЗОШ | N69: Тракторист - 16 років | O69: неодружений брат: Івасенко Микола Михайлович - 1974 - 0969610152 - с. Чорнотичі вул. Нагірнівка буд. 12 | P69: 0963597138 | R69: курсант | S69: 100 | U69: 45886 | V69: № 236 | W69: =IF(C69="","",IF(Q69="","ні","так")) -> ні | X69: 45885 | Y69: Придатний до військової служби | Z69: III Rh + | AA69: ТЦК
A70: 59 | B70: солдат | C70: Їжаченко Олег Олегович | D70: Полтавський ОМТЦК та СП у м. Полтава 16 серпня 2025 року | E70: Полтавська | F70: 30929 | G70: 3092817917 | H70: АВ969130 | I70: КО109971 | J70: Полтавська обл. м. зіньків | K70: м. Полтава вул. Віктора Андрієвського буд. 31 кв. 153 | L70: професійно- технічна | M70: МСУ м. Харків 2003 менеджер | N70: Будівельник - 15 років Права Б Ц Ц1 | O70: одружений дружина: Їжаченко Олена Григоріївна - 1988 - 0959402148 - м. Полтава вул. Віктора Андрієвського буд. 31 кв. 153 | P70: 0991323633 | R70: курсант | S70: 100 | U70: 45885 | V70: № 235 | W70: ні | X70: 45884 | Y70: Придатний до військової служби | Z70: III Rh - | AA70: ТЦК | AB70: А5060 по розподілу
A71: 60 | B71: солдат | C71: Іллюшін Ярослав Вікторович | D71: Вінницький РТЦК та СП в м. Вінниця 14 серпня 2025 року | E71: Вінницька | F71: 35544 | G71: 3554305895 | H71: АГ 143383 | I71: 003273364 | J71: м. Чернігів | K71: м. Вінниця вул. Антона Листопада буд.2 кв 13 | L71: професійно- технічна | M71: ПТУ №16 м. Чернігів пекар | N71: керівник терміналу 2 роки | O71: неодружений дівчина: Лубьянова Анастасія Ігорівна - 28.07.1995 - 0933846576 - м. Вінниця вул. Антона Листопада буд.2 кв 13 | P71: 0954948604 | R71: курсант | S71: 100 | U71: 45883 | V71: № 233 | W71: =IF(C71="","",IF(Q71="","ні","так")) -> ні | X71: 45882 | Y71: Придатний до військової служби | Z71: II Rh + | AA71: ТЦК | AB71: А2298 по розподілу рекомендаційний лист
A72: 61 | B72: солдат | C72: Іончиков Денис Олексійович | D72: Полтавський ОМТЦК та СП у м. Полтава 16 серпня 2025 року | E72: Полтавська | F72: 36523 | G72: 3652203412 | H72: АВ969133 | I72: ВТ184039 Дзержинським МВ ГУ ДМС України в Донецькій обл. 15.01.2016 | J72: Донецька обл.м.Дзержинськ | K72: м.Полтава вул.Балакіна 9кв.41 | L72: вища | M72: НТУ ХПІ 2024 матеріалознавство | N72: продавець 1 рік | O72: неодружений батько:Іончиков Олексій Володимирович-1974-0661697841-м.Полтава вул.Балакіна 9кв.41 мати:Іончикова Світлана Олександрівна-1978-0508139507-м.Полтава вул.Балакіна 9кв.41 | P72: 0992936421 | R72: курсант | S72: 100 | U72: 45885 | V72: № 235 | W72: ні | X72: 45884 | Y72: Придатний до військової служби | Z72: I Rh - | AA72: ТЦК
A73: 62 | B73: солдат | C73: Ісаєнко Володимир Володимирович | D73: Кременчуцький РТЦК та СП у Полтавській обл. 14 серпня 2025 року | E73: Полтавська | F73: 34502 | G73: 3450111339 | H73: АВ957584 | I73: КО839925 Автозаводським РВ КМУ УМВС України в Полтавській обл. 11.11.2010 | J73: Полтавська область, м. Кременчук | K73: Полтавська область, м. Кременчук, вул. Переяслівська, буд. 44, кв. 13 | L73: професійно- технічна | M73: Кременчуцький коледж національного університету ім. М. Скоропадського, 2016, зварювальне відділення | N73: зварювальник слюсар, 3 роки | O73: неодружений, мати: Ісаєнко Вікторія Володимирівна, м. Кременчук, вул. Переяслівська, буд. 44, кв. 13, 0964325190 | P73: 0636126867 | R73: курсант | S73: 100 | U73: 45883 | V73: № 233 | W73: =IF(C73="","",IF(Q73="","ні","так")) -> ні | X73: 45882 | Y73: Придатний до військової служби | Z73: III Rh - | AA73: ТЦК | AB73: А0281 по розподілу рекомендаційний лист
A74: 63 | B74: солдат | C74: Калмиков Костянтин Григорович | D74: Черкаський РТЦК та СП у м. Черкаси 16 серпня 2025 року | E74: Черкаська | F74: 34043 | G74: 3404211251 | H74: СО101991 | I74: 001744297 виданий 5323 10.04.2018 | J74: Полтавська обл с Деряги | K74: Черкаська обл с Селище вул Лісна буд 3 | L74: професійно- технічна | M74: Зіньківський ПАЛ 2011 електромонтер | N74: електрик 10 років Права Б | O74: розлучений брат: Калмиков Владислав Григорович - 06.05.1998 - 0954734193 - Черкаська обл с Селище вул Лісна буд 3 | P74: 0500626039 | Q74: 960669А | R74: курсант | S74: 100 | U74: 45885 | V74: № 235 | W74: так | X74: 45884 | Y74: Придатний до військової служби | Z74: II Rh + | AA74: ТЦК | AB74: А4733 по розподілу рекомендаційний лист
A75: 64 | B75: солдат | C75: Квіташ Валентин Геннадійович | D75: Лубенський РТЦК та СП у Полтавській обл. 16 серпня 2025 року | E75: Полтавська | F75: 35577 | G75: 3557607677 | H75: АГ 599041 | J75: Полтавська обл. м. Лубни | K75: Полтавська обл. м. Лубни вул. Г. Сковороди буд. 21А | L75: базова загальна середня | M75: ЗОШ | N75: Різноробочій - 10 років | O75: неодружений мати: Губарьова Тетяна Василівна - 1982 - 0955923775 - м. Лубни вул. Г. Сковороди буд. 21А | P75: 0660158042 | R75: курсант | S75: 100 | U75: 45885 | V75: № 235 | W75: =IF(C75="","",IF(Q75="","ні","так")) -> ні | X75: 45884 | Y75: Придатний до військової служби | AA75: ТЦК
A76: 65 | B76: солдат | C76: Кесер Геннадій Петрович | D76: Сумський РТЦК та СП у Сумській обл. 17 серпня 2025 року | E76: Сумська | F76: 29984 | G76: 2998318837 | H76: АВ 952054 | J76: Сумська обл. с. Ображіївка | K76: Сумська обл. м. Буринь вул. 40 років Перемоги буд. 52 кв. 25 | L76: професійно- технічна | M76: ПТУ м. Питівель 2000 штукатур | N76: Вантажник - 15 років | O76: неодружений сестра: Ніконець Наталія Петрівна - 1979 - м. Суми | P76: - | R76: курсант | S76: 100 | U76: 45886 | V76: № 236 | W76: =IF(C76="","",IF(Q76="","ні","так")) -> ні | X76: 45885 | Y76: Придатний до військової служби | Z76: III Rh + | AA76: ТЦК
A77: 66 | B77: солдат | C77: Кліндух Андрій Володимирович | D77: Шосткинським РТЦК та СП у Сумській обл. 16 серпня 2025 року | E77: Сумська | F77: 31484 | G77: 3148309678 | H77: АГ 024854 | I77: МВ 591201 Шосткинським МВ УДМС УКР в Сумській обл 04.08.2015 | J77: Сумська обл м. Шостка | K77: Сумська обл м. Шостка вул Березовий гай буд 48 | L77: професійно- технічна | M77: ВПУ №19 м. Гостка 2003 маляр штукатур | N77: штукатур 10 років | O77: неодружений мати: Кліндух Людмила Петрівна - 16.09.1973 - 0679734940 - Сумська обл м. Шостка вул Березовий гай буд 48 сестра: Кислова Олена Володимирівна - 27.07.1983 - 0988175903 - Сумська обл м. Шостка вул Березовий гай буд 48 | P77: 0671191779 | R77: курсант | S77: 100 | U77: 45885 | V77: № 235 | W77: =IF(C77="","",IF(Q77="","ні","так")) -> ні | X77: 45883 | Y77: Придатний до військової служби | AA77: ТЦК
A78: 67 | B78: солдат | C78: Ключко Дмитро Вікторович | D78: Сумський РТЦК та СП у Сумській обл. 16 серпня 2025 року | E78: Сумська | F78: 32541 | G78: 3254019459 | H78: АВ 952053 | I78: 001235702 5910 21.11.2017 | J78: м. Суми | K78: м. Суми проспект М. Лушпи буд. 10 кв. 411 | L78: повна загальна середня | M78: ЗОШ | N78: Зварювальник - 17 років Права Б Ц | O78: одружений дружина: Ключко Юлія Миколаївна - 1990 - 0953407390 - м. Суми проспект М. Лушпи буд. 10 кв. 411 | P78: 0502593406 | R78: курсант | S78: 100 | U78: 45885 | V78: № 235 | W78: =IF(C78="","",IF(Q78="","ні","так")) -> ні | X78: 45884 | Y78: Придатний до військової служби | Z78: III Rh + | AA78: ТЦК
A79: 68 | B79: солдат | C79: Кобелев Руслан Андрійович | D79: Полтавський РТЦК та СП у м. Полтава 15 серпня 2025 року | E79: Полтавська | F79: 34905 | G79: 3490412755 | H79: АВ 953045 | I79: 006718546 | J79: Полтавська обл с. Копили | K79: Полтавська обл с. Копили вул Євгенія Александрова буд 1Б кв 12 | L79: професійно- технічна | M79: ПТУ №17 м Полтава 2014 автослюсар | N79: водій 11 років Права А Б БЕ Ц ЦЕ Д Д1 | O79: розлучений, 2 дітей дівчина: Ткаченко Олександра - 1990 - 0999124623 - м. Полтава вул Грушевського буд 12 | P79: 0672662012 | R79: курсант | S79: 100 | U79: 45884 | V79: № 234 | W79: =IF(C79="","",IF(Q79="","ні","так")) -> ні | X79: 45883 | Y79: Придатний до служби на підводних човнох, на надводних кораблях, у морській піхоті, Десантно-штурмових військах, спеціальних спорудах, підрозділах спеціального призначення | AA79: ТЦК | AB79: А4633 по розподілу рекомендаційний лист
A80: 69 | B80: солдат | C80: Кобізький Іван Васильович | D80: Полтавський РТЦК та СП у м. Полтава 15 серпня 2025 року | E80: Полтавська | F80: 31588 | G80: 3158721139 | H80: АВ953086 | I80: КО514736 Гадяцьким РВ УМВС України в Полтавській обл. 08.09.2003 | J80: Полтавська обл.Гадячиський р-н.с.Рашівка | K80: Полтавська обл.Зінківський р-н.с.Опішня вул.Святотроіцька 6 | L80: базова загальна середня | M80: Розбишівська ЗОШ 2002 | N80: монолітчик 20 років Права В | O80: неодружений брат:Галич Олександр Михайлович-0950870891-Полтавська обл.Зінківський р-н.с.Опішня вул.Дінця | P80: 0502253849 | R80: курсант | S80: 100 | U80: 45885 | V80: № 235 | W80: ні | X80: 45884 | Y80: Придатний до військової служби | Z80: I Rh - | AA80: ТЦК
A81: 70 | B81: солдат | C81: Коваленко Богдан Русланович | D81: Черкаський РТЦК та СП у м. Черкаси 17 серпня 2025 року | E81: Черкаська | F81: 34289 | G81: 3428807457 | H81: АГ 609054 | I81: 005952953 | J81: Полтавська обл. м. Лубни | K81: Полтавська обл. м. Лубни, вул. Ботанічна 1 | L81: вища | M81: Полтавський юридичний інститут Національного юридичного університету, 2015, правознавство | N81: водій, права Б, Ц | O81: неодружений, мати-Коваленко Ольга Миколаївна-1978- Полтавська обл, м.Лубни, вул.Ботанічна 1, тел-0957507620 | P81: 0954146217 | R81: курсант | S81: 100 | U81: 45886 | V81: № 236 | W81: =IF(C81="","",IF(Q81="","ні","так")) -> ні | X81: 45885 | Y81: Придатний до військової служби | AA81: ТЦК
A82: 71 | B82: солдат | C82: Коваленко Іван Іванович | D82: Сумський РТЦК та СП у Сумській обл. 14 серпня 2025 року | E82: Сумська | F82: 28667 | G82: 2866609257 | H82: АГ024966 | I82: МВ533736 Лебединським МС УДМС України в Сумській обл. 31.10.2013 | J82: Сумська обл.Лебединський р-н.с.Корчани | K82: Сумська обл.Лебединський р-н.с.Василівка вул.Широка 47 | L82: повна загальна середня | M82: Лебединське ПТУ у 1997 тракторист | N82: тракторист 10 років А1 Д | O82: цивільна дружина:Дряхлова Юлія Олександрівна-1984-09723389-Сумська обл.Лебединський р-н.с.Василівка вул.Широка 47 | P82: 0679831091 | R82: курсант | S82: 100 | U82: 45883 | V82: № 233 | W82: =IF(C82="","",IF(Q82="","ні","так")) -> ні | X82: 45882 | Y82: Придатний до військової служби | Z82: IV Rh + | AA82: ТЦК | AB82: А5060 по розподілу рекомендаційний лист
A83: 72 | B83: сержант | C83: Ковтун Олександр Миколайович | D83: Роменський РТЦК та СП у Сумській обл. 16 серпня 2025 року | E83: Сумська | F83: 29703 | G83: 2970211292 | H83: МО 356643 | I83: МВ 489060 Середино-Будським РВ УМВС УКР в Сумській обл 05.01.2012 | J83: Полтавська обл с Ромодан | K83: Сумська обл с Коровинці вул Київська буд 77 | L83: професійно- технічна | M83: ПТУ №39 м. Суми 1999 тракторист водій | N83: будівельник 22 роки Права А Б Ц Ц1 | O83: неодружений дружина: Шелест Олена Володимирівна - 1993 - 0505337998 - Сумська обл с Коровинці вул Київська буд 77 | P83: 0954649002 | Q83: 100 182А | R83: курсант | S83: 100 | U83: 45885 | V83: № 235 | W83: =IF(C83="","",IF(Q83="","ні","так")) -> так | X83: 45883 | Y83: Придатний до військової служби | Z83: I Rh + | AA83: ТЦК
A84: 73 | B84: солдат | C84: Когут Віталій Петрович | D84: Житомирський ОМТЦК та СП в м. Житомир 15 серпня 2025 року | E84: Житомирська | F84: 32780 | G84: 3277916416 | H84: АГ 168637 | I84: ВМ 1880971 Богунським РВ УМВС УКР в Житомирській обл 29.07.2005 | J84: м. Житомир | K84: м. Житомир вул Шелушкова буд 93 кв 80 | L84: професійно- технічна | M84: ПТУ №13 м Житомир 2008 повар кондитер | N84: різноробочий 3 років | O84: громадянський шлюб дружина: Інна - 1990 - 0975949020 - м. Житомир вул Польова | R84: курсант | S84: 100 | U84: 45884 | V84: № 234 | W84: =IF(C84="","",IF(Q84="","ні","так")) -> ні | X84: 45883 | Y84: Придатний до військової служби | Z84: II Rh + | AA84: ТЦК
A85: 74 | B85: солдат | C85: Костюк Олександр Анатолійович | D85: Роменський РТЦК та СП у Сумській обл. 17 серпня 2025 року | E85: Сумська | F85: 30058 | G85: 3005723511 | H85: АВ 952286 | I85: ВН 499268 | J85: Житомирська обл. Коростишівський р-н, с.Бобрик | K85: Житомирська обл, м.Коростишів, вул Східна 46 | L85: професійно- технічна | M85: ЗОШ 3 м. Коростишів | N85: Будівельник, Права Б | O85: одружений, Костюк Олена Вікторівна, Житомирська обл, м.Коростишів, вул.Східна 46, тел-0966140653 | P85: 0977069685 | R85: курсант | S85: 100 | U85: 45886 | V85: № 236 | W85: =IF(C85="","",IF(Q85="","ні","так")) -> ні | X85: 45885 | Y85: Придатний до військової служби | AA85: ТЦК
A86: 75 | B86: солдат | C86: Коцюбинський Юрій Володимирович | D86: Житомирський ОМТЦК та СП в м. Житомир 17 серпня 2025 року | E86: Житомирська | F86: 36268 | G86: 3626700592 | H86: АГ 168644 | I86: ВН 688265 | J86: Житомирська обл, Червоноармійський р-н, с.Корчівка | K86: Житомир, вул.Вокзальна 10, кв.27 | L86: професійно- технічна | M86: Червоноармійський професійний ліцей, 2017р., тракторист-машиніст | N86: автослюсар, права Б, Ц1 | O86: неодружений, мати-Острожинська Наталя Миколаївна-1976- Житомирська обл, Червоноармійський р-н, с.Корчівка, вул.Лісова 7, батько-Острожинський Анатолій Іванович-1964- Житомирська обл. Червоноармійський р-н, с.Корчівка, вул.Лісова 7, тел-0968572896 | P86: 0977538681 | R86: курсант | S86: 100 | U86: 45886 | V86: № 236 | W86: =IF(C86="","",IF(Q86="","ні","так")) -> ні | X86: 45885 | Y86: Придатний до служби на підводних човнох, на надводних кораблях, у морській піхоті, Десантно-штурмових військах, спеціальних спорудах, підрозділах спеціального призначення | Z86: II Rh + | AA86: ТЦК
A87: 76 | B87: солдат | C87: Красножон Михайло Анатолійович | D87: Полтавський ОМТЦК та СП у м. Полтава 14 серпня 2025 року | E87: Полтавська | F87: 34988 | G87: 3498702896 | H87: АВ969117 | I87: 005383168 виданий 5310 30.10.2020 | J87: м. Полтава | K87: м. Полтава, Решетилівська 50\1, кв. 65 | L87: повна загальна середня | M87: Гімназія №13. м. Полтава, 2014 | N87: Сервісне обслуговування техніки 5 років. Права Б | O87: розлучений, брат: Красножон Антон Анатолійович - вул. Інжерена 11, м. Полтава - 0953848459 | P87: 0689699529 | R87: курсант | S87: 100 | U87: 45883 | V87: № 233 | W87: =IF(C87="","",IF(Q87="","ні","так")) -> ні | X87: 45882 | Y87: Придатний до військової служби | Z87: II Rh - | AA87: ТЦК
A88: 77 | B88: солдат | C88: Кривонос Анатолій Русланович | D88: Полтавський ОМТЦК та СП у м. Полтава 15 серпня 2025 року | E88: Полтавська | F88: 34468 | G88: 3446703499 | H88: АВ969125 | I88: КО866789 Київським РВ ПМУ УМВС України в Полтавській обл. 07.09.2011 | J88: м. Полтава | K88: м. Полтава провулок Хімичний 1а | L88: професійно- технічна | M88: ПТУ №23 м. Полтава 2013 водій автокрану | N88: Водій - 10 років Права Б Ц Ц1 | O88: одружений дружина: Кривонос Єлизавета Сергіївна - 1988 - м. Полтава провулок Хімичний 1а мати: Кривонос Наталія Анатоліївна - 1973 - 0665955574 - м. Полтава провулок Хімичний 1а | P88: 0967112314 | R88: курсант | S88: 100 | U88: 45884 | V88: № 234 | W88: =IF(C88="","",IF(Q88="","ні","так")) -> ні | X88: 45883 | Y88: Придатний до військової служби | Z88: I Rh + | AA88: ТЦК
A89: 78 | B89: солдат | C89: Кропивницький Віталій Русланович | D89: Житомирський РТЦК та СП в м. Житомир 14 серпня 2025 року | E89: Житомирська | F89: 34325 | G89: 3432405638 | H89: АГ626600 | I89: 003797717 Ірпінський об'єднаний відділ ЦМУ ДМС у м. Києві та Київській обл. 21.08.2019 | J89: м. Коростишів, Житомирська область | K89: м. Коростишів, вул. Волошкова, буд. 45 | L89: базова загальна середня | M89: школа №18, смт. Коцюбинське, 2009 | N89: кухар 4 роки | O89: неодружений, батько: Кропивницкий Руслан Олександрович, м. Коростишів, вул. Волошкова, буд. 45, 0954085494 | P89: 0991591289 | Q89: курсант | R89: курсант | T89: 45883 | U89: 45883 | V89: № 233 | W89: =IF(C89="","",IF(Q89="","ні","так")) -> так | X89: 45882 | Y89: III Rh + | Z89: III Rh + | AA89: ТЦК
A90: 79 | B90: солдат | C90: Кузьменко Євгеній Євгенійович | D90: Черкаський ОМТЦК та СП у м. Черкаси 17 серпня 2025 року | E90: Черкаська | F90: 35058 | G90: 3505709870 | H90: АГ 607119 | I90: 007863010 | J90: м. Черкаси | K90: м. Черкаси вул. Новопречистенська буд. 72 кв. 19 | L90: професійно- технічна | M90: ЧПТУ №22 м. Черкаси 2014 автослюсар | N90: Пілорамщик - 8 років | O90: неодружений мати: Кузьменко Руслана Сергіївна - 1969 - 0671326322 - м. Черкаси вул. Новопречистенська буд. 72 кв. 19 | P90: 0995800829 | R90: курсант | S90: 100 | U90: 45886 | V90: № 236 | W90: =IF(C90="","",IF(Q90="","ні","так")) -> ні | X90: 45791 | Y90: Придатний до військової служби | AA90: ТЦК
A91: 80 | B91: солдат | C91: Кульбачний Андрій Миколайович | D91: Роменський РТЦК та СП у Сумській обл. 16 серпня 2025 року | E91: Сумська | F91: 30137 | G91: 3013619259 | H91: МО351675 | I91: МВ275716 Недригайлівським РВ УМВС України в Сумській обл. 31.08.2005 | J91: Сумська обл. с. Недригайлів | K91: Сумська обл. с. Недригайлів вул. Шкільна буд. 4 | L91: професійно- технічна | M91: ВПУ с. Недригайлів 1995 Газоелектрозварювальник | N91: Будівлеьник - 20 років Права Ц | O91: одружений дружина: Кульбачна Олена Володимирівна - 1983 - 0507270160 -с. Недригайлів вул. Шкільна буд. 4 | P91: 0971440890 | Q91: 790037Р | R91: курсант | S91: 100 | U91: 45885 | V91: № 235 | W91: так | X91: 45884 | Y91: Придатний до військової служби | Z91: I Rh + | AA91: ТЦК
A92: 81 | B92: солдат | C92: Лавицький Андрій Миколайович | D92: Новгород-Сіверський РТЦК та СП у Чернігівській обл. 17 серпня 2025 року | E92: Чернігівська | F92: 31028 | G92: 3102715595 | H92: АГ 630518 | I92: НМ 479708 | J92: Чернігівська обл. Новгород-Северський район с. Слобідка | K92: Чернігівська обл. Новгород-Северський район с. Слобідка вул. Зелена буд. 3 | L92: професійно- технічна | M92: Ліцей м. Сосниця 2003 тракторист | N92: Водій - 8 років Права А, А1, Б, Ц, Ц1, ЦЄ | O92: неодружений мати: Лавицька Надія Іванівна - 1963 - 0937414082 - с. Слобідка вул. Зелена буд. 3 | P92: 0731316933 | R92: курсант | S92: 100 | U92: 45886 | V92: № 236 | W92: =IF(C92="","",IF(Q92="","ні","так")) -> ні | X92: 45885 | Y92: Придатний до військової служби | Z92: II Rh + | AA92: ТЦК
A93: 82 | B93: солдат | C93: Лаврський Євгеній Олександрович | D93: Полтавський РТЦК та СП у м. Полтава 15 серпня 2025 року | E93: Полтавська | F93: 36549 | G93: 3654807779 | H93: АВ 953048 | I93: НО 018807 Котелевським РС УДМС УКР в Полтавській обл 19.02.2016 | J93: Полтавська обл. Котелевський район с. Козлівщина | K93: Полтавська обл. Котелевський район с. Козлівщина вул. Петровичів буд. 16 | L93: вища | M93: ПДАУ м. Полтава 2023 агроном | N93: Агроном - 2 роки Права А А1 Б Ц | O93: неодружений мати: Лаврська Тетяна Олексіївна - 1979 - 0506231364 - с. Козлівщина вул. Петровичів буд. 16 | P93: 0667387031 | R93: курсант | S93: 100 | U93: 45885 | V93: № 235 | W93: =IF(C93="","",IF(Q93="","ні","так")) -> ні | X93: 45884 | Y93: Придатний до військової служби | Z93: I Rh + | AA93: ТЦК
A94: 83 | B94: солдат | C94: Лазоренко Сергій Анатолійович | D94: Кременчуцький РТЦК та СП у Полтавській обл. 15 серпня 2025 року | E94: Полтавська | F94: 29323 | G94: 2932219776 | H94: АВ 957588 | I94: FZ 809375 | J94: м. Кременчук | K94: м. Кременчук вул. Софіївська буд. 84 кв. 27 | L94: базова загальна середня | M94: - | N94: Водій - 10 років Права Б | O94: неодружений син: Лазоренко Владислав Сергійович - 2003 - 0988698202 - м. Кременчуг вул. Тельмана буд. 72 кв. 93 | P94: 0989983626 | R94: курсант | S94: 100 | U94: 45884 | V94: № 234 | W94: =IF(C94="","",IF(Q94="","ні","так")) -> ні | X94: 45883 | Y94: Придатний до військової служби | AA94: ТЦК
A95: 84 | B95: солдат | C95: Левченко Антон Олексійович | D95: Уманський РТЦК та СП у Черкаській обл. 16 серпня 2025 року | E95: Черкаська | F95: 32173 | G95: 3217209554 | H95: АГ 003958 | I95: НЕ 382051 | J95: Черкаська обл. Уманський район с. Христинівка | K95: Черкаська обл. Уманський район с. Христинівка вул. Кільцева буд. 52 | L95: вища | M95: ЛІЕіТ м. Львів 2020 Товарознавець | N95: Будівельник - 5 років Права Б Ц | O95: неодружений брат: Левченко Роман Олексійович - 1988 - за кордоном | P95: 0686103150 | R95: курсант | S95: 100 | U95: 45885 | V95: № 235 | W95: =IF(C95="","",IF(Q95="","ні","так")) -> ні | X95: 45884 | Y95: Придатний до військової служби | Z95: IV Rh + | AA95: ТЦК
A96: 85 | B96: солдат | C96: Левченко Ігор Анатолійович | D96: Коростенський РТЦК та СП у Житомирській обл. 14 серпня 2025 року | E96: Житомирська | F96: 35318 | G96: 3531705237 | H96: АГ169656 | I96: ВН578314 | J96: м. Овруч | K96: Житомирська обл м. Ігнатпіль вул Коворот буд 11 | L96: повна загальна середня | M96: школа 2014 | N96: помічник на лісопилці 6 міс | O96: розлучений сестра: Павленко Анна - 0968254129 - м. Ігнатпіль | P96: 0508495651 | R96: курсант | T96: 45883 | U96: 45883 | V96: № 233 | W96: =IF(C96="","",IF(Q96="","ні","так")) -> ні | X96: 45882 | Y96: Придатний до військової служби | Z96: III Rh + | AA96: ТЦК | AB96: А5060 по розподілу
A97: 86 | B97: солдат | C97: Лисенко Ігор Станіславович | D97: Полтавський РТЦК та СП у м. Полтава 17 серпня 2025 року | E97: Полтавська | F97: 35283 | G97: 3528210778 | H97: АВ 949945 | I97: КО 902876 | J97: Полтавська обл. м.Хорол | K97: Полтавська обл. м.Хорол, вул.Лагодинська 30, кв.3 | L97: професійно- технічна | M97: Міжрегіональний центр професійної підготовки 2014, слюсар | N97: Будівельник, Права Б, Ц | O97: неодружений, мати-Лисенко Марина Юріївна, Полтавська обл. м.Хорол, вул.Лагодинська 30, кв.3, тел-0635727519 | P97: 0998612447 | R97: курсант | S97: 100 | U97: 45886 | V97: № 236 | W97: =IF(C97="","",IF(Q97="","ні","так")) -> ні | X97: 45885 | Y97: Придатний до військової служби | Z97: II Rh + | AA97: ТЦК
A98: 87 | B98: солдат | C98: Любченко Олександр Валентинович | D98: Шосткинським РТЦК та СП у Сумській обл. 17 серпня 2025 року | E98: Сумська | F98: 31969 | G98: 3196813555 | H98: СО 731250 | I98: МВ 228417 | J98: Казахстан м. Семипалатинськ | K98: Сумська обл м Шостка вул Чернігівська буд 11 кв 13 | L98: професійно- технічна | M98: Шосткинський професійний ліцей 2006 електромонтер | N98: пилорама 14 років | O98: неодружений мати: Любченко Віра Михайлівна - 21.03.1962 - 0976627747 - Сумська обл м Шостка вул Чернігівська буд 11 кв 13 | P98: 0994589811 | Q98: 423 641А | R98: курсант | S98: 100 | U98: 45886 | V98: № 236 | W98: =IF(C98="","",IF(Q98="","ні","так")) -> так | X98: 45885 | Y98: Придатний до військової служби | Z98: III Rh + | AA98: ТЦК
A99: 88 | B99: солдат | C99: Мавіла Артем Валерійович | D99: Полтавський ОМТЦК та СП у м. Полтава 16 серпня 2025 року | E99: Полтавська | F99: 33062 | G99: 3306106798 | H99: АВ969131 | I99: ВК305096 Димитровським МВ ГУМВС Україхни в Донецькій обл. 26.09.2006 | J99: Донецька обл м Мирноград | K99: Донецька обл м Мирноград вул Красная буд 17 | L99: професійно- технічна | M99: ДПГЛ Донецької обл 2008 електрослюсар | N99: електрослюсар 17 років | O99: неодружений мати: Мавіа Надія Миколаївна - 1963 - 0669091301 - Полтава | P99: 0500500819 | R99: курсант | S99: 100 | U99: 45885 | V99: № 235 | W99: ні | X99: 45884 | Y99: Придатний до військової служби | Z99: I Rh + | AA99: ТЦК
A100: 89 | B100: солдат | C100: Макаренко Олександр Миколайович | D100: Звенигородський РТЦК та СП у Черкаській обл. 15 серпня 2025 року | E100: Черкаська | F100: 32920 | G100: 3291912237 | H100: СО880645 | I100: НЕ433134 Тальнівським РВ УМВС України в Черкаській обл. 20.06.2006 | J100: Черкаська обл. с. Лісове | K100: Черкаська обл. м. Тальне вул. Чубинського буд. 29 | L100: професійно- технічна | M100: Технікум КТНТБ м. Київ 2009 будівельник | N100: Будівельник - 13 років Права Б Ц Ц1 | O100: одружений дружина: Макаренко Тетяна Олександрівна - 1993 - 0988363039 - м. Тальне вул. Чубинського буд. 29 | P100: 0971986244 | R100: курсант | S100: 100 | U100: 45884 | V100: № 234 | W100: =IF(C100="","",IF(Q100="","ні","так")) -> ні | X100: 45883 | Y100: Придатний до військової служби | Z100: IV Rh + | AA100: ТЦК | AB100: А0281 по розподілу рекомендаційний лист
A101: 90 | B101: солдат | C101: Макаров Андрій Анатолійович | D101: Черкаський РТЦК та СП у м. Черкаси 17 серпня 2025 року | E101: Черкаська | F101: 32396 | G101: 3239510336 | H101: АГ 609053 | I101: КО 575152 | J101: Полтавська обл. м. Лубни | K101: Полтавська обл. м. Лубни вул. А. Керн буд. 2\1 | L101: вища | M101: ПДАА м. Полтава 2009 фінансист | N101: Маркетолог - 20 років Права Б | O101: неодружений батько: Макаров Анатолій Миколайович - 1963 - 0662243377 - м. Лубни вул. А. Керн буд. 2\1 | P101: 0956669916 | R101: курсант | S101: 100 | U101: 45886 | V101: № 236 | W101: =IF(C101="","",IF(Q101="","ні","так")) -> ні | X101: 45885 | Y101: Придатний до військової служби | AA101: ТЦК
A102: 91 | B102: солдат | C102: Малохліб Богдан Миколайович | D102: Полтавський РТЦК та СП у м. Полтава 17 серпня 2025 року | E102: Полтавська | F102: 33455 | G102: 3345411352 | H102: АВ 949654 | I102: КО 727005 | J102: Полтавська обл с Лелюхівка | K102: Полтавська обл с Лелюхівка вул Квітнева буд 8А | L102: вища | M102: НТУ м. Харків 2016 інженер механік | N102: слюсар скалдання металоконструкцій 9 років | O102: одружений Малохліб Дарина Миколаївна - 10.03.1997 - 0995380738 - Полтавська обл с Лелюхівка вул Квітнева буд 8А | P102: 0995613435 | R102: курсант | S102: 100 | U102: 45886 | V102: № 236 | W102: =IF(C102="","",IF(Q102="","ні","так")) -> ні | X102: 45885 | Y102: Придатний до військової служби | AA102: ТЦК
...

Sheet Settings
A1: базова загальна середня | C1: Придатний до військової служби | J1: Вінницька | K1: солдат | L1: I Rh -
A2: повна загальна середня | C2: Придатний до служби на підводних човнох, на надводних кораблях, у морській піхоті, Десантно-штурмових військах, спеціальних спорудах, підрозділах спеціального призначення | E2: Вінниця | F2: 1 відділ Хмільницький РТЦК | G2: першого відділу Хмільницького районного | H2: Вінницька | I2: Вінницького ОТЦК та СП | J2: Волинь | K2: старший солдат | L2: I Rh +
A3: професійно- технічна | C3: Придатний до служби у військових частинах забезпечення, ТЦК та СП, ВВНЗ, навчальних центрах, закладах (установах), медичних підрозділах, підрозділах логістики, зв'язку, оперативного забезпечення, охорони | E3: Вінниця | F3: 2 відділ Хмільницький РТЦК | G3: другого відділу Хмільницького районного | H3: Вінницька | I3: Вінницького ОТЦК та СП | J3: Дніпро | K3: молодший сержант | L3: II Rh -
A4: вища | E4: Вінниця | F4: 7 відділ Вінницький РТЦК | G4: сьомого відділу Вінницького районного | H4: Вінницька | I4: Вінницького ОТЦК та СП | J4: Донецьк | K4: сержант | L4: II Rh +
E5: Вінниця | F5: Вінницький ОМТЦК | G5: Вінницького об'єднаного міського | H5: Вінницька | I5: Вінницького ОТЦК та СП | J5: Житомир | K5: старший сержант | L5: III Rh -
E6: Вінниця | F6: 1 відділ Вінницький РТЦК | G6: першого відділу Вінницького районного | H6: Вінницька | I6: Вінницького ОТЦК та СП | J6: Закарпаття | K6: штаб-сержант | L6: III Rh +
E7: Вінниця | F7: 1 відділ Жмеринський РТЦК | G7: першого відділу Жмеринського районного | H7: Вінницька | I7: Вінницького ОТЦК та СП | J7: Запоріжжя | K7: матрос | L7: IV Rh -
E8: Вінниця | F8: Тульчинський РТЦК | G8: Тульчинського районного | H8: Вінницька | I8: Вінницького ОТЦК та СП | J8: Івано-Франківськ | K8: старший матрос | L8: IV Rh +
E9: Вінниця | F9: Хмільницький РТЦК | G9: Хмільницького районного | H9: Вінницька | I9: Вінницького ОТЦК та СП | J9: Київ місто | K9: старшина
E10: Вінниця | F10: 1 відділ Могилів-Подільський РТЦК | G10: першого відділу Могилів-Подільського районного | H10: Вінницька | I10: Вінницького ОТЦК та СП | J10: Київ обл | K10: старшина I статті
E11: Вінниця | F11: 1 відділ Тульчинський РТЦК | G11: першого відділу Тульчинського районного | H11: Вінницька | I11: Вінницького ОТЦК та СП | J11: Кропивницький | K11: головний старшина
E12: Вінниця | F12: 2 відділ Вінницький РТЦК | G12: другого відділу Вінницького районного | H12: Вінницька | I12: Вінницького ОТЦК та СП | J12: Луганськ | K12: прапорщик
E13: Вінниця | F13: 2 відділ Жмеринський РТЦК | G13: другого відділу Жмеринського районного | H13: Вінницька | I13: Вінницького ОТЦК та СП | J13: Львів
E14: Вінниця | F14: 2 відділ Могилів-Подільський РТЦК | G14: другого відділу Могилів-Подільського районного | H14: Вінницька | I14: Вінницького ОТЦК та СП | J14: Миколаїв
E15: Вінниця | F15: 2 відділ Тульчинський РТЦК | G15: другого відділу Тульчинського районного | H15: Вінницька | I15: Вінницького ОТЦК та СП | J15: Одеса
E16: Вінниця | F16: 3 відділ Вінницький РТЦК | G16: третього відділу Вінницького районного | H16: Вінницька | I16: Вінницького ОТЦК та СП | J16: Полтава
E17: Вінниця | F17: 3 відділ Могилів-Подільський РТЦК | G17: третього відділу Могилів-Подільського районного | H17: Вінницька | I17: Вінницького ОТЦК та СП | J17: Рівне
E18: Вінниця | F18: 3 відділ Тульчинський РТЦК | G18: третього відділу Тульчинського районного | H18: Вінницька | I18: Вінницького ОТЦК та СП | J18: Суми
E19: Вінниця | F19: 4 відділ Вінницький РТЦК | G19: четвертого відділу Вінницького районного | H19: Вінницька | I19: Вінницького ОТЦК та СП | J19: Тернопіль
E20: Вінниця | F20: 5 відділ Вінницький РТЦК | G20: п'ятого відділу Вінницького районного | H20: Вінницька | I20: Вінницького ОТЦК та СП | J20: Харків
E21: Вінниця | F21: 6 відділ Вінницький РТЦК | G21: шостого відділу Вінницького районного | H21: Вінницька | I21: Вінницького ОТЦК та СП | J21: Херсон
E22: Вінниця | F22: Вінницький РТЦК | G22: Вінницького районного | H22: Вінницька | I22: Вінницького ОТЦК та СП | J22: Хмельницький
E23: Вінниця | F23: Гайсинський РТЦК | G23: Гайсинського районного | H23: Вінницька | I23: Вінницького ОТЦК та СП | J23: Черкаси
E24: Вінниця | F24: 1 відділ Гайсинський РТЦК | G24: першого відділу Гайсинського районного | H24: Вінницька | I24: Вінницького ОТЦК та СП | J24: Чернівці
E25: Вінниця | F25: 2 відділ Гайсинський РТЦК | G25: другого відділу Гайсинського районного | H25: Вінницька | I25: Вінницького ОТЦК та СП | J25: Чернігів
E26: Вінниця | F26: Жмеринський РТЦК | G26: Жмеринського районного | H26: Вінницька | I26: Вінницького ОТЦК та СП
E27: Вінниця | F27: Могилів-Подільський РТЦК | G27: Могилів-Подільського районного | H27: Вінницька | I27: Вінницького ОТЦК та СП
E28: Волинь | F28: 1 відділ Камінь-Каширський РТЦК | G28: першого відділу Камінь-Каширського районного | H28: Волинська | I28: Волинського ОТЦК та СП
E29: Волинь | F29: 1 відділ Ковельський РТЦК | G29: першого відділу Ковельського районного | H29: Волинська | I29: Волинського ОТЦК та СП
E30: Волинь | F30: 2 відділ Ковельський РТЦК | G30: другого відділу Ковельського районного | H30: Волинська | I30: Волинського ОТЦК та СП
E31: Волинь | F31: 4 відділ Ковельський РТЦК | G31: четвертого відділу Ковельського районного | H31: Волинська | I31: Волинського ОТЦК та СП
E32: Волинь | F32: 3 відділ Ковельський РТЦК | G32: третього відділу Ковельського районного | H32: Волинська | I32: Волинського ОТЦК та СП
E33: Волинь | F33: 5 відділ Ковельський РТЦК | G33: п'ятого відділу Ковельського районного | H33: Волинська | I33: Волинського ОТЦК та СП
E34: Волинь | F34: Луцький ОМТЦК | G34: Луцького об'єднаного міського | H34: Волинська | I34: Волинського ОТЦК та СП
E35: Волинь | F35: 2 відділ Камінь-Каширський РТЦК | G35: другого відділу Камінь-Каширського районного | H35: Волинська | I35: Волинського ОТЦК та СП
E36: Волинь | F36: 1 відділ Луцький РТЦК | G36: першого відділу Луцького районного | H36: Волинська | I36: Волинського ОТЦК та СП
E37: Волинь | F37: 2 відділ Луцький РТЦК | G37: другого відділу Луцького районного | H37: Волинська | I37: Волинського ОТЦК та СП
... E56: Дніпро | F56: 2 відділ Дніпровського РТЦК та СП | G56: другого відділу Дніпровського районного | H56: Дніпропетровська | I56: Дніпропетровського ОТЦК та СП
D57: міста Дніпра | E57: Дніпро | F57: Дніпровський РТЦК та СП | G57: Дніпровського районного | H57: Дніпропетровська | I57: Дніпропетровського ОТЦК та СП
D58: міста Дніпра | E58: Дніпро | F58: Індустріальний РТЦК та СП | G58: Індустріального районного | H58: Дніпропетровська | I58: Дніпропетровського ОТЦК та СП
E59: Дніпро | F59: Кам'янського РТЦК та СП | G59: Кам'янського районного | H59: Дніпропетровська | I59: Дніпропетровського ОТЦК та СП
E60: Дніпро | F60: 2 відділ Криворізького РТЦК та СП | G60: другого відділу Криворізького районного | H60: Дніпропетровська | I60: Дніпропетровського ОТЦК та СП
E61: Дніпро | F61: Криворізький РТЦК та СП | G61: Криворізького районного | H61: Дніпропетровська | I61: Дніпропетровського ОТЦК та СП
E62: Дніпро | F62: 2 відділ Синельниківського РТЦК та СП | G62: другого відділу Синельниківського районного | H62: Дніпропетровська | I62: Дніпропетровського ОТЦК та СП
E63: Дніпро | F63: Новокодацький РТЦК та СП | G63: Новокодацького районного | H63: Дніпропетровська | I63: Дніпропетровського ОТЦК та СП
E64: Дніпро | F64: Покровсько-Тернівський РТЦК та СП | G64: Покровсько-Тернівського районного | H64: Дніпропетровська | I64: Дніпропетровського ОТЦК та СП
E65: Дніпро | F65: Самарський РТЦК та СП | G65: Самарського районного | H65: Дніпропетровська | I65: Дніпропетровського ОТЦК та СП
E66: Дніпро | F66: Соборний РТЦК та СП | G66: Соборного районного | H66: Дніпропетровська | I66: Дніпропетровського ОТЦК та СП
E67: Дніпро | F67: 3 відділ Дніпровського РТЦК та СП | G67: третього відділу Дніпровського районного | H67: Дніпропетровська | I67: Дніпропетровського ОТЦК та СП
D68: міста Дніпра | E68: Дніпро | F68: Шевченківський РТЦК та СП | G68: Шевченківського районного | H68: Дніпропетровська | I68: Дніпропетровського ОТЦК та СП
E69: Дніпро | F69: 3 відділ Криворізького РТЦК та СП | G69: третього відділу Криворізького районного | H69: Дніпропетровська | I69: Дніпропетровського ОТЦК та СП
E70: Дніпро | F70: 3 відділ Нікопольський РТЦК та СП | G70: третього відділу Нікопольського районного | H70: Дніпропетровська | I70: Дніпропетровського ОТЦК та СП
E71: Дніпро | F71: 3 відділ Нікопольського РТЦК та СП | G71: третього відділу Нікопольського районного | H71: Дніпропетровська | I71: Дніпропетровського ОТЦК та СП
E72: Дніпро | F72: 3 відділ Синельниківського РТЦК та СП | G72: третього відділу Синельниківського районного | H72: Дніпропетровська | I72: Дніпропетровського ОТЦК та СП
E73: Дніпро | F73: 4 відділ Синельниківського РТЦК та СП | G73: четвертого відділу Синельниківського районного | H73: Дніпропетровська | I73: Дніпропетровського ОТЦК та СП
E74: Дніпро | F74: 5 відділ Синельниківського РТЦК та СП | G74: п'ятого відділу Синельниківського районного | H74: Дніпропетровська | I74: Дніпропетровського ОТЦК та СП
E75: Дніпро | F75: Дніпровський ОТЦК та СП | G75: Дніпровського обласного | H75: Дніпропетровська | I75: Дніпропетровського ОТЦК та СП
E76: Дніпро | F76: Інгулецький РТЦК та СП | G76: Інгулецького районного | H76: Дніпропетровська | I76: Дніпропетровського ОТЦК та СП
E77: Дніпро | F77: Криворізький РТЦК та СП | G77: Криворізького районного | H77: Дніпропетровська | I77: Дніпропетровського ОТЦК та СП
E78: Дніпро | F78: Металургійно-Довгинцівський ОРТЦК та СП | G78: Металургійно-Довгинцівського об'єднаного районного | H78: Дніпропетровська | I78: Дніпропетровського ОТЦК та СП
E79: Дніпро | F79: Нікопольський РТЦК та СП | G79: Нікопольського районного | H79: Дніпропетровська | I79: Дніпропетровського ОТЦК та СП
E80: Дніпро | F80: Новомосковський РТЦК та СП | G80: Новомосковського районного | H80: Дніпропетровська | I80: Дніпропетровського ОТЦК та СП
... E133: Запоріжжя | F133: Василівський РТЦК та СП | G133: Василівського районного | H133: Запорізька | I133: Запорізького ОТЦК та СП
D134: міста Запоріжжя | E134: Запоріжжя | F134: Заводський РТЦК та СП | G134: Заводського районного | H134: Запорізька | I134: Запорізького ОТЦК та СП
E135: Запоріжжя | F135: Запорізький РТЦК та СП | G135: Запорізького районного | H135: Запорізька | I135: Запорізького ОТЦК та СП
E136: Запоріжжя | F136: Комунарський РТЦК та СП | G136: Комунарського районного | H136: Запорізька | I136: Запорізького ОТЦК та СП
E137: Запоріжжя | F137: 1 відділ Мелітопольський РТЦК та СП | G137: першого відділу Мелітопольського районного | H137: Запорізька | I137: Запорізького ОТЦК та СП
E138: Запоріжжя | F138: Мелітопольський РТЦК та СП | G138: Мелітопольського районного | H138: Запорізька | I138: Запорізького ОТЦК та СП
E139: Запоріжжя | F139: Пологівський РТЦК та СП | G139: Пологівського районного | H139: Запорізька | I139: Запорізького ОТЦК та СП
E140: Запоріжжя | F140: 3 відділ Пологівського РТЦК та СП | G140: третього відділу Пологівського районного | H140: Запорізька | I140: Запорізького ОТЦК та СП
E141: Запоріжжя | F141: Хортицький РТЦК та СП | G141: Хортицького районного | H141: Запорізька | I141: Запорізького ОТЦК та СП
D142: міста Запоріжжя | E142: Запоріжжя | F142: Центральний ОРТЦК та СП | G142: Центрального об'єднаного районного | H142: Запорізька | I142: Запорізького ОТЦК та СП
D143: міста Запоріжжя | E143: Запоріжжя | F143: Шевченківський РТЦК та СП | G143: Шевченківського районного | H143: Запорізька | I143: Запорізького ОТЦК та СП
E144: Івано-Франківськ | F144: 1 відділ Івано-Франківський РТЦК | G144: першого відділу Івано-Франківського районного | H144: Івано-Франківська | I144: Івано-Франківського ОТЦК та СП
E145: Івано-Франківськ | F145: 1 відділ Калуський РТЦК | G145: першого відділу Калуського районного | H145: Івано-Франківська | I145: Івано-Франківського ОТЦК та СП
E146: Івано-Франківськ | F146: 1 відділ Коломийський РТЦК | G146: першого відділу Коломийського районного | H146: Івано-Франківська | I146: Івано-Франківського ОТЦК та СП
E147: Івано-Франківськ | F147: 2 відділ Івано-Франківський РТЦК | G147: другого відділу Івано-Франківського районного | H147: Івано-Франківська | I147: Івано-Франківського ОТЦК та СП
E148: Івано-Франківськ | F148: 2 відділ Калуський РТЦК | G148: другого відділу Калуського районного | H148: Івано-Франківська | I148: Івано-Франківського ОТЦК та СП
E149: Івано-Франківськ | F149: 2 відділ Коломийський РТЦК | G149: другого відділу Коломийського районного | H149: Івано-Франківська | I149: Івано-Франківського ОТЦК та СП
E150: Івано-Франківськ | F150: 3 відділ Івано-Франківський РТЦК | G150: третього відділу Івано-Франківського районного | H150: Івано-Франківська | I150: Івано-Франківського ОТЦК та СП
E151: Івано-Франківськ | F151: 4 відділ Івано-Франківський РТЦК | G151: четвертого відділу Івано-Франківського районного | H151: Івано-Франківська | I151: Івано-Франківського ОТЦК та СП
E152: Івано-Франківськ | F152: Верховинський РТЦК | G152: Верховинського районного | H152: Івано-Франківська | I152: Івано-Франківського ОТЦК та СП
E153: Івано-Франківськ | F153: Івано-Франківський МТЦК | G153: Івано-Франківського міського | H153: Івано-Франківська | I153: Івано-Франківського ОТЦК та СП
E154: Івано-Франківськ | F154: Івано-Франківський ОТЦК | G154: Івано-Франківського обласного | H154: Івано-Франківська | I154: Івано-Франківського ОТЦК та СП
E155: Івано-Франківськ | F155: Івано-Франківський РТЦК | G155: Івано-Франківського районного | H155: Івано-Франківська | I155: Івано-Франківського ОТЦК та СП
... E162: Київ місто | F162: Деснянський РТЦК | G162: Деснянського районного | H162: Київ місто | I162: Київського МТЦК та СП
D163: міста Києва | E163: Київ місто | F163: Дніпровський РТЦК | G163: Дніпровського районного | H163: Київ місто | I163: Київського МТЦК та СП
E164: Київ місто | F164: Оболонський РТЦК | G164: Оболонського районного | H164: Київ місто | I164: Київського МТЦК та СП
E165: Київ місто | F165: Печерський РТЦК | G165: Печерського районного | H165: Київ місто | I165: Київського МТЦК та СП
D166: міста Києва | E166: Київ місто | F166: Подільський РТЦК | G166: Подільського районного | H166: Київ місто | I166: Київського МТЦК та СП
E167: Київ місто | F167: Святошинський РТЦК | G167: Святошинського районного | H167: Київ місто | I167: Київського МТЦК та СП
E168: Київ місто | F168: Солом'янський РТЦК | G168: Солом'янського районного | H168: Київ місто | I168: Київського МТЦК та СП
D169: міста Києва | E169: Київ місто | F169: Шевченківський РТЦК | G169: Шевченківського районного | H169: Київ місто | I169: Київського МТЦК та СП
E170: Київ обл | F170: 1 відділ Бориспільський РТЦК | G170: першого відділу Бориспільського районного | H170: Київ обл | I170: Київського ОТЦК та СП
E171: Київ обл | F171: 1 відділ Бучанський РТЦК | G171: першого відділу Бучанського районного | H171: Київ обл | I171: Київського ОТЦК та СП
E172: Київ обл | F172: 1 відділ Вишгородський РТЦК | G172: першого відділу Вишгородського районного | H172: Київ обл | I172: Київського ОТЦК та СП
E173: Київ обл | F173: 1 відділ Обухівський РТЦК | G173: першого відділу Обухівського районного | H173: Київ обл | I173: Київського ОТЦК та СП
E174: Київ обл | F174: 1 відділ Білоцерківський РТЦК | G174: першого відділу Білоцерківського районного | H174: Київ обл | I174: Київського ОТЦК та СП
E175: Київ обл | F175: 2 відділ Білоцерківський РТЦК | G175: другого відділу Білоцерківського районного | H175: Київ обл | I175: Київського ОТЦК та СП
E176: Київ обл | F176: 2 відділ Бориспільський РТЦК | G176: другого відділу Бориспільського районного | H176: Київ обл | I176: Київського ОТЦК та СП
...

Sheet перевірки
A2: Сєроклін Микола Олегович | C2: =Основний!C12 -> Айб Руслан Ігорович | E2: =C2=G2 -> FALSE | G2: Батура Віктор Сергійович | H2: Полтавська область, Глобинський район, с. Малинівка | I2: вул. Крамського 2, м. Полтава | J2: вища | K2: Полтавський аграрний інститут, 2019, Інженер сільсько господарської техніки | L2: Будівельник 10 років | M2: неодружений, мати: Даценко Алла Олексіївна - 0968398894, м. Глобино; сестра: Лещенко Єлизавета Сергіївна - 0689734287 - м. Полтава | N2: 0985986153
A3: Набок Валерій Миколайович | C3: =Основний!C13 -> Антонович В'ячеслав Васильович | E3: =C3=G3 -> FALSE | G3: Бережний Євгеній Олегович | H3: Донецька обл.м.Славянськ | I3: Полтавська обл.м.Лохвиця вул.Лесі Украінки 9 | J3: професійно- технічна | K3: Ромницьке ВПУ у 2016 електромеханік | L3: продавець консультант 3 роки | M3: неодружений мати:Харченко Оксана Олександрівна-1973-0955536441-Полтавська обл.м.Лохвиця вул.Лесі Украінки 9 вітчим:Харченко Олександр Олексійович-1972-0666224233-Полтавська обл.м.Лохвиця вул.Лесі Украінки 9 | N3: 0682701392
A4: Батура Віктор Сергійович | C4: =Основний!C14 -> Базилевич Максим Олександрович | E4: =C4=G4 -> FALSE | G4: Бірюков Євген Анатолійович | H4: Великоновосільківський район, Донецька область, с. Шевченка | I4: Черкаська область, Тальнівський район, с. Лісове, вул. Зільниця, буд. 28 | J4: професійно- технічна | K4: ПТУ Великоновосільківський район, 2010, тракторист | L4: різноробочий 10 років | M4: одружений, жінка: Бірюкова Катерина Григорівна, Черкаська область, Тальнівський район, с. Лісове, вул. Зільниця, буд. 28 | N4: 0978269441
A5: Коваленко Іван Іванович | C5: =Основний!C15 -> Балацький Микола Анатолійович | E5: =C5=G5 -> FALSE | G5: Бородій Володимир Васильович | H5: Житомирська обл.м.Овруч | I5: Житомирська обл.м.Овруч вул.Мічуріна 10 кв.2 | J5: професійно- технічна | K5: ПТУ№35 м.Овруч у 2003 водій | L5: водій 18 років права А С | M5: дружина:Бородій Світлана Вікторівна-1981-0990938241-Житомирська обл.м.Овруч вул.Мічуріна 10 кв.2 | N5: -
A6: Марюхно Артем Олександрович | C6: =Основний!C16 -> Барабаш Олександр Сергійович | E6: =C6=G6 -> FALSE | G6: Ващенко Володимир Ігорович | H6: Киівська обл.м.Бровари | I6: Киівська обл.м.Бровари вул.Миколи Костомарова 28а | J6: професійно- технічна | K6: ПФПК у 2005 юрист | L6: будівельник 10 років права В | M6: неодружений батько:Ващенко Шгор Володимирович-1960-0677384870-Киівська обл.м.Бровари вул.Миколи Костомарова 28а | N6: 0975482717
A7: Шегера Роман Володимирович | C7: =Основний!C17 -> Батура Віктор Сергійович | E7: =C7=G7 -> FALSE | G7: Винничук Володимир Ярославович | H7: Тернопільська обл.Чортківський р-н.с.Улашківці | I7: Тернопільська обл.Чортківський р-н.с.Улашківці вул.Сонячна 14 | J7: професійно- технічна | K7: Чортківське ВПУ у 2013 слюсар з ремонту автомобілів | L7: овальщик 6 років права В | M7: неодружений мати:Винничук Галина Йосафатівна-1974--974114211-Тернопільська обл.Чортківський р-н.с.Улашківці вул.Сонячна 14 батько:Винничук Ярослав Степанович-1973-0682466460-Тернопільська обл.Чортківський р-н.с.Улашківці вул.Сонячна 14 | N7: 0979289360
A8: Смірнов Артур Артюшевич | C8: =Основний!C18 -> Белінський Сергій Юрійович | E8: =C8=G8 -> FALSE | G8: Гарбар Олександр Вікторович | H8: с. Леприн, Житомирська область, Радомишлівський район | I8: Житомирська область, Радомишлівський район, с. Леприн, вул. Лугова, буд. 23 | J8: повна загальна середня | K8: ліцей, м. Радомишль, 2009 | L8: будівельник 5 років | M8: цивільний шлюб, цивільна дружина: Шарапова Надія Петрівна, Житомирська область, Радомишлівський район, с. Леприн, вул. Лугова, буд. 23, 0669208817
A9: Герасименко Павло Сергійович | C9: =Основний!C19 -> Бережний Євгеній Олегович | E9: =C9=G9 -> FALSE | G9: ГЕРАСИМЕНКО Павло Сергійович | H9: м. Полтава | I9: м. Полтава, вул. Європейська, буд 139, кв. 22 | J9: професійно- технічна | K9: СПТУ №10, м. Полтава | L9: комірник | M9: одружений дружина: Георгієва Юлія Юрієвна - 1986 - 0936718521 - м. Полтава, вул. Великотирнівська, буд. 27/1, кв. 84 | N9: 0936893236
A10: Красножон Михайло Анатолійович | C10: =Основний!C20 -> Білоус Сергій Олегович | E10: =C10=G10 -> FALSE | G10: Горнічний Едуард Юрійович | H10: м. Архангельск, РФ | I10: м. Житомир, вул. Свободи, буд. 52 | J10: базова загальна середня | K10: училище, м. Пулин, водій | L10: будівельник 9 років, Права А Б Ц | M10: цивільний шлюб, цивільна дружина: Городнича Наталія Віталіївна, м. Житомир, вул. Свободи, буд. 52, 0685496100
A11: Меньшиков Анатолій Миколайович | C11: =Основний!C21 -> Бірюков Євген Анатолійович | E11: =C11=G11 -> FALSE | G11: Гуменюк Віктор Васильович | H11: с. Солотвин, Бердичівський район, Житомирський область | I11: с. Старий Солотвин, Бердичівський район, провулок Миру, буд. 5 | J11: повна загальна середня | K11: професійно-будівельний ліцей №12, м.Бердичів | L11: будівельник, 12 років | M11: неодружений, мати: Гуменюк Валентина Володимирівна, с. Старий Солотвин, Бердичівський район, провулок Миру, буд. 5, 0972768628 | N11: 0987983165
A12: Чаус Євгеній Русланович | C12: =Основний!C22 -> Бобровський Олександр Іванович | E12: =C12=G12 -> FALSE | G12: ДЕНИСЮК Вадим Васильович | H12: Ємільчинська обл с. Симони | I12: Ємільчинська обл с. Симони вул Незалежності буд 21 | J12: базова загальна середня | K12: ЗОШ с. Симони | L12: різноробочий | M12: неодружений сестра: Денисюк Ольга Василівна - 09.03.1989 - 0660494552 - Ємільчинська обл с. Симони вул Незалежності 21 | N12: 0663759546
A13: Юр'єв Роман Русланович | C13: =Основний!C23 -> Бондаренко Роман Ігорович | E13: =C13=G13 -> FALSE | G13: Донець Микола Михайлович | H13: м. Сміла, Черкаська область | I13: Черкаська область, м. Сміла, вул. Філатова, буд. 8, кв. 145 | J13: вища | K13: Національний транспортний університет, м. Київ, 2019, інженер будівельник | L13: майстер дорожніх робіт 1 рік, Права Б | M13: неодружений, мати: Донець Любов Михайлівна, Черкаська область, м. Сміла, вул. Філатова, буд. 8, кв. 145, 0636539977 | N13: 0931913213
A14: Шапран Ігор Олександрович | C14: =Основний!C24 -> Боришевський Олександр Петрович | E14: =C14=G14 -> FALSE | G14: ДРИЖУК Сергій Юрійович | H14: м. Пирятин Полтавська обл. | I14: Вінницька обл с Журбинці вул Зарічна буд 34 | J14: базова загальна середня | K14: школа-інтернат 2006 м. Козятин | L14: будівельник 10 років Права Б Ц Т | M14: неодружений дружина: Чоботарьова Альбіна Олександрівна - 1993 - Вінницька обл с Журбинці вул Зарічна буд 34 | N14: 0680196331
A15: Донець Микола Михайлович | C15: =Основний!C25 -> Бородій Володимир Васильович | E15: =C15=G15 -> FALSE | G15: ІЛЛЮШИН Ярослав Вікторович | H15: м. Чернігів | I15: м. Вінниця вул. Антона Листопада буд.2 кв 13 | J15: професійно- технічна | K15: ПТУ №16 м. Чернігів пекар | L15: керівник терміналу 2 роки | M15: неодружений дівчина: Лубьянова Анастасія Ігорівна - 28.07.1995 - 0933846576 - м. Вінниця вул. Антона Листопада буд.2 кв 13 | N15: 0954948604
A16: Павленко Микола Володимирович | C16: =Основний!C26 -> Бубало Олександр Сергійович | E16: =C16=G16 -> FALSE | G16: Ісаєнко Володимир Володимирович | H16: Полтавська область, м. Кременчук | I16: Полтавська область, м. Кременчук, вул. Переяслівська, буд. 44, кв. 13 | J16: професійно- технічна | K16: Кременчуцький коледж національного університету ім. М. Скоропадського, 2016, зварювальне відділення | L16: зварювальник слюсар, 3 роки | M16: неодружений, мати: Ісаєнко Вікторія Володимирівна, м. Кременчук, вул. Переяслівська, буд. 44, кв. 13, 0964325190 | N16: 0636126867
A17: Семенюк Олександр Іванович | C17: =Основний!C27 -> Будник Сергій Ігорович | E17: =C17=G17 -> FALSE | G17: Коваленко Іван Іванович | H17: Сумська обл.Лебединський р-н.с.Корчани | I17: Сумська обл.Лебединський р-н.с.Василівка вул.Широка 47 | J17: повна загальна середня | K17: Лебединське ПТУ у 1997 тракторист | L17: тракторист 10 років А1 Д | M17: цивільна дружина:Дряхлова Юлія Олександрівна-1984-09723389-Сумська обл.Лебединський р-н.с.Василівка вул.Широка 47 | N17: 0679831091
A18: Марков Віталій Ігорович | C18: =Основний!C28 -> Бумар Антон Миколайович | E18: =C18=G18 -> FALSE | G18: Красножон Михайло Анатолійович | H18: м. Полтава | I18: м. Полтава, Решетилівська 50\1, кв. 65 | J18: повна загальна середня | K18: Гімназія №13. м. Полтава, 2014 | L18: Сервісне обслуговування техніки 5 років. Права Б | M18: розлучений, брат: Красножон Антон Анатолійович - вул. Інжерена 11, м. Полтава - 0953848459 | N18: 0689699529
A19: Бережний Євгеній Олегович | C19: =Основний!C29 -> Бунчук Ярослав Олександрович | E19: =C19=G19 -> FALSE | G19: Кропивницький Віталій Русланович | H19: м. Коростишів, Житомирська область | I19: м. Коростишів, вул. Волошкова, буд. 45 | J19: базова загальна середня | K19: школа №18, смт. Коцюбинське, 2009 | L19: кухар 4 роки | M19: неодружений, батько: Кропивницкий Руслан Олександрович, м. Коростишів, вул. Волошкова, буд. 45, 0954085494 | N19: 0991591289
A20: Ісаєнко Володимир Володимирович | C20: =Основний!C30 -> Вавілкін Олександр Сергійович | E20: =C20=G20 -> FALSE | G20: ЛЕВЧЕНКО Ігор Анатолійович | H20: м. Овруч | I20: Житомирська обл м. Ігнатпіль вул Коворот буд 11 | J20: повна загальна середня | K20: школа 2014 | L20: помічник на лісопилці 6 міс | M20: розлучений сестра: Павленко Анна - 0968254129 - м. Ігнатпіль | N20: 0508495651
A21: Рибачик Роман Іванович | C21: =Основний!C31 -> Ващенко Володимир Ігорович | E21: =C21=G21 -> FALSE | G21: МАРКОВ Віталій Ігорович | H21: м. Кременчуг Полтавська обл. | I21: Полтавська обл. м. Кременчуг вул. Мрії 5 кв 19 | J21: вища | K21: КДПУ 2004 інженер механік | L21: ТОВ Кредо 4 роки Права Б Ц | M21: розлучений мати: Маркова Світлана Борисівна - 29.081960 - 0982851680 - Полтавська обл. м. Кременчуг вул. Мрії 5 кв 19 | N21: 0679629311
A22: Горнічний Едуард Юрійович | C22: =Основний!C32 -> Верещак Сергій Олександрович | E22: =C22=G22 -> FALSE | G22: МАРЮХНО Артем Олександрович | H22: м. Полтава | I22: м. Полтава вул. Європейська, буд 115а, кв. 97 | J22: повна загальна середня | K22: ЗОШ 3, м. Полтава | L22: водій Права Б, Ц, Ц1 | M22: дружина: Бєлоброва Марина Юріївна - 1992 - 0668099423 - м. Полтава, вул. Європейська, буд 115а, кв. 97 | N22: 0958773247
... A24: Степанишин Дмитро Вікторович | C24: =Основний!C34 -> Гавриляков Ростислав Олександрович | E24: =C24=G24 -> FALSE | G24: НАБОК Валерій Миколайович | H24: с. Усанівка, Сумська обл | I24: Сумська обл., смт Липова Долина, вул. Шевченка, буд. 14 | J24: повна загальна середня | K24: Ліцей, с. Глинськ | L24: Тракторист водій | M24: неодружений. дружина: Добродій Тетяна Миколаївна - 09.05.1988 - 0508030946 - Сумська обл., смт Липова Долина, вул. Шевченка, буд. 14 | N24: 0994797289
A25: Скрипник Сергій Васильович | C25: =Основний!C35 -> Гарбар Олександр Вікторович | E25: =C25=G25 -> FALSE | G25: Омельченко Сергій Григорович | H25: смт.Ємільчіно, Житомирска область | I25: смт. Ємільчіно, Житомирська область, вул. Садова, буд. 30 | J25: повна загальна середня | K25: Школа №2, Ємільчіно | L25: автослюсар, 5 років | M25: цивільний шлюб, брат: Омельченко Олексій Григорович, смт. Ємільчино, вул. Касьянова, буд. 5
A26: Гарбар Олександр Вікторович | C26: =Основний!C36 -> Гарбуз Микола Олександрович | E26: =C26=G26 -> FALSE | G26: Павленко Микола Володимирович | H26: м. Кременчук, Полтавська область | I26: м. Кременчук, тупик Глобинський, буд. 5 | J26: вища | K26: Дніпропетровський університет економіки і права, 2007, економічна кібернетика | L26: експерт економічної діяльності, інженер перевідник 15 років | M26: неодружений, брат: Павленко Олександр Володимирович - 0675306999 - м. Кременчук, вул Симоненка, буд. 11 | N26: 0668461344
A27: Тіщенко Олег Анатолійович | C27: =Основний!C37 -> Гасанов Анатолій Миколайович | E27: =C27=G27 -> FALSE | G27: РИБАЧИК Роман Іванович | H27: Житомирська обл. с. Відродження | I27: м. Житомир вул. Бориса Тена, 96 кв 13 | J27: професійно- технічна | K27: Училище №9 м. Житомир 2019 кухар, офіціант, бармен | L27: кухар 2 роки Права Б Ц | M27: неодружений брат: Рибачик Ярослав Іванович - 21.02.2007 - 0975595736 - м. Житомир вул. Бориса Тена, 96 кв 13 | N27: 0667511936
A28: Бірюков Євген Анатолійович | C28: =Основний!C38 -> Герасименко Павло Сергійович | E28: =C28=G28 -> FALSE | G28: Свинаренко Святослав Васильович | H28: м. Черкаси | I28: м. Черкаси, вул. Вернигори, буд. 9, кв. 43 | J28: вища | K28: Черкаський державний технологічний університет, 2013, економіка підприємства | L28: завідуючий складом, 3 роки | M28: одружений, батько: Свинаренко Василь Миколайович, м. Черкаси, вул. Вернигори, буд. 9, кв. 43, 0637896747. мати: Свинаренко Ольга Василівна, м. Черкаси, вул. Вернигори, буд. 9, кв. 43, 0972053582 | N28: 0937058585
A29: Кропивницький Віталій Русланович | C29: =Основний!C39 -> Гігін Роман Олександрович | E29: =C29=G29 -> FALSE | G29: СЕМЕНЮК Олександр Іванович | H29: Полтавська обл. с. Вечірки | I29: Полтавська обл м. Гадяч вул. Подільска буд 7 кв 2 | J29: базова загальна середня | K29: Березоворудський технікум м. Гадяч 2020 | L29: різноробочий | M29: одружений дружина: Семенюк Марина Василівна - 02.03.2000 - 0682860854 - Полтавська обл м. Гадяч вул. Подільска буд 7 кв 2 | N29: 0955497601
A30: Іллюшін Ярослав Вікторович | C30: =Основний!C40 -> Гірний Михайло Ярославович | E30: =C30=G30 -> FALSE | G30: Сєроклін Микола Олегович | H30: м. Буринь, Сумська область | I30: вул. Гая Головенського 26, м. Буринь, Конотопський район, Сумська область | J30: вища | K30: СумДУ, 2021, фінанси та банківська справа | L30: Права Б Ц, Відеомонтажер 3 роки | M30: неодружений, мати: Сєроклін Олена Іванівна - 0661878039 - вул. Гая Головенського 26, м. Буринь, Сумська область | N30: 0992966134
A31: Дрижук Сергій Юрійович | C31: =Основний!C41 -> Головач Ярослав Владиславович | E31: =C31=G31 -> FALSE | G31: Сичевський Олександр Олександрович | H31: м. Козятин, Вінницька область | I31: Житомирська область, Ружинський район, смт. Ружин, вул. Київська, буд. 5, кв.5 | J31: повна загальна середня | K31: школа №5, м. Козятин, 2010 | L31: автослюсар, 10 років | M31: розлучений, батько: Сичевський Олександр Юрійович, м. Козятин, вул. Артура Венжика, буд. 48, кв. 15, 0935156984 | N31: 0684359019
A32: Сичевський Олександр Олександрович | C32: =Основний!C42 -> Горнічний Едуард Юрійович | E32: =C32=G32 -> FALSE | G32: Скрипник Сергій Васильович | H32: м. Гайсин, Вінницька область | I32: м. Гайсин, Вінницька область, Другий провулок Івана Франка, буд 1. | J32: повна загальна середня | K32: школа №3, м. Гайсин | L32: будівельник 10 років, Права Б | M32: розлучений, мати: Скрипник Тетяна Михайлівна, м. Гайсин, вул. Гайсинська, буд. 35. Скрипник Василь Опанасович, м. Гайсин, вул. Гайсинська, буд. 35 | N32: 0979394554
A33: Бородій Володимир Васильович | C33: =Основний!C43 -> Горохівський Ігор Валерійович | E33: =C33=G33 -> FALSE | G33: Смірнов Артур Артюшович | H33: м.Полтава | I33: м.Полтава вул Івана Мазепи 49кв.55 | J33: вища | K33: ПНТУ ім.Юрія Кондратюка у 2019 тренер бакалаврат здоровя людини | L33: охоронець 6 років права В | M33: мати:Смірнова Ірина Анатоліівна-1972-0503046016-м.Полтава вул.Уютная 15 | N33: 0999646261
A34: Левченко Ігор Анатолійович | C34: =Основний!C44 -> Губенко Віктор Миколайович | E34: =C34=G34 -> FALSE | G34: СТЕПАНИШИН Дмитро Вікторович | H34: Київська обл. Фастівський р-н, с. Оленівка | I34: Житомирська обл. м. Чуднів вул. Героїв АТО 27 | J34: вища | K34: ЖНАЕУ 2019 агроном | L34: оператор плахофабрики, водій 7 років Права Б Ц1 Ц | M34: одружений дружина: Степанишина Аліна Олегівна - 11.02.1991 - 0667840590 - м. Чуній вул Зелена 23 | N34: 0661413110
A35: Свинаренко Святослав Васильович | C35: =Основний!C45 -> Губенко Олександр Миколайович | E35: =C35=G35 -> FALSE | G35: ТІЩЕНКО Олег Анатолійович | H35: Вінницька обл м. Ямпіль | I35: м. Вінниця масив окружний | J35: вища | K35: ВФЕУ м. Вінниця 2006 бухгалтер економіст | L35: працівник торгівельник 5 років Права Б | M35: одружений дружина: Тіщенко Інна Олександрівна - 04.11.1986 - 0970586338 - м. Вінниця масив окружний | N35: 0965205811
A36: Омельченко Сергій Григорович | C36: =Основний!C46 -> Гуменюк Валерій Володимирович | E36: =C36=G36 -> FALSE | G36: ХМЕЛЬНИЦЬКИЙ Сергій Леонідович | H36: м. Житомир | I36: м. Житомир вул Кибальчича буд 5 кв 15 | J36: вища | K36: УАБП 2016 бухгалтер економіст | L36: машиніст 5 разряда 10 | M36: неодружений мати: Хмельницька Антоніна Миколаївна - 30.01.1953 - 0963675865 - м. Житомир вул Кибальчича буд 5 кв 15 | N36: 0635612931
A37: Ващенко Володимир Ігорович | C37: =Основний!C47 -> Гуменюк Віктор Васильович | E37: =C37=G37 -> FALSE | G37: ЧАУС Євген Олександрович | H37: м. Вінниця | I37: м. Вінниця, вул. Київська, буд. 50, кв. 13 | J37: професійно- технічна | K37: ВК НУХТ, м. Вінниця, автомеханік | L37: автомеханік | M37: розлучений батько: Чаус Руслан Олександрович - 1971 - 0674244562 - м. Вінниця, вул. Київська, буд 50, кв. 13 | N37: 0988216124
... A40: Хмельницький Сергій Леонідович | C40: =Основний!C50 -> Дем'яненко Артур Русланович | E40: =C40=G40 -> FALSE | G40: Юр'єв Роман Русланович | H40: м. Маріуполь, Донецька область | I40: м. Лубни, Полтавська область, вул. Василенко Миколи, буд. 35, кв. 49 | J40: вища | K40: Полтавська державна аграрна академія, 2016, бухглатерьска справа | L40: Різноробочий, комірник 10 років, Права Б | M40: неодружений, мати: Васильєва Лілія Миколаївна - Германія, +4916096202643; бабуся: Зозуля Віра Миколаївна - 0953288893 - Полтавська область, Оржицький район, с. Чутівка, вул. Голошубова, буд 11; сестра: Васильєва Маргарита Євгенівна - Германія - +491759147056 | N40: 0507020643
C41: =Основний!C51 -> Денисов Юрій Володимирович | E41: =C41=G41 -> FALSE
C42: =Основний!C52 -> Денисюк Вадим Васильович | E42: =C42=G42 -> FALSE
C43: =Основний!C53 -> Дерев'янко Владислав Станіславович | E43: =C43=G43 -> FALSE
C44: =Основний!C54 -> Дзюба Станіслав Вікторович | E44: =C44=G44 -> FALSE
C45: =Основний!C55 -> Должніков Олександр Анатолійович | E45: =C45=G45 -> FALSE
C46: =Основний!C56 -> Донець Микола Михайлович | E46: =C46=G46 -> FALSE
C47: =Основний!C57 -> Дригало Юрій Михайлович | E47: =C47=G47 -> FALSE
C48: =Основний!C58 -> Дрижук Сергій Юрійович | E48: =C48=G48 -> FALSE
C49: =Основний!C59 -> Єдемський Микола Миколайович | E49: =C49=G49 -> FALSE
C50: =Основний!C60 -> Ємець Володимир Володимирович | E50: =C50=G50 -> FALSE
C51: =Основний!C61 -> Єрицян Руслан Саргісович | E51: =C51=G51 -> FALSE
C52: =Основний!C62 -> Єрмоленко Денис Олексійович | E52: =C52=G52 -> FALSE
... C93: =Основний!C103 -> Мандров Володимир Віталійович | E93: =C93=G93 -> FALSE
C94: =Основний!C104 -> Марков Віталій Ігорович
C95: =Основний!C105 -> Марюхно Артем Олександрович
C96: =Основний!C106 -> Матвєєв Сергій Володимирович
C97: =Основний!C107 -> Матічук Віталій Петрович
C98: =Основний!C108 -> Маш'янов Артур Сергійович
C99: =Основний!C109 -> Меньшиков Анатолій Миколайович
C100: =Основний!C110 -> Мірошніченко Олександр Васильович
C101: =Основний!C111 -> Міршев Дмитро Ігорович
C102: =Основний!C112 -> Мокляк Віталій Миколайович
C103: =Основний!C113 -> Мурза Богдан Володимирович
C104: =Основний!C114 -> Набок Валерій Миколайович
C105: =Основний!C115 -> Назаренко Микола Петрович
C106: =Основний!C116 -> Нікіфоров Олександр Олександрович

Sheet Список
A1: № | B1: Звання | C1: ПІБ | D1: ІПН | E1: Примітка
A2: =Основний!A12 -> 1 | B2: =Основний!B12 -> солдат | C2: =Основний!C12 -> Айб Руслан Ігорович | D2: =Основний!G12 -> 3870108631
A3: =Основний!A13 -> 2 | B3: =Основний!B13 -> солдат | C3: =Основний!C13 -> Антонович В'ячеслав Васильович | D3: =Основний!G13 -> 3227217172
A4: =Основний!A14 -> 3 | B4: =Основний!B14 -> солдат | C4: =Основний!C14 -> Базилевич Максим Олександрович | D4: =Основний!#REF! -> #REF!
A5: =Основний!A15 -> 4 | B5: =Основний!B15 -> солдат | C5: =Основний!C15 -> Балацький Микола Анатолійович | D5: =Основний!H14 -> АВ 172221
A6: =Основний!A16 -> 5 | B6: =Основний!B16 -> старший солдат | C6: =Основний!C16 -> Барабаш Олександр Сергійович | D6: =Основний!H15 -> АВ957593
A7: =Основний!A17 -> 6 | B7: =Основний!B17 -> солдат | C7: =Основний!C17 -> Батура Віктор Сергійович | D7: =Основний!G17 -> 3577210396
A8: =Основний!A18 -> 7 | B8: =Основний!B18 -> солдат | C8: =Основний!C18 -> Белінський Сергій Юрійович | D8: =Основний!G18 -> 3358218091
A9: =Основний!A19 -> 8 | B9: =Основний!B19 -> солдат | C9: =Основний!C19 -> Бережний Євгеній Олегович | D9: =Основний!G19 -> 3475012057
A10: =Основний!A20 -> 9 | B10: =Основний!B20 -> солдат | C10: =Основний!C20 -> Білоус Сергій Олегович | D10: =Основний!G20 -> 3447814437
A11: =Основний!A21 -> 10 | B11: =Основний!B21 -> солдат | C11: =Основний!C21 -> Бірюков Євген Анатолійович | D11: =Основний!G21 -> 3362702414
A12: =Основний!#REF! -> #REF! | B12: =Основний!#REF! -> #REF! | C12: =Основний!#REF! -> #REF! | D12: =Основний!#REF! -> #REF!
A13: =Основний!#REF! -> #REF! | B13: =Основний!#REF! -> #REF! | C13: =Основний!#REF! -> #REF! | D13: =Основний!#REF! -> #REF!
A14: =Основний!A22 -> 11 | B14: =Основний!B22 -> солдат | C14: =Основний!C22 -> Бобровський Олександр Іванович | D14: =Основний!G22 -> 3253620012
A15: =Основний!A23 -> 12 | B15: =Основний!B23 -> солдат | C15: =Основний!C23 -> Бондаренко Роман Ігорович | D15: =Основний!G23 -> 3394716715
A16: =Основний!A24 -> 13 | B16: =Основний!B24 -> молодший сержант | C16: =Основний!C24 -> Боришевський Олександр Петрович | D16: =Основний!G24 -> 3012010737
A17: =Основний!A25 -> 14 | B17: =Основний!B25 -> солдат | C17: =Основний!C25 -> Бородій Володимир Васильович | D17: =Основний!G25 -> 3140211191
A18: =Основний!A26 -> 15 | B18: =Основний!B26 -> старший солдат | C18: =Основний!C26 -> Бубало Олександр Сергійович | D18: =Основний!G26 -> 3605308718
A19: =Основний!A27 -> 16 | B19: =Основний!B27 -> солдат | C19: =Основний!C27 -> Будник Сергій Ігорович | D19: =Основний!G27 -> 3604802912
A20: =Основний!A28 -> 17 | B20: =Основний!B28 -> солдат | C20: =Основний!C28 -> Бумар Антон Миколайович | D20: =Основний!G28 -> 3674207816
A21: =Основний!A29 -> 18 | B21: =Основний!B29 -> солдат | C21: =Основний!C29 -> Бунчук Ярослав Олександрович | D21: =Основний!G29 -> 3539506257
A22: =Основний!A30 -> 19 | B22: =Основний!B30 -> солдат | C22: =Основний!C30 -> Вавілкін Олександр Сергійович | D22: =Основний!G30 -> 2921106870
A23: =Основний!A31 -> 20 | B23: =Основний!B31 -> молодший сержант | C23: =Основний!C31 -> Ващенко Володимир Ігорович | D23: =Основний!G31 -> 3148810797
A24: =Основний!A32 -> 21 | B24: =Основний!B32 -> солдат | C24: =Основний!C32 -> Верещак Сергій Олександрович | D24: =Основний!G32 -> 3548105379
A25: =Основний!A33 -> 22 | B25: =Основний!B33 -> солдат | C25: =Основний!C33 -> Винничук Володимир Ярославович | D25: =Основний!G33 -> 3527809298
... A101: =Основний!A109 -> 98 | B101: =Основний!B109 -> солдат | C101: =Основний!C109 -> Меньшиков Анатолій Миколайович | D101: =Основний!G109 -> 3086116591

Sheet Перевірка
A1: {=Основний!A10:A179} -> № з/п | B1: {=CONCATENATE("", Основний!C10:C179)} -> Прізвище ім'я та по батькові | C1: {=CONCATENATE("", TEXT(Основний!F10:F179,"dd.mm.yyyy"))} -> Дата народження | D1: {=CONCATENATE("", Основний!G10:G179)} -> ідентифікаційний код | E1: Перевірка | F1: {=CONCATENATE("", Основний!H10:H179)} -> військовий квиток | G1: Перевірка | H1: {=CONCATENATE("", Основний!I10:I179)} -> Паспорт, ким і коли виданий | I1: Перевірка | J1: Алфавітка | K1: Д = А | L1: Поіменний Список | M1: Д = ПС | N1: А = ПС
A2: 0 | C2: 00.01.1900 | J2: - | K2: - | L2: - | M2: - | N2: - | O2: =DATEVALUE(C2) <> INT(LEFT(D2,5)) +1 -> #VALUE!
A3: 1 | B3: Айб Руслан Ігорович | C3: 16.12.2005 | D3: 3870108631 | E3: =IF(D3="", "", LEN(D3)) -> 10 | F3: Військово-обліковий документ | G3: =IF(F3="", "", LEN(F3)) -> 28 | H3: 011999494 виданий 5310 25.06.2025 | I3: =IF(H3="", "", LEN(H3)) -> 33 | J3: Антоненко Руслан Олександрович | K3: =IF(J3="", "", B3=J3) -> FALSE | M3: =IF(L3="", "", B3=L3) | N3: =IF(L3="", "", J3=L3) | O3: =DATEVALUE(C3) <> INT(LEFT(D3,5)) +1 -> FALSE | P3: =DATEVALUE(C3) -> 38702
A4: 2 | B4: Антонович В'ячеслав Васильович | C4: 10.05.1988 | D4: 3227217172 | E4: =IF(D4="", "", LEN(D4)) -> 10 | F4: АГ 168641 | G4: =IF(F4="", "", LEN(F4)) -> 9 | H4: ВН 259143 Житомирським МВ УМВС УКР в Житомирській обл 11.05.2004 | I4: =IF(H4="", "", LEN(H4)) -> 64 | J4: Баранов Дмитро Геннадійович | K4: =IF(J4="", "", B4=J4) -> FALSE | M4: =IF(L4="", "", B4=L4) | N4: =IF(L4="", "", J4=L4) | O4: =DATEVALUE(C4) <> INT(LEFT(D4,5)) +1 -> FALSE
A5: 3 | B5: Базилевич Максим Олександрович | C5: 01.07.1989 | D5: 3268912293 | E5: =IF(D5="", "", LEN(D5)) -> 10 | F5: АВ 172221 | G5: =IF(F5="", "", LEN(F5)) -> 9 | H5: КО 617398 Лубенським МРВ УМВС УКР в Полтавській обл 18.07.2005 | I5: =IF(H5="", "", LEN(H5)) -> 62 | J5: Боровик Юрій Володимирович | K5: =IF(J5="", "", B5=J5) -> FALSE | M5: =IF(L5="", "", B5=L5) | N5: =IF(L5="", "", J5=L5) | O5: =DATEVALUE(C5) <> INT(LEFT(D5,5)) +1 -> FALSE
A6: 4 | B6: Балацький Микола Анатолійович | C6: 31.01.1986 | D6: 3144208030 | E6: =IF(D6="", "", LEN(D6)) -> 10 | F6: АВ957593 | G6: =IF(F6="", "", LEN(F6)) -> 8 | H6: ЕА996938 Світловодським МРВ УМВС України в Кіровоградській обл. 20.05.2003 | I6: =IF(H6="", "", LEN(H6)) -> 74 | J6: Горбатенко Олександр Олегович | K6: =IF(J6="", "", B6=J6) -> FALSE | M6: =IF(L6="", "", B6=L6) | N6: =IF(L6="", "", J6=L6)
A7: 5 | B7: Барабаш Олександр Сергійович | C7: 13.01.1985 | D7: 3105913413 | E7: =IF(D7="", "", LEN(D7)) -> 10 | F7: МО738589 | G7: =IF(F7="", "", LEN(F7)) -> 8 | H7: КО180550 Октябрським РВ ПМУ УМВС України в Полтавській обл. 29.01.2001 | I7: =IF(H7="", "", LEN(H7)) -> 70 | J7: Жестовський Сергій Сергійович | K7: =IF(J7="", "", B7=J7) -> FALSE | M7: =IF(L7="", "", B7=L7) | N7: =IF(L7="", "", J7=L7)
A8: 6 | B8: Батура Віктор Сергійович | C8: 09.12.1997 | D8: 3577210396 | E8: =IF(D8="", "", LEN(D8)) -> 10 | F8: АВ 953044 | G8: =IF(F8="", "", LEN(F8)) -> 9 | H8: КО 947895 Глобинським РС УДМС УКР в Полтавській обл 18.12.2013 | I8: =IF(H8="", "", LEN(H8)) -> 62 | J8: Ісаков Олександр Сергійович | K8: =IF(J8="", "", B8=J8) -> FALSE | M8: =IF(L8="", "", B8=L8) | N8: =IF(L8="", "", J8=L8)
A9: 7 | B9: Белінський Сергій Юрійович | C9: 11.12.1991 | D9: 3358218091 | E9: =IF(D9="", "", LEN(D9)) -> 10 | F9: АГ 168639 | G9: =IF(F9="", "", LEN(F9)) -> 9 | H9: ВН 440083 Богунським РВ УМВС УКР в Житомирській обл 27.09.2008 | I9: =IF(H9="", "", LEN(H9)) -> 62 | J9: Клімчук Олександр Олександрович | K9: =IF(J9="", "", B9=J9) -> FALSE | M9: =IF(L9="", "", B9=L9) | N9: =IF(L9="", "", J9=L9)
A10: 8 | B10: Бережний Євгеній Олегович | C10: 21.02.1995 | D10: 3475012057 | E10: =IF(D10="", "", LEN(D10)) -> 10 | F10: АВ 956834 | G10: =IF(F10="", "", LEN(F10)) -> 9 | H10: 004876368 | I10: =IF(H10="", "", LEN(H10)) -> 9 | J10: Колесніков Сергій Сергійович | K10: =IF(J10="", "", B10=J10) -> FALSE | M10: =IF(L10="", "", B10=L10) | N10: =IF(L10="", "", J10=L10)
A11: 9 | B11: Білоус Сергій Олегович | C11: 25.05.1994 | D11: 3447814437 | E11: =IF(D11="", "", LEN(D11)) -> 10 | F11: АГ006855 | G11: =IF(F11="", "", LEN(F11)) -> 8 | H11: 004240947 виданий 7119 22.11.2019 | I11: =IF(H11="", "", LEN(H11)) -> 33 | J11: Опанасюк Ігор Петрович | K11: =IF(J11="", "", B11=J11) -> FALSE | M11: =IF(L11="", "", B11=L11) | N11: =IF(L11="", "", J11=L11)
A12: 10 | B12: Бірюков Євген Анатолійович | C12: 25.01.1992 | D12: 3362702414 | E12: =IF(D12="", "", LEN(D12)) -> 10 | F12: АГ607466 | G12: =IF(F12="", "", LEN(F12)) -> 8 | H12: ВК534270 Великоновосілківським РВ ГУ МВС України в Донецькій обл. 11.09.2008 | I12: =IF(H12="", "", LEN(H12)) -> 76 | J12: Ручин Дмитро Вікторович | K12: =IF(J12="", "", B12=J12) -> FALSE | M12: =IF(L12="", "", B12=L12) | N12: =IF(L12="", "", J12=L12)
A13: 11 | B13: Бобровський Олександр Іванович | C13: 29.01.1989 | D13: 3253620012 | E13: =IF(D13="", "", LEN(D13)) -> 10 | F13: Тимчасове посвідчення військовозобов'язаного "220220231745656600023 | G13: =IF(F13="", "", LEN(F13)) -> 67 | H13: МЮ 079208 Корецьким РВ УМВС УКР в Рівненській обл 09.03.2006 | I13: =IF(H13="", "", LEN(H13)) -> 60 | J13: Солоденко Анатолій Сергійович | K13: =IF(J13="", "", B13=J13) -> FALSE | M13: =IF(L13="", "", B13=L13) | N13: =IF(L13="", "", J13=L13)
A14: 12 | B14: Бондаренко Роман Ігорович | C14: 10.12.1992 | D14: 3394716715 | E14: =IF(D14="", "", LEN(D14)) -> 10 | F14: АГ 610686 | G14: =IF(F14="", "", LEN(F14)) -> 9 | H14: ЕВ 220303 | I14: =IF(H14="", "", LEN(H14)) -> 9 | J14: Фістікан Василь Петрович | K14: =IF(J14="", "", B14=J14) -> FALSE | M14: =IF(L14="", "", B14=L14) | N14: =IF(L14="", "", J14=L14)
A15: 13 | B15: Боришевський Олександр Петрович | C15: 19.06.1982 | D15: 3012010737 | E15: =IF(D15="", "", LEN(D15)) -> 10 | F15: МО351484 | G15: =IF(F15="", "", LEN(F15)) -> 8 | H15: МА604703 Роменським МРВ УМВС України в Сумській обл. 02.02.1999 | I15: =IF(H15="", "", LEN(H15)) -> 63 | J15: Чабан Михайло Григорович | K15: =IF(J15="", "", B15=J15) -> FALSE | M15: =IF(L15="", "", B15=L15) | N15: =IF(L15="", "", J15=L15)
A16: 14 | B16: Бородій Володимир Васильович | C16: 22.12.1985 | D16: 3140211191 | E16: =IF(D16="", "", LEN(D16)) -> 10 | F16: АГ169614 | G16: =IF(F16="", "", LEN(F16)) -> 8 | H16: ВН071243 Овруцьким РВ УМВС України в Житомирській обл. 24.01.1986 | I16: =IF(H16="", "", LEN(H16)) -> 65 | K16: =IF(J16="", "", B16=J16) | M16: =IF(L16="", "", B16=L16) | N16: =IF(L16="", "", J16=L16)
A17: 15 | B17: Бубало Олександр Сергійович | C17: 16.09.1998 | D17: 3605308718 | E17: =IF(D17="", "", LEN(D17)) -> 10 | F17: АГ143276 | G17: =IF(F17="", "", LEN(F17)) -> 8 | H17: 010715096 виданий 0534 14.06.2024 | I17: =IF(H17="", "", LEN(H17)) -> 33 | K17: =IF(J17="", "", B17=J17) | M17: =IF(L17="", "", B17=L17) | N17: =IF(L17="", "", J17=L17)
A18: 16 | B18: Будник Сергій Ігорович | C18: 11.09.1998 | D18: 3604802912 | E18: =IF(D18="", "", LEN(D18)) -> 10 | F18: АВ 969136 | G18: =IF(F18="", "", LEN(F18)) -> 9 | H18: 009865823 5301 31.10.2023 | I18: =IF(H18="", "", LEN(H18)) -> 25 | K18: =IF(J18="", "", B18=J18) | M18: =IF(L18="", "", B18=L18) | N18: =IF(L18="", "", J18=L18)
A19: 17 | B19: Бумар Антон Миколайович | C19: 05.08.2000 | D19: 3674207816 | E19: =IF(D19="", "", LEN(D19)) -> 10 | F19: АГ607948 | G19: =IF(F19="", "", LEN(F19)) -> 8 | H19: НЕ780739 Канівським РС УДМС України в Черкаській обл. 11.08.2016 | I19: =IF(H19="", "", LEN(H19)) -> 64 | K19: =IF(J19="", "", B19=J19) | M19: =IF(L19="", "", B19=L19) | N19: =IF(L19="", "", J19=L19)
A20: 18 | B20: Бунчук Ярослав Олександрович | C20: 27.11.1996 | D20: 3539506257 | E20: =IF(D20="", "", LEN(D20)) -> 10 | F20: АВ957493 | G20: =IF(F20="", "", LEN(F20)) -> 8 | H20: КО939820 Автозаводським РВ у м. Кременчуці УДМС України в Полтавській обл. 31.08.2013 | I20: =IF(H20="", "", LEN(H20)) -> 85 | K20: =IF(J20="", "", B20=J20) | M20: =IF(L20="", "", B20=L20) | N20: =IF(L20="", "", J20=L20)
A21: 19 | B21: Вавілкін Олександр Сергійович | C21: 23.12.1979 | D21: 2921106870 | E21: =IF(D21="", "", LEN(D21)) -> 10 | F21: АГ 610683 | G21: =IF(F21="", "", LEN(F21)) -> 9 | H21: НС 315869 | I21: =IF(H21="", "", LEN(H21)) -> 9 | K21: =IF(J21="", "", B21=J21) | M21: =IF(L21="", "", B21=L21) | N21: =IF(L21="", "", J21=L21)
A22: 20 | B22: Ващенко Володимир Ігорович | C22: 18.03.1986 | D22: 3148810797 | E22: =IF(D22="", "", LEN(D22)) -> 10 | F22: СО010601 | G22: =IF(F22="", "", LEN(F22)) -> 8 | H22: 011053781 виданий 1810 12.09.2024 | I22: =IF(H22="", "", LEN(H22)) -> 33 | K22: =IF(J22="", "", B22=J22) | M22: =IF(L22="", "", B22=L22) | N22: =IF(L22="", "", J22=L22)
A23: 21 | B23: Верещак Сергій Олександрович | C23: 21.02.1997 | D23: 3548105379 | E23: =IF(D23="", "", LEN(D23)) -> 10 | F23: АВ 969139 | G23: =IF(F23="", "", LEN(F23)) -> 9 | H23: 00829765 5312 03.10.2022 | I23: =IF(H23="", "", LEN(H23)) -> 24 | K23: =IF(J23="", "", B23=J23) | M23: =IF(L23="", "", B23=L23) | N23: =IF(L23="", "", J23=L23)
A24: 22 | B24: Винничук Володимир Ярославович | C24: 02.08.1996 | D24: 3527809298 | E24: =IF(D24="", "", LEN(D24)) -> 10 | F24: АВ 878038 | G24: =IF(F24="", "", LEN(F24)) -> 9 | H24: НЮ 301194 | I24: =IF(H24="", "", LEN(H24)) -> 9 | K24: =IF(J24="", "", B24=J24) | M24: =IF(L24="", "", B24=L24) | N24: =IF(L24="", "", J24=L24)
A25: 23 | B25: Гавриляков Ростислав Олександрович | C25: 19.06.1996 | D25: 3523404354 | E25: =IF(D25="", "", LEN(D25)) -> 10 | F25: АГ337283 | G25: =IF(F25="", "", LEN(F25)) -> 8 | H25: 006363494 виданий 7426 14.07.2021 | I25: =IF(H25="", "", LEN(H25)) -> 33 | K25: =IF(J25="", "", B25=J25) | M25: =IF(L25="", "", B25=L25) | N25: =IF(L25="", "", J25=L25)
A26: 24 | B26: Гарбар Олександр Вікторович | C26: 15.09.1990 | D26: 3313005154 | E26: =IF(D26="", "", LEN(D26)) -> 10 | F26: АГ626555 | G26: =IF(F26="", "", LEN(F26)) -> 8 | H26: ВН379704 Радомишильським РВ УМВС України в Житомирській обл. 27.02.2007 | I26: =IF(H26="", "", LEN(H26)) -> 71 | K26: =IF(J26="", "", B26=J26) | M26: =IF(L26="", "", B26=L26) | N26: =IF(L26="", "", J26=L26)
A27: 25 | B27: Гарбуз Микола Олександрович | C27: 19.10.1985 | D27: 3133815678 | E27: =IF(D27="", "", LEN(D27)) -> 10 | F27: АВ 953084 | G27: =IF(F27="", "", LEN(F27)) -> 9 | H27: 005230232 5323 21.09.2020 | I27: =IF(H27="", "", LEN(H27)) -> 25 | K27: =IF(J27="", "", B27=J27) | M27: =IF(L27="", "", B27=L27) | N27: =IF(L27="", "", J27=L27)
... A30: 28 | B30: Гігін Роман Олександрович | C30: 01.10.1990 | D30: 3314610037 | E30: =IF(D30="", "", LEN(D30)) -> 10 | F30: СО492198 | G30: =IF(F30="", "", LEN(F30)) -> 8 | H30: КО925931 Полтавським відділом УДМС У Полтавській обл. 14.04.2013 | I30: =IF(H30="", "", LEN(H30)) -> 64 | K30: =IF(J30="", "", B30=J30) | M30: =IF(L30="", "", B30=L30) | N30: =IF(L30="", "", J30=L30)
A31: 29 | B31: Гірний Михайло Ярославович | C31: 21.12.1986 | D31: 3176614296 | E31: =IF(D31="", "", LEN(D31)) -> 10 | F31: АВ 957590 | G31: =IF(F31="", "", LEN(F31)) -> 9 | I31: =IF(H31="", "", LEN(H31)) | K31: =IF(J31="", "", B31=J31) | M31: =IF(L31="", "", B31=L31) | N31: =IF(L31="", "", J31=L31)
A32: 30 | B32: Головач Ярослав Владиславович | C32: 28.04.1997 | D32: 3554708757 | E32: =IF(D32="", "", LEN(D32)) -> 10 | F32: АВ449090 | G32: =IF(F32="", "", LEN(F32)) -> 8 | H32: НМ453287 Щорським РС УДМС України в Чернігівській обл. 22.06.2013 | I32: =IF(H32="", "", LEN(H32)) -> 65 | K32: =IF(J32="", "", B32=J32) | M32: =IF(L32="", "", B32=L32) | N32: =IF(L32="", "", J32=L32)
A33: 31 | B33: Горнічний Едуард Юрійович | C33: 26.03.1983 | D33: 3040016313 | E33: =IF(D33="", "", LEN(D33)) -> 10 | F33: АГ168630 | G33: =IF(F33="", "", LEN(F33)) -> 8 | H33: 006034254 виданий 1832 28.04.2021 | I33: =IF(H33="", "", LEN(H33)) -> 33 | K33: =IF(J33="", "", B33=J33) | M33: =IF(L33="", "", B33=L33) | N33: =IF(L33="", "", J33=L33)
A34: 32 | B34: Горохівський Ігор Валерійович | C34: 20.11.1989 | D34: 3283117899 | E34: =IF(D34="", "", LEN(D34)) -> 10 | F34: АГ 607614 | G34: =IF(F34="", "", LEN(F34)) -> 9 | H34: НЕ 449407 | I34: =IF(H34="", "", LEN(H34)) -> 9 | K34: =IF(J34="", "", B34=J34) | M34: =IF(L34="", "", B34=L34) | N34: =IF(L34="", "", J34=L34)
A35: 33 | B35: Губенко Віктор Миколайович | C35: 08.04.1991 | D35: 3333509070 | E35: =IF(D35="", "", LEN(D35)) -> 10 | F35: АВ 957498 | G35: =IF(F35="", "", LEN(F35)) -> 9 | H35: КО 708289 | I35: =IF(H35="", "", LEN(H35)) -> 9 | K35: =IF(J35="", "", B35=J35) | M35: =IF(L35="", "", B35=L35) | N35: =IF(L35="", "", J35=L35)
A36: 34 | B36: Губенко Олександр Миколайович | C36: 19.05.1983 | D36: 3045406453 | E36: =IF(D36="", "", LEN(D36)) -> 10 | F36: МО 367571 | G36: =IF(F36="", "", LEN(F36)) -> 9 | H36: КН 975728 | I36: =IF(H36="", "", LEN(H36)) -> 9 | K36: =IF(J36="", "", B36=J36) | M36: =IF(L36="", "", B36=L36) | N36: =IF(L36="", "", J36=L36)
A37: 35 | B37: Гуменюк Валерій Володимирович | C37: 25.02.1986 | D37: 3146715032 | E37: =IF(D37="", "", LEN(D37)) -> 10 | F37: АГ 626632 | G37: =IF(F37="", "", LEN(F37)) -> 9 | H37: ВН 144394 | I37: =IF(H37="", "", LEN(H37)) -> 9 | K37: =IF(J37="", "", B37=J37) | M37: =IF(L37="", "", B37=L37) | N37: =IF(L37="", "", J37=L37)
A38: 36 | B38: Гуменюк Віктор Васильович | C38: 27.01.1995 | D38: 3472514995 | E38: =IF(D38="", "", LEN(D38)) -> 10 | F38: АГ 168631 | G38: =IF(F38="", "", LEN(F38)) -> 9 | H38: 004878338 1814 23.06.2020 | I38: =IF(H38="", "", LEN(H38)) -> 25 | K38: =IF(J38="", "", B38=J38) | M38: =IF(L38="", "", B38=L38) | N38: =IF(L38="", "", J38=L38)
A39: 37 | B39: Гуща Володимир Миколайович | C39: 22.05.1983 | D39: 3045721671 | E39: =IF(D39="", "", LEN(D39)) -> 10 | F39: АГ024855 | G39: =IF(F39="", "", LEN(F39)) -> 8 | H39: НК660550 Новгород-Сіверським РВ УМВС України в Чернігівській обл. 14.10.1999 | I39: =IF(H39="", "", LEN(H39)) -> 76 | K39: =IF(J39="", "", B39=J39) | M39: =IF(L39="", "", B39=L39) | N39: =IF(L39="", "", J39=L39)
A40: 38 | B40: Данчук Анатолій Сергійович | C40: 16.05.1990 | D40: 3300813652 | E40: =IF(D40="", "", LEN(D40)) -> 10 | F40: АГ168646 | G40: =IF(F40="", "", LEN(F40)) -> 8 | H40: КР 899427 | I40: =IF(H40="", "", LEN(H40)) -> 9 | K40: =IF(J40="", "", B40=J40) | M40: =IF(L40="", "", B40=L40) | N40: =IF(L40="", "", J40=L40)
A41: 39 | B41: Дем'яненко Артур Русланович | C41: 27.12.1991 | D41: 3359813436 | E41: =IF(D41="", "", LEN(D41)) -> 10 | F41: АГ168638 | G41: =IF(F41="", "", LEN(F41)) -> 8 | H41: ВН428439 Корольовським РВ УМВС України в Житомирській обл. 10.06.2008 | I41: =IF(H41="", "", LEN(H41)) -> 69 | K41: =IF(J41="", "", B41=J41) | M41: =IF(L41="", "", B41=L41) | N41: =IF(L41="", "", J41=L41)
A42: 40 | B42: Денисов Юрій Володимирович | C42: 04.02.1987 | D42: 3181109434 | E42: =IF(D42="", "", LEN(D42)) -> 10 | F42: АГ599011 | G42: =IF(F42="", "", LEN(F42)) -> 8 | H42: КО 585321 | I42: =IF(H42="", "", LEN(H42)) -> 9 | K42: =IF(J42="", "", B42=J42) | M42: =IF(L42="", "", B42=L42) | N42: =IF(L42="", "", J42=L42)
A43: 41 | B43: Денисюк Вадим Васильович | C43: 21.01.1999 | D43: 3618011977 | E43: =IF(D43="", "", LEN(D43)) -> 10 | F43: АГ 365249 | G43: =IF(F43="", "", LEN(F43)) -> 9 | H43: ВН 661281 Ємільчинським РС УДМС УКР в Житомирській обл 12.06.2015 | I43: =IF(H43="", "", LEN(H43)) -> 65 | K43: =IF(J43="", "", B43=J43) | M43: =IF(L43="", "", B43=L43) | N43: =IF(L43="", "", J43=L43)
A44: 42 | B44: Дерев'янко Владислав Станіславович | C44: 02.10.1990 | D44: 3314714072 | E44: =IF(D44="", "", LEN(D44)) -> 10 | F44: СО 630614 | G44: =IF(F44="", "", LEN(F44)) -> 9 | H44: КО 976401 Київським РВ у м. Полтаві УДМС УКР в Полтавській обл 23.09.2014 | I44: =IF(H44="", "", LEN(H44)) -> 73 | K44: =IF(J44="", "", B44=J44) | M44: =IF(L44="", "", B44=L44) | N44: =IF(L44="", "", J44=L44)
A45: 43 | B45: Дзюба Станіслав Вікторович | C45: 05.10.1996 | D45: 3534209954 | E45: =IF(D45="", "", LEN(D45)) -> 10 | F45: АГ 599039 | G45: =IF(F45="", "", LEN(F45)) -> 9 | I45: =IF(H45="", "", LEN(H45)) | K45: =IF(J45="", "", B45=J45) | M45: =IF(L45="", "", B45=L45) | N45: =IF(L45="", "", J45=L45)
A46: 44 | B46: Должніков Олександр Анатолійович | C46: 25.09.1983 | D46: 3058306894 | E46: =IF(D46="", "", LEN(D46)) -> 10 | F46: МО533706 | G46: =IF(F46="", "", LEN(F46)) -> 8 | H46: 010128361 виданий 5928 09.01.2024 | I46: =IF(H46="", "", LEN(H46)) -> 33 | K46: =IF(J46="", "", B46=J46) | M46: =IF(L46="", "", B46=L46) | N46: =IF(L46="", "", J46=L46)
A47: 45 | B47: Донець Микола Михайлович | C47: 22.05.1996 | D47: 3520614972 | E47: =IF(D47="", "", LEN(D47)) -> 10 | F47: АВ956575 | G47: =IF(F47="", "", LEN(F47)) -> 8 | H47: 000606292 виданий 8030 08.06.2017 | I47: =IF(H47="", "", LEN(H47)) -> 33 | K47: =IF(J47="", "", B47=J47) | M47: =IF(L47="", "", B47=L47) | N47: =IF(L47="", "", J47=L47)
A48: 46 | B48: Дригало Юрій Михайлович | C48: 10.01.1992 | D48: 3361213973 | E48: =IF(D48="", "", LEN(D48)) -> 10 | F48: СО 910343 | G48: =IF(F48="", "", LEN(F48)) -> 9 | H48: МВ 494261 | I48: =IF(H48="", "", LEN(H48)) -> 9 | K48: =IF(J48="", "", B48=J48) | M48: =IF(L48="", "", B48=L48) | N48: =IF(L48="", "", J48=L48)
A49: 47 | B49: Дрижук Сергій Юрійович | C49: 20.11.1990 | D49: 3319602298 | E49: =IF(D49="", "", LEN(D49)) -> 10 | F49: АГ 141893 | G49: =IF(F49="", "", LEN(F49)) -> 9 | H49: 002004572 0520 23.08.2018 | I49: =IF(H49="", "", LEN(H49)) -> 25 | K49: =IF(J49="", "", B49=J49) | M49: =IF(L49="", "", B49=L49) | N49: =IF(L49="", "", J49=L49)
A50: 48 | B50: Єдемський Микола Миколайович | C50: 05.05.1988 | D50: 3226721255 | E50: =IF(D50="", "", LEN(D50)) -> 10 | F50: АГ 626635 | G50: =IF(F50="", "", LEN(F50)) -> 9 | H50: МЕ 376259 | I50: =IF(H50="", "", LEN(H50)) -> 9 | K50: =IF(J50="", "", B50=J50) | M50: =IF(L50="", "", B50=L50) | N50: =IF(L50="", "", J50=L50)
A51: 49 | B51: Ємець Володимир Володимирович | C51: 03.02.1987 | D51: 3181014453 | E51: =IF(D51="", "", LEN(D51)) -> 10 | F51: АВ 956531 | G51: =IF(F51="", "", LEN(F51)) -> 9 | H51: КО 565724 | I51: =IF(H51="", "", LEN(H51)) -> 9 | K51: =IF(J51="", "", B51=J51) | M51: =IF(L51="", "", B51=L51) | N51: =IF(L51="", "", J51=L51)
A52: 50 | B52: Єрицян Руслан Саргісович | C52: 09.06.1998 | D52: 3595409514 | E52: =IF(D52="", "", LEN(D52)) -> 10 | F52: АВ956579 | G52: =IF(F52="", "", LEN(F52)) -> 8 | H52: КО955999 Пирятинським РС УДМС України в Полтавській обл. 09.06.2014 | I52: =IF(H52="", "", LEN(H52)) -> 67 | K52: =IF(J52="", "", B52=J52) | M52: =IF(L52="", "", B52=L52) | N52: =IF(L52="", "", J52=L52)
A53: 51 | B53: Єрмоленко Денис Олексійович | C53: 04.08.2000 | D53: 3674111052 | E53: =IF(D53="", "", LEN(D53)) -> 10 | F53: АВ 969138 | G53: =IF(F53="", "", LEN(F53)) -> 9 | H53: АО 352774 П'ятихацьким РС ГУ ДМС УКР в Дніпропетровській обл 06.09.2016 | I53: =IF(H53="", "", LEN(H53)) -> 71 | K53: =IF(J53="", "", B53=J53) | M53: =IF(L53="", "", B53=L53) | N53: =IF(L53="", "", J53=L53)
A54: 52 | B54: Жадан Сергій Вячеславович | C54: 02.03.1985 | D54: 3110704391 | E54: =IF(D54="", "", LEN(D54)) -> 10 | F54: МО738591 | G54: =IF(F54="", "", LEN(F54)) -> 8 | H54: КО241557 Октябрським РВ ПМУ УМВС України в Полтавській обл. 20.04.2001 | I54: =IF(H54="", "", LEN(H54)) -> 70 | K54: =IF(J54="", "", B54=J54) | M54: =IF(L54="", "", B54=L54) | N54: =IF(L54="", "", J54=L54)
A55: 53 | B55: Жуган Віталій Юрійович | C55: 17.04.1996 | D55: 3517115155 | E55: =IF(D55="", "", LEN(D55)) -> 10 | F55: АГ 609055 | G55: =IF(F55="", "", LEN(F55)) -> 9 | H55: НЕ 682845 | I55: =IF(H55="", "", LEN(H55)) -> 9 | K55: =IF(J55="", "", B55=J55) | M55: =IF(L55="", "", B55=L55) | N55: =IF(L55="", "", J55=L55)
A56: 54 | B56: Жулінський Сергій Вікторович | C56: 22.07.1998 | D56: 3599707356 | E56: =IF(D56="", "", LEN(D56)) -> 10 | F56: АГ626539 | G56: =IF(F56="", "", LEN(F56)) -> 8 | H56: 004943438 виданий 1810 13.07.2020 | I56: =IF(H56="", "", LEN(H56)) -> 33 | K56: =IF(J56="", "", B56=J56) | M56: =IF(L56="", "", B56=L56) | N56: =IF(L56="", "", J56=L56)
A57: 55 | B57: Здан Андрій Володимирович | C57: 24.01.1994 | D57: 3435713337 | E57: =IF(D57="", "", LEN(D57)) -> 10 | F57: АГ168640 | G57: =IF(F57="", "", LEN(F57)) -> 8 | H57: ВН488370 Бердичівським МВ УМВС України в Житомирській обл. 09.04.2010 | I57: =IF(H57="", "", LEN(H57)) -> 69 | K57: =IF(J57="", "", B57=J57) | M57: =IF(L57="", "", B57=L57) | N57: =IF(L57="", "", J57=L57)
... A65: 63 | B65: Калмиков Костянтин Григорович | C65: 15.03.1993 | D65: 3404211251 | E65: =IF(D65="", "", LEN(D65)) -> 10 | F65: СО101991 | G65: =IF(F65="", "", LEN(F65)) -> 8 | H65: 001744297 виданий 5323 10.04.2018 | I65: =IF(H65="", "", LEN(H65)) -> 33 | K65: =IF(J65="", "", B65=J65) | M65: =IF(L65="", "", B65=L65) | N65: =IF(L65="", "", J65=L65)
A66: 64 | B66: Квіташ Валентин Геннадійович | C66: 27.05.1997 | D66: 3557607677 | E66: =IF(D66="", "", LEN(D66)) -> 10 | F66: АГ 599041 | G66: =IF(F66="", "", LEN(F66)) -> 9 | I66: =IF(H66="", "", LEN(H66)) | K66: =IF(J66="", "", B66=J66) | M66: =IF(L66="", "", B66=L66) | N66: =IF(L66="", "", J66=L66)
A67: 65 | B67: Кесер Геннадій Петрович | C67: 02.02.1982 | D67: 2998318837 | E67: =IF(D67="", "", LEN(D67)) -> 10 | F67: АВ 952054 | G67: =IF(F67="", "", LEN(F67)) -> 9 | I67: =IF(H67="", "", LEN(H67)) | K67: =IF(J67="", "", B67=J67) | M67: =IF(L67="", "", B67=L67) | N67: =IF(L67="", "", J67=L67)
A68: 66 | B68: Кліндух Андрій Володимирович | C68: 13.03.1986 | D68: 3148309678 | E68: =IF(D68="", "", LEN(D68)) -> 10 | F68: АГ 024854 | G68: =IF(F68="", "", LEN(F68)) -> 9 | H68: МВ 591201 Шосткинським МВ УДМС УКР в Сумській обл 04.08.2015 | I68: =IF(H68="", "", LEN(H68)) -> 60 | K68: =IF(J68="", "", B68=J68) | M68: =IF(L68="", "", B68=L68) | N68: =IF(L68="", "", J68=L68)
A69: 67 | B69: Ключко Дмитро Вікторович | C69: 02.02.1989 | D69: 3254019459 | E69: =IF(D69="", "", LEN(D69)) -> 10 | F69: АВ 952053 | G69: =IF(F69="", "", LEN(F69)) -> 9 | H69: 001235702 5910 21.11.2017 | I69: =IF(H69="", "", LEN(H69)) -> 25 | K69: =IF(J69="", "", B69=J69) | M69: =IF(L69="", "", B69=L69) | N69: =IF(L69="", "", J69=L69)
A70: 68 | B70: Кобелев Руслан Андрійович | C70: 25.07.1995 | D70: 3490412755 | E70: =IF(D70="", "", LEN(D70)) -> 10 | F70: АВ 953045 | G70: =IF(F70="", "", LEN(F70)) -> 9 | H70: 006718546 | I70: =IF(H70="", "", LEN(H70)) -> 9 | K70: =IF(J70="", "", B70=J70) | M70: =IF(L70="", "", B70=L70) | N70: =IF(L70="", "", J70=L70)
A71: 69 | B71: Кобізький Іван Васильович | C71: 25.06.1986 | D71: 3158721139 | E71: =IF(D71="", "", LEN(D71)) -> 10 | F71: АВ953086 | G71: =IF(F71="", "", LEN(F71)) -> 8 | H71: КО514736 Гадяцьким РВ УМВС України в Полтавській обл. 08.09.2003 | I71: =IF(H71="", "", LEN(H71)) -> 64 | K71: =IF(J71="", "", B71=J71) | M71: =IF(L71="", "", B71=L71) | N71: =IF(L71="", "", J71=L71)
A72: 70 | B72: Коваленко Богдан Русланович | C72: 16.11.1993 | D72: 3428807457 | E72: =IF(D72="", "", LEN(D72)) -> 10 | F72: АГ 609054 | G72: =IF(F72="", "", LEN(F72)) -> 9 | H72: 005952953 | I72: =IF(H72="", "", LEN(H72)) -> 9 | K72: =IF(J72="", "", B72=J72) | M72: =IF(L72="", "", B72=L72) | N72: =IF(L72="", "", J72=L72)
A73: 71 | B73: Коваленко Іван Іванович | C73: 26.06.1978 | D73: 2866609257 | E73: =IF(D73="", "", LEN(D73)) -> 10 | F73: АГ024966 | G73: =IF(F73="", "", LEN(F73)) -> 8 | H73: МВ533736 Лебединським МС УДМС України в Сумській обл. 31.10.2013 | I73: =IF(H73="", "", LEN(H73)) -> 64 | K73: =IF(J73="", "", B73=J73) | M73: =IF(L73="", "", B73=L73) | N73: =IF(L73="", "", J73=L73)
A74: 72 | B74: Ковтун Олександр Миколайович | C74: 27.04.1981 | D74: 2970211292 | E74: =IF(D74="", "", LEN(D74)) -> 10 | F74: МО 356643 | G74: =IF(F74="", "", LEN(F74)) -> 9 | H74: МВ 489060 Середино-Будським РВ УМВС УКР в Сумській обл 05.01.2012 | I74: =IF(H74="", "", LEN(H74)) -> 65 | K74: =IF(J74="", "", B74=J74) | M74: =IF(L74="", "", B74=L74) | N74: =IF(L74="", "", J74=L74)
A75: 73 | B75: Когут Віталій Петрович | C75: 29.09.1989 | D75: 3277916416 | E75: =IF(D75="", "", LEN(D75)) -> 10 | F75: АГ 168637 | G75: =IF(F75="", "", LEN(F75)) -> 9 | H75: ВМ 1880971 Богунським РВ УМВС УКР в Житомирській обл 29.07.2005 | I75: =IF(H75="", "", LEN(H75)) -> 64 | K75: =IF(J75="", "", B75=J75) | M75: =IF(L75="", "", B75=L75) | N75: =IF(L75="", "", J75=L75)
A76: 74 | B76: Костюк Олександр Анатолійович | C76: 17.04.1982 | D76: 3005723511 | E76: =IF(D76="", "", LEN(D76)) -> 10 | F76: АВ 952286 | G76: =IF(F76="", "", LEN(F76)) -> 9 | H76: ВН 499268 | I76: =IF(H76="", "", LEN(H76)) -> 9 | K76: =IF(J76="", "", B76=J76) | M76: =IF(L76="", "", B76=L76) | N76: =IF(L76="", "", J76=L76)
A77: 75 | B77: Коцюбинський Юрій Володимирович | C77: 18.04.1999 | D77: 3626700592 | E77: =IF(D77="", "", LEN(D77)) -> 10 | F77: АГ 168644 | G77: =IF(F77="", "", LEN(F77)) -> 9 | H77: ВН 688265 | I77: =IF(H77="", "", LEN(H77)) -> 9 | K77: =IF(J77="", "", B77=J77) | M77: =IF(L77="", "", B77=L77) | N77: =IF(L77="", "", J77=L77)
A78: 76 | B78: Красножон Михайло Анатолійович | C78: 16.10.1995 | D78: 3498702896 | E78: =IF(D78="", "", LEN(D78)) -> 10 | F78: АВ969117 | G78: =IF(F78="", "", LEN(F78)) -> 8 | H78: 005383168 виданий 5310 30.10.2020 | I78: =IF(H78="", "", LEN(H78)) -> 33 | K78: =IF(J78="", "", B78=J78) | M78: =IF(L78="", "", B78=L78) | N78: =IF(L78="", "", J78=L78)
A79: 77 | B79: Кривонос Анатолій Русланович | C79: 14.05.1994 | D79: 3446703499 | E79: =IF(D79="", "", LEN(D79)) -> 10 | F79: АВ969125 | G79: =IF(F79="", "", LEN(F79)) -> 8 | H79: КО866789 Київським РВ ПМУ УМВС України в Полтавській обл. 07.09.2011 | I79: =IF(H79="", "", LEN(H79)) -> 68 | K79: =IF(J79="", "", B79=J79) | M79: =IF(L79="", "", B79=L79) | N79: =IF(L79="", "", J79=L79)
... A136: 134 | B136: Сичевський Олександр Олександрович | C136: 09.07.1995 | D136: 3488808232 | E136: =IF(D136="", "", LEN(D136)) -> 10 | F136: АГ364458 | G136: =IF(F136="", "", LEN(F136)) -> 8 | H136: 011663852 виданий 0520 11.03.2025 | I136: =IF(H136="", "", LEN(H136)) -> 33 | K136: =IF(J136="", "", B136=J136) | M136: =IF(L136="", "", B136=L136) | N136: =IF(L136="", "", J136=L136)
A137: 135 | B137: Скорик Олександр Анатолійович | C137: 25.07.2000 | D137: 3673110172 | E137: =IF(D137="", "", LEN(D137)) -> 10 | F137: АГ364571 | G137: =IF(F137="", "", LEN(F137)) -> 8 | I137: =IF(H137="", "", LEN(H137)) | K137: =IF(J137="", "", B137=J137) | M137: =IF(L137="", "", B137=L137) | N137: =IF(L137="", "", J137=L137)
A138: 136 | B138: Скрипник Сергій Васильович | C138: 27.11.1982 | D138: 3028109076 | E138: =IF(D138="", "", LEN(D138)) -> 10 | F138: АГ 142617 | G138: =IF(F138="", "", LEN(F138)) -> 9 | H138: АВ 014139 Гайсенським РВ УМВС УКР в Вінницькій обл 01.07.1999 | I138: =IF(H138="", "", LEN(H138)) -> 61 | K138: =IF(J138="", "", B138=J138) | M138: =IF(L138="", "", B138=L138) | N138: =IF(L138="", "", J138=L138)
A139: 137 | B139: Смірнов Артур Артюшевич | C139: 29.10.1997 | D139: 3573102556 | E139: =IF(D139="", "", LEN(D139)) -> 10 | F139: СВ969119 | G139: =IF(F139="", "", LEN(F139)) -> 8 | H139: 000829415 виданий 5312 11.08.2017 | I139: =IF(H139="", "", LEN(H139)) -> 33 | K139: =IF(J139="", "", B139=J139) | M139: =IF(L139="", "", B139=L139) | N139: =IF(L139="", "", J139=L139)
A140: 138 | B140: Сомик Віталій Валентинович | C140: 10.05.1994 | D140: 3446316837 | E140: =IF(D140="", "", LEN(D140)) -> 10 | F140: АГ003309 | G140: =IF(F140="", "", LEN(F140)) -> 8 | H140: ЕВ258915 Світловодським МВ УМВС України в Кіровоградській обл. 01.07.2010 | I140: =IF(H140="", "", LEN(H140)) -> 73 | K140: =IF(J140="", "", B140=J140) | M140: =IF(L140="", "", B140=L140) | N140: =IF(L140="", "", J140=L140)
A141: 139 | B141: Степанишин Дмитро Вікторович | C141: 22.08.1996 | D141: 3529812590 | E141: =IF(D141="", "", LEN(D141)) -> 10 | F141: АГ 626538 | G141: =IF(F141="", "", LEN(F141)) -> 9 | H141: 008493864 1834 23.11.2022 | I141: =IF(H141="", "", LEN(H141)) -> 25 | K141: =IF(J141="", "", B141=J141) | M141: =IF(L141="", "", B141=L141) | N141: =IF(L141="", "", J141=L141)
A142: 140 | B142: Тіщенко Олег Анатолійович | C142: 22.11.1983 | D142: 3064122755 | E142: =IF(D142="", "", LEN(D142)) -> 10 | F142: АГ 143333 | G142: =IF(F142="", "", LEN(F142)) -> 9 | H142: АВ 154270 | I142: =IF(H142="", "", LEN(H142)) -> 9 | K142: =IF(J142="", "", B142=J142) | M142: =IF(L142="", "", B142=L142) | N142: =IF(L142="", "", J142=L142)
A143: 141 | B143: Ткаченко Олександр Анатолійович | C143: 28.06.1984 | D143: 3086010512 | E143: =IF(D143="", "", LEN(D143)) -> 10 | F143: АГ 626634 | G143: =IF(F143="", "", LEN(F143)) -> 9 | H143: КК 515902 | I143: =IF(H143="", "", LEN(H143)) -> 9 | K143: =IF(J143="", "", B143=J143) | M143: =IF(L143="", "", B143=L143) | N143: =IF(L143="", "", J143=L143)
A144: 142 | B144: Филь Сергій Вікторович | C144: 25.07.1985 | D144: 3125219333 | E144: =IF(D144="", "", LEN(D144)) -> 10 | F144: АВ 969121 | G144: =IF(F144="", "", LEN(F144)) -> 9 | H144: КО 314502 Гадяцьким РВ УМВС УКР в Полтавській обл 11.12.2001 | I144: =IF(H144="", "", LEN(H144)) -> 60 | K144: =IF(J144="", "", B144=J144) | M144: =IF(L144="", "", B144=L144) | N144: =IF(L144="", "", J144=L144)
A145: 143 | B145: Фірільов Євгеній Вікторович | C145: 03.07.1982 | D145: 3013422932 | E145: =IF(D145="", "", LEN(D145)) -> 10 | F145: АГ003310 | G145: =IF(F145="", "", LEN(F145)) -> 8 | H145: ЕА619039 Світловодським МРВ УМВС України в Кіровоградській обл. 18.03.1999 | I145: =IF(H145="", "", LEN(H145)) -> 74 | K145: =IF(J145="", "", B145=J145) | M145: =IF(L145="", "", B145=L145) | N145: =IF(L145="", "", J145=L145)
A146: 144 | B146: Харченко Володимир Юрійович | C146: 25.09.1998 | D146: 3606208618 | E146: =IF(D146="", "", LEN(D146)) -> 10 | F146: АГ 626306 | G146: =IF(F146="", "", LEN(F146)) -> 9 | H146: 005973815 | I146: =IF(H146="", "", LEN(H146)) -> 9 | K146: =IF(J146="", "", B146=J146) | M146: =IF(L146="", "", B146=L146) | N146: =IF(L146="", "", J146=L146)
A147: 145 | B147: Харченко Сергій Володимирович | C147: 23.03.1991 | D147: 3331915475 | E147: =IF(D147="", "", LEN(D147)) -> 10 | F147: АГ599040 | G147: =IF(F147="", "", LEN(F147)) -> 8 | H147: ВК388263 Добропільським МРВ ГУМВС України в Донецькій обл. 01.06.2007 | I147: =IF(H147="", "", LEN(H147)) -> 69 | K147: =IF(J147="", "", B147=J147) | M147: =IF(L147="", "", B147=L147) | N147: =IF(L147="", "", J147=L147)
A148: 146 | B148: Хвостенко Олександр Сергійович | C148: 23.04.1987 | D148: 3188911890 | E148: =IF(D148="", "", LEN(D148)) -> 10 | F148: АВ957598 | G148: =IF(F148="", "", LEN(F148)) -> 8 | H148: КО531304 Автозаводським РВ КМУ УМВС України в Полтавсьій обл. 09.12.2003 | I148: =IF(H148="", "", LEN(H148)) -> 72 | K148: =IF(J148="", "", B148=J148) | M148: =IF(L148="", "", B148=L148) | N148: =IF(L148="", "", J148=L148)
A149: 147 | B149: Хмельницький Сергій Леонідович | C149: 15.10.1983 | D149: 3060309354 | E149: =IF(D149="", "", LEN(D149)) -> 10 | F149: АГ 168632 | G149: =IF(F149="", "", LEN(F149)) -> 9 | H149: ВМ 882975 Корольовським РВ УМВС УКР в Житомирській обл 15.08.2000 | I149: =IF(H149="", "", LEN(H149)) -> 65 | K149: =IF(J149="", "", B149=J149) | M149: =IF(L149="", "", B149=L149) | N149: =IF(L149="", "", J149=L149)
... A164: 162 | B164: Яровенко Сергій Вікторович | C164: 20.10.1980 | D164: 2951305397 | E164: =IF(D164="", "", LEN(D164)) -> 10 | F164: АГ 610629 | G164: =IF(F164="", "", LEN(F164)) -> 9 | H164: НС 255315 Придніпровським РВ УМВС УКР в Черкаській обл | I164: =IF(H164="", "", LEN(H164)) -> 54 | K164: =IF(J164="", "", B164=J164) | M164: =IF(L164="", "", B164=L164) | N164: =IF(L164="", "", J164=L164)
A165: 0 | C165: 00.01.1900 | E165: =IF(D165="", "", LEN(D165)) | G165: =IF(F165="", "", LEN(F165)) | I165: =IF(H165="", "", LEN(H165)) | K165: =IF(J165="", "", B165=J165) | M165: =IF(L165="", "", B165=L165) | N165: =IF(L165="", "", J165=L165)
A166: 0 | C166: 00.01.1900 | E166: =IF(D166="", "", LEN(D166)) | G166: =IF(F166="", "", LEN(F166)) | I166: =IF(H166="", "", LEN(H166)) | K166: =IF(J166="", "", B166=J166) | M166: =IF(L166="", "", B166=L166) | N166: =IF(L166="", "", J166=L166)
A167: 0 | C167: 00.01.1900 | E167: =IF(D167="", "", LEN(D167)) | G167: =IF(F167="", "", LEN(F167)) | I167: =IF(H167="", "", LEN(H167)) | K167: =IF(J167="", "", B167=J167) | M167: =IF(L167="", "", B167=L167) | N167: =IF(L167="", "", J167=L167)
A168: 0 | C168: 00.01.1900 | E168: =IF(D168="", "", LEN(D168)) | G168: =IF(F168="", "", LEN(F168)) | I168: =IF(H168="", "", LEN(H168)) | K168: =IF(J168="", "", B168=J168) | M168: =IF(L168="", "", B168=L168) | N168: =IF(L168="", "", J168=L168)
A169: 0 | C169: 00.01.1900 | E169: =IF(D169="", "", LEN(D169)) | G169: =IF(F169="", "", LEN(F169)) | I169: =IF(H169="", "", LEN(H169)) | K169: =IF(J169="", "", B169=J169) | M169: =IF(L169="", "", B169=L169) | N169: =IF(L169="", "", J169=L169)
A170: 0 | C170: 00.01.1900 | E170: =IF(D170="", "", LEN(D170)) | G170: =IF(F170="", "", LEN(F170)) | I170: =IF(H170="", "", LEN(H170)) | K170: =IF(J170="", "", B170=J170) | M170: =IF(L170="", "", B170=L170) | N170: =IF(L170="", "", J170=L170)
E171: =IF(D171="", "", LEN(D171)) | G171: =IF(F171="", "", LEN(F171)) | I171: =IF(H171="", "", LEN(H171)) | K171: =IF(J171="", "", B171=J171) | M171: =IF(L171="", "", B171=L171) | N171: =IF(L171="", "", J171=L171)
E172: =IF(D172="", "", LEN(D172)) | G172: =IF(F172="", "", LEN(F172)) | I172: =IF(H172="", "", LEN(H172)) | K172: =IF(J172="", "", B172=J172) | M172: =IF(L172="", "", B172=L172) | N172: =IF(L172="", "", J172=L172)
E173: =IF(D173="", "", LEN(D173)) | G173: =IF(F173="", "", LEN(F173)) | I173: =IF(H173="", "", LEN(H173)) | K173: =IF(J173="", "", B173=J173) | M173: =IF(L173="", "", B173=L173) | N173: =IF(L173="", "", J173=L173)
E174: =IF(D174="", "", LEN(D174)) | G174: =IF(F174="", "", LEN(F174)) | I174: =IF(H174="", "", LEN(H174)) | K174: =IF(J174="", "", B174=J174) | M174: =IF(L174="", "", B174=L174) | N174: =IF(L174="", "", J174=L174)
E175: =IF(D175="", "", LEN(D175)) | G175: =IF(F175="", "", LEN(F175)) | I175: =IF(H175="", "", LEN(H175)) | K175: =IF(J175="", "", B175=J175) | M175: =IF(L175="", "", B175=L175) | N175: =IF(L175="", "", J175=L175)
E176: =IF(D176="", "", LEN(D176)) | G176: =IF(F176="", "", LEN(F176)) | I176: =IF(H176="", "", LEN(H176)) | K176: =IF(J176="", "", B176=J176) | M176: =IF(L176="", "", B176=L176) | N176: =IF(L176="", "", J176=L176)
E177: =IF(D177="", "", LEN(D177)) | G177: =IF(F177="", "", LEN(F177)) | I177: =IF(H177="", "", LEN(H177)) | K177: =IF(J177="", "", B177=J177) | M177: =IF(L177="", "", B177=L177) | N177: =IF(L177="", "", J177=L177)
E178: =IF(D178="", "", LEN(D178)) | G178: =IF(F178="", "", LEN(F178)) | I178: =IF(H178="", "", LEN(H178)) | K178: =IF(J178="", "", B178=J178) | M178: =IF(L178="", "", B178=L178) | N178: =IF(L178="", "", J178=L178)
E179: =IF(D179="", "", LEN(D179)) | G179: =IF(F179="", "", LEN(F179)) | I179: =IF(H179="", "", LEN(H179)) | K179: =IF(J179="", "", B179=J179) | M179: =IF(L179="", "", B179=L179) | N179: =IF(L179="", "", J179=L179)
...

Sheet Аркуш1
C2: `=MOD(MOD(-MID(D2;1;1) + MID(D2;2;1)*5 + MID(D2;3;1)*7 + MID(D2;4;1)*9 + MID(D2;5;1)*4 + MID(D2;6;1)*6 + MID(D2;7;1)*10 + MID(D2;8;1)*5 + MID(D2;9;1)*7; 11);10) <> VALUE( MID(D2;10;1))
C6: `=DATEVALUE( C2) <> INT(LEFT(D2;5)) +1

Sheet Алфавітки
A1: № з/п | B1: В/звання | D1: Місце народження | E1: адреса (фактична) | F1: Освіта | G1: склад сім’ї | H1: № телефону
A2: 1 | B2: солдат | C2: Антоненко Руслан Олександрович | D2: Миколаївська обл. Миколаївський р-н, с. Весняне | E2: м. Миколаїв вул. Айвазовського буд. 6 кв. 809-809 | F2: середня-спеціальна, ПТУ №1 м. Миколаїв 2005 судобудівельник, зварювальник (права категорії Б, ФОП Парус, будівельник 18р.) | G2: Розлучений Мати: Калага Лідія Миронівна, м. Миколаїв вул. Айвазовського буд. 6 кв. 809-809, 0663420925 | H2: 660263238
A3: 8 | B3: солдат | C3: Баранов Дмитро Генащдійович | D3: с. Кірове Базарський р-н Херсонської обл. | E3: Херсонської обл. Базарський р-н, с. Олександрівка вул. Мельнична 5 | F3: середньо-спеціальна Судобудівельний ліцей 2018р. Зварювальник Содозбірник (Категорія прав Б, С1, С, СЕ, далекобійник 4р.) | G3: неодружений Батько: Баранов Генадій Анатолійович Херсонської обл. Базарський р-н, с. Олександрівка вул. Мельнична 5, тел. 0668290286 | H3: 505059149
A4: 12 | B4: солдат | C4: Боровик Юрій Володимирович | D4: м. Миколаїв | E4: м. Миколаїв вул. Восьма Лінія буд. 68 | F4: середньо-спеціальна Теплодарський професійний ліцей 2011р. Кухар (категорія прав Б, автоелектрик 1р) | G4: цивільний шлюб Цивільна дружина: Голубченко Юлія Вадимівна, м. Миколаїв вул. Восьма Лінія буд. 68, тел. 0950975840 | H4: 993803701
A5: 7 | B5: солдат | C5: Горбатенко Олександр Олегович | D5: м. Миколаїв | E5: м. Миколаїв вул. Архітектора Староба 3 кв.1 | F5: повна середня ЗОШ № 64 2009р.(кухар 7р) | G5: неодружений Бабуся: Горбатенко Людмила Іванівна м. Миколаїв вул. Архітектора Староба 6б кв. 24, тел. 0966366295 | H5: 677153559
A6: 4 | B6: солдат | C6: Жестовський Сергій Сергійович | D6: Миколаївська обл. Первомайський р-н, с. Новопавлівка | E6: Миколаївська обл. Первомайський р-н, с. Новопавлівка вул. Роднікова 18 | F6: середньо-спеціальна Одеський професійний ліцей морського транспорту 2008р. електрозварювальник (категорія прав Б, Будівельник 2р.) | G6: Одружений Дружина: Жестовська Ірина Анатоліївна Миколаївська обл. Первомайський р-н, с. Новопавлівка вул. Роднікова 18, 0974890880 | H6: 683977036
A7: 6 | B7: солдат | C7: Ісаков Олександ Сергійович | D7: Кропивницька обл. Новоархангельський р-н с. Скалівські Хутори | E7: Миколаївська обл. Баштанський р-н с. Поляне, вул. Садова, буд. 22 | F7: середньо-спеціальна ЧПБЛ №4 2013р. Маляр-штукатур (Фермерське господарство немировський) | G7: Одружений Дружина: Ісакова Оксана Миколаївна, Миколаївська обл. Баштанський р-н с. Поляне, вул. Садова, буд. 22, тел. 0988180989 | H7: 682269805
A8: 13 | B8: солдат | C8: Клімчкук Олександ Олександрович | D8: Вінницька обл. Хмільницький р-н, смт Бродецьке | E8: Вінницька обл. Хмільницький р-н, смт Бродецьке вул. Першотравнева 72 | F8: повна середня ЗОШ смт. Бродецьке 2007р. (Мясний мультикомплекс транспортувальник 1р.) | G8: одружений Дружина: Клімчук Алла Вадимівна, Вінницька обл. Хмільницький р-н, смт Бродецьке вул. Першотравнева 72, тел. 0631960845 | H8: 990631915
A9: 9 | B9: солдат | C9: Колесніков Сергій Сергійович | D9: с. Балтазарівка Чуплинський р-н, Херсонської обл. | E9: Микорлаївська обл. м. Первомайськ вул. Марія Демченка 33 | F9: середньо-спеціальна Електротехнічний ліцей №7 2013р.електрогазозварювальник (пожежний рятувальник 3р.) | G9: одружений Дружина: Колеснікова Ганна Миколаївна, Микорлаївська обл. м. Первомайськ вул. Марія Демченка 33, тел. 0683767312 | H9: 956741071
A10: 3 | B10: солдат | C10: Опанасюк Ігор Перрович | D10: Миколаївська обл. м. Новий Буг | E10: Миколаївська обл. Новобузький р-н с. Нова Хрестофорівка буд. 65 | F10: середньо-спеціальна Новобузький аграрний професійний ліцей 2013р. (права категорії Б, С, СЕ, Фермерське господарство Орбіта Водій) | G10: Розлучений Мати: Опанасюк Валентина Ігорівна, Миколаївська обл. Новобузький р-н с. Нова Хрестофорівка буд. 65, тел. 0508511843 | H10: 934248356
A11: 11 | B11: солдат | C11: Ручин Дмитро Вікторович | D11: Миколаївська обл. м. Баштанка | E11: Миколаївська обл. м. Баштанка вул. Грушевського 46 | F11: середньо-спеціальна ПТУ №9 м. Баштанка 2015р. Кухар (пекарня 1р) | G11: неодружений Мати: Дмитренко Алла Петрівна, Миколаївська обл. м. Баштанка вул. Грушевського 46, тел, 0636322801 | H11: 983438936
A12: 5 | B12: солдат | C12: Солоденко Анатолій Сергійович | D12: Миколаївська обл. Вознесенський р-н, с. Яструбинове | E12: Миколаївська обл. Вознесенський р-н, с. Яструбинове вул. Першотравнева 20 | F12: середньо-спеціальна ПТУ №18 2016р. будівельник (Гружчик 1р.) | G12: неодружений Сестрат: Черемуха Анастасія Сергіївна, тел. 0985362292 | H12: 938839470
A13: 2 | B13: солдат | C13: Фістікан Василь Петрович | D13: Миколаївська обл. Первомайський р-н, с. Софіївка | E13: Миколаївська обл. Первомайський р-н, с. Синюшин Брід, вул. Перемоги 38 | F13: середньо-спеціальна ПТУ №22 м. Первомайськ 2018р. Маляр-Штукатур (Сканувальник на новій пошті) | G13: Неодружений Мати: Фістікан Марія Вікторівна, Миколаївська обл. Первомайський р-н, с. Синюшин Брід, вул. Молодіжна 8, тел. 0967926486 | H13: 967927329
A14: 10 | B14: солдат | C14: Чабан Михайло Григорович | D14: Миколаївська обл. Березанського р-н, с. Новоподілля | E14: м. Миколаїв, 12 Повздовжня 47а, кв. 59 | F14: середньо-спеціальна ліцей №13 2012р. Автослюсар (СТО 9р) | G14: одружений Дружина: Чабан Влада Владиславівна, м. Миколаїв, 12 Повздовжня 47а, кв. 59, тел. 0971910656 | H14: 967953093
A15: 14 | B15: солдат
A16: 15 | B16: солдат
A17: 16 | B17: солдат
A18: 17 | B18: солдат
A19: 18 | B19: солдат
A20: 19 | B20: солдат
A21: 20 | B21: солдат
A22: 21 | B22: солдат
A23: 22 | B23: солдат
A24: 23 | B24: солдат
A25: 24 | B25: солдат
A26: 25 | B26: солдат
... A101: 100 | B101: солдат
