Workbook

Sheet Основний
V2: Додаток
V3: (Форма 5.10. ОС)
A4: ДОНЕСЕННЯ
A5: про зарахування військовослужбовців військової служби за контрактом на навчання до навчального центру (ВВНЗ, ВНП ЗВО)
A6: військова частина А2900
A7: найменування навчального центру (ВВНЗ, ВНЗ ЗВО)
A9: 1. Список військовослужбовців військової служби за контрактом, які зараховані на навчання
A10: № з/п | B10: Військове звання | C10: Прізвище ім'я та по батькові | D10: Військова частина, ТЦК та СП | E10: Область | F10: Дата народження | G10: ідентифікаційний код | H10: військовий квиток | I10: Паспорт, ким і коли виданий | J10: Місце народження | K10: адреса (фактична) | L10: Рівень освіти | M10: Заклад який закінчив Рік закінчення Професія | N10: Професійний досвід Права | O10: склад сім’ї | P10: № телефону | Q10: ВОС (попередній) | R10: Спеціальність, за якою зарахований на навчання | U10: Дата зарахування | V10: № наказу про зарахування | W10: присяга | X10: Дата висновку ВЛК | Y10: Придатність | Z10: Група крові | AA10: З якої частини прибув (для курсантів з бригад) | AB10: Примітка | AC10: Де знаходиться
R11: посада | S11: ВОС | T11: код посади
A12: 1 | B12: солдат | C12: Айб Руслан Ігорович | D12: Ніжинський РТЦК та СП у Чернігівській обл. 14 серпня 2025 року | E12: Чернігівська | F12: 38702 | G12: 3870108631 | H12: Військово-обліковий документ | I12: 011999494 виданий 5310 25.06.2025 | J12: Полтавська обл., Шишацький р-н, с. Воскобійники | K12: Полтавська обл, Миргородський р-н, с. Вертелецьке, вул. Центральна, буд. 14 | L12: повна загальна середня | M12: ЗОШ I-III ст. у с. Воскобійники, 2023р | N12: охоронець, різноробочий | O12: мати: Сергійчук Надія Олександрівна, (1985рн), Полтавська обл., Миргородський р-н, с. Воскобійники, вул. Освітянська, буд. 30, 0951447055 вітчим: Сергійчук Олександр Валерійович, Полтавська обл., Миргородський р-н, с. Воскобійники, вул. Освітянська, буд. 30, 0505491569 | P12: 0508675220 | R12: курсант | S12: 100 | U12: 14.08.2025 №246-РС | V12: №246-РС | W12: =IF(C12="","",IF(Q12="","ні","так")) -> ні | X12: 45881 | Y12: Придатний до військової служби | Z12: I Rh - | AA12: ТЦК
A13: 2 | B13: солдат | C13: Антонович В'ячеслав Васильович | D13: Житомирський ОМТЦК та СП в м. Житомир 15 серпня 2025 року | E13: Житомирська | F13: 32273 | G13: 3227217172 | H13: АГ 168641 | I13: ВН 259143 Житомирським МВ УМВС УКР в Житомирській обл 11.05.2004 | J13: м. Житомир | K13: м. Житомир вул. Малікова буд. 2 кв. 110 | L13: базова загальна середня | M13: - | N13: не працював | O13: неодружений мати: Антонович Наталья Василівна - 1970 - 0963606931 - м. Житомир вул. Малікова буд. 2 кв. 110 | P13: 0685527532 | R13: курсант | S13: 100 | U13: 45884 | V13: № 234 | W13: =IF(C13="","",IF(Q13="","ні","так")) -> ні | X13: 45883 | Y13: Придатний до служби на підводних човнох, на надводних кораблях, у морській піхоті, Десантно-штурмових військах, спеціальних спорудах, підрозділах спеціального призначення | AA13: ТЦК
A14: 3 | B14: солдат | C14: Базилевич Максим Олександрович | D14: Полтавський ОМТЦК та СП у м. Полтава 17 серпня 2025 року | E14: Полтавська | F14: 32690 | G14: 3268912293 | H14: АВ 172221 | I14: КО 617398 Лубенським МРВ УМВС УКР в Полтавській обл 18.07.2005 | J14: Полтавська обл м. Лубни | K14: м. Полтава вул Баленка буд 5 кв 87 | L14: вища | M14: КНЕУ ім Вадима Гетьмана 2011 економіст | N14: представник торгівельний 14 років | O14: одружений дружина : Базилевич Діана Юріївна - 03.09.1996 - 0957356194 - м. Полтава вул Баленка буд 5 кв 87 | P14: 0995312884 | Q14: 900 053А | R14: курсант | S14: 100 | U14: 45886 | V14: № 236 | W14: =IF(C14="","",IF(Q14="","ні","так")) -> так | X14: 45885 | Y14: Придатний до військової служби | Z14: II Rh + | AA14: ТЦК
A15: 4 | B15: солдат | C15: Балацький Микола Анатолійович | D15: Кременчуцький РТЦК та СП у Полтавській обл. 15 серпня 2025 року | E15: Полтавська | F15: 31443 | G15: 3144208030 | H15: АВ957593 | I15: ЕА996938 Світловодським МРВ УМВС України в Кіровоградській обл. 20.05.2003 | J15: Кіровоградська обл. м. Світловодськ | K15: Кіровоградська обл. м. Світловодськ вул. Героїв України буд. 41 кв. 129 | L15: професійно- технічна | M15: СТРП м. Світловодськ 2001 технік-програмист | N15: ФОП (ремонт авто) - 20 років Права Б | O15: неодружений донька: Балацька Марія Миколаївна - 2007 - 0969201892 - м. Світловодськ вул. Героїв України буд. 41 кв. 129 | P15: 0672569931 | R15: курсант | S15: 100 | U15: 45884 | V15: № 234 | W15: =IF(C15="","",IF(Q15="","ні","так")) -> ні | X15: 45883 | Y15: Придатний до військової служби | Z15: I Rh + | AA15: ТЦК | AB15: А2120 по розподілу рекомендаційний лист
A16: 5 | B16: старший солдат | C16: Барабаш Олександр Сергійович | D16: Полтавський ОМТЦК та СП у м. Полтава 16 серпня 2025 року | E16: Полтавська | F16: 31060 | G16: 3105913413 | H16: МО738589 | I16: КО180550 Октябрським РВ ПМУ УМВС України в Полтавській обл. 29.01.2001 | J16: м. Полтава | K16: м. Полтава вул. Європейська буд 147 кв. 36 | L16: професійно- технічна | M16: ПКТ м. Полтава 2003 товарознавець | N16: Мебляр - 15 років Права Б | O16: неодружений брат: Барабаш Віктор Сергійович - 1986 - 0950923228 - м. Полтава вул. Європейська буд 147 кв. 36 | P16: 0955978537 | Q16: 474840Р | R16: курсант | S16: 100 | U16: 45885 | V16: № 235 | W16: так | X16: 45884 | Y16: Придатний до військової служби | Z16: I Rh + | AA16: ТЦК
A17: 6 | B17: солдат | C17: Батура Віктор Сергійович | D17: Полтавський РТЦК та СП у м. Полтава 14 серпня 2025 року | E17: Полтавська | F17: 35773 | G17: 3577210396 | H17: АВ 953044 | I17: КО 947895 Глобинським РС УДМС УКР в Полтавській обл 18.12.2013 | J17: Полтавська область, Глобинський район, с. Малинівка | K17: вул. Крамського 2, м. Полтава | L17: вища | M17: Полтавський аграрний інститут, 2019, Інженер сільсько господарської техніки | N17: Будівельник 10 років | O17: неодружений, мати: Даценко Алла Олексіївна - 0968398894, м. Глобино; сестра: Лещенко Єлизавета Сергіївна - 0689734287 - м. Полтава | P17: 0985986153 | R17: курсант | S17: 100 | U17: 45883 | V17: № 233 | W17: =IF(C17="","",IF(Q17="","ні","так")) -> ні | X17: 45882 | Y17: Придатний до служби на підводних човнох, на надводних кораблях, у морській піхоті, Десантно-штурмових військах, спеціальних спорудах, підрозділах спеціального призначення | AA17: ТЦК
A18: 7 | B18: солдат | C18: Белінський Сергій Юрійович | D18: Житомирський ОМТЦК та СП в м. Житомир 15 серпня 2025 року | E18: Житомирська | F18: 33583 | G18: 3358218091 | H18: АГ 168639 | I18: ВН 440083 Богунським РВ УМВС УКР в Житомирській обл 27.09.2008 | J18: м. Житомир | K18: м. Житомир вул Синельниківська буд 14 кв 159 | L18: вища | M18: ПУЕТ 2014 технолог | N18: перукар 12 років | O18: одружений дружини: Белінська Анастасія Олегівна - 15.07.1998 - 0938124988 - м. Житомир вул Синельниниківська буд 14 кв 159 | P18: 0991189911 | R18: курсант | S18: 100 | U18: 45884 | V18: № 234 | W18: =IF(C18="","",IF(Q18="","ні","так")) -> ні | X18: 45884 | Y18: Придатний до служби на підводних човнох, на надводних кораблях, у морській піхоті, Десантно-штурмових військах, спеціальних спорудах, підрозділах спеціального призначення | AA18: ТЦК | AB18: А2298 по розподілу рекомендаційний лист (барбер)
A19: 8 | B19: солдат | C19: Бережний Євгеній Олегович | D19: Миргородський РТЦК та СП у Полтавській обл. 14 серпня 2025 року | E19: Полтавська | F19: 34751 | G19: 3475012057 | H19: АВ 956834 | I19: 004876368 | J19: Донецька обл.м.Славянськ | K19: Полтавська обл.м.Лохвиця вул.Лесі Украінки 9 | L19: професійно- технічна | M19: Ромницьке ВПУ у 2016 електромеханік | N19: продавець консультант 3 роки | O19: неодружений мати:Харченко Оксана Олександрівна-1973-0955536441-Полтавська обл.м.Лохвиця вул.Лесі Украінки 9 вітчим:Харченко Олександр Олексійович-1972-0666224233-Полтавська обл.м.Лохвиця вул.Лесі Украінки 9 | P19: 0682701392 | R19: курсант | S19: 100 | U19: 45883 | V19: № 233 | W19: =IF(C19="","",IF(Q19="","ні","так")) -> ні | X19: 45882 | Y19: Придатний до військової служби | Z19: IV Rh + | AA19: ТЦК
A20: 9 | B20: солдат | C20: Білоус Сергій Олегович | D20: Черкаський РТЦК та СП у м. Черкаси 16 серпня 2025 року | E20: Черкаська | F20: 34479 | G20: 3447814437 | H20: АГ006855 | I20: 004240947 виданий 7119 22.11.2019 | J20: Кіровоградська обл с Красносілля | K20: Черкаська обл м Кам'янка вул Ярослава Мудрого буд 60 | L20: професійно- технічна | M20: ДНЗ ЦППРК №12 2013 маляр штукатур | N20: маляр штукатур 2 роки | O20: неодружений брат: Білоус Віталій Олегович - 24.01.1999 - 0997693556 - Черкаська обл м Кам'янка вул Ярослава Мудрого буд 60 мати: Ковиряга Тетяна Михайлівна - 03.11.1978 - 0635315582 - Чехія | P20: 0995395407 | R20: курсант | S20: 100 | U20: 45885 | V20: № 235 | W20: ні | X20: 45884 | Y20: Придатний до військової служби | Z20: II Rh + | AA20: ТЦК
A21: 10 | B21: солдат | C21: Бірюков Євген Анатолійович | D21: Звенигородський РТЦК та СП у Черкаській обл. 14 серпня 2025 року | E21: Черкаська | F21: 33628 | G21: 3362702414 | H21: АГ607466 | I21: ВК534270 Великоновосілківським РВ ГУ МВС України в Донецькій обл. 11.09.2008 | J21: Великоновосільківський район, Донецька область, с. Шевченка | K21: Черкаська область, Тальнівський район, с. Лісове, вул. Зільниця, буд. 28 | L21: професійно- технічна | M21: ПТУ Великоновосільківський район, 2010, тракторист | N21: різноробочий 10 років | O21: одружений, жінка: Бірюкова Катерина Григорівна, Черкаська область, Тальнівський район, с. Лісове, вул. Зільниця, буд. 28 | P21: 0978269441 | R21: курсант | S21: 100 | U21: 45883 | V21: № 233 | W21: так | X21: 45882 | Y21: Придатний до військової служби | Z21: II Rh - | AA21: ТЦК | AB21: А0281 по розподілу рекомендаційний лист
A22: 11 | B22: солдат | C22: Бобровський Олександр Іванович | D22: Житомирський ОМТЦК та СП в м. Житомир 16 серпня 2025 року | E22: Житомирська | F22: 32537 | G22: 3253620012 | H22: Тимчасове посвідчення військовозобов'язаного "220220231745656600023 | I22: МЮ 079208 Корецьким РВ УМВС УКР в Рівненській обл 09.03.2006 | J22: Рівненська обл м. Корець | K22: Жиомирська обл м. Житомир вул Покровська 193 | L22: вища | M22: м. Дубно Відкритий вищик навч заклад унів розвитку 2010 діловодство секретарь коледж 2008 м. Рівне РДБЗ стоматологія ортопедична зубний технік | N22: зубний технік 12р права відсутні | O22: неодружений сестра: Бобровська Людмила Іванівана - 1989 - 0739909798 - Рівненська обл м. Корець вул Лесі УКР 24а. Мати: Бобровська Валентина Федорівна - 1957 - 0680452987 - | R22: курсант | S22: 100 | U22: 16.08.2025 №248-РС | V22: №248-РС | W22: =IF(C22="","",IF(Q22="","ні","так")) -> ні | X22: 45884 | Y22: Придатний до військової служби | Z22: II Rh + | AA22: ТЦК | AB22: А5060 по розподілу рекомендаційний лист
A23: 12 | B23: солдат | C23: Бондаренко Роман Ігорович | D23: Черкаський ОМТЦК та СП у м. Черкаси 17 серпня 2025 року | E23: Черкаська | F23: 33948 | G23: 3394716715 | H23: АГ 610686 | I23: ЕВ 220303 | J23: Кіровоградська обл, смт Капітанівка | K23: м.Черкаси, вул.Сумгаїтська 59, кв.76 | L23: вища | M23: Кіровоградський національний сільскогосподарський університет, 2015 | N23: менеджер з постачання, права Б, Ц | O23: одружений, Бондаренко Олена Володимирівна-1993- м.Черкаси, вул.Сумгаїтська 59, кв.76, тел-0977096731 | P23: 0987228744 | R23: курсант | S23: 100 | U23: 45886 | V23: № 236 | W23: =IF(C23="","",IF(Q23="","ні","так")) -> ні | X23: 45885 | Y23: Придатний до військової служби | AA23: ТЦК
A24: 13 | B24: молодший сержант | C24: Боришевський Олександр Петрович | D24: Роменський РТЦК та СП у Сумській обл. 16 серпня 2025 року | E24: Сумська | F24: 30121 | G24: 3012010737 | H24: МО351484 | I24: МА604703 Роменським МРВ УМВС України в Сумській обл. 02.02.1999 | J24: Сумська обл. м. Ромни | K24: Сумська обл. м. Ромни бульвар Свободи буд. 2 кв. 101 | L24: повна загальна середня | M24: ЗОШ | N24: Будівельник - 12 років | O24: неодружений мати: Боришевська Ніна Миколаївна - 1952 - 0979482530 - м. Ромни бульвар Свободи буд. 2 кв. 101 | P24: 0978112501 | Q24: 121144А | R24: курсант | S24: 100 | U24: 45885 | V24: № 235 | W24: так | X24: 45884 | Y24: Придатний до військової служби | Z24: II Rh + | AA24: ТЦК
A25: 14 | B25: солдат | C25: Бородій Володимир Васильович | D25: Коростенський РТЦК та СП у Житомирській обл. 14 серпня 2025 року | E25: Житомирська | F25: 31403 | G25: 3140211191 | H25: АГ169614 | I25: ВН071243 Овруцьким РВ УМВС України в Житомирській обл. 24.01.1986 | J25: Житомирська обл.м.Овруч | K25: Житомирська обл.м.Овруч вул.Мічуріна 10 кв.2 | L25: професійно- технічна | M25: ПТУ№35 м.Овруч у 2003 водій | N25: водій 18 років права А С | O25: дружина:Бородій Світлана Вікторівна-1981-0990938241-Житомирська обл.м.Овруч вул.Мічуріна 10 кв.2 | P25: - | R25: курсант | U25: 45883 | V25: =IF(B25="","",IF(P25="","ні","так")) -> так | W25: так | X25: 45882 | Y25: Придатний до військової служби | Z25: IV Rh + | AA25: ТЦК
A26: 15 | B26: старший солдат | C26: Бубало Олександр Сергійович | D26: Вінницький РТЦК та СП в м. Вінниця 16 серпня 2025 року | E26: Вінницька | F26: 36054 | G26: 3605308718 | H26: АГ143276 | I26: 010715096 виданий 0534 14.06.2024 | J26: Вінницька обл. с. Побережне | K26: Вінницька обл. м. Немирів вул. Садова буд. 23 | L26: професійно- технічна | M26: НПТУ м. Немирів 2017 електрогазозварювальник | N26: Кровельщик - 5 років Права Б | O26: одружений дружина: Бубало Анастасія Олександрівна - 2000 - 0675840717 - м. Немирів вул. Садова буд. 23 | P26: 0681258474 | Q26: 790037А | R26: курсант | S26: 100 | U26: 45885 | V26: № 235 | W26: так | X26: 45884 | Y26: Придатний до військової служби | AA26: ТЦК
A27: 16 | B27: солдат | C27: Будник Сергій Ігорович | D27: Полтавський ОМТЦК та СП у м. Полтава 17 серпня 2025 року | E27: Полтавська | F27: 36049 | G27: 3604802912 | H27: АВ 969136 | I27: 009865823 5301 31.10.2023 | J27: Полтавська обл с Сватки | K27: м. Полтава просп Віталія Грицаєнка буд 29кв 218 | L27: вища | M27: Полтавська політехніка ім. Ю. Кондратюка 2020 будівництво та цивільна інженерія | N27: реклама і ІТ 5 років Права Б | O27: неодружений мати: Бідник марина Григоріївна - 28.10.1977 - 0950214918 - Полтавська обл м. Гадяч пров Горний буд 9/1 дівчина: Коваленко Анна Михайлівна - 01.07.2000 - 0660643255 - м. Полтава вул Сковороди буд 2В | P27: 0994801940 | R27: курсант | S27: 100 | U27: 45886 | V27: № 236 | W27: =IF(C27="","",IF(Q27="","ні","так")) -> ні | X27: 45885 | Y27: Придатний до військової служби | AA27: ТЦК
A28: 17 | B28: солдат | C28: Бумар Антон Миколайович | D28: Черкаський РТЦК та СП у м. Черкаси 16 серпня 2025 року | E28: Черкаська | F28: 36743 | G28: 3674207816 | H28: АГ607948 | I28: НЕ780739 Канівським РС УДМС України в Черкаській обл. 11.08.2016 | J28: Черкаська обл. м. Канів | K28: Черкаська обл. Канівськай район с. Малий Ржавець вул. Хутірська буд. 10 | L28: професійно- технічна | M28: Колдеж м. Черкаси 2019 Ремонт автомобілів | N28: Налагоджувальник устаткування - 5 років Права Б | O28: одружений дружина: Бумар Олександра Миколаївна - 2003 - 0951888792 - с. Малий Ржавець вул. Хутірська буд. 10 | P28: 0636532154 | R28: курсант | S28: 100 | U28: 45885 | V28: № 235 | W28: ні | X28: 45884 | Y28: Придатний до військової служби | Z28: III Rh + | AA28: ТЦК
A29: 18 | B29: солдат | C29: Бунчук Ярослав Олександрович | D29: Кременчуцький РТЦК та СП у Полтавській обл. 15 серпня 2025 року | E29: Полтавська | F29: 35396 | G29: 3539506257 | H29: АВ957493 | I29: КО939820 Автозаводським РВ у м. Кременчуці УДМС України в Полтавській обл. 31.08.2013 | J29: м. Кременчуг | K29: м. Кременчуг пров Гвардійський буд 6 кв 6 | L29: професійно- технічна | M29: ПТУ №22 2018 м. Кременчуг слюсар | N29: різноробочий 8 років | O29: громадняський шлюб мати: Головко Юлія Олександрівна - 1974 - 0972064668 - м. Кременчуг пров Гвардійський буд 6 кв 6 | P29: 0660896162 | R29: курсант | S29: 100 | U29: 45884 | V29: № 234 | W29: =IF(C29="","",IF(Q29="","ні","так")) -> ні | X29: 45883 | Y29: Придатний до військової служби | Z29: I Rh + | AA29: ТЦК
A30: 19 | B30: солдат | C30: Вавілкін Олександр Сергійович | D30: Черкаський ОМТЦК та СП у м. Черкаси 17 серпня 2025 року | E30: Черкаська | F30: 29212 | G30: 2921106870 | H30: АГ 610683 | I30: НС 315869 | J30: м Черкаси | K30: Черкаська обл. м. Канів вул. 206-ої дивізії буд. 10 кв. 102 | L30: вища | M30: ЧДТУ м. Черкаси 2003 графічний дизайн | N30: Директор - 14 років | O30: одружений дружина: Прудка Катерина Григорівна - 1988 - 0633123850 - м. Канів вул. 206-ої дивізії буд. 10 кв. 102 | P30: 0934284068 | R30: курсант | S30: 100 | U30: 45886 | V30: № 236 | W30: =IF(C30="","",IF(Q30="","ні","так")) -> ні | X30: 45885 | Y30: Придатний до військової служби | Z30: II Rh + | AA30: ТЦК
A31: 20 | B31: молодший сержант | C31: Ващенко Володимир Ігорович | D31: Житомирський ОМТЦК та СП в м. Житомир 14 серпня 2025 року | E31: Житомирська | F31: 31489 | G31: 3148810797 | H31: СО010601 | I31: 011053781 виданий 1810 12.09.2024 | J31: Киівська обл.м.Бровари | K31: Киівська обл.м.Бровари вул.Миколи Костомарова 28а | L31: професійно- технічна | M31: ПФПК у 2005 юрист | N31: будівельник 10 років права В | O31: неодружений батько:Ващенко Шгор Володимирович-1960-0677384870-Киівська обл.м.Бровари вул.Миколи Костомарова 28а | P31: 0975482717 | R31: курсант | U31: 45883 | V31: № 233 | W31: так | X31: 45883 | Y31: Придатний до військової служби | Z31: III Rh + | AA31: ТЦК | AB31: А4350
A32: 21 | B32: солдат | C32: Верещак Сергій Олександрович | D32: Полтавський ОМТЦК та СП у м. Полтава 17 серпня 2025 року | E32: Полтавська | F32: 35482 | G32: 3548105379 | H32: АВ 969139 | I32: 00829765 5312 03.10.2022 | J32: м. Полтава | K32: м. Полтава вул. Івана Мазепи буд. 16 кв. 108 | L32: повна загальна середня | M32: ЗОШ | N32: Водій Права Б | O32: неодружений сестра: Верещак Іра Юрієвна - 2009 - 0956873285 - м. Полтава вул. Івана Мазепи буд. 16 кв. 108 | P32: 0994612007 | R32: курсант | S32: 100 | U32: 45886 | V32: № 236 | W32: =IF(C32="","",IF(Q32="","ні","так")) -> ні | X32: 45885 | Y32: Придатний до військової служби | AA32: ТЦК
A33: 22 | B33: солдат | C33: Винничук Володимир Ярославович | D33: Чортківський РТЦК та СП у Тернопільській обл. 14 серпня 2025 року | E33: Тернопільська | F33: 35279 | G33: 3527809298 | H33: АВ 878038 | I33: НЮ 301194 | J33: Тернопільська обл.Чортківський р-н.с.Улашківці | K33: Тернопільська обл.Чортківський р-н.с.Улашківці вул.Сонячна 14 | L33: професійно- технічна | M33: Чортківське ВПУ у 2013 слюсар з ремонту автомобілів | N33: овальщик 6 років права В | O33: неодружений мати:Винничук Галина Йосафатівна-1974--974114211-Тернопільська обл.Чортківський р-н.с.Улашківці вул.Сонячна 14 батько:Винничук Ярослав Степанович-1973-0682466460-Тернопільська обл.Чортківський р-н.с.Улашківці вул.Сонячна 14 | P33: 0979289360 | R33: курсант | S33: 100 | U33: 45883 | V33: № 233 | W33: =IF(C33="","",IF(Q33="","ні","так")) -> ні | X33: 45882 | Y33: Придатний до військової служби | AA33: ТЦК
A34: 23 | B34: солдат | C34: Гавриляков Ростислав Олександрович | D34: Прилуцький РТЦК та СП у Чернігівській обл. 16 серпня 2025 року | E34: Чернігівська | F34: 35235 | G34: 3523404354 | H34: АГ337283 | I34: 006363494 виданий 7426 14.07.2021 | J34: Чернігівська обл м Прилуки | K34: Чернігівська обл м Прилуки вул Коптєва буд 37 кв 84 | L34: професійно- технічна | M34: ДВНЗ "Київський механіко-технологічний коледж" 2019 авто транспорт | N34: автомийка 2 роки Права Б Ц | O34: одружений дружина: Гаврилякова Дар'я Володимрівна - 06.07.1997 - 0937874871 Чернігівська обл м. Прилуки вул Коптєва буд 37 кв 84 | P34: 0960306335 | R34: курсант | S34: 100 | U34: 45885 | V34: № 235 | W34: ні | X34: 45884 | Y34: Придатний до військової служби | Z34: II Rh + | AA34: ТЦК
A35: 24 | B35: солдат | C35: Гарбар Олександр Вікторович | D35: Житомирський РТЦК та СП в м. Житомир 14 серпня 2025 року | E35: Житомирська | F35: 33131 | G35: 3313005154 | H35: АГ626555 | I35: ВН379704 Радомишильським РВ УМВС України в Житомирській обл. 27.02.2007 | J35: с. Леприн, Житомирська область, Радомишлівський район | K35: Житомирська область, Радомишлівський район, с. Леприн, вул. Лугова, буд. 23 | L35: повна загальна середня | M35: ліцей, м. Радомишль, 2009 | N35: будівельник 5 років | O35: цивільний шлюб, цивільна дружина: Шарапова Надія Петрівна, Житомирська область, Радомишлівський район, с. Леприн, вул. Лугова, буд. 23, 0669208817 | R35: курсант | S35: 100 | U35: 45883 | V35: № 233 | W35: =IF(C35="","",IF(Q35="","ні","так")) -> ні | X35: 45882 | Y35: Придатний до військової служби | Z35: I Rh + | AA35: ТЦК
A36: 25 | B36: солдат | C36: Гарбуз Микола Олександрович | D36: Полтавський РТЦК та СП у м. Полтава 15 серпня 2025 року | E36: Полтавська | F36: 31339 | G36: 3133815678 | H36: АВ 953084 | I36: 005230232 5323 21.09.2020 | J36: Харківська обл м. Погодухів | K36: Полтавська обл м. Зіньків вул Воздвиженська буд 64 кв 52 | L36: професійно- технічна | M36: ХПЛЗТ м. Харків провідник пасажирського вагону | N36: монтажник залізобетонних конструкцій 4 роки | O36: громадянський шлюб дружина: Рижа Натяля Павлівна - 1988 - 0954012422 - Полтавська обл м. Зіньків вул Воздвиженська 64 кв 52 | P36: 0995462100 | R36: курсант | S36: 100 | U36: 45884 | V36: № 234 | W36: =IF(C36="","",IF(Q36="","ні","так")) -> ні | X36: 45883 | Y36: Придатний до військової служби | AA36: ТЦК | AB36: А0284 по розподілу рекомендаційний лист
A37: 26 | B37: солдат | C37: Гасанов Анатолій Миколайович | D37: Полтавський ОМТЦК та СП у м. Полтава 15 серпня 2025 року | E37: Полтавська | F37: 32267 | G37: 3226612314 | H37: АВ 969122 | I37: 001014469 | J37: Полтавська обл м. Лубни | K37: м. Полтава вул Героїв України буд 10/1 кв 116 | L37: вища | M37: ПДАА м. Полтава 2012 організація обліку | N37: автомаляр 7 років Права А Б Ц Т | O37: одружений дружина: Гасанова Ілона Фікаратівна - 17.06.1986 - 0504016336 - м. Полтава вул Героїв України буд 10/1 кв 116 | P37: 0667707756 | R37: курсант | S37: 100 | U37: 45884 | V37: № 234 | W37: =IF(C37="","",IF(Q37="","ні","так")) -> ні | X37: 45883 | Y37: Придатний до військової служби | Z37: II Rh + | AA37: ТЦК
A38: 27 | B38: солдат | C38: Герасименко Павло Сергійович | D38: Полтавський ОМТЦК та СП у м. Полтава 14 серпня 2025 року | E38: Полтавська | F38: 32370 | G38: 3236913836 | H38: АВ 969115 | I38: КО 954702 Київським РВ у м. Полтаві УДМС УКР в Полтавській обл 25.03.2014 | J38: м. Полтава | K38: м. Полтава, вул. Європейська, буд 139, кв. 22 | L38: професійно- технічна | M38: СПТУ №10, м. Полтава | N38: комірник | O38: одружений дружина: Георгієва Юлія Юрієвна - 1986 - 0936718521 - м. Полтава, вул. Великотирнівська, буд. 27/1, кв. 84 | P38: 0936893236 | R38: курсант | S38: 100 | U38: 45883 | V38: № 233 | W38: =IF(C38="","",IF(Q38="","ні","так")) -> ні | X38: 45882 | Y38: Придатний до військової служби | AA38: ТЦК
A39: 28 | B39: солдат | C39: Гігін Роман Олександрович | D39: Полтавський ОМТЦК та СП у м. Полтава 16 серпня 2025 року | E39: Полтавська | F39: 33147 | G39: 3314610037 | H39: СО492198 | I39: КО925931 Полтавським відділом УДМС У Полтавській обл. 14.04.2013 | J39: м. Полтава | K39: м. Полтава вул Гетьмана Сагайдачного буд 8 кв 40 | L39: повна загальна середня | M39: Тахттаулівська ЗОШ 1-3 ст 2007 | N39: водоканал 12 років Права Б Ц | O39: одружений дружина: Гігіна Марина Андріївна - 23.05.1993 - 0665322732 - м. Полтава вул Гетьмана Сагайдачного буд 8 кв 40 | P39: 0952250702 | Q39: 100915П | R39: курсант | S39: 100 | U39: 45885 | V39: № 235 | W39: так | X39: 45884 | Y39: Придатний до військової служби | Z39: I Rh + | AA39: ТЦК
A40: 29 | B40: солдат | C40: Гірний Михайло Ярославович | D40: Кременчуцький РТЦК та СП у Полтавській обл. 15 серпня 2025 року | E40: Полтавська | F40: 31767 | G40: 3176614296 | H40: АВ 957590 | J40: Миколаївська обл с. Снігорівка | K40: Миколаївська обл с. Снігорівка вул Гагаріна буд 143 | L40: професійно- технічна | M40: ПТУ 2006 маляр | N40: маляр 20 років Права В | O40: розлучений мати: Гірна Ольга Степанівна - 1963 - 0661597827 - Миколаївська обл с. Снігорівка вул Гагаріна буд 143 | P40: 0992689079 | R40: курсант | S40: 100 | U40: 45884 | V40: № 234 | W40: =IF(C40="","",IF(Q40="","ні","так")) -> ні | X40: 45883 | Y40: Придатний до військової служби | AA40: ТЦК
A41: 30 | B41: старший солдат | C41: Головач Ярослав Владиславович | D41: Корюківський РТЦК та СП у Чернігівській обл. 16 серпня 2025 року | E41: Чернігівська | F41: 35548 | G41: 3554708757 | H41: АВ449090 | I41: НМ453287 Щорським РС УДМС України в Чернігівській обл. 22.06.2013 | J41: Чернігівська обл.м.Сновськ | K41: Чернігівська обл.Карюкавський р-н.с.Зальнище вул. Логова буд.2 | L41: професійно- технічна | M41: Сновське ВПУ у 2016 штукатур -маляр плиточник | N41: сільське господарство 8 років Права В | O41: неодружений тітка:Згонник Олена Миколаівна 1980-0683652312 Чернігівська обл.с.Нові-млини вул.Річна буд.2 сестра:Головач Ангеліна Владиславівна-2003-0950913590-м.Киів | P41: 0681918370 | Q41: 886040А | R41: курсант | S41: 100 | U41: 45885 | V41: № 235 | W41: так | X41: 45884 | Y41: Придатний до військової служби | Z41: IV Rh + | AA41: ТЦК
A42: 31 | B42: солдат | C42: Горнічний Едуард Юрійович | D42: Житомирський ОМТЦК та СП в м. Житомир 14 серпня 2025 року | E42: Житомирська | F42: 30401 | G42: 3040016313 | H42: АГ168630 | I42: 006034254 виданий 1832 28.04.2021 | J42: м. Архангельск, РФ | K42: м. Житомир, вул. Свободи, буд. 52 | L42: базова загальна середня | M42: училище, м. Пулин, водій | N42: будівельник 9 років, Права А Б Ц | O42: цивільний шлюб, цивільна дружина: Городнича Наталія Віталіївна, м. Житомир, вул. Свободи, буд. 52, 0685496100 | R42: курсант | S42: 100 | U42: 45883 | V42: № 233 | W42: =IF(C42="","",IF(Q42="","ні","так")) -> ні | X42: 45882 | Y42: Придатний до військової служби | Z42: II Rh + | AA42: ТЦК
...

Sheet Settings
A1: базова загальна середня | C1: Придатний до військової служби | J1: Вінницька | K1: солдат | L1: I Rh -
A2: повна загальна середня | C2: Придатний до служби на підводних човнох, на надводних кораблях, у морській піхоті, Десантно-штурмових військах, спеціальних спорудах, підрозділах спеціального призначення | E2: Вінниця | F2: 1 відділ Хмільницький РТЦК | G2: першого відділу Хмільницького районного | H2: Вінницька | I2: Вінницького ОТЦК та СП | J2: Волинь | K2: старший солдат | L2: I Rh +
A3: професійно- технічна | C3: Придатний до служби у військових частинах забезпечення, ТЦК та СП, ВВНЗ, навчальних центрах, закладах (установах), медичних підрозділах, підрозділах логістики, зв'язку, оперативного забезпечення, охорони | E3: Вінниця | F3: 2 відділ Хмільницький РТЦК | G3: другого відділу Хмільницького районного | H3: Вінницька | I3: Вінницького ОТЦК та СП | J3: Дніпро | K3: молодший сержант | L3: II Rh -
A4: вища | E4: Вінниця | F4: 7 відділ Вінницький РТЦК | G4: сьомого відділу Вінницького районного | H4: Вінницька | I4: Вінницького ОТЦК та СП | J4: Донецьк | K4: сержант | L4: II Rh +
E5: Вінниця | F5: Вінницький ОМТЦК | G5: Вінницького об'єднаного міського | H5: Вінницька | I5: Вінницького ОТЦК та СП | J5: Житомир | K5: старший сержант | L5: III Rh -
E6: Вінниця | F6: 1 відділ Вінницький РТЦК | G6: першого відділу Вінницького районного | H6: Вінницька | I6: Вінницького ОТЦК та СП | J6: Закарпаття | K6: штаб-сержант | L6: III Rh +
E7: Вінниця | F7: 1 відділ Жмеринський РТЦК | G7: першого відділу Жмеринського районного | H7: Вінницька | I7: Вінницького ОТЦК та СП | J7: Запоріжжя | K7: матрос | L7: IV Rh -
E8: Вінниця | F8: Тульчинський РТЦК | G8: Тульчинського районного | H8: Вінницька | I8: Вінницького ОТЦК та СП | J8: Івано-Франківськ | K8: старший матрос | L8: IV Rh +
E9: Вінниця | F9: Хмільницький РТЦК | G9: Хмільницького районного | H9: Вінницька | I9: Вінницького ОТЦК та СП | J9: Київ місто | K9: старшина
E10: Вінниця | F10: 1 відділ Могилів-Подільський РТЦК | G10: першого відділу Могилів-Подільського районного | H10: Вінницька | I10: Вінницького ОТЦК та СП | J10: Київ обл | K10: старшина I статті
E11: Вінниця | F11: 1 відділ Тульчинський РТЦК | G11: першого відділу Тульчинського районного | H11: Вінницька | I11: Вінницького ОТЦК та СП | J11: Кропивницький | K11: головний старшина
E12: Вінниця | F12: 2 відділ Вінницький РТЦК | G12: другого відділу Вінницького районного | H12: Вінницька | I12: Вінницького ОТЦК та СП | J12: Луганськ | K12: прапорщик
E13: Вінниця | F13: 2 відділ Жмеринський РТЦК | G13: другого відділу Жмеринського районного | H13: Вінницька | I13: Вінницького ОТЦК та СП | J13: Львів
E14: Вінниця | F14: 2 відділ Могилів-Подільський РТЦК | G14: другого відділу Могилів-Подільського районного | H14: Вінницька | I14: Вінницького ОТЦК та СП | J14: Миколаїв
E15: Вінниця | F15: 2 відділ Тульчинський РТЦК | G15: другого відділу Тульчинського районного | H15: Вінницька | I15: Вінницького ОТЦК та СП | J15: Одеса
E16: Вінниця | F16: 3 відділ Вінницький РТЦК | G16: третього відділу Вінницького районного | H16: Вінницька | I16: Вінницького ОТЦК та СП | J16: Полтава
E17: Вінниця | F17: 3 відділ Могилів-Подільський РТЦК | G17: третього відділу Могилів-Подільського районного | H17: Вінницька | I17: Вінницького ОТЦК та СП | J17: Рівне
E18: Вінниця | F18: 3 відділ Тульчинський РТЦК | G18: третього відділу Тульчинського районного | H18: Вінницька | I18: Вінницького ОТЦК та СП | J18: Суми
E19: Вінниця | F19: 4 відділ Вінницький РТЦК | G19: четвертого відділу Вінницького районного | H19: Вінницька | I19: Вінницького ОТЦК та СП | J19: Тернопіль
E20: Вінниця | F20: 5 відділ Вінницький РТЦК | G20: п'ятого відділу Вінницького районного | H20: Вінницька | I20: Вінницького ОТЦК та СП | J20: Харків
E21: Вінниця | F21: 6 відділ Вінницький РТЦК | G21: шостого відділу Вінницького районного | H21: Вінницька | I21: Вінницького ОТЦК та СП | J21: Херсон
E22: Вінниця | F22: Вінницький РТЦК | G22: Вінницького районного | H22: Вінницька | I22: Вінницького ОТЦК та СП | J22: Хмельницький
E23: Вінниця | F23: Гайсинський РТЦК | G23: Гайсинського районного | H23: Вінницька | I23: Вінницького ОТЦК та СП | J23: Черкаси
E24: Вінниця | F24: 1 відділ Гайсинський РТЦК | G24: першого відділу Гайсинського районного | H24: Вінницька | I24: Вінницького ОТЦК та СП | J24: Чернівці
E25: Вінниця | F25: 2 відділ Гайсинський РТЦК | G25: другого відділу Гайсинського районного | H25: Вінницька | I25: Вінницького ОТЦК та СП | J25: Чернігів
E26: Вінниця | F26: Жмеринський РТЦК | G26: Жмеринського районного | H26: Вінницька | I26: Вінницького ОТЦК та СП
E27: Вінниця | F27: Могилів-Подільський РТЦК | G27: Могилів-Подільського районного | H27: Вінницька | I27: Вінницького ОТЦК та СП
E28: Волинь | F28: 1 відділ Камінь-Каширський РТЦК | G28: першого відділу Камінь-Каширського районного | H28: Волинська | I28: Волинського ОТЦК та СП
E29: Волинь | F29: 1 відділ Ковельський РТЦК | G29: першого відділу Ковельського районного | H29: Волинська | I29: Волинського ОТЦК та СП
E30: Волинь | F30: 2 відділ Ковельський РТЦК | G30: другого відділу Ковельського районного | H30: Волинська | I30: Волинського ОТЦК та СП
E31: Волинь | F31: 4 відділ Ковельський РТЦК | G31: четвертого відділу Ковельського районного | H31: Волинська | I31: Волинського ОТЦК та СП
E32: Волинь | F32: 3 відділ Ковельський РТЦК | G32: третього відділу Ковельського районного | H32: Волинська | I32: Волинського ОТЦК та СП
E33: Волинь | F33: 5 відділ Ковельський РТЦК | G33: п'ятого відділу Ковельського районного | H33: Волинська | I33: Волинського ОТЦК та СП
E34: Волинь | F34: Луцький ОМТЦК | G34: Луцького об'єднаного міського | H34: Волинська | I34: Волинського ОТЦК та СП
E35: Волинь | F35: 2 відділ Камінь-Каширський РТЦК | G35: другого відділу Камінь-Каширського районного | H35: Волинська | I35: Волинського ОТЦК та СП
E36: Волинь | F36: 1 відділ Луцький РТЦК | G36: першого відділу Луцького районного | H36: Волинська | I36: Волинського ОТЦК та СП
E37: Волинь | F37: 2 відділ Луцький РТЦК | G37: другого відділу Луцького районного | H37: Волинська | I37: Волинського ОТЦК та СП
... E56: Дніпро | F56: 2 відділ Дніпровського РТЦК та СП | G56: другого відділу Дніпровського районного | H56: Дніпропетровська | I56: Дніпропетровського ОТЦК та СП
D57: міста Дніпра | E57: Дніпро | F57: Дніпровський РТЦК та СП | G57: Дніпровського районного | H57: Дніпропетровська | I57: Дніпропетровського ОТЦК та СП
D58: міста Дніпра | E58: Дніпро | F58: Індустріальний РТЦК та СП | G58: Індустріального районного | H58: Дніпропетровська | I58: Дніпропетровського ОТЦК та СП
...

Sheet перевірки
A2: Сєроклін Микола Олегович | C2: =Основний!C12 -> Айб Руслан Ігорович | E2: =C2=G2 -> FALSE | G2: Батура Віктор Сергійович | H2: Полтавська область, Глобинський район, с. Малинівка | I2: вул. Крамського 2, м. Полтава | J2: вища | K2: Полтавський аграрний інститут, 2019, Інженер сільсько господарської техніки | L2: Будівельник 10 років | M2: неодружений, мати: Даценко Алла Олексіївна - 0968398894, м. Глобино; сестра: Лещенко Єлизавета Сергіївна - 0689734287 - м. Полтава | N2: 0985986153
A3: Набок Валерій Миколайович | C3: =Основний!C13 -> Антонович В'ячеслав Васильович | E3: =C3=G3 -> FALSE | G3: Бережний Євгеній Олегович | H3: Донецька обл.м.Славянськ | I3: Полтавська обл.м.Лохвиця вул.Лесі Украінки 9 | J3: професійно- технічна | K3: Ромницьке ВПУ у 2016 електромеханік | L3: продавець консультант 3 роки | M3: неодружений мати:Харченко Оксана Олександрівна-1973-0955536441-Полтавська обл.м.Лохвиця вул.Лесі Украінки 9 вітчим:Харченко Олександр Олексійович-1972-0666224233-Полтавська обл.м.Лохвиця вул.Лесі Украінки 9 | N3: 0682701392
A4: Батура Віктор Сергійович | C4: =Основний!C14 -> Базилевич Максим Олександрович | E4: =C4=G4 -> FALSE | G4: Бірюков Євген Анатолійович | H4: Великоновосільківський район, Донецька область, с. Шевченка | I4: Черкаська область, Тальнівський район, с. Лісове, вул. Зільниця, буд. 28 | J4: професійно- технічна | K4: ПТУ Великоновосільківський район, 2010, тракторист | L4: різноробочий 10 років | M4: одружений, жінка: Бірюкова Катерина Григорівна, Черкаська область, Тальнівський район, с. Лісове, вул. Зільниця, буд. 28 | N4: 0978269441
A5: Коваленко Іван Іванович | C5: =Основний!C15 -> Балацький Микола Анатолійович | E5: =C5=G5 -> FALSE | G5: Бородій Володимир Васильович | H5: Житомирська обл.м.Овруч | I5: Житомирська обл.м.Овруч вул.Мічуріна 10 кв.2 | J5: професійно- технічна | K5: ПТУ№35 м.Овруч у 2003 водій | L5: водій 18 років права А С | M5: дружина:Бородій Світлана Вікторівна-1981-0990938241-Житомирська обл.м.Овруч вул.Мічуріна 10 кв.2 | N5: -
A6: Марюхно Артем Олександрович | C6: =Основний!C16 -> Барабаш Олександр Сергійович | E6: =C6=G6 -> FALSE | G6: Ващенко Володимир Ігорович | H6: Киівська обл.м.Бровари | I6: Киівська обл.м.Бровари вул.Миколи Костомарова 28а | J6: професійно- технічна | K6: ПФПК у 2005 юрист | L6: будівельник 10 років права В | M6: неодружений батько:Ващенко Шгор Володимирович-1960-0677384870-Киівська обл.м.Бровари вул.Миколи Костомарова 28а | N6: 0975482717
A7: Шегера Роман Володимирович | C7: =Основний!C17 -> Батура Віктор Сергійович | E7: =C7=G7 -> FALSE | G7: Винничук Володимир Ярославович | H7: Тернопільська обл.Чортківський р-н.с.Улашківці | I7: Тернопільська обл.Чортківський р-н.с.Улашківці вул.Сонячна 14 | J7: професійно- технічна | K7: Чортківське ВПУ у 2013 слюсар з ремонту автомобілів | L7: овальщик 6 років права В | M7: неодружений мати:Винничук Галина Йосафатівна-1974--974114211-Тернопільська обл.Чортківський р-н.с.Улашківці вул.Сонячна 14 батько:Винничук Ярослав Степанович-1973-0682466460-Тернопільська обл.Чортківський р-н.с.Улашківці вул.Сонячна 14 | N7: 0979289360
A8: Смірнов Артур Артюшевич | C8: =Основний!C18 -> Белінський Сергій Юрійович | E8: =C8=G8 -> FALSE | G8: Гарбар Олександр Вікторович | H8: с. Леприн, Житомирська область, Радомишлівський район | I8: Житомирська область, Радомишлівський район, с. Леприн, вул. Лугова, буд. 23 | J8: повна загальна середня | K8: ліцей, м. Радомишль, 2009 | L8: будівельник 5 років | M8: цивільний шлюб, цивільна дружина: Шарапова Надія Петрівна, Житомирська область, Радомишлівський район, с. Леприн, вул. Лугова, буд. 23, 0669208817
A9: Герасименко Павло Сергійович | C9: =Основний!C19 -> Бережний Євгеній Олегович | E9: =C9=G9 -> FALSE | G9: ГЕРАСИМЕНКО Павло Сергійович | H9: м. Полтава | I9: м. Полтава, вул. Європейська, буд 139, кв. 22 | J9: професійно- технічна | K9: СПТУ №10, м. Полтава | L9: комірник | M9: одружений дружина: Георгієва Юлія Юрієвна - 1986 - 0936718521 - м. Полтава, вул. Великотирнівська, буд. 27/1, кв. 84 | N9: 0936893236
A10: Красножон Михайло Анатолійович | C10: =Основний!C20 -> Білоус Сергій Олегович | E10: =C10=G10 -> FALSE | G10: Горнічний Едуард Юрійович | H10: м. Архангельск, РФ | I10: м. Житомир, вул. Свободи, буд. 52 | J10: базова загальна середня | K10: училище, м. Пулин, водій | L10: будівельник 9 років, Права А Б Ц | M10: цивільний шлюб, цивільна дружина: Городнича Наталія Віталіївна, м. Житомир, вул. Свободи, буд. 52, 0685496100
A11: Меньшиков Анатолій Миколайович | C11: =Основний!C21 -> Бірюков Євген Анатолійович | E11: =C11=G11 -> FALSE | G11: Гуменюк Віктор Васильович | H11: с. Солотвин, Бердичівський район, Житомирський область | I11: с. Старий Солотвин, Бердичівський район, провулок Миру, буд. 5 | J11: повна загальна середня | K11: професійно-будівельний ліцей №12, м.Бердичів | L11: будівельник, 12 років | M11: неодружений, мати: Гуменюк Валентина Володимирівна, с. Старий Солотвин, Бердичівський район, провулок Миру, буд. 5, 0972768628 | N11: 0987983165
A12: Чаус Євгеній Русланович | C12: =Основний!C22 -> Бобровський Олександр Іванович | E12: =C12=G12 -> FALSE | G12: ДЕНИСЮК Вадим Васильович | H12: Ємільчинська обл с. Симони | I12: Ємільчинська обл с. Симони вул Незалежності буд 21 | J12: базова загальна середня | K12: ЗОШ с. Симони | L12: різноробочий | M12: неодружений сестра: Денисюк Ольга Василівна - 09.03.1989 - 0660494552 - Ємільчинська обл с. Симони вул Незалежності 21 | N12: 0663759546
A13: Юр'єв Роман Русланович | C13: =Основний!C23 -> Бондаренко Роман Ігорович | E13: =C13=G13 -> FALSE | G13: Донець Микола Михайлович | H13: м. Сміла, Черкаська область | I13: Черкаська область, м. Сміла, вул. Філатова, буд. 8, кв. 145 | J13: вища | K13: Національний транспортний університет, м. Київ, 2019, інженер будівельник | L13: майстер дорожніх робіт 1 рік, Права Б | M13: неодружений, мати: Донець Любов Михайлівна, Черкаська область, м. Сміла, вул. Філатова, буд. 8, кв. 145, 0636539977 | N13: 0931913213
A14: Шапран Ігор Олександрович | C14: =Основний!C24 -> Боришевський Олександр Петрович | E14: =C14=G14 -> FALSE | G14: ДРИЖУК Сергій Юрійович | H14: м. Пирятин Полтавська обл. | I14: Вінницька обл с Журбинці вул Зарічна буд 34 | J14: базова загальна середня | K14: школа-інтернат 2006 м. Козятин | L14: будівельник 10 років Права Б Ц Т | M14: неодружений дружина: Чоботарьова Альбіна Олександрівна - 1993 - Вінницька обл с Журбинці вул Зарічна буд 34 | N14: 0680196331
A15: Донець Микола Михайлович | C15: =Основний!C25 -> Бородій Володимир Васильович | E15: =C15=G15 -> FALSE | G15: ІЛЛЮШИН Ярослав Вікторович | H15: м. Чернігів | I15: м. Вінниця вул. Антона Листопада буд.2 кв 13 | J15: професійно- технічна | K15: ПТУ №16 м. Чернігів пекар | L15: керівник терміналу 2 роки | M15: неодружений дівчина: Лубьянова Анастасія Ігорівна - 28.07.1995 - 0933846576 - м. Вінниця вул. Антона Листопада буд.2 кв 13 | N15: 0954948604
A16: Павленко Микола Володимирович | C16: =Основний!C26 -> Бубало Олександр Сергійович | E16: =C16=G16 -> FALSE | G16: Ісаєнко Володимир Володимирович | H16: Полтавська область, м. Кременчук | I16: Полтавська область, м. Кременчук, вул. Переяслівська, буд. 44, кв. 13 | J16: професійно- технічна | K16: Кременчуцький коледж національного університету ім. М. Скоропадського, 2016, зварювальне відділення | L16: зварювальник слюсар, 3 роки | M16: неодружений, мати: Ісаєнко Вікторія Володимирівна, м. Кременчук, вул. Переяслівська, буд. 44, кв. 13, 0964325190 | N16: 0636126867
A17: Семенюк Олександр Іванович | C17: =Основний!C27 -> Будник Сергій Ігорович | E17: =C17=G17 -> FALSE | G17: Коваленко Іван Іванович | H17: Сумська обл.Лебединський р-н.с.Корчани | I17: Сумська обл.Лебединський р-н.с.Василівка вул.Широка 47 | J17: повна загальна середня | K17: Лебединське ПТУ у 1997 тракторист | L17: тракторист 10 років А1 Д | M17: цивільна дружина:Дряхлова Юлія Олександрівна-1984-09723389-Сумська обл.Лебединський р-н.с.Василівка вул.Широка 47 | N17: 0679831091
A18: Марков Віталій Ігорович | C18: =Основний!C28 -> Бумар Антон Миколайович | E18: =C18=G18 -> FALSE | G18: Красножон Михайло Анатолійович | H18: м. Полтава | I18: м. Полтава, Решетилівська 50\1, кв. 65 | J18: повна загальна середня | K18: Гімназія №13. м. Полтава, 2014 | L18: Сервісне обслуговування техніки 5 років. Права Б | M18: розлучений, брат: Красножон Антон Анатолійович - вул. Інжерена 11, м. Полтава - 0953848459 | N18: 0689699529
A19: Бережний Євгеній Олегович | C19: =Основний!C29 -> Бунчук Ярослав Олександрович | E19: =C19=G19 -> FALSE | G19: Кропивницький Віталій Русланович | H19: м. Коростишів, Житомирська область | I19: м. Коростишів, вул. Волошкова, буд. 45 | J19: базова загальна середня | K19: школа №18, смт. Коцюбинське, 2009 | L19: кухар 4 роки | M19: неодружений, батько: Кропивницкий Руслан Олександрович, м. Коростишів, вул. Волошкова, буд. 45, 0954085494 | N19: 0991591289
A20: Ісаєнко Володимир Володимирович | C20: =Основний!C30 -> Вавілкін Олександр Сергійович | E20: =C20=G20 -> FALSE | G20: ЛЕВЧЕНКО Ігор Анатолійович | H20: м. Овруч | I20: Житомирська обл м. Ігнатпіль вул Коворот буд 11 | J20: повна загальна середня | K20: школа 2014 | L20: помічник на лісопилці 6 міс | M20: розлучений сестра: Павленко Анна - 0968254129 - м. Ігнатпіль | N20: 0508495651
A21: Рибачик Роман Іванович | C21: =Основний!C31 -> Ващенко Володимир Ігорович | E21: =C21=G21 -> FALSE | G21: МАРКОВ Віталій Ігорович | H21: м. Кременчуг Полтавська обл. | I21: Полтавська обл. м. Кременчуг вул. Мрії 5 кв 19 | J21: вища | K21: КДПУ 2004 інженер механік | L21: ТОВ Кредо 4 роки Права Б Ц | M21: розлучений мати: Маркова Світлана Борисівна - 29.081960 - 0982851680 - Полтавська обл. м. Кременчуг вул. Мрії 5 кв 19 | N21: 0679629311
A22: Горнічний Едуард Юрійович | C22: =Основний!C32 -> Верещак Сергій Олександрович | E22: =C22=G22 -> FALSE | G22: МАРЮХНО Артем Олександрович | H22: м. Полтава | I22: м. Полтава вул. Європейська, буд 115а, кв. 97 | J22: повна загальна середня | K22: ЗОШ 3, м. Полтава | L22: водій Права Б, Ц, Ц1 | M22: дружина: Бєлоброва Марина Юріївна - 1992 - 0668099423 - м. Полтава, вул. Європейська, буд 115а, кв. 97 | N22: 0958773247
... A24: Степанишин Дмитро Вікторович | C24: =Основний!C34 -> Гавриляков Ростислав Олександрович | E24: =C24=G24 -> FALSE | G24: НАБОК Валерій Миколайович | H24: с. Усанівка, Сумська обл | I24: Сумська обл., смт Липова Долина, вул. Шевченка, буд. 14 | J24: повна загальна середня | K24: Ліцей, с. Глинськ | L24: Тракторист водій | M24: неодружений. дружина: Добродій Тетяна Миколаївна - 09.05.1988 - 0508030946 - Сумська обл., смт Липова Долина, вул. Шевченка, буд. 14 | N24: 0994797289
A25: Скрипник Сергій Васильович | C25: =Основний!C35 -> Гарбар Олександр Вікторович | E25: =C25=G25 -> FALSE | G25: Омельченко Сергій Григорович | H25: смт.Ємільчіно, Житомирска область | I25: смт. Ємільчіно, Житомирська область, вул. Садова, буд. 30 | J25: повна загальна середня | K25: Школа №2, Ємільчіно | L25: автослюсар, 5 років | M25: цивільний шлюб, брат: Омельченко Олексій Григорович, смт. Ємільчино, вул. Касьянова, буд. 5
A26: Гарбар Олександр Вікторович | C26: =Основний!C36 -> Гарбуз Микола Олександрович | E26: =C26=G26 -> FALSE | G26: Павленко Микола Володимирович | H26: м. Кременчук, Полтавська область | I26: м. Кременчук, тупик Глобинський, буд. 5 | J26: вища | K26: Дніпропетровський університет економіки і права, 2007, економічна кібернетика | L26: експерт економічної діяльності, інженер перевідник 15 років | M26: неодружений, брат: Павленко Олександр Володимирович - 0675306999 - м. Кременчук, вул Симоненка, буд. 11 | N26: 0668461344
A27: Тіщенко Олег Анатолійович | C27: =Основний!C37 -> Гасанов Анатолій Миколайович | E27: =C27=G27 -> FALSE | G27: РИБАЧИК Роман Іванович | H27: Житомирська обл. с. Відродження | I27: м. Житомир вул. Бориса Тена, 96 кв 13 | J27: професійно- технічна | K27: Училище №9 м. Житомир 2019 кухар, офіціант, бармен | L27: кухар 2 роки Права Б Ц | M27: неодружений брат: Рибачик Ярослав Іванович - 21.02.2007 - 0975595736 - м. Житомир вул. Бориса Тена, 96 кв 13 | N27: 0667511936
A28: Бірюков Євген Анатолійович | C28: =Основний!C38 -> Герасименко Павло Сергійович | E28: =C28=G28 -> FALSE | G28: Свинаренко Святослав Васильович | H28: м. Черкаси | I28: м. Черкаси, вул. Вернигори, буд. 9, кв. 43 | J28: вища | K28: Черкаський державний технологічний університет, 2013, економіка підприємства | L28: завідуючий складом, 3 роки | M28: одружений, батько: Свинаренко Василь Миколайович, м. Черкаси, вул. Вернигори, буд. 9, кв. 43, 0637896747. мати: Свинаренко Ольга Василівна, м. Черкаси, вул. Вернигори, буд. 9, кв. 43, 0972053582 | N28: 0937058585
A29: Кропивницький Віталій Русланович | C29: =Основний!C39 -> Гігін Роман Олександрович | E29: =C29=G29 -> FALSE | G29: СЕМЕНЮК Олександр Іванович | H29: Полтавська обл. с. Вечірки | I29: Полтавська обл м. Гадяч вул. Подільска буд 7 кв 2 | J29: базова загальна середня | K29: Березоворудський технікум м. Гадяч 2020 | L29: різноробочий | M29: одружений дружина: Семенюк Марина Василівна - 02.03.2000 - 0682860854 - Полтавська обл м. Гадяч вул. Подільска буд 7 кв 2 | N29: 0955497601
A30: Іллюшін Ярослав Вікторович | C30: =Основний!C40 -> Гірний Михайло Ярославович | E30: =C30=G30 -> FALSE | G30: Сєроклін Микола Олегович | H30: м. Буринь, Сумська область | I30: вул. Гая Головенського 26, м. Буринь, Конотопський район, Сумська область | J30: вища | K30: СумДУ, 2021, фінанси та банківська справа | L30: Права Б Ц, Відеомонтажер 3 роки | M30: неодружений, мати: Сєроклін Олена Іванівна - 0661878039 - вул. Гая Головенського 26, м. Буринь, Сумська область | N30: 0992966134
A31: Дрижук Сергій Юрійович | C31: =Основний!C41 -> Головач Ярослав Владиславович | E31: =C31=G31 -> FALSE | G31: Сичевський Олександр Олександрович | H31: м. Козятин, Вінницька область | I31: Житомирська область, Ружинський район, смт. Ружин, вул. Київська, буд. 5, кв.5 | J31: повна загальна середня | K31: школа №5, м. Козятин, 2010 | L31: автослюсар, 10 років | M31: розлучений, батько: Сичевський Олександр Юрійович, м. Козятин, вул. Артура Венжика, буд. 48, кв. 15, 0935156984 | N31: 0684359019
A32: Сичевський Олександр Олександрович | C32: =Основний!C42 -> Горнічний Едуард Юрійович | E32: =C32=G32 -> FALSE | G32: Скрипник Сергій Васильович | H32: м. Гайсин, Вінницька область | I32: м. Гайсин, Вінницька область, Другий провулок Івана Франка, буд 1. | J32: повна загальна середня | K32: школа №3, м. Гайсин | L32: будівельник 10 років, Права Б | M32: розлучений, мати: Скрипник Тетяна Михайлівна, м. Гайсин, вул. Гайсинська, буд. 35. Скрипник Василь Опанасович, м. Гайсин, вул. Гайсинська, буд. 35 | N32: 0979394554
A33: Бородій Володимир Васильович | C33: =Основний!C43 -> Горохівський Ігор Валерійович | E33: =C33=G33 -> FALSE | G33: Смірнов Артур Артюшович | H33: м.Полтава | I33: м.Полтава вул Івана Мазепи 49кв.55 | J33: вища | K33: ПНТУ ім.Юрія Кондратюка у 2019 тренер бакалаврат здоровя людини | L33: охоронець 6 років права В | M33: мати:Смірнова Ірина Анатоліівна-1972-0503046016-м.Полтава вул.Уютная 15 | N33: 0999646261
A34: Левченко Ігор Анатолійович | C34: =Основний!C44 -> Губенко Віктор Миколайович | E34: =C34=G34 -> FALSE | G34: СТЕПАНИШИН Дмитро Вікторович | H34: Київська обл. Фастівський р-н, с. Оленівка | I34: Житомирська обл. м. Чуднів вул. Героїв АТО 27 | J34: вища | K34: ЖНАЕУ 2019 агроном | L34: оператор плахофабрики, водій 7 років Права Б Ц1 Ц | M34: одружений дружина: Степанишина Аліна Олегівна - 11.02.1991 - 0667840590 - м. Чуній вул Зелена 23 | N34: 0661413110
A35: Свинаренко Святослав Васильович | C35: =Основний!C45 -> Губенко Олександр Миколайович | E35: =C35=G35 -> FALSE | G35: ТІЩЕНКО Олег Анатолійович | H35: Вінницька обл м. Ямпіль | I35: м. Вінниця масив окружний | J35: вища | K35: ВФЕУ м. Вінниця 2006 бухгалтер економіст | L35: працівник торгівельник 5 років Права Б | M35: одружений дружина: Тіщенко Інна Олександрівна - 04.11.1986 - 0970586338 - м. Вінниця масив окружний | N35: 0965205811
A36: Омельченко Сергій Григорович | C36: =Основний!C46 -> Гуменюк Валерій Володимирович | E36: =C36=G36 -> FALSE | G36: ХМЕЛЬНИЦЬКИЙ Сергій Леонідович | H36: м. Житомир | I36: м. Житомир вул Кибальчича буд 5 кв 15 | J36: вища | K36: УАБП 2016 бухгалтер економіст | L36: машиніст 5 разряда 10 | M36: неодружений мати: Хмельницька Антоніна Миколаївна - 30.01.1953 - 0963675865 - м. Житомир вул Кибальчича буд 5 кв 15 | N36: 0635612931
A37: Ващенко Володимир Ігорович | C37: =Основний!C47 -> Гуменюк Віктор Васильович | E37: =C37=G37 -> FALSE | G37: ЧАУС Євген Олександрович | H37: м. Вінниця | I37: м. Вінниця, вул. Київська, буд. 50, кв. 13 | J37: професійно- технічна | K37: ВК НУХТ, м. Вінниця, автомеханік | L37: автомеханік | M37: розлучений батько: Чаус Руслан Олександрович - 1971 - 0674244562 - м. Вінниця, вул. Київська, буд 50, кв. 13 | N37: 0988216124
... A40: Хмельницький Сергій Леонідович | C40: =Основний!C50 -> Дем'яненко Артур Русланович | E40: =C40=G40 -> FALSE | G40: Юр'єв Роман Русланович | H40: м. Маріуполь, Донецька область | I40: м. Лубни, Полтавська область, вул. Василенко Миколи, буд. 35, кв. 49 | J40: вища | K40: Полтавська державна аграрна академія, 2016, бухглатерьска справа | L40: Різноробочий, комірник 10 років, Права Б | M40: неодружений, мати: Васильєва Лілія Миколаївна - Германія, +4916096202643; бабуся: Зозуля Віра Миколаївна - 0953288893 - Полтавська область, Оржицький район, с. Чутівка, вул. Голошубова, буд 11; сестра: Васильєва Маргарита Євгенівна - Германія - +491759147056 | N40: 0507020643
C41: =Основний!C51 -> Денисов Юрій Володимирович | E41: =C41=G41 -> FALSE
C42: =Основний!C52 -> Денисюк Вадим Васильович | E42: =C42=G42 -> FALSE
C43: =Основний!C53 -> Дерев'янко Владислав Станіславович | E43: =C43=G43 -> FALSE
C44: =Основний!C54 -> Дзюба Станіслав Вікторович | E44: =C44=G44 -> FALSE
...

Sheet Список
A1: № | B1: Звання | C1: ПІБ | D1: ІПН | E1: Примітка
A2: =Основний!A12 -> 1 | B2: =Основний!B12 -> солдат | C2: =Основний!C12 -> Айб Руслан Ігорович | D2: =Основний!G12 -> 3870108631
A3: =Основний!A13 -> 2 | B3: =Основний!B13 -> солдат | C3: =Основний!C13 -> Антонович В'ячеслав Васильович | D3: =Основний!G13 -> 3227217172
A4: =Основний!A14 -> 3 | B4: =Основний!B14 -> солдат | C4: =Основний!C14 -> Базилевич Максим Олександрович | D4: =Основний!#REF! -> #REF!
A5: =Основний!A15 -> 4 | B5: =Основний!B15 -> солдат | C5: =Основний!C15 -> Балацький Микола Анатолійович | D5: =Основний!H14 -> АВ 172221
A6: =Основний!A16 -> 5 | B6: =Основний!B16 -> старший солдат | C6: =Основний!C16 -> Барабаш Олександр Сергійович | D6: =Основний!H15 -> АВ957593
A7: =Основний!A17 -> 6 | B7: =Основний!B17 -> солдат | C7: =Основний!C17 -> Батура Віктор Сергійович | D7: =Основний!G17 -> 3577210396
A8: =Основний!A18 -> 7 | B8: =Основний!B18 -> солдат | C8: =Основний!C18 -> Белінський Сергій Юрійович | D8: =Основний!G18 -> 3358218091
A9: =Основний!A19 -> 8 | B9: =Основний!B19 -> солдат | C9: =Основний!C19 -> Бережний Євгеній Олегович | D9: =Основний!G19 -> 3475012057
A10: =Основний!A20 -> 9 | B10: =Основний!B20 -> солдат | C10: =Основний!C20 -> Білоус Сергій Олегович | D10: =Основний!G20 -> 3447814437
A11: =Основний!A21 -> 10 | B11: =Основний!B21 -> солдат | C11: =Основний!C21 -> Бірюков Євген Анатолійович | D11: =Основний!G21 -> 3362702414
A12: =Основний!#REF! -> #REF! | B12: =Основний!#REF! -> #REF! | C12: =Основний!#REF! -> #REF! | D12: =Основний!#REF! -> #REF!
A13: =Основний!#REF! -> #REF! | B13: =Основний!#REF! -> #REF! | C13: =Основний!#REF! -> #REF! | D13: =Основний!#REF! -> #REF!
A14: =Основний!A22 -> 11 | B14: =Основний!B22 -> солдат | C14: =Основний!C22 -> Бобровський Олександр Іванович | D14: =Основний!G22 -> 3253620012
A15: =Основний!A23 -> 12 | B15: =Основний!B23 -> солдат | C15: =Основний!C23 -> Бондаренко Роман Ігорович | D15: =Основний!G23 -> 3394716715
A16: =Основний!A24 -> 13 | B16: =Основний!B24 -> молодший сержант | C16: =Основний!C24 -> Боришевський Олександр Петрович | D16: =Основний!G24 -> 3012010737
A17: =Основний!A25 -> 14 | B17: =Основний!B25 -> солдат | C17: =Основний!C25 -> Бородій Володимир Васильович | D17: =Основний!G25 -> 3140211191
A18: =Основний!A26 -> 15 | B18: =Основний!B26 -> старший солдат | C18: =Основний!C26 -> Бубало Олександр Сергійович | D18: =Основний!G26 -> 3605308718
A19: =Основний!A27 -> 16 | B19: =Основний!B27 -> солдат | C19: =Основний!C27 -> Будник Сергій Ігорович | D19: =Основний!G27 -> 3604802912
A20: =Основний!A28 -> 17 | B20: =Основний!B28 -> солдат | C20: =Основний!C28 -> Бумар Антон Миколайович | D20: =Основний!G28 -> 3674207816
A21: =Основний!A29 -> 18 | B21: =Основний!B29 -> солдат | C21: =Основний!C29 -> Бунчук Ярослав Олександрович | D21: =Основний!G29 -> 3539506257
A22: =Основний!A30 -> 19 | B22: =Основний!B30 -> солдат | C22: =Основний!C30 -> Вавілкін Олександр Сергійович | D22: =Основний!G30 -> 2921106870
A23: =Основний!A31 -> 20 | B23: =Основний!B31 -> молодший сержант | C23: =Основний!C31 -> Ващенко Володимир Ігорович | D23: =Основний!G31 -> 3148810797
A24: =Основний!A32 -> 21 | B24: =Основний!B32 -> солдат | C24: =Основний!C32 -> Верещак Сергій Олександрович | D24: =Основний!G32 -> 3548105379
A25: =Основний!A33 -> 22 | B25: =Основний!B33 -> солдат | C25: =Основний!C33 -> Винничук Володимир Ярославович | D25: =Основний!G33 -> 3527809298
... A101: =Основний!A109 -> 98 | B101: =Основний!B109 -> солдат | C101: =Основний!C109 -> Меньшиков Анатолій Миколайович | D101: =Основний!G109 -> 3086116591

Sheet Перевірка
A1: {=Основний!A10:A179} -> № з/п | B1: {=CONCATENATE("", Основний!C10:C179)} -> Прізвище ім'я та по батькові | C1: {=CONCATENATE("", TEXT(Основний!F10:F179,"dd.mm.yyyy"))} -> Дата народження | D1: {=CONCATENATE("", Основний!G10:G179)} -> ідентифікаційний код | E1: Перевірка | F1: {=CONCATENATE("", Основний!H10:H179)} -> військовий квиток | G1: Перевірка | H1: {=CONCATENATE("", Основний!I10:I179)} -> Паспорт, ким і коли виданий | I1: Перевірка | J1: Алфавітка | K1: Д = А | L1: Поіменний Список | M1: Д = ПС | N1: А = ПС
A2: 0 | C2: 00.01.1900 | J2: - | K2: - | L2: - | M2: - | N2: - | O2: =DATEVALUE(C2) <> INT(LEFT(D2,5)) +1 -> #VALUE!
A3: 1 | B3: Айб Руслан Ігорович | C3: 16.12.2005 | D3: 3870108631 | E3: =IF(D3="", "", LEN(D3)) -> 10 | F3: Військово-обліковий документ | G3: =IF(F3="", "", LEN(F3)) -> 28 | H3: 011999494 виданий 5310 25.06.2025 | I3: =IF(H3="", "", LEN(H3)) -> 33 | J3: Антоненко Руслан Олександрович | K3: =IF(J3="", "", B3=J3) -> FALSE | M3: =IF(L3="", "", B3=L3) | N3: =IF(L3="", "", J3=L3) | O3: =DATEVALUE(C3) <> INT(LEFT(D3,5)) +1 -> FALSE | P3: =DATEVALUE(C3) -> 38702
A4: 2 | B4: Антонович В'ячеслав Васильович | C4: 10.05.1988 | D4: 3227217172 | E4: =IF(D4="", "", LEN(D4)) -> 10 | F4: АГ 168641 | G4: =IF(F4="", "", LEN(F4)) -> 9 | H4: ВН 259143 Житомирським МВ УМВС УКР в Житомирській обл 11.05.2004 | I4: =IF(H4="", "", LEN(H4)) -> 64 | J4: Баранов Дмитро Геннадійович | K4: =IF(J4="", "", B4=J4) -> FALSE | M4: =IF(L4="", "", B4=L4) | N4: =IF(L4="", "", J4=L4) | O4: =DATEVALUE(C4) <> INT(LEFT(D4,5)) +1 -> FALSE
A5: 3 | B5: Базилевич Максим Олександрович | C5: 01.07.1989 | D5: 3268912293 | E5: =IF(D5="", "", LEN(D5)) -> 10 | F5: АВ 172221 | G5: =IF(F5="", "", LEN(F5)) -> 9 | H5: КО 617398 Лубенським МРВ УМВС УКР в Полтавській обл 18.07.2005 | I5: =IF(H5="", "", LEN(H5)) -> 62 | J5: Боровик Юрій Володимирович | K5: =IF(J5="", "", B5=J5) -> FALSE | M5: =IF(L5="", "", B5=L5) | N5: =IF(L5="", "", J5=L5) | O5: =DATEVALUE(C5) <> INT(LEFT(D5,5)) +1 -> FALSE
A6: 4 | B6: Балацький Микола Анатолійович | C6: 31.01.1986 | D6: 3144208030 | E6: =IF(D6="", "", LEN(D6)) -> 10 | F6: АВ957593 | G6: =IF(F6="", "", LEN(F6)) -> 8 | H6: ЕА996938 Світловодським МРВ УМВС України в Кіровоградській обл. 20.05.2003 | I6: =IF(H6="", "", LEN(H6)) -> 74 | J6: Горбатенко Олександр Олегович | K6: =IF(J6="", "", B6=J6) -> FALSE | M6: =IF(L6="", "", B6=L6) | N6: =IF(L6="", "", J6=L6)
A7: 5 | B7: Барабаш Олександр Сергійович | C7: 13.01.1985 | D7: 3105913413 | E7: =IF(D7="", "", LEN(D7)) -> 10 | F7: МО738589 | G7: =IF(F7="", "", LEN(F7)) -> 8 | H7: КО180550 Октябрським РВ ПМУ УМВС України в Полтавській обл. 29.01.2001 | I7: =IF(H7="", "", LEN(H7)) -> 70 | J7: Жестовський Сергій Сергійович | K7: =IF(J7="", "", B7=J7) -> FALSE | M7: =IF(L7="", "", B7=L7) | N7: =IF(L7="", "", J7=L7)
A8: 6 | B8: Батура Віктор Сергійович | C8: 09.12.1997 | D8: 3577210396 | E8: =IF(D8="", "", LEN(D8)) -> 10 | F8: АВ 953044 | G8: =IF(F8="", "", LEN(F8)) -> 9 | H8: КО 947895 Глобинським РС УДМС УКР в Полтавській обл 18.12.2013 | I8: =IF(H8="", "", LEN(H8)) -> 62 | J8: Ісаков Олександр Сергійович | K8: =IF(J8="", "", B8=J8) -> FALSE | M8: =IF(L8="", "", B8=L8) | N8: =IF(L8="", "", J8=L8)
A9: 7 | B9: Белінський Сергій Юрійович | C9: 11.12.1991 | D9: 3358218091 | E9: =IF(D9="", "", LEN(D9)) -> 10 | F9: АГ 168639 | G9: =IF(F9="", "", LEN(F9)) -> 9 | H9: ВН 440083 Богунським РВ УМВС УКР в Житомирській обл 27.09.2008 | I9: =IF(H9="", "", LEN(H9)) -> 62 | J9: Клімчук Олександр Олександрович | K9: =IF(J9="", "", B9=J9) -> FALSE | M9: =IF(L9="", "", B9=L9) | N9: =IF(L9="", "", J9=L9)
A10: 8 | B10: Бережний Євгеній Олегович | C10: 21.02.1995 | D10: 3475012057 | E10: =IF(D10="", "", LEN(D10)) -> 10 | F10: АВ 956834 | G10: =IF(F10="", "", LEN(F10)) -> 9 | H10: 004876368 | I10: =IF(H10="", "", LEN(H10)) -> 9 | J10: Колесніков Сергій Сергійович | K10: =IF(J10="", "", B10=J10) -> FALSE | M10: =IF(L10="", "", B10=L10) | N10: =IF(L10="", "", J10=L10)
A11: 9 | B11: Білоус Сергій Олегович | C11: 25.05.1994 | D11: 3447814437 | E11: =IF(D11="", "", LEN(D11)) -> 10 | F11: АГ006855 | G11: =IF(F11="", "", LEN(F11)) -> 8 | H11: 004240947 виданий 7119 22.11.2019 | I11: =IF(H11="", "", LEN(H11)) -> 33 | J11: Опанасюк Ігор Петрович | K11: =IF(J11="", "", B11=J11) -> FALSE | M11: =IF(L11="", "", B11=L11) | N11: =IF(L11="", "", J11=L11)
A12: 10 | B12: Бірюков Євген Анатолійович | C12: 25.01.1992 | D12: 3362702414 | E12: =IF(D12="", "", LEN(D12)) -> 10 | F12: АГ607466 | G12: =IF(F12="", "", LEN(F12)) -> 8 | H12: ВК534270 Великоновосілківським РВ ГУ МВС України в Донецькій обл. 11.09.2008 | I12: =IF(H12="", "", LEN(H12)) -> 76 | J12: Ручин Дмитро Вікторович | K12: =IF(J12="", "", B12=J12) -> FALSE | M12: =IF(L12="", "", B12=L12) | N12: =IF(L12="", "", J12=L12)
A13: 11 | B13: Бобровський Олександр Іванович | C13: 29.01.1989 | D13: 3253620012 | E13: =IF(D13="", "", LEN(D13)) -> 10 | F13: Тимчасове посвідчення військовозобов'язаного "220220231745656600023 | G13: =IF(F13="", "", LEN(F13)) -> 67 | H13: МЮ 079208 Корецьким РВ УМВС УКР в Рівненській обл 09.03.2006 | I13: =IF(H13="", "", LEN(H13)) -> 60 | J13: Солоденко Анатолій Сергійович | K13: =IF(J13="", "", B13=J13) -> FALSE | M13: =IF(L13="", "", B13=L13) | N13: =IF(L13="", "", J13=L13)
A14: 12 | B14: Бондаренко Роман Ігорович | C14: 10.12.1992 | D14: 3394716715 | E14: =IF(D14="", "", LEN(D14)) -> 10 | F14: АГ 610686 | G14: =IF(F14="", "", LEN(F14)) -> 9 | H14: ЕВ 220303 | I14: =IF(H14="", "", LEN(H14)) -> 9 | J14: Фістікан Василь Петрович | K14: =IF(J14="", "", B14=J14) -> FALSE | M14: =IF(L14="", "", B14=L14) | N14: =IF(L14="", "", J14=L14)
A15: 13 | B15: Боришевський Олександр Петрович | C15: 19.06.1982 | D15: 3012010737 | E15: =IF(D15="", "", LEN(D15)) -> 10 | F15: МО351484 | G15: =IF(F15="", "", LEN(F15)) -> 8 | H15: МА604703 Роменським МРВ УМВС України в Сумській обл. 02.02.1999 | I15: =IF(H15="", "", LEN(H15)) -> 63 | J15: Чабан Михайло Григорович | K15: =IF(J15="", "", B15=J15) -> FALSE | M15: =IF(L15="", "", B15=L15) | N15: =IF(L15="", "", J15=L15)
