Workbook

Sheet Основний
A4: ДОНЕСЕННЯ
A5: про зарахування військовослужбовців військової служби за контрактом на навчання до навчального центру (ВВНЗ, ВНП ЗВО)
A6: військова частина А2900
A7: найменування навчального центру (ВВНЗ, ВНЗ ЗВО)
A9: 1. Список військовослужбовців військової служби за контрактом, які зараховані на навчання
A10: № з/п | B10: Військове звання | C10: {=SUMPRODUCT(--(TRIM(C12:C179)<>""))} -> 168 | E10: Область | F10: Дата народження | G10: Освіта | H10: ідентифікаційний код | I10: військовий квиток | J10: № телефону | K10: Підрозділ | L10: Куди та коли вибув | M10: З якої частини прибув (для курсантів з бригад) | N10: Примітка | O10: Де знаходиться
A12: 1 | B12: солдат | C12: Алікін Ігор Валерійович | D12: Черкаським ОМТЦК та СП у Черкаській обл. 04 грудня 2025 року | E12: Черкаська | F12: 29183 | G12: базова загальна середня, школа інтернат 12 м.Сміла | H12: 2918214695 | I12: АГ 628967 | J12: 0689915960 | K12: 1НР | M12: ТЦК
A13: 2 | B13: старший солдат | C13: Андрійченко Павло Валентинович | D13: Хмільницьким РТЦК та СП у Вінницькій обл. 04 грудня 2025 року | E13: Вінницька | F13: 36025 | G13: вища, Вінницький аграрний національний університет 2022рІнженер механік | H13: 3602408693 | I13: АГ 486424 | J13: 0932844319 | K13: 1НР | M13: ТЦК
A14: 3 | B14: солдат | C14: Балега Сергій Андрійович | D14: Хмільницьким РТЦК та СП у Вінницькій обл. 5 грудня 2025 року | E14: Вінницька | F14: 34318 | G14: вища, Вінецький Національний Аграрний Університет, 2017, облік і аудит | H14: 3431710992 | I14: АГ 486405 | J14: 0687622078 | K14: 1НР | M14: ТЦК
A15: 4 | B15: солдат | C15: Безверхий Микола Олександрович | D15: Житомирським ОМТЦК та СП у Житомирській обл. 04 грудня 2025 року | E15: Житомирська | F15: 31941 | G15: повна загальна середня, 11 класів | H15: 3194014372 | I15: СО 048189 | J15: 0960808770 | K15: 1НР | M15: ТЦК
A16: 5 | B16: солдат | C16: Бендковський Сергій Андрійович | D16: Шепетівським ОМТЦК та СП у Хмельницькій обл. 5 грудня 2025 року | E16: Хмельницька область | F16: 34195 | G16: професійно- технічна, ТКТ м. Тернополя, 2012, туристичне обслуговування | H16: 3419405456 | I16: АГ 480921 | J16: 0982197701 | K16: 1НР | M16: ТЦК
A17: 6 | B17: солдат | C17: Береза Віктор Васильович | D17: Хмельницьким ОМТЦК та СП у Хмельницькій обл. 5 грудня 2025 року | E17: Хмельницька область | F17: 32720 | G17: професійно- технічна, ПТУ №7 м. Хмеьницький 2007 маляр-штукатур, плиточник | H17: 3271921475 | I17: АГ 479322 | J17: 0671974915 | K17: 1НР | M17: ТЦК
A18: 7 | B18: солдат | C18: Бєднов Максим Олександрович | D18: Бучанським РТЦК та СП у Київській обл. 04 грудня 2025 року | E18: Київська | F18: 31762 | G18: вища, Київський національний університет ім.Тараса Шевченка 2010 молекулярна біологія | H18: 3176100554 | I18: АГ 167772 | J18: 0689852230 | K18: 1НР | M18: ТЦК
A19: 8 | B19: солдат | C19: Бойко Денис Андрійович | D19: Бучанським РТЦК та СП у Київській обл. 04 грудня 2025 року | E19: Київська | F19: 34115 | G19: професійно- технічна, ПТУ№19 м.Чугуїв 2014 електрогазо зварювальник | H19: 3411407798 | I19: АГ167778 | J19: 0964371715 | K19: 1НР | M19: ТЦК
A20: 9 | B20: солдат | C20: Буга Іван Іванович | D20: Кам'янець-Подільським РТЦК та СП у Хмельницькій обл. 05 грудня 2025 року | E20: Хмельницька область | F20: 32150 | G20: професійно- технічна, Національний університет львівська політехніка м.Львів 2008 Землевпорядник | H20: 3214909813 | I20: АГ 481580 | J20: 0987813117 | K20: 1НР | M20: ТЦК
A21: 10 | B21: солдат | C21: Бур'ян Євгеній Юрійович | D21: Бучанським РТЦК та СП у Київській обл. 5 грудня 2025 року | E21: Київська | F21: 36164 | G21: повна загальна середня, Курінська ЗОШ №1 2016 | H21: 3616310470 | I21: АГ 167647 | J21: 0663089860 | K21: 1НР | M21: ТЦК
A22: 11 | B22: солдат | C22: Бурбелко Юрій Володимирович | D22: Гайсинським РТЦК та СП у Вінницькій обл. 05 грудня 2025 року | E22: Вінницька | F22: 33350 | G22: професійно- технічна, Вінницький кооперативний інститут 2012р. Маркетолог | H22: 3334902513 | I22: АГ488462 | J22: 0674348611 | K22: 1НР | M22: ТЦК
A23: 12 | B23: старший солдат | C23: Буткевич Олександр Вікторович | D23: Хмельницьким РТЦК та СП у Хмельницькій обл. 5 грудня 2025 року | E23: Хмельницька область | F23: 34339 | G23: професійно- технічна, ПТУ м. Підволочинськ 2013 кухар | H23: 3433805653 | I23: АГ 482090 | J23: 0961239715 | K23: 1НР | M23: ТЦК
... A48: 37 | B48: солдат | C48: Донець Віталій Петрович | D48: Кропивницьким РТЦК та СП у Кіровоградській обл. 5 грудня 2025 року | E48: Кіровоградська | F48: 36269 | G48: професійно- технічна, ПТУ№36 смт.Новгородка 2018 слюсар з ремонту автомобілів | H48: 3626811134 | I48: АГ 577743 | J48: 0687206279 | K48: 1НР | M48: ТЦК
A49: 38 | B49: солдат | C49: Дрозд Ігор Анатолійович | D49: Бучанським РТЦК та СП у Київській обл. 05 грудня 2025 року | E49: Київська | F49: 33763 | G49: базова загальна середня, школа №1 с.Софіівка | H49: 3376216218 | I49: АГ 167646 | J49: 0632660265 | K49: 1НР | M49: ТЦК | N49: Переданий до А0339 | O49: А0339
A50: 39 | B50: солдат | C50: Єрмаков Олександр Валерійович | D50: Бучанським РТЦК та СП у Київській обл. 03 грудня 2025 року | E50: Київська | F50: 29297 | G50: професійно- технічна, ВПУ №45 м.Київ 1998 продавець | H50: 2929622878 | I50: АГ167762 | J50: 0689604699 | K50: 1НР | M50: ТЦК
A51: 40 | B51: солдат | C51: Житник Максим Володимирович | D51: Хмельницьким ОМТЦК та СП у Хмельницькій обл. 03 грудня 2025 року | E51: Хмельницька область | F51: 33163 | G51: професійно- технічна, ПТУ №22 м. Переяслів-Хмельницький, 2017, зварювалбнтк | H51: 3316219099 | I51: АГ 479309 | J51: 0506026412 | K51: 1НР | M51: ТЦК
A52: 41 | B52: солдат | C52: Зеленов Артем Олександрович | D52: Бучанським РТЦК та СП у Київській обл. 03 грудня 2025 року | E52: Київська | F52: 31781 | G52: професійно- технічна, ПТУ№26 м.Кам'янське 2005 автослюсар | H52: 3178003554 | I52: АГ167636 | J52: 0680576727 | K52: 1НР | M52: ТЦК
A53: 42 | B53: солдат | C53: Зелінський Микола Васильович | D53: Бучанським РТЦК та СП у Київській обл. 5 грудня 2025 року | E53: Київська | F53: 32933 | G53: професійно- технічна, Ліцей від національного авіаційного університету, м. Київ 2008 токар-фрезерувальник ЧПУ фрезерно-координатгних верстатів | H53: 3293210193 | I53: АГ 167649 | J53: 0934086580 | K53: 1НР | M53: ТЦК
A54: 43 | B54: солдат | C54: Іванов Василь Іванович | D54: Фастівським РТЦК та СП у Київській обл. 05 грудня 2025 року | E54: Київська | F54: 30136 | G54: базова загальна середня, ЗОШ Житомирська обл Радомишльський р-н с.Верлок 1998 | H54: 3013521855 | I54: АВ978964 | J54: 0956492687 | K54: 1НР | M54: ТЦК | N54: Переданий до А0339 | O54: А0339
A55: 44 | B55: солдат | C55: Іщенко Руслан Олександрович | D55: Кропивницьким МТЦК та СП у Кіровоградській обл. 03 грудня 2025 року | E55: Кіровоградська | F55: 34140 | G55: вища, Кіровоградський національний технічний університет 2016р.Інженер будівельник | H55: 3413914392 | I55: АГ592719 | J55: 0506401321 | K55: 1НР | M55: ТЦК
A56: 45 | B56: солдат | C56: Капарчук Олег Іванович | D56: Житомирським ОМТЦК та СП у Житомирській обл. 6 грудня 2025 року | E56: Житомирська | F56: 30944 | G56: професійно- технічна, ЖАТК 2004 механік | H56: 3094322797 | I56: АГ 366436 | J56: 0967001487 | K56: 1НР | M56: ТЦК
A57: 46 | B57: солдат | C57: Карташов Вячеслав Васильович | D57: Хмільницьким РТЦК та СП у Вінницькій обл. 5 грудня 2025 року | E57: Вінницька | F57: 35278 | G57: професійно- технічна, Зозівський Професійний Ліцей (с. Зозівка, Вінницька обл, Липовецький р-н) 2016р МХУ (мастер електромонтажнх та холодильних установок) | H57: 3527707215 | I57: АГ 486442 | J57: 0972510664 | K57: 1НР | M57: ТЦК
A58: 47 | B58: солдат | C58: Карташов Дмитро Володимирович | D58: Житомирським ОМТЦК та СП у Житомирській обл. 05 грудня 2025 року | E58: Житомирська | F58: 28269 | G58: вища, Житомирський інженерно-технологічний інститут 2004 радіотехнік | H58: 2826806976 | I58: АГ 366432 | J58: - | K58: 1НР | M58: ТЦК
A59: 48 | B59: солдат | C59: Кириченко Андрій Григорович | D59: Житомирським ОМТЦК та СП у Житомирській обл. 05 грудня 2025 року | E59: Житомирська | F59: 35412 | G59: професійно- технічна, ПТУ №5 м. Житомир 2014 муляр,пічник, штукатур | H59: 3541104911 | I59: АГ366428 | J59: 0633703101 | K59: 1НР | M59: ТЦК
A60: 49 | B60: солдат | C60: Кириченко Микола Григорович | D60: Житомирським ОМТЦК та СП у Житомирській обл. 05 грудня 2025 року | E60: Житомирська | F60: 36008 | G60: професійно- технічна, ПТУ№5 м.Житомир 2015 маляр штукатур | H60: 3600704574 | I60: АГ366429 | J60: 0686840278 | K60: 1НР | M60: ТЦК
A61: 50 | B61: солдат | C61: Клейноцький Станіслав Олександрович | D61: Броварським РТЦК та СП у Київській обл. 04 грудня 2025 року | E61: Київська | F61: 29573 | G61: повна загальна середня, Борзнянська Середня школа №1 1997 | H61: 2957208377 | I61: АГ 164078 | J61: 0938771763 | K61: 1НР | M61: ТЦК
A62: 51 | B62: солдат | C62: Ковалинський Володимир Анатолійович | D62: Житомирським ОМТЦК та СП у Житомирській обл. 06 грудня 2025 року | E62: Житомирська | F62: 36738 | G62: професійно- технічна, ЖАДКНТУ 2021 механік | H62: 3673711618 | I62: АГ366437 | J62: 0983626303 | K62: 1НР | M62: ТЦК
A63: 52 | B63: солдат | C63: Козин Юрій Олександрович | D63: Олександрійським РТЦК та СП у Кіровоградській обл. 04 грудня 2025 року | E63: Кіровоградська | F63: 29115 | G63: вища, НПУ ім.Драгманова м.Киів 2014 Викладач права Юрист | H63: 2911408755 | I63: АГ 592276 | K63: 1НР | M63: ТЦК
A64: 53 | B64: солдат | C64: Козловський Ростислав Миколайович | D64: Хмельницьким ОМТЦК та СП у Хмельницькій обл. 04 грудня 2025 року | E64: Хмельницька область | F64: 36645 | G64: професійно- технічна, ВПУ №4 м. Хмельницький 2018 Маляр, штукатур, монтажник гіпсокартонних конструкцій | H64: 3664403611 | I64: АГ 479314 | J64: 0954552817 | K64: 1НР | M64: ТЦК
A65: 54 | B65: солдат | C65: Коломійчук Роман Геннадійович | D65: Житомирським ОМТЦК та СП у Житомирській обл. 03 грудня 2025 року | E65: Житомирська | F65: 36555 | G65: вища, Агро Технічний Коледж м.Житомир 2021р.Інженер механік | H65: 3655407234 | I65: АГ 366415 | J65: 0681120757 | K65: 1НР | M65: ТЦК
A66: 55 | B66: солдат | C66: Кондратюк Сергій Володирович | D66: Олександрійським РТЦК та СП у Кіровоградській обл. 6 грудня 2025 року | E66: Кіровоградська | F66: 33104 | G66: вища, ЄУФІМБ 2012р Інженер програміст | H66: 3310316319 | I66: АГ 592251 | J66: 0978323820 | K66: 1НР | M66: ТЦК
A67: 56 | B67: старший солдат | C67: Концевич Богдан В'ячеславович | D67: Бучанським РТЦК та СП у Київській обл. 03 грудня 2025 року | E67: Київська | F67: 32848 | G67: професійно- технічна, ПТУ№3 м.Київ 2008 машиніст | H67: 3284713951 | I67: АГ 167637 | J67: 0638246329 | K67: 1НР | M67: ТЦК
A68: 57 | B68: солдат | C68: Конюх Михайло Олександрович | D68: Чортківським РТЦК та СП в Тернопільскій обл. 03 грудня 2025 року | E68: Тернопільська | F68: 31727 | G68: професійно- технічна, ПТУ №28 смт. Буданів 2005 тракторист | H68: 3172610695 | I68: АВ 878676 | J68: 0969683064 | K68: 1НР | M68: ТЦК
A69: 58 | B69: солдат | C69: Коротков Олександр Сергійович | D69: Хмельницьким ОМТЦК та СП у Хмельницькій обл. 03 грудня 2025 року | E69: Хмельницька область | F69: 36550 | G69: професійно- технічна, Хмельницький політехнічний коледж 2018 економіст | H69: 3654907257 | I69: АГ479303 | J69: 0978832577 | K69: 1НР | M69: ТЦК
...

Sheet Settings
A1: базова загальна середня | C1: Придатний до військової служби | J1: Вінницька | K1: солдат | L1: I Rh -
A2: повна загальна середня | C2: Придатний до служби на підводних човнох, на надводних кораблях, у морській піхоті, Десантно-штурмових військах, спеціальних спорудах, підрозділах спеціального призначення | E2: Вінниця | F2: 1 відділ Хмільницький РТЦК | G2: першого відділу Хмільницького районного | H2: Вінницька | I2: Вінницького ОТЦК та СП | J2: Волинь | K2: старший солдат | L2: I Rh +
A3: професійно- технічна | C3: Придатний до служби у військових частинах забезпечення, ТЦК та СП, ВВНЗ, навчальних центрах, закладах (установах), медичних підрозділах, підрозділах логістики, зв'язку, оперативного забезпечення, охорони | E3: Вінниця | F3: 2 відділ Хмільницький РТЦК | G3: другого відділу Хмільницького районного | H3: Вінницька | I3: Вінницького ОТЦК та СП | J3: Дніпро | K3: молодший сержант | L3: II Rh -
A4: вища | E4: Вінниця | F4: 7 відділ Вінницький РТЦК | G4: сьомого відділу Вінницького районного | H4: Вінницька | I4: Вінницького ОТЦК та СП | J4: Донецьк | K4: сержант | L4: II Rh +
E5: Вінниця | F5: Вінницький ОМТЦК | G5: Вінницького об'єднаного міського | H5: Вінницька | I5: Вінницького ОТЦК та СП | J5: Житомир | K5: старший сержант | L5: III Rh -
E6: Вінниця | F6: 1 відділ Вінницький РТЦК | G6: першого відділу Вінницького районного | H6: Вінницька | I6: Вінницького ОТЦК та СП | J6: Закарпаття | K6: штаб-сержант | L6: III Rh +
E7: Вінниця | F7: 1 відділ Жмеринський РТЦК | G7: першого відділу Жмеринського районного | H7: Вінницька | I7: Вінницького ОТЦК та СП | J7: Запоріжжя | K7: матрос | L7: IV Rh -
E8: Вінниця | F8: Тульчинський РТЦК | G8: Тульчинського районного | H8: Вінницька | I8: Вінницького ОТЦК та СП | J8: Івано-Франківськ | K8: старший матрос | L8: IV Rh +
E9: Вінниця | F9: Хмільницький РТЦК | G9: Хмільницького районного | H9: Вінницька | I9: Вінницького ОТЦК та СП | J9: Київ місто | K9: старшина
E10: Вінниця | F10: 1 відділ Могилів-Подільський РТЦК | G10: першого відділу Могилів-Подільського районного | H10: Вінницька | I10: Вінницького ОТЦК та СП | J10: Київ обл | K10: старшина I статті
E11: Вінниця | F11: 1 відділ Тульчинський РТЦК | G11: першого відділу Тульчинського районного | H11: Вінницька | I11: Вінницького ОТЦК та СП | J11: Кропивницький | K11: головний старшина
E12: Вінниця | F12: 2 відділ Вінницький РТЦК | G12: другого відділу Вінницького районного | H12: Вінницька | I12: Вінницького ОТЦК та СП | J12: Луганськ | K12: прапорщик
E13: Вінниця | F13: 2 відділ Жмеринський РТЦК | G13: другого відділу Жмеринського районного | H13: Вінницька | I13: Вінницького ОТЦК та СП | J13: Львів
E14: Вінниця | F14: 2 відділ Могилів-Подільський РТЦК | G14: другого відділу Могилів-Подільського районного | H14: Вінницька | I14: Вінницького ОТЦК та СП | J14: Миколаїв
E15: Вінниця | F15: 2 відділ Тульчинський РТЦК | G15: другого відділу Тульчинського районного | H15: Вінницька | I15: Вінницького ОТЦК та СП | J15: Одеса
E16: Вінниця | F16: 3 відділ Вінницький РТЦК | G16: третього відділу Вінницького районного | H16: Вінницька | I16: Вінницького ОТЦК та СП | J16: Полтава
E17: Вінниця | F17: 3 відділ Могилів-Подільський РТЦК | G17: третього відділу Могилів-Подільського районного | H17: Вінницька | I17: Вінницького ОТЦК та СП | J17: Рівне
E18: Вінниця | F18: 3 відділ Тульчинський РТЦК | G18: третього відділу Тульчинського районного | H18: Вінницька | I18: Вінницького ОТЦК та СП | J18: Суми
E19: Вінниця | F19: 4 відділ Вінницький РТЦК | G19: четвертого відділу Вінницького районного | H19: Вінницька | I19: Вінницького ОТЦК та СП | J19: Тернопіль
E20: Вінниця | F20: 5 відділ Вінницький РТЦК | G20: п'ятого відділу Вінницького районного | H20: Вінницька | I20: Вінницького ОТЦК та СП | J20: Харків
E21: Вінниця | F21: 6 відділ Вінницький РТЦК | G21: шостого відділу Вінницького районного | H21: Вінницька | I21: Вінницького ОТЦК та СП | J21: Херсон
E22: Вінниця | F22: Вінницький РТЦК | G22: Вінницького районного | H22: Вінницька | I22: Вінницького ОТЦК та СП | J22: Хмельницький
E23: Вінниця | F23: Гайсинський РТЦК | G23: Гайсинського районного | H23: Вінницька | I23: Вінницького ОТЦК та СП | J23: Черкаси
E24: Вінниця | F24: 1 відділ Гайсинський РТЦК | G24: першого відділу Гайсинського районного | H24: Вінницька | I24: Вінницького ОТЦК та СП | J24: Чернівці
E25: Вінниця | F25: 2 відділ Гайсинський РТЦК | G25: другого відділу Гайсинського районного | H25: Вінницька | I25: Вінницького ОТЦК та СП | J25: Чернігів
E26: Вінниця | F26: Жмеринський РТЦК | G26: Жмеринського районного | H26: Вінницька | I26: Вінницького ОТЦК та СП
E27: Вінниця | F27: Могилів-Подільський РТЦК | G27: Могилів-Подільського районного | H27: Вінницька | I27: Вінницького ОТЦК та СП
E28: Волинь | F28: 1 відділ Камінь-Каширський РТЦК | G28: першого відділу Камінь-Каширського районного | H28: Волинська | I28: Волинського ОТЦК та СП
E29: Волинь | F29: 1 відділ Ковельський РТЦК | G29: першого відділу Ковельського районного | H29: Волинська | I29: Волинського ОТЦК та СП
E30: Волинь | F30: 2 відділ Ковельський РТЦК | G30: другого відділу Ковельського районного | H30: Волинська | I30: Волинського ОТЦК та СП
E31: Волинь | F31: 4 відділ Ковельський РТЦК | G31: четвертого відділу Ковельського районного | H31: Волинська | I31: Волинського ОТЦК та СП
E32: Волинь | F32: 3 відділ Ковельський РТЦК | G32: третього відділу Ковельського районного | H32: Волинська | I32: Волинського ОТЦК та СП
E33: Волинь | F33: 5 відділ Ковельський РТЦК | G33: п'ятого відділу Ковельського районного | H33: Волинська | I33: Волинського ОТЦК та СП
E34: Волинь | F34: Луцький ОМТЦК | G34: Луцького об'єднаного міського | H34: Волинська | I34: Волинського ОТЦК та СП
E35: Волинь | F35: 2 відділ Камінь-Каширський РТЦК | G35: другого відділу Камінь-Каширського районного | H35: Волинська | I35: Волинського ОТЦК та СП
E36: Волинь | F36: 1 відділ Луцький РТЦК | G36: першого відділу Луцького районного | H36: Волинська | I36: Волинського ОТЦК та СП
E37: Волинь | F37: 2 відділ Луцький РТЦК | G37: другого відділу Луцького районного | H37: Волинська | I37: Волинського ОТЦК та СП
... E56: Дніпро | F56: 2 відділ Дніпровського РТЦК та СП | G56: другого відділу Дніпровського районного | H56: Дніпропетровська | I56: Дніпропетровського ОТЦК та СП
D57: міста Дніпра | E57: Дніпро | F57: Дніпровський РТЦК та СП | G57: Дніпровського районного | H57: Дніпропетровська | I57: Дніпропетровського ОТЦК та СП
D58: міста Дніпра | E58: Дніпро | F58: Індустріальний РТЦК та СП | G58: Індустріального районного | H58: Дніпропетровська | I58: Дніпропетровського ОТЦК та СП
...

Sheet перевірки
C1: =Основний!C11 -> 0
C2: =Основний!C12 -> Алікін Ігор Валерійович | E2: =C2=G2 -> FALSE | F2: солдат | G2: Буховський Леонід Валентинович | H2: Житомирська обл. м.Житомир | I2: Житомирська обл. м.Житомир вул.Вільський Шлях 101 | J2: професійно- технічна | K2: ПТУ№5 м.Житомир 1996 | L2: Столяр 2 роки | M2: мати: Буховська Валентина Аркадівна -1954- 0962586509 - Житомирська обл. м.Житомир вул.Вільський Шлях 101 брат: Буховський Віталій Валентинович -1975- 0967667335 - Житомирська обл. м.Житомир вул.Вільський Шлях 101 | N2: 0980147147
C3: =Основний!C13 -> Андрійченко Павло Валентинович | E3: =C3=G3 -> FALSE | F3: солдат | G3: Ворона Валерій Павлович | H3: Черкаська обл. с.Явонівка | I3: Київська обл. м.Буча вул.Амосова 4 кв 30 | J3: професійно- технічна | K3: ПТУ№13 м.Сміла 2015 маляр-штукатур | L3: Будівельник 5 років Права Б | M3: дружина: Ворона Вікторія Ігорівна -1997- 0966920138 - Київська обл. м.Буча вул.Амосова 4 кв 30 мати: Ворона Наталія Юхимівна -1977- 0989265328 - Черкаська обл. с.Дацьке вул.Лугова 26 | N3: 0980326466
C4: =Основний!C14 -> Балега Сергій Андрійович | E4: =C4=G4 -> FALSE | F4: солдат | G4: Главацький Олександр Вікторович | H4: с.Степівка Деражнянський р-н Хмельницька обл. | I4: с.Степівка вул.Дружби 62 Деражнянський р-н Хмельницька обл. | J4: професійно- технічна | K4: ПТУ | L4: не працював | M4: неодружений мати:Главацька Ірина Василівна -1976-0973874557-с.Степівка вул.Дружби 62 Деражнянський р-н Хмельницька обл. двоюрідна Сестра;Назарова Дарина Вікторівна -0684944220-с.Степівка вул.Дружби 62 Деражнянський р-н Хмельницька обл. | N4: 0681244550
C5: =Основний!C15 -> Безверхий Микола Олександрович | E5: =C5=G5 -> FALSE | F5: солдат | G5: Глущак Ігор Васильович | H5: Вінницька обл. с.Сугаки | I5: Вінницька обл. с.Сугаки вул.Леніна 13 | J5: вища | K5: Вінницький національний аграрний університет 2023 тваринництво | L5: оператор елеватора 4 роки | M5: мати: Глущак Любов Степанівна -1974- 0686018922 - Вінницька обл. с.Сугаки вул.Леніна 13 батько: Глущак Василь Петрович -1972- 0687234106 -Вінницька обл. с.Сугаки вул.Леніна 13 | N5: 0979201201
C6: =Основний!C16 -> Бендковський Сергій Андрійович | E6: =C6=G6 -> FALSE | F6: старший сержант | G6: Голосовський Дмитро Олександрович | H6: Росія, М.Сант Петербург. | I6: М.Кривий-Ріг, вул. Чорнобривців 61. | J6: професійно- технічна | K6: ПТУ №45 м. Кривий-Ріг 1996 електрозварник | L6: зварювальнтк 2 роки, права Б | M6: мати: Голосовська Ольга Миколаївна - 1948 - 0962338208 - М.Кривий-Ріг, вул. Чорнобривців 61. сестра: Скрипник Наталія Олександрівна - 1982 - 0979321079 - М.Кривий-Ріг, вул. Чорнобривців 118. | N6: 0980077090
C7: =Основний!C17 -> Береза Віктор Васильович | E7: =C7=G7 -> FALSE | F7: солдат | G7: Домброва Володимир Ярославович | H7: Київська обл. м. Обухів. | I7: Київська обл. м. Обухів, вул Київська 109, кв. 15. | J7: вища | K7: м. Київ, Університет Україна, 2021, Автомобільний Транспорт | L7: Нова Пошта, Укладальник пакувальник, 1 рік, права А,А1, Б | M7: мати: Домброва Людмила Михалівна - 1970 - 0631814208 - Київська обл. м. Обухів, вул Київська 109, кв. 15. брат:Постол Віталій Михайлович - 1991 - 0969507753 - Київська обл. м. Обухів. | N7: 0660031239
C8: =Основний!C18 -> Бєднов Максим Олександрович | E8: =C8=G8 -> FALSE | F8: солдат | G8: Єрмаков Олександр Валерійович | H8: Київська обл. с.Ксаверівка | I8: Київська обл. с.Коцюбинське вул.Меблева 2 кв 1 | J8: професійно- технічна | K8: ВПУ №45 м.Київ 1998 продавець | L8: кладовщик 1 рік | M8: не має | N8: 0689604699
C9: =Основний!C19 -> Бойко Денис Андрійович | E9: =C9=G9 -> FALSE | F9: солдат | G9: Житник Максим Володимирович | H9: Київська обл. Переяслів-Хмельницький район. С. Студеники, вул Студениківська 26. | I9: м. Хмельницьк, вул. Молодіжна 2\1д. | J9: професійно- технічна | K9: ПТУ №22 м. Переяслів-Хмельницький, 2017, зварювалбнтк | L9: водопровідник 5 років. | M9: брат: Житник Павло Володимирович - 1985 - 0689771618 - Київська обл. Переяслів-Хмельницький район. С. Студеники, вул Озерна. матір: Житник Лідія Леонідівна - 1962 - 0962605185 - Київська обл. Переяслів-Хмельницький район. С. Студеники, вул Студениківська 26. | N9: 0506026412
C10: =Основний!C20 -> Буга Іван Іванович | E10: =C10=G10 -> FALSE | F10: солдат | G10: Зеленов Артем Олександрович | H10: Дніпропетровська обл. м.Кам'янське | I10: Київська обл. с.Горенич вул.Гайдая 6 кв 28 | J10: професійно- технічна | K10: ПТУ№26 м.Кам'янське 2005 автослюсар | L10: Водія навантажувача 2 роки Права Б,С | M10: дружина: Бельговська Вероніка Русланівна -1996- 0986773868 - Київська обл. с.Горенич вул.Гайдая 6 кв 28 мати: Перетятько Наталія Іванівна -1968- +48731927796 Польша м.Варшава | N10: 0680576727
C11: =Основний!C21 -> Бур'ян Євгеній Юрійович | E11: =C11=G11 -> FALSE | F11: солдат | G11: Злачевський Сергій Миколайович | H11: Кіровоградська обл.м.Помічна | I11: м.Житомир вул.Довженка 4 кв 2 | J11: вища | K11: Кіровоградський державний педагогічний університет ім.Винниченка 2000 спеціаліст фізичного виховання і спорту | L11: монтажник натяжних стель 4 роки, права Б. | M11: одружений дружина:Злачевська Юлія Вячеславівна -1977-0974851867-м.Житомир вул.Довженка 4 кв 2 мати;Злачевська Ніна Федорівна-1954-0673384890-Кіровоградська обл.м.Помічна вул.Небеснои Сотні 213 кв 15 | N11: 0969093375
C12: =Основний!C22 -> Бурбелко Юрій Володимирович | E12: =C12=G12 -> FALSE | F12: солдат | G12: Іщенко Руслан Олександрович | H12: м.Кропинвицький | I12: м.Кропивницький вул.Гоголя 26 кв 22 | J12: вища | K12: Кіровоградський національний технічний університет 2016р.Інженер будівельник | L12: Продавець консультант непродовольчих товарів 6 місяців | M12: неодружений батько;Іщенко Олександр Владиславович -1965р-0969523816-м.Киів мати;Іщенко Світлана Сергіівна -1970-0500222466-Кіровоградська обл.смт Капітанівка вул.Смілянська 50 | N12: 0506401321
C13: =Основний!C23 -> Буткевич Олександр Вікторович | E13: =C13=G13 -> FALSE | F13: солдат | G13: Коломійчук Роман Геннадійович | H13: м.Житромир | I13: м.Житомир вул.Космонавтів 14 кв 69 | J13: вища | K13: Агро Технічний Коледж м.Житомир 2021р.Інженер механік | L13: водій 3 міс.Права Б С | M13: неодружений батько;Коломійчук Генадій Васильович -1973-0672709255-м.Житомир вул.Вітрука 29кв 98 кум:Багінський Андрій Віталійович -2000-0635996794-м.Житомир вул.Гоголівська 96 кв 18 | N13: 0681120757
... C36: =Основний!C46 -> Динька Дмитро Олександрович | E36: =C36=G36 -> FALSE | F36: солдат | G36: Яценко Віктор Вікторович | H36: Черкаська обл. с.Вергуни | I36: Черкаська обл. с.Вергуни вул.Св'ятотроїцька 94 | J36: професійно- технічна | K36: ПТУ№13 м.Черкаси 2010 слюсар-електрик | L36: Транспортувальник 13 років | M36: дружина: Яценко Світлана Сергіївна -1991- 0685053810 - м.Черкаси вул.Гоголя 580/1 кв 110 мати: Яценко Вікторія Дмитрівна -1972- 0963904177 - Черкаська обл. с.Вергуни вул.Св'ятотроїцька 94 | N36: 0984800263
C37: =Основний!C47 -> Домброва Володимир Ярославович | E37: =C37=G37 -> FALSE
C38: =Основний!C48 -> Донець Віталій Петрович | E38: =C38=G38 -> FALSE
C39: =Основний!C49 -> Дрозд Ігор Анатолійович | E39: =C39=G39 -> FALSE
C40: =Основний!C50 -> Єрмаков Олександр Валерійович | E40: =C40=G40 -> FALSE
C41: =Основний!C51 -> Житник Максим Володимирович | E41: =C41=G41 -> FALSE
C42: =Основний!C52 -> Зеленов Артем Олександрович | E42: =C42=G42 -> FALSE
C43: =Основний!C53 -> Зелінський Микола Васильович | E43: =C43=G43 -> FALSE
C44: =Основний!C54 -> Іванов Василь Іванович | E44: =C44=G44 -> FALSE
C45: =Основний!C55 -> Іщенко Руслан Олександрович | E45: =C45=G45 -> FALSE
C46: =Основний!C56 -> Капарчук Олег Іванович | E46: =C46=G46 -> FALSE
C47: =Основний!C57 -> Карташов Вячеслав Васильович | E47: =C47=G47 -> FALSE
C48: =Основний!C58 -> Карташов Дмитро Володимирович | E48: =C48=G48 -> FALSE
... C93: =Основний!C103 -> Мельник Сергій Вікторович | E93: =C93=G93 -> FALSE
C94: =Основний!C104 -> Милостивий Андрій Вікторович
C95: =Основний!C105 -> Миненко Іван Миколайович
C96: =Основний!C106 -> Мокрицький Сергій Володимирович
C97: =Основний!C107 -> Моря Сергій Анатолійович
C98: =Основний!C108 -> Мунька Роман Володимирович
C99: =Основний!C109 -> Муха Сергій Васильович
C100: =Основний!C110 -> Назарко Степан Юрійович
C101: =Основний!C111 -> Небелиця Роман Віталійович
C102: =Основний!C112 -> Недбальський Дмитро Анатолійович
C103: =Основний!C113 -> Овсієнко Олександр Анатолійович
C104: =Основний!C114 -> Омельченко Микола Миколайович
C105: =Основний!C115 -> Омельчук Олександр Володимирович
C106: =Основний!C116 -> Орленко Олексій Юрійович

Sheet Перевірка
A1: {=Основний!A10:A179} -> № з/п | B1: {=CONCATENATE("", Основний!C10:C179)} -> 168 | C1: {=CONCATENATE("", TEXT(Основний!F10:F179,"dd.mm.yyyy"))} -> Дата народження | D1: {=CONCATENATE("", Основний!H10:H179)} -> ідентифікаційний код | E1: Перевірка | F1: {=CONCATENATE("", Основний!I10:I179)} -> військовий квиток | G1: Перевірка | H1: {=CONCATENATE("", Основний!#REF!)} -> #REF! | I1: Перевірка | J1: Алфавітка | K1: Д = А | L1: Поіменний Список | M1: Д = ПС | N1: А = ПС
A2: 0 | C2: 00.01.1900 | J2: - | K2: - | L2: - | M2: - | N2: - | O2: =DATEVALUE(C2) <> INT(LEFT(D2,5)) +1 -> #VALUE!
A3: 1 | B3: Алікін Ігор Валерійович | C3: 24.11.1979 | D3: 2918214695 | E3: =IF(D3="", "", LEN(D3)) -> 10 | F3: АГ 628967 | G3: =IF(F3="", "", LEN(F3)) -> 9 | I3: =IF(H3="", "", LEN(H3)) | J3: Антоненко Руслан Олександрович | K3: =IF(J3="", "", B3=J3) -> FALSE | M3: =IF(L3="", "", B3=L3) | N3: =IF(L3="", "", J3=L3) | O3: =DATEVALUE(C3) <> INT(LEFT(D3,5)) +1 -> FALSE | P3: =DATEVALUE(C3) -> 29183
A4: 2 | B4: Андрійченко Павло Валентинович | C4: 18.08.1998 | D4: 3602408693 | E4: =IF(D4="", "", LEN(D4)) -> 10 | F4: АГ 486424 | G4: =IF(F4="", "", LEN(F4)) -> 9 | I4: =IF(H4="", "", LEN(H4)) | J4: Баранов Дмитро Геннадійович | K4: =IF(J4="", "", B4=J4) -> FALSE | M4: =IF(L4="", "", B4=L4) | N4: =IF(L4="", "", J4=L4) | O4: =DATEVALUE(C4) <> INT(LEFT(D4,5)) +1 -> FALSE
A5: 3 | B5: Балега Сергій Андрійович | C5: 15.12.1993 | D5: 3431710992 | E5: =IF(D5="", "", LEN(D5)) -> 10 | F5: АГ 486405 | G5: =IF(F5="", "", LEN(F5)) -> 9 | I5: =IF(H5="", "", LEN(H5)) | J5: Боровик Юрій Володимирович | K5: =IF(J5="", "", B5=J5) -> FALSE | M5: =IF(L5="", "", B5=L5) | N5: =IF(L5="", "", J5=L5) | O5: =DATEVALUE(C5) <> INT(LEFT(D5,5)) +1 -> FALSE
A6: 4 | B6: Безверхий Микола Олександрович | C6: 13.06.1987 | D6: 3194014372 | E6: =IF(D6="", "", LEN(D6)) -> 10 | F6: СО 048189 | G6: =IF(F6="", "", LEN(F6)) -> 9 | I6: =IF(H6="", "", LEN(H6)) | J6: Горбатенко Олександр Олегович | K6: =IF(J6="", "", B6=J6) -> FALSE | M6: =IF(L6="", "", B6=L6) | N6: =IF(L6="", "", J6=L6)
A7: 5 | B7: Бендковський Сергій Андрійович | C7: 14.08.1993 | D7: 3419405456 | E7: =IF(D7="", "", LEN(D7)) -> 10 | F7: АГ 480921 | G7: =IF(F7="", "", LEN(F7)) -> 9 | I7: =IF(H7="", "", LEN(H7)) | J7: Жестовський Сергій Сергійович | K7: =IF(J7="", "", B7=J7) -> FALSE | M7: =IF(L7="", "", B7=L7) | N7: =IF(L7="", "", J7=L7)
A8: 6 | B8: Береза Віктор Васильович | C8: 31.07.1989 | D8: 3271921475 | E8: =IF(D8="", "", LEN(D8)) -> 10 | F8: АГ 479322 | G8: =IF(F8="", "", LEN(F8)) -> 9 | I8: =IF(H8="", "", LEN(H8)) | J8: Ісаков Олександр Сергійович | K8: =IF(J8="", "", B8=J8) -> FALSE | M8: =IF(L8="", "", B8=L8) | N8: =IF(L8="", "", J8=L8)
A9: 7 | B9: Бєднов Максим Олександрович | C9: 16.12.1986 | D9: 3176100554 | E9: =IF(D9="", "", LEN(D9)) -> 10 | F9: АГ 167772 | G9: =IF(F9="", "", LEN(F9)) -> 9 | I9: =IF(H9="", "", LEN(H9)) | J9: Клімчук Олександр Олександрович | K9: =IF(J9="", "", B9=J9) -> FALSE | M9: =IF(L9="", "", B9=L9) | N9: =IF(L9="", "", J9=L9)
A10: 8 | B10: Бойко Денис Андрійович | C10: 26.05.1993 | D10: 3411407798 | E10: =IF(D10="", "", LEN(D10)) -> 10 | F10: АГ167778 | G10: =IF(F10="", "", LEN(F10)) -> 8 | I10: =IF(H10="", "", LEN(H10)) | J10: Колесніков Сергій Сергійович | K10: =IF(J10="", "", B10=J10) -> FALSE | M10: =IF(L10="", "", B10=L10) | N10: =IF(L10="", "", J10=L10)
A11: 9 | B11: Буга Іван Іванович | C11: 08.01.1988 | D11: 3214909813 | E11: =IF(D11="", "", LEN(D11)) -> 10 | F11: АГ 481580 | G11: =IF(F11="", "", LEN(F11)) -> 9 | I11: =IF(H11="", "", LEN(H11)) | J11: Опанасюк Ігор Петрович | K11: =IF(J11="", "", B11=J11) -> FALSE | M11: =IF(L11="", "", B11=L11) | N11: =IF(L11="", "", J11=L11)
A12: 10 | B12: Бур'ян Євгеній Юрійович | C12: 04.01.1999 | D12: 3616310470 | E12: =IF(D12="", "", LEN(D12)) -> 10 | F12: АГ 167647 | G12: =IF(F12="", "", LEN(F12)) -> 9 | I12: =IF(H12="", "", LEN(H12)) | J12: Ручин Дмитро Вікторович | K12: =IF(J12="", "", B12=J12) -> FALSE | M12: =IF(L12="", "", B12=L12) | N12: =IF(L12="", "", J12=L12)
A13: 11 | B13: Бурбелко Юрій Володимирович | C13: 22.04.1991 | D13: 3334902513 | E13: =IF(D13="", "", LEN(D13)) -> 10 | F13: АГ488462 | G13: =IF(F13="", "", LEN(F13)) -> 8 | I13: =IF(H13="", "", LEN(H13)) | J13: Солоденко Анатолій Сергійович | K13: =IF(J13="", "", B13=J13) -> FALSE | M13: =IF(L13="", "", B13=L13) | N13: =IF(L13="", "", J13=L13)
A14: 12 | B14: Буткевич Олександр Вікторович | C14: 05.01.1994 | D14: 3433805653 | E14: =IF(D14="", "", LEN(D14)) -> 10 | F14: АГ 482090 | G14: =IF(F14="", "", LEN(F14)) -> 9 | I14: =IF(H14="", "", LEN(H14)) | J14: Фістікан Василь Петрович | K14: =IF(J14="", "", B14=J14) -> FALSE | M14: =IF(L14="", "", B14=L14) | N14: =IF(L14="", "", J14=L14)
A15: 13 | B15: Буховський Леонід Валентинович | C15: 21.09.1979 | D15: 2911812013 | E15: =IF(D15="", "", LEN(D15)) -> 10 | F15: АГ366416 | G15: =IF(F15="", "", LEN(F15)) -> 8 | I15: =IF(H15="", "", LEN(H15)) | J15: Чабан Михайло Григорович | K15: =IF(J15="", "", B15=J15) -> FALSE | M15: =IF(L15="", "", B15=L15) | N15: =IF(L15="", "", J15=L15)
A16: 14 | B16: Василишин Михайло Васильович | C16: 25.11.1979 | D16: 2918303531 | E16: =IF(D16="", "", LEN(D16)) -> 10 | F16: АВ 880534 | G16: =IF(F16="", "", LEN(F16)) -> 9 | I16: =IF(H16="", "", LEN(H16)) | K16: =IF(J16="", "", B16=J16) | M16: =IF(L16="", "", B16=L16) | N16: =IF(L16="", "", J16=L16)
A17: 15 | B17: Вдовиченко Дмитро Васильович | C17: 09.02.1992 | D17: 3364211033 | E17: =IF(D17="", "", LEN(D17)) -> 10 | F17: АГ 167792 | G17: =IF(F17="", "", LEN(F17)) -> 9 | I17: =IF(H17="", "", LEN(H17)) | K17: =IF(J17="", "", B17=J17) | M17: =IF(L17="", "", B17=L17) | N17: =IF(L17="", "", J17=L17)
A18: 16 | B18: Вержанський Віталій Анатолійович | C18: 30.05.1998 | D18: 3594412331 | E18: =IF(D18="", "", LEN(D18)) -> 10 | F18: АГ 366430 | G18: =IF(F18="", "", LEN(F18)) -> 9 | I18: =IF(H18="", "", LEN(H18)) | K18: =IF(J18="", "", B18=J18) | M18: =IF(L18="", "", B18=L18) | N18: =IF(L18="", "", J18=L18)
A19: 17 | B19: Вистороп Віталій Миколайович | C19: 20.08.1978 | D19: 2872303676 | E19: =IF(D19="", "", LEN(D19)) -> 10 | F19: АГ 167653 | G19: =IF(F19="", "", LEN(F19)) -> 9 | I19: =IF(H19="", "", LEN(H19)) | K19: =IF(J19="", "", B19=J19) | M19: =IF(L19="", "", B19=L19) | N19: =IF(L19="", "", J19=L19)
A20: 18 | B20: Вісленко Володимир Васильович | C20: 03.02.1977 | D20: 2815801251 | E20: =IF(D20="", "", LEN(D20)) -> 10 | F20: АГ 167783 | G20: =IF(F20="", "", LEN(F20)) -> 9 | I20: =IF(H20="", "", LEN(H20)) | K20: =IF(J20="", "", B20=J20) | M20: =IF(L20="", "", B20=L20) | N20: =IF(L20="", "", J20=L20)
A21: 19 | B21: Войтюк Андрій Віталійович | C21: 25.04.1986 | D21: 3152619590 | E21: =IF(D21="", "", LEN(D21)) -> 10 | F21: АГ480877 | G21: =IF(F21="", "", LEN(F21)) -> 8 | I21: =IF(H21="", "", LEN(H21)) | K21: =IF(J21="", "", B21=J21) | M21: =IF(L21="", "", B21=L21) | N21: =IF(L21="", "", J21=L21)
A22: 20 | B22: Войтюк Олександр Михайлович | C22: 19.08.1986 | D22: 3164222753 | E22: =IF(D22="", "", LEN(D22)) -> 10 | F22: СО 286017 | G22: =IF(F22="", "", LEN(F22)) -> 9 | I22: =IF(H22="", "", LEN(H22)) | K22: =IF(J22="", "", B22=J22) | M22: =IF(L22="", "", B22=L22) | N22: =IF(L22="", "", J22=L22)
A23: 21 | B23: Волковінський Анатолій Васильович | C23: 16.03.1995 | D23: 3477301797 | E23: =IF(D23="", "", LEN(D23)) -> 10 | F23: АГ 402715 | G23: =IF(F23="", "", LEN(F23)) -> 9 | I23: =IF(H23="", "", LEN(H23)) | K23: =IF(J23="", "", B23=J23) | M23: =IF(L23="", "", B23=L23) | N23: =IF(L23="", "", J23=L23)
A24: 22 | B24: Воловенко Андрій Володимирович | C24: 23.06.1995 | D24: 3487211117 | E24: =IF(D24="", "", LEN(D24)) -> 10 | F24: АВ 160801 | G24: =IF(F24="", "", LEN(F24)) -> 9 | I24: =IF(H24="", "", LEN(H24)) | K24: =IF(J24="", "", B24=J24) | M24: =IF(L24="", "", B24=L24) | N24: =IF(L24="", "", J24=L24)
A25: 23 | B25: Волосовський Артур Сергійович | C25: 06.08.1995 | D25: 3491613351 | E25: =IF(D25="", "", LEN(D25)) -> 10 | F25: АГ 366444 | G25: =IF(F25="", "", LEN(F25)) -> 9 | I25: =IF(H25="", "", LEN(H25)) | K25: =IF(J25="", "", B25=J25) | M25: =IF(L25="", "", B25=L25) | N25: =IF(L25="", "", J25=L25)
A26: 24 | B26: Ворона Валерій Павлович | C26: 23.12.1996 | D26: 3542111894 | E26: =IF(D26="", "", LEN(D26)) -> 10 | F26: АГ 167764 | G26: =IF(F26="", "", LEN(F26)) -> 9 | I26: =IF(H26="", "", LEN(H26)) | K26: =IF(J26="", "", B26=J26) | M26: =IF(L26="", "", B26=L26) | N26: =IF(L26="", "", J26=L26)
A27: 25 | B27: Гарасимів Володимир Борисович | C27: 20.06.1996 | D27: 3523506614 | E27: =IF(D27="", "", LEN(D27)) -> 10 | F27: МО 719238 | G27: =IF(F27="", "", LEN(F27)) -> 9 | I27: =IF(H27="", "", LEN(H27)) | K27: =IF(J27="", "", B27=J27) | M27: =IF(L27="", "", B27=L27) | N27: =IF(L27="", "", J27=L27)
... A170: 168 | B170: Яценко Віктор Вікторович | C170: 26.02.1992 | D170: 3365906996 | E170: =IF(D170="", "", LEN(D170)) -> 10 | F170: АГ612523 | G170: =IF(F170="", "", LEN(F170)) -> 8 | I170: =IF(H170="", "", LEN(H170)) | K170: =IF(J170="", "", B170=J170) | M170: =IF(L170="", "", B170=L170) | N170: =IF(L170="", "", J170=L170)
E171: =IF(D171="", "", LEN(D171)) | G171: =IF(F171="", "", LEN(F171)) | I171: =IF(H171="", "", LEN(H171)) | K171: =IF(J171="", "", B171=J171) | M171: =IF(L171="", "", B171=L171) | N171: =IF(L171="", "", J171=L171)
E172: =IF(D172="", "", LEN(D172)) | G172: =IF(F172="", "", LEN(F172)) | I172: =IF(H172="", "", LEN(H172)) | K172: =IF(J172="", "", B172=J172) | M172: =IF(L172="", "", B172=L172) | N172: =IF(L172="", "", J172=L172)
E173: =IF(D173="", "", LEN(D173)) | G173: =IF(F173="", "", LEN(F173)) | I173: =IF(H173="", "", LEN(H173)) | K173: =IF(J173="", "", B173=J173) | M173: =IF(L173="", "", B173=L173) | N173: =IF(L173="", "", J173=L173)
E174: =IF(D174="", "", LEN(D174)) | G174: =IF(F174="", "", LEN(F174)) | I174: =IF(H174="", "", LEN(H174)) | K174: =IF(J174="", "", B174=J174) | M174: =IF(L174="", "", B174=L174) | N174: =IF(L174="", "", J174=L174)
E175: =IF(D175="", "", LEN(D175)) | G175: =IF(F175="", "", LEN(F175)) | I175: =IF(H175="", "", LEN(H175)) | K175: =IF(J175="", "", B175=J175) | M175: =IF(L175="", "", B175=L175) | N175: =IF(L175="", "", J175=L175)
E176: =IF(D176="", "", LEN(D176)) | G176: =IF(F176="", "", LEN(F176)) | I176: =IF(H176="", "", LEN(H176)) | K176: =IF(J176="", "", B176=J176) | M176: =IF(L176="", "", B176=L176) | N176: =IF(L176="", "", J176=L176)
E177: =IF(D177="", "", LEN(D177)) | G177: =IF(F177="", "", LEN(F177)) | I177: =IF(H177="", "", LEN(H177)) | K177: =IF(J177="", "", B177=J177) | M177: =IF(L177="", "", B177=L177) | N177: =IF(L177="", "", J177=L177)
E178: =IF(D178="", "", LEN(D178)) | G178: =IF(F178="", "", LEN(F178)) | I178: =IF(H178="", "", LEN(H178)) | K178: =IF(J178="", "", B178=J178) | M178: =IF(L178="", "", B178=L178) | N178: =IF(L178="", "", J178=L178)
E179: =IF(D179="", "", LEN(D179)) | G179: =IF(F179="", "", LEN(F179)) | I179: =IF(H179="", "", LEN(H179)) | K179: =IF(J179="", "", B179=J179) | M179: =IF(L179="", "", B179=L179) | N179: =IF(L179="", "", J179=L179)
E180: =IF(D180="", "", LEN(D180)) | G180: =IF(F180="", "", LEN(F180)) | I180: =IF(H180="", "", LEN(H180)) | K180: =IF(J180="", "", B180=J180) | M180: =IF(L180="", "", B180=L180) | N180: =IF(L180="", "", J180=L180)
E181: =IF(D181="", "", LEN(D181)) | G181: =IF(F181="", "", LEN(F181)) | I181: =IF(H181="", "", LEN(H181)) | K181: =IF(J181="", "", B181=J181) | M181: =IF(L181="", "", B181=L181) | N181: =IF(L181="", "", J181=L181)
E182: =IF(D182="", "", LEN(D182)) | G182: =IF(F182="", "", LEN(F182)) | I182: =IF(H182="", "", LEN(H182)) | K182: =IF(J182="", "", B182=J182) | M182: =IF(L182="", "", B182=L182) | N182: =IF(L182="", "", J182=L182)
...

Sheet Аркуш1
C2: `=MOD(MOD(-MID(D2;1;1) + MID(D2;2;1)*5 + MID(D2;3;1)*7 + MID(D2;4;1)*9 + MID(D2;5;1)*4 + MID(D2;6;1)*6 + MID(D2;7;1)*10 + MID(D2;8;1)*5 + MID(D2;9;1)*7; 11);10) <> VALUE( MID(D2;10;1))
C6: `=DATEVALUE( C2) <> INT(LEFT(D2;5)) +1

Sheet Алфавітки
A1: № з/п | B1: В/звання | D1: Місце народження | E1: адреса (фактична) | F1: Освіта | G1: склад сім’ї | H1: № телефону
A2: 1 | B2: солдат | C2: Антоненко Руслан Олександрович | D2: Миколаївська обл. Миколаївський р-н, с. Весняне | E2: м. Миколаїв вул. Айвазовського буд. 6 кв. 809-809 | F2: середня-спеціальна, ПТУ №1 м. Миколаїв 2005 судобудівельник, зварювальник (права категорії Б, ФОП Парус, будівельник 18р.) | G2: Розлучений Мати: Калага Лідія Миронівна, м. Миколаїв вул. Айвазовського буд. 6 кв. 809-809, 0663420925 | H2: 660263238
A3: 8 | B3: солдат | C3: Баранов Дмитро Генащдійович | D3: с. Кірове Базарський р-н Херсонської обл. | E3: Херсонської обл. Базарський р-н, с. Олександрівка вул. Мельнична 5 | F3: середньо-спеціальна Судобудівельний ліцей 2018р. Зварювальник Содозбірник (Категорія прав Б, С1, С, СЕ, далекобійник 4р.) | G3: неодружений Батько: Баранов Генадій Анатолійович Херсонської обл. Базарський р-н, с. Олександрівка вул. Мельнична 5, тел. 0668290286 | H3: 505059149
A4: 12 | B4: солдат | C4: Боровик Юрій Володимирович | D4: м. Миколаїв | E4: м. Миколаїв вул. Восьма Лінія буд. 68 | F4: середньо-спеціальна Теплодарський професійний ліцей 2011р. Кухар (категорія прав Б, автоелектрик 1р) | G4: цивільний шлюб Цивільна дружина: Голубченко Юлія Вадимівна, м. Миколаїв вул. Восьма Лінія буд. 68, тел. 0950975840 | H4: 993803701
A5: 7 | B5: солдат | C5: Горбатенко Олександр Олегович | D5: м. Миколаїв | E5: м. Миколаїв вул. Архітектора Староба 3 кв.1 | F5: повна середня ЗОШ № 64 2009р.(кухар 7р) | G5: неодружений Бабуся: Горбатенко Людмила Іванівна м. Миколаїв вул. Архітектора Староба 6б кв. 24, тел. 0966366295 | H5: 677153559
A6: 4 | B6: солдат | C6: Жестовський Сергій Сергійович | D6: Миколаївська обл. Первомайський р-н, с. Новопавлівка | E6: Миколаївська обл. Первомайський р-н, с. Новопавлівка вул. Роднікова 18 | F6: середньо-спеціальна Одеський професійний ліцей морського транспорту 2008р. електрозварювальник (категорія прав Б, Будівельник 2р.) | G6: Одружений Дружина: Жестовська Ірина Анатоліївна Миколаївська обл. Первомайський р-н, с. Новопавлівка вул. Роднікова 18, 0974890880 | H6: 683977036
A7: 6 | B7: солдат | C7: Ісаков Олександ Сергійович | D7: Кропивницька обл. Новоархангельський р-н с. Скалівські Хутори | E7: Миколаївська обл. Баштанський р-н с. Поляне, вул. Садова, буд. 22 | F7: середньо-спеціальна ЧПБЛ №4 2013р. Маляр-штукатур (Фермерське господарство немировський) | G7: Одружений Дружина: Ісакова Оксана Миколаївна, Миколаївська обл. Баштанський р-н с. Поляне, вул. Садова, буд. 22, тел. 0988180989 | H7: 682269805
A8: 13 | B8: солдат | C8: Клімчкук Олександ Олександрович | D8: Вінницька обл. Хмільницький р-н, смт Бродецьке | E8: Вінницька обл. Хмільницький р-н, смт Бродецьке вул. Першотравнева 72 | F8: повна середня ЗОШ смт. Бродецьке 2007р. (Мясний мультикомплекс транспортувальник 1р.) | G8: одружений Дружина: Клімчук Алла Вадимівна, Вінницька обл. Хмільницький р-н, смт Бродецьке вул. Першотравнева 72, тел. 0631960845 | H8: 990631915
A9: 9 | B9: солдат | C9: Колесніков Сергій Сергійович | D9: с. Балтазарівка Чуплинський р-н, Херсонської обл. | E9: Микорлаївська обл. м. Первомайськ вул. Марія Демченка 33 | F9: середньо-спеціальна Електротехнічний ліцей №7 2013р.електрогазозварювальник (пожежний рятувальник 3р.) | G9: одружений Дружина: Колеснікова Ганна Миколаївна, Микорлаївська обл. м. Первомайськ вул. Марія Демченка 33, тел. 0683767312 | H9: 956741071
A10: 3 | B10: солдат | C10: Опанасюк Ігор Перрович | D10: Миколаївська обл. м. Новий Буг | E10: Миколаївська обл. Новобузький р-н с. Нова Хрестофорівка буд. 65 | F10: середньо-спеціальна Новобузький аграрний професійний ліцей 2013р. (права категорії Б, С, СЕ, Фермерське господарство Орбіта Водій) | G10: Розлучений Мати: Опанасюк Валентина Ігорівна, Миколаївська обл. Новобузький р-н с. Нова Хрестофорівка буд. 65, тел. 0508511843 | H10: 934248356
A11: 11 | B11: солдат | C11: Ручин Дмитро Вікторович | D11: Миколаївська обл. м. Баштанка | E11: Миколаївська обл. м. Баштанка вул. Грушевського 46 | F11: середньо-спеціальна ПТУ №9 м. Баштанка 2015р. Кухар (пекарня 1р) | G11: неодружений Мати: Дмитренко Алла Петрівна, Миколаївська обл. м. Баштанка вул. Грушевського 46, тел, 0636322801 | H11: 983438936
A12: 5 | B12: солдат | C12: Солоденко Анатолій Сергійович | D12: Миколаївська обл. Вознесенський р-н, с. Яструбинове | E12: Миколаївська обл. Вознесенський р-н, с. Яструбинове вул. Першотравнева 20 | F12: середньо-спеціальна ПТУ №18 2016р. будівельник (Гружчик 1р.) | G12: неодружений Сестрат: Черемуха Анастасія Сергіївна, тел. 0985362292 | H12: 938839470
A13: 2 | B13: солдат | C13: Фістікан Василь Петрович | D13: Миколаївська обл. Первомайський р-н, с. Софіївка | E13: Миколаївська обл. Первомайський р-н, с. Синюшин Брід, вул. Перемоги 38 | F13: середньо-спеціальна ПТУ №22 м. Первомайськ 2018р. Маляр-Штукатур (Сканувальник на новій пошті) | G13: Неодружений Мати: Фістікан Марія Вікторівна, Миколаївська обл. Первомайський р-н, с. Синюшин Брід, вул. Молодіжна 8, тел. 0967926486 | H13: 967927329
A14: 10 | B14: солдат | C14: Чабан Михайло Григорович | D14: Миколаївська обл. Березанського р-н, с. Новоподілля | E14: м. Миколаїв, 12 Повздовжня 47а, кв. 59 | F14: середньо-спеціальна ліцей №13 2012р. Автослюсар (СТО 9р) | G14: одружений Дружина: Чабан Влада Владиславівна, м. Миколаїв, 12 Повздовжня 47а, кв. 59, тел. 0971910656 | H14: 967953093
A15: 14 | B15: солдат
A16: 15 | B16: солдат
A17: 16 | B17: солдат
A18: 17 | B18: солдат
A19: 18 | B19: солдат
A20: 19 | B20: солдат
A21: 20 | B21: солдат
A22: 21 | B22: солдат
A23: 22 | B23: солдат
A24: 23 | B24: солдат
A25: 24 | B25: солдат
A26: 25 | B26: солдат
... A101: 100 | B101: солдат
