Workbook

Sheet Інструкції
A2: Загальне
B3: Список особового складу, який зайшов на підготовку на курс та зкінчив/не закінчив його. По всім, хто курс пройшов - вказуємо оцінки. Хто не пройшов - вказуємо причину непроходження і, за необхідності, коментар.
A4: Заповнення шапки
B5: Підрозділ | D5: Вказати назву підрозділу з номером батальйону і роти (за наявності)
B6: Дата випуску | D6: Дата випуску, ця дата буде в сертифікаті
B7: Початок підготовки | D7: Перший день підготовки (адаптаційний день, якщо відсутня, то з адміністративного дня)/ Якщо дата буде виділена жовтим кольором - значить в даті присутня помилка (занадто далека в минулому чи майбутньому, чи невалідне значення).
B8: Закінчення підготовки | D8: Адміністративний день в кінці курсу (попередній день до випуску, якщо ранній випуск). Якщо дата буде виділена жовтим кольором - значить в даті присутня помилка (занадто далека в минулому чи майбутньому, чи невалідне значення), або дата закінчення менше дати початку підготовки.
B9: Назва підготовки | D9: Назва підготовки згідно затвердженої програми
B10: ВОС | D10: Номер ВОС, тільки число (без абревіатури "ВОС")
B11: Техніка / озброєння | D11: Для фахової підготовки: техніка та/або озброєння яки вивчалось протягом курсу
B12: Спеціальність | D12: Отримана спеціальність згідно програми
B13: Викладач | D13: Командир роти / підрозділу який проводив курс. Посада, звання, ПІБ.
A14: Заповнення таблиці
B15: Звання (без скорочень) | D15: Зверніть увагу, що звання має бути вказано повністю і без скорочень.
B16: ПІБ | D16: Прізвище І'мя По батькові повністю без скорочень
B17: Дата народження | D17: Якщо дата народження буде виділена жовтим - значить в даті присутня помилка (занадто молодий чи старий вік, чи значення не формату Дата)
B18: ІПН | D18: Код має перевірку на: - невідповідність до дати народження та валідность контрольної суми (виділить жовтим), - на дублюючі значення у всьому списку (виділить червоним). В такому випадку уважно перевірте правильність введених даних. Якщо код у в/с відсутній чи він від нього відмовився - вказати "відсутній", "відмова" чи порожню комірку
B19: З якої в/ч прибув | D19: Вказуємо номер частини по типу "А0000", якщо з ППОС - вказуємо "ТЦК"
B20: Підготовку завершив | D20: Вказати з наступних варіантів: "Так", "Ні"
B21: Причина по якій не пройшов підготовку | D21: Вказати з випадаючого списку: "СЗЧ", "Шпиталь", "Відмова", "Звільнений", "Помер", "Вибув за станом здоров'я", "Відпустка", "Вибув / інші причини". Якщо в/с курс пройшов, то в цій колонці нічого не ставимо.
B22: В яку частину вибув | D22: Вказуємо номер частини по типу "А0000", (за наявності інформації)
B23: Примітки | D23: Інша інформація, стосовно причин, чому не завершив курс, якщо необхідно ("СЗЧ 10.12.2025", "Хворів 10-23.12.2025", "Відпустка по реабілтації 30.11-29.12.2025", "Низький морально-псих. стан, вибув в бригаду 10.12.2025")
B24: Загальна оцінка | D24: Загальна оцінка за курс в числовому відображенні: 2, 3, 4, 5. Якщо оцінка підсвічується жовтим - не відповідає встановленим значенням
B25: Оцінка1, Оцінка2, Оцінка3 | D25: Вказується в числовому відображенні: 2, 3, 4, 5. Для різних видів підготовок кожна оцінка відповідає за певні критерії оцінювання: за теорію, практику, та інше. Відповідають оцінкам згідно програми підготовки і фінальним оцінкам за курс. Наприклад: - БЗВП: тільки загальна оцінка; - Підготовка стрілка-санітара: загальна оцінка, теорія, практика; - і т.д.
A35: password
A36: 199
A39: не задовільно
A40: задовільно
A41: добре
A42: відмінно
A45: СЗЧ
A46: Звільнення
A47: Шпиталь
A48: Відмова
A49: Помер
A50: Вибув - стан здор.
A51: Відпустка
A52: Вибув / інші причини
... A55: Ні

Sheet Курсанти
B1: Підрозділ | C1: 1 НБ 1 НР
B2: Дата випуску | C2: 46053
B3: Початок підготовки | C3: 46000
B4: Закінчення підготовки | C4: 46052
B5: Назва підготовки | C5: БЗВП
B6: ВОС | C6: 100
B7: Техніка / озброєння
B8: Спеціальність | C8: стрілок | J8: БЗВП: | K8: Загальна | L8: ----- | M8: ----- | N8: -----
B9: Викладач | C9: командир 1НР 1НБ майор Степанюк Дмитро Миколайович | J9: Такмед: | K9: Загальна | L9: теорія | M9: практика | N9: -----
J10: Безпілотники: | K10: Загальна | L10: спеціальна | M10: технічна | N10: льотна
A11: № | B11: Звання (без скорочень) | C11: П.І.Б. | D11: Дата народження | E11: ІПН | F11: З якої в/ч (ТЦК) прибув | G11: Підготовку завершив (так/ні) | H11: Причина по якій не пройшов підготовку | I11: В яку частину вибув | J11: Примітки | K11: Загальна оцінка | L11: Оцінка 1 | M11: Оцінка 2 | N11: Оцінка 3
A12: 1 | B12: солдат | C12: Алікін Ігор Валерійович | D12: 29183 | E12: 2918214695 | F12: ТЦК | G12: Так | I12: А0224 | K12: 4
A13: 2 | B13: старший солдат | C13: Андрійченко Павло Валентинович | D13: 36025 | E13: 3602408693 | F13: ТЦК | G13: Так | I13: А3091 | K13: 3
A14: 3 | B14: солдат | C14: Балега Сергій Андрійович | D14: 34318 | E14: 3431710992 | F14: ТЦК | G14: Ні | H14: Шпиталь
A15: 4 | B15: солдат | C15: Безверхий Микола Олександрович | D15: 31941 | E15: 3194014372 | F15: ТЦК | G15: Ні | H15: Шпиталь
A16: 5 | B16: солдат | C16: Бєднов Максим Олександрович | D16: 31762 | E16: 3176100554 | F16: ТЦК | G16: Так | I16: А0281 | K16: 4
A17: 6 | B17: солдат | C17: Бойко Денис Андрійович | D17: 34115 | E17: 3411407798 | F17: ТЦК | G17: Ні | H17: СЗЧ
A18: 7 | B18: солдат | C18: Буга Іван Іванович | D18: 32150 | E18: 3214909813 | F18: ТЦК | G18: Так | I18: А2582 | K18: 4
A19: 8 | B19: солдат | C19: Бур'ян Євгеній Юрійович | D19: 36164 | E19: 3616310470 | F19: ТЦК | G19: Ні | H19: СЗЧ
A20: 9 | B20: солдат | C20: Бурбелко Юрій Володимирович | D20: 33350 | E20: 3334902513 | F20: ТЦК | G20: Так | I20: А0281 | K20: 4
A21: 10 | B21: старший солдат | C21: Буткевич Олександр Вікторович | D21: 34339 | E21: 3433805653 | F21: ТЦК | G21: Так | I21: А2298 | K21: 3
A22: 11 | B22: солдат | C22: Буховський Леонід Валентинович | D22: 29119 | E22: 2911812013 | F22: ТЦК | H22: Шпиталь | K22: 3
A23: 12 | B23: солдат | C23: Василишин Михайло Васильович | D23: 29184 | E23: 2918303531 | F23: ТЦК | G23: Так | I23: А2120 | K23: 3
A24: 13 | B24: солдат | C24: Вдовиченко Дмитро Васильович | D24: 33643 | E24: 3364211033 | F24: ТЦК | G24: Ні | H24: СЗЧ
A25: 14 | B25: солдат | C25: Вержанський Віталій Анатолійович | D25: 35945 | E25: 3594412331 | F25: ТЦК | G25: Ні | H25: СЗЧ
A26: 15 | B26: солдат | C26: Вистороп Віталій Миколайович | D26: 28722 | E26: 2872303676 | F26: ТЦК | G26: Так | I26: А0281 | K26: 4
A27: 16 | B27: солдат | C27: Войтюк Олександр Михайлович | D27: 31643 | E27: 3164222753 | F27: ТЦК | G27: Так | I27: А 4030 | K27: 4
A28: 17 | B28: солдат | C28: Волковінський Анатолій Васильович | D28: 34774 | E28: 3477301797 | F28: ТЦК | G28: Так | I28: А0224 | K28: 3
A29: 18 | B29: старший солдат | C29: Воловенко Андрій Володимирович | D29: 34873 | E29: 3487211117 | F29: ТЦК | G29: Так | I29: А0281 | K29: 3
A30: 19 | B30: солдат | C30: Волосовський Артур Сергійович | D30: 34917 | E30: 3491613351 | F30: ТЦК | G30: Ні | H30: СЗЧ
A31: 20 | B31: солдат | C31: Ворона Валерій Павлович | D31: 35422 | E31: 3542111894 | F31: ТЦК | G31: Ні | H31: СЗЧ
A32: 21 | B32: солдат | C32: Гарасимів Володимир Борисович | D32: 35236 | E32: 3523506614 | F32: ТЦК | G32: Так | I32: А2298 | K32: 3
A33: 22 | B33: солдат | C33: Главацький Олександр Вікторович | D33: 36434 | E33: 3643310370 | F33: ТЦК | G33: Так | I33: А2582 | K33: 3
A34: 23 | B34: солдат | C34: Глущак Ігор Васильович | D34: 35860 | E34: 3585900455 | F34: ТЦК | G34: Ні | H34: СЗЧ
A35: 24 | B35: солдат | C35: Головатий Сергій Васильович | D35: 33942 | E35: 3394102933 | F35: ТЦК | G35: Так | I35: А0281 | K35: 4
A36: 25 | B36: солдат | C36: Головін Михайло Олександрович | D36: 36769 | E36: 3676811570 | F36: ТЦК | G36: Так | I36: А2298 | K36: 4
A37: 26 | B37: старший сержант | C37: Голосовський Дмитро Олександрович | D37: 29524 | E37: 2952305138 | F37: ТЦК | G37: Ні | H37: СЗЧ
A38: 27 | B38: солдат | C38: Горецький Олександр Пилипович | D38: 31317 | E38: 3131608255 | F38: ТЦК | G38: Ні | H38: Шпиталь
A39: 28 | B39: солдат | C39: Гоцький Віталій Ігорович | D39: 31690 | E39: 3168905454 | F39: ТЦК | G39: Ні | H39: Шпиталь
A40: 29 | B40: солдат | C40: Демишкан Михайло Володимирович | D40: 31355 | E40: 3135420177 | F40: ТЦК | G40: Так | I40: А2120 | K40: 4
A41: 30 | B41: солдат | C41: Динька Дмитро Олександрович | D41: 31879 | E41: 3187819071 | F41: ТЦК | G41: Ні | H41: Шпиталь
A42: 31 | B42: солдат | C42: Домброва Володимир Ярославович | D42: 35543 | E42: 3554208197 | F42: ТЦК | G42: Ні | H42: СЗЧ
A43: 32 | B43: солдат | C43: Дрозд Ігор Анатолійович | D43: 33763 | E43: 3376216218 | F43: ТЦК | G43: Ні | H43: Шпиталь
A44: 33 | B44: солдат | C44: Єрмаков Олександр Валерійович | D44: 29297 | E44: 2929622878 | F44: ТЦК | G44: Так | I44: А0224 | K44: 3
A45: 34 | B45: солдат | C45: Житник Максим Володимирович | D45: 33163 | E45: 3316219099 | F45: ТЦК | G45: Так | I45: А0281 | K45: 3
A46: 35 | B46: солдат | C46: Зеленов Артем Олександрович | D46: 31781 | E46: 3178003554 | F46: ТЦК | G46: Так | I46: А0281 | K46: 3
A47: 36 | B47: солдат | C47: Зелінський Микола Васильович | D47: 32933 | E47: 3293210193 | F47: ТЦК | G47: Так | I47: А0224 | K47: 4
A48: 37 | B48: солдат | C48: Іванов Василь Іванович | D48: 30136 | E48: 3013521855 | F48: ТЦК | G48: Так | I48: А0281 | K48: 4
A49: 38 | B49: солдат | C49: Капарчук Олег Іванович | D49: 30944 | E49: 3094322797 | F49: ТЦК | G49: Ні | H49: СЗЧ
A50: 39 | B50: солдат | C50: Карташов Вячеслав Васильович | D50: 35278 | E50: 3527707215 | F50: ТЦК | G50: Ні | H50: СЗЧ
A51: 40 | B51: солдат | C51: Карташов Дмитро Володимирович | D51: 28269 | E51: 2826806976 | F51: ТЦК | G51: Так | I51: А0281 | K51: 3
A52: 41 | B52: солдат | C52: Кириченко Андрій Григорович | D52: 35412 | E52: 3541104911 | F52: ТЦК | G52: Так | I52: А5172 | K52: 4
A53: 42 | B53: солдат | C53: Кириченко Микола Григорович | D53: 36008 | E53: 3600704574 | F53: ТЦК | G53: Так | I53: А2298 | K53: 4
A54: 43 | B54: солдат | C54: Клейноцький Станіслав Олександрович | D54: 29573 | E54: 2957208377 | F54: ТЦК | G54: Так | I54: А2582 | K54: 4
A55: 44 | B55: солдат | C55: Козин Юрій Олександрович | D55: 29115 | E55: 2911408755 | F55: ТЦК | G55: Так | I55: А0224 | K55: 4
A56: 45 | B56: солдат | C56: Козловський Ростислав Миколайович | D56: 36645 | E56: 3664403611 | F56: ТЦК | G56: Так | I56: А2120 | K56: 3
A57: 46 | B57: солдат | C57: Коломійчук Роман Геннадійович | D57: 36555 | E57: 3655407234 | F57: ТЦК | G57: Так | I57: А4668 | K57: 3
A58: 47 | B58: солдат | C58: Кондратюк Сергій Володирович | D58: 33104 | E58: 3310316319 | F58: ТЦК | G58: Так | I58: А0281 | K58: 4
A59: 48 | B59: солдат | C59: Конюх Михайло Олександрович | D59: 31727 | E59: 3172610695 | F59: ТЦК | G59: Так | I59: А0281 | K59: 3
A60: 49 | B60: солдат | C60: Коротков Олександр Сергійович | D60: 36550 | E60: 3654907257 | F60: ТЦК | G60: Так | I60: А2900 | K60: 3
A61: 50 | B61: солдат | C61: Кортун Владислав Михайлович | D61: 34660 | E61: 3465906031 | F61: ТЦК | G61: Так | I61: А0224 | K61: 4
A62: 51 | B62: солдат | C62: Костінський Володимир Володимирович | D62: 33699 | E62: 3369812610 | F62: ТЦК | G62: Так | I62: А0281 | K62: 4
A63: 52 | B63: солдат | C63: Косюк Максим Васильович | D63: 35590 | E63: 3558904199 | F63: ТЦК | G63: Ні | H63: Шпиталь
A64: 53 | B64: солдат | C64: Котович Ігор Миколайович | D64: 31112 | E64: 3111109159 | F64: ТЦК | G64: Так | I64: А0281 | K64: 3
A65: 54 | B65: солдат | C65: Кравець Валерій Іванович | D65: 28721 | E65: 2872010135 | F65: ТЦК | G65: Так | I65: А2582 | K65: 4
A66: 55 | B66: солдат | C66: Криклюк Олександр Вікторович | D66: 33680 | E66: 3367914135 | F66: ТЦК | G66: Так | I66: А0224 | K66: 4
A67: 56 | B67: солдат | C67: Крутяк Василь Васильович | D67: 36254 | E67: 3625310233 | F67: ТЦК | G67: Так | I67: А2298 | K67: 4
A68: 57 | B68: солдат | C68: Кузьменко Віктор Володимирович | D68: 33272 | E68: 3327114094 | F68: ТЦК | G68: Так | I68: А0281 | K68: 4
A69: 58 | B69: солдат | C69: Кузьмін Євгеній Миколайович | D69: 30058 | E69: 3005703615 | F69: ТЦК | G69: Так | I69: А0281 | K69: 4
A70: 59 | B70: солдат | C70: Кукуруза Сергій Петрович | D70: 35526 | E70: 3552511850 | F70: ТЦК | G70: Ні | H70: СЗЧ
A71: 60 | B71: солдат | C71: Кулеша Микола Олександрович | D71: 31487 | E71: 3148616759 | F71: ТЦК | G71: Так | I71: А0224 | K71: 3
A72: 61 | B72: солдат | C72: Купрієнко Дмитро Олександрович | D72: 32612 | E72: 3261109132 | F72: ТЦК | G72: Так | I72: А2582 | K72: 3
A73: 62 | B73: солдат | C73: Кухарук Володимир Олегович | D73: 36796 | E73: 3679509816 | F73: ТЦК | G73: Так | I73: А2900 | K73: 4
A74: 63 | B74: солдат | C74: Кучук Вадим Володимирович | D74: 34800 | E74: 3479910955 | F74: ТЦК | G74: Ні | H74: СЗЧ
A75: 64 | B75: солдат | C75: Кушнір Григорій Миколайович | D75: 33533 | E75: 3353204732 | F75: ТЦК | G75: Так | I75: А2120 | K75: 4
A76: 65 | B76: солдат | C76: Левицький Сергій Леонідович | D76: 30907 | E76: 3090604558 | F76: ТЦК | G76: Так | I76: А0224 | K76: 4
A77: 66 | B77: солдат | C77: Лисак Олександр Васильович | D77: 31230 | E77: 3122923910 | F77: ТЦК | G77: Так | I77: А0222 | K77: 4
A78: 67 | B78: солдат | C78: Ліщук Віктор Анатолійович | D78: 32845 | E78: 3284417653 | F78: ТЦК | G78: Так | I78: А0310 | K78: 4
A79: 68 | B79: солдат | C79: Лук'янчук Віталій Юрійович | D79: 36661 | E79: 3666008291 | F79: ТЦК | G79: Так | I79: А0281 | K79: 4
A80: 69 | B80: солдат | C80: Луценко Денис Васильович | D80: 32205 | E80: 3220405355 | F80: ТЦК | G80: Так | I80: ШТМ | K80: 4
A81: 70 | B81: солдат | C81: Луценко Юрій Георгійович | D81: 30484 | E81: 3048321613 | F81: ТЦК | G81: Так | I81: А3204 | K81: 4
A82: 71 | B82: солдат | C82: Мазурек Сергій Карпович | D82: 30598 | E82: 3059723633 | F82: ТЦК | G82: Ні | H82: СЗЧ
A83: 72 | B83: солдат | C83: Макодзьоб Олег Петрович | D83: 33353 | E83: 3335220074 | F83: ТЦК | G83: Так | I83: ШТМ | K83: 4
A84: 73 | B84: солдат | C84: Малюта Дмитро Павлович | D84: 33411 | E84: 3341018851 | F84: ТЦК | G84: Так | I84: ШТМ | K84: 4
A85: 74 | B85: солдат | C85: Марусич Денис Леонідович | D85: 34472 | E85: 3447113197 | F85: ТЦК | G85: Ні | H85: СЗЧ
A86: 75 | B86: солдат | C86: Матвієнко Віталій Сергійович | D86: 33526 | E86: 3352516833 | F86: ТЦК | G86: Так | I86: А4350 | K86: 4
A87: 76 | B87: солдат | C87: Мельник Олег Любомирович | D87: 32763 | E87: 3276207334 | F87: ТЦК | G87: Так | I87: А 4030 | K87: 4
A88: 77 | B88: солдат | C88: Мельник Сергій Вікторович | D88: 31656 | E88: 3165507698 | F88: ТЦК | G88: Ні | H88: СЗЧ
A89: 78 | B89: солдат | C89: Милостивий Андрій Вікторович | D89: 30657 | E89: 3065617915 | F89: ТЦК | G89: Так | I89: А0339 | K89: 4
A90: 79 | B90: солдат | C90: Миненко Іван Миколайович | D90: 33840 | E90: 3383901612 | F90: ТЦК | G90: Ні | H90: СЗЧ
A91: 80 | B91: солдат | C91: Мокрицький Сергій Володимирович | D91: 29211 | E91: 2921015311 | F91: ТЦК | G91: Так | I91: А2582 | K91: 4
A92: 81 | B92: солдат | C92: Моря Сергій Анатолійович | D92: 32419 | E92: 3241800238 | F92: ТЦК | G92: Ні | H92: СЗЧ
A93: 82 | B93: молодший сержант | C93: Мунька Роман Володимирович | D93: 30544 | E93: 3054309631 | F93: ТЦК | G93: Так | I93: А0281 | K93: 4
A94: 83 | B94: солдат | C94: Муха Сергій Васильович | D94: 33099 | E94: 3309823452 | F94: ТЦК | G94: Так | I94: А2298 | K94: 4
A95: 84 | B95: солдат | C95: Назарко Степан Юрійович | D95: 36152 | E95: 3615107378 | F95: ТЦК | G95: Ні | H95: СЗЧ
A96: 85 | B96: солдат | C96: Небелиця Роман Віталійович | D96: 36840 | E96: 3683910250 | F96: ТЦК | G96: Ні | H96: СЗЧ
A97: 86 | B97: солдат | C97: Недбальський Дмитро Анатолійович | D97: 34956 | E97: 3495515476 | F97: ТЦК | G97: Ні | H97: СЗЧ
A98: 87 | B98: сержант | C98: Овсієнко Олександр Анатолійович | D98: 29850 | E98: 2984903032 | F98: ТЦК | G98: Так | I98: А0281 | K98: 4
A99: 88 | B99: солдат | C99: Омельченко Микола Миколайович | D99: 32650 | E99: 3264907431 | F99: ТЦК | G99: Ні | H99: СЗЧ
A100: 89 | B100: солдат | C100: Омельчук Олександр Володимирович | D100: 31448 | E100: 3144704276 | F100: ТЦК | G100: Так | I100: А4124 | K100: 4
...

Sheet Статистика
C1: Статистика по поточному курсу підготовки
B3: Частина | C3: Всього зайшло на підготовку | D3: Пройшло підготовку | E3: Не пройшло підготовку | F3: СЗЧ | G3: Звільнення | H3: Шпиталь | I3: Відмова | J3: Помер | K3: Відпустка | L3: Вибув - стан здор. | M3: Вибув / інші причини
B4: Всього | C4: =IF(B4<>"",COUNTA(Total_pers[П.І.Б.]),"") -> 145 | D4: =IF($B4<>"",COUNTIFS(Total_pers[Підготовку завершив (так/ні)],"так"),"") -> 93 | E4: =IF($B4<>"",COUNTIFS(Total_pers[Підготовку завершив (так/ні)],"ні"),"") -> 51 | F4: =IF($B4<>"",COUNTIFS( Total_pers[Причина по якій не пройшов підготовку], Статистика!F$3),"") -> 38 | G4: =IF($B4<>"",COUNTIFS( Total_pers[Причина по якій не пройшов підготовку], G$3),"") -> 0 | H4: =IF($B4<>"",COUNTIFS( Total_pers[Причина по якій не пройшов підготовку], Статистика!H$3),"") -> 14 | I4: =IF($B4<>"",COUNTIFS( Total_pers[Причина по якій не пройшов підготовку], Статистика!I$3),"") -> 0 | J4: =IF($B4<>"",COUNTIFS( Total_pers[Причина по якій не пройшов підготовку], Статистика!J$3),"") -> 0 | K4: =IF($B4<>"",COUNTIFS( Total_pers[Причина по якій не пройшов підготовку], Статистика!K$3),"") -> 0 | L4: =IF($B4<>"",COUNTIFS( Total_pers[Причина по якій не пройшов підготовку], Статистика!L$3),"") -> 0 | M4: =IF($B4<>"",COUNTIFS( Total_pers[Причина по якій не пройшов підготовку], Статистика!M$3),"") -> 0
B5: {=_xlfn.UNIQUE(_xlfn._xlws.FILTER(Total_pers[З якої в/ч (ТЦК) прибув],Total_pers[З якої в/ч (ТЦК) прибув]<>"",""))} -> ТЦК | C5: =IF($B5<>"",COUNTIF(Total_pers[З якої в/ч (ТЦК) прибув], $B5),"") -> 143 | D5: =IF($B5<>"",COUNTIFS(Total_pers[З якої в/ч (ТЦК) прибув], $B5,Total_pers[Підготовку завершив (так/ні)],"так"),"") -> 91 | E5: =IF($B5<>"",COUNTIFS(Total_pers[З якої в/ч (ТЦК) прибув], $B5,Total_pers[Підготовку завершив (так/ні)],"ні"),"") -> 51 | F5: =IF($B5<>"",COUNTIFS(Total_pers[З якої в/ч (ТЦК) прибув], $B5, Total_pers[Причина по якій не пройшов підготовку], Статистика!F$3),"") -> 38 | G5: =IF($B5<>"",COUNTIFS(Total_pers[З якої в/ч (ТЦК) прибув], $B5, Total_pers[Причина по якій не пройшов підготовку], G$3),"") -> 0 | H5: =IF($B5<>"",COUNTIFS(Total_pers[З якої в/ч (ТЦК) прибув], $B5, Total_pers[Причина по якій не пройшов підготовку], H$3),"") -> 14 | I5: =IF($B5<>"",COUNTIFS(Total_pers[З якої в/ч (ТЦК) прибув], $B5, Total_pers[Причина по якій не пройшов підготовку], I$3),"") -> 0 | J5: =IF($B5<>"",COUNTIFS(Total_pers[З якої в/ч (ТЦК) прибув], $B5, Total_pers[Причина по якій не пройшов підготовку], J$3),"") -> 0 | K5: =IF($B5<>"",COUNTIFS(Total_pers[З якої в/ч (ТЦК) прибув], $B5, Total_pers[Причина по якій не пройшов підготовку], K$3),"") -> 0 | L5: =IF($B5<>"",COUNTIFS(Total_pers[З якої в/ч (ТЦК) прибув], $B5, Total_pers[Причина по якій не пройшов підготовку], L$3),"") -> 0 | M5: =IF($B5<>"",COUNTIFS(Total_pers[З якої в/ч (ТЦК) прибув], $B5, Total_pers[Причина по якій не пройшов підготовку], M$3),"") -> 0
C6: =IF($B6<>"",COUNTIF(Total_pers[З якої в/ч (ТЦК) прибув], $B6),"") | D6: =IF($B6<>"",COUNTIFS(Total_pers[З якої в/ч (ТЦК) прибув], $B6,Total_pers[Підготовку завершив (так/ні)],"так"),"") | E6: =IF($B6<>"",COUNTIFS(Total_pers[З якої в/ч (ТЦК) прибув], $B6,Total_pers[Підготовку завершив (так/ні)],"ні"),"") | F6: =IF($B6<>"",COUNTIFS(Total_pers[З якої в/ч (ТЦК) прибув], $B6, Total_pers[Причина по якій не пройшов підготовку], Статистика!F$3),"") | G6: =IF($B6<>"",COUNTIFS(Total_pers[З якої в/ч (ТЦК) прибув], $B6, Total_pers[Причина по якій не пройшов підготовку], G$3),"") | H6: =IF($B6<>"",COUNTIFS(Total_pers[З якої в/ч (ТЦК) прибув], $B6, Total_pers[Причина по якій не пройшов підготовку], H$3),"") | I6: =IF($B6<>"",COUNTIFS(Total_pers[З якої в/ч (ТЦК) прибув], $B6, Total_pers[Причина по якій не пройшов підготовку], I$3),"") | J6: =IF($B6<>"",COUNTIFS(Total_pers[З якої в/ч (ТЦК) прибув], $B6, Total_pers[Причина по якій не пройшов підготовку], J$3),"") | K6: =IF($B6<>"",COUNTIFS(Total_pers[З якої в/ч (ТЦК) прибув], $B6, Total_pers[Причина по якій не пройшов підготовку], K$3),"") | L6: =IF($B6<>"",COUNTIFS(Total_pers[З якої в/ч (ТЦК) прибув], $B6, Total_pers[Причина по якій не пройшов підготовку], L$3),"") | M6: =IF($B6<>"",COUNTIFS(Total_pers[З якої в/ч (ТЦК) прибув], $B6, Total_pers[Причина по якій не пройшов підготовку], M$3),"")
C7: =IF($B7<>"",COUNTIF(Total_pers[З якої в/ч (ТЦК) прибув], $B7),"") | D7: =IF($B7<>"",COUNTIFS(Total_pers[З якої в/ч (ТЦК) прибув], $B7,Total_pers[Підготовку завершив (так/ні)],"так"),"") | E7: =IF($B7<>"",COUNTIFS(Total_pers[З якої в/ч (ТЦК) прибув], $B7,Total_pers[Підготовку завершив (так/ні)],"ні"),"") | F7: =IF($B7<>"",COUNTIFS(Total_pers[З якої в/ч (ТЦК) прибув], $B7, Total_pers[Причина по якій не пройшов підготовку], Статистика!F$3),"") | G7: =IF($B7<>"",COUNTIFS(Total_pers[З якої в/ч (ТЦК) прибув], $B7, Total_pers[Причина по якій не пройшов підготовку], G$3),"") | H7: =IF($B7<>"",COUNTIFS(Total_pers[З якої в/ч (ТЦК) прибув], $B7, Total_pers[Причина по якій не пройшов підготовку], H$3),"") | I7: =IF($B7<>"",COUNTIFS(Total_pers[З якої в/ч (ТЦК) прибув], $B7, Total_pers[Причина по якій не пройшов підготовку], I$3),"") | J7: =IF($B7<>"",COUNTIFS(Total_pers[З якої в/ч (ТЦК) прибув], $B7, Total_pers[Причина по якій не пройшов підготовку], J$3),"") | K7: =IF($B7<>"",COUNTIFS(Total_pers[З якої в/ч (ТЦК) прибув], $B7, Total_pers[Причина по якій не пройшов підготовку], K$3),"") | L7: =IF($B7<>"",COUNTIFS(Total_pers[З якої в/ч (ТЦК) прибув], $B7, Total_pers[Причина по якій не пройшов підготовку], L$3),"") | M7: =IF($B7<>"",COUNTIFS(Total_pers[З якої в/ч (ТЦК) прибув], $B7, Total_pers[Причина по якій не пройшов підготовку], M$3),"")
C8: =IF($B8<>"",COUNTIF(Total_pers[З якої в/ч (ТЦК) прибув], $B8),"") | D8: =IF($B8<>"",COUNTIFS(Total_pers[З якої в/ч (ТЦК) прибув], $B8,Total_pers[Підготовку завершив (так/ні)],"так"),"") | E8: =IF($B8<>"",COUNTIFS(Total_pers[З якої в/ч (ТЦК) прибув], $B8,Total_pers[Підготовку завершив (так/ні)],"ні"),"") | F8: =IF($B8<>"",COUNTIFS(Total_pers[З якої в/ч (ТЦК) прибув], $B8, Total_pers[Причина по якій не пройшов підготовку], Статистика!F$3),"") | G8: =IF($B8<>"",COUNTIFS(Total_pers[З якої в/ч (ТЦК) прибув], $B8, Total_pers[Причина по якій не пройшов підготовку], G$3),"") | H8: =IF($B8<>"",COUNTIFS(Total_pers[З якої в/ч (ТЦК) прибув], $B8, Total_pers[Причина по якій не пройшов підготовку], H$3),"") | I8: =IF($B8<>"",COUNTIFS(Total_pers[З якої в/ч (ТЦК) прибув], $B8, Total_pers[Причина по якій не пройшов підготовку], I$3),"") | J8: =IF($B8<>"",COUNTIFS(Total_pers[З якої в/ч (ТЦК) прибув], $B8, Total_pers[Причина по якій не пройшов підготовку], J$3),"") | K8: =IF($B8<>"",COUNTIFS(Total_pers[З якої в/ч (ТЦК) прибув], $B8, Total_pers[Причина по якій не пройшов підготовку], K$3),"") | L8: =IF($B8<>"",COUNTIFS(Total_pers[З якої в/ч (ТЦК) прибув], $B8, Total_pers[Причина по якій не пройшов підготовку], L$3),"") | M8: =IF($B8<>"",COUNTIFS(Total_pers[З якої в/ч (ТЦК) прибув], $B8, Total_pers[Причина по якій не пройшов підготовку], M$3),"")
C9: =IF($B9<>"",COUNTIF(Total_pers[З якої в/ч (ТЦК) прибув], $B9),"") | D9: =IF($B9<>"",COUNTIFS(Total_pers[З якої в/ч (ТЦК) прибув], $B9,Total_pers[Підготовку завершив (так/ні)],"так"),"") | E9: =IF($B9<>"",COUNTIFS(Total_pers[З якої в/ч (ТЦК) прибув], $B9,Total_pers[Підготовку завершив (так/ні)],"ні"),"") | F9: =IF($B9<>"",COUNTIFS(Total_pers[З якої в/ч (ТЦК) прибув], $B9, Total_pers[Причина по якій не пройшов підготовку], Статистика!F$3),"") | G9: =IF($B9<>"",COUNTIFS(Total_pers[З якої в/ч (ТЦК) прибув], $B9, Total_pers[Причина по якій не пройшов підготовку], G$3),"") | H9: =IF($B9<>"",COUNTIFS(Total_pers[З якої в/ч (ТЦК) прибув], $B9, Total_pers[Причина по якій не пройшов підготовку], H$3),"") | I9: =IF($B9<>"",COUNTIFS(Total_pers[З якої в/ч (ТЦК) прибув], $B9, Total_pers[Причина по якій не пройшов підготовку], I$3),"") | J9: =IF($B9<>"",COUNTIFS(Total_pers[З якої в/ч (ТЦК) прибув], $B9, Total_pers[Причина по якій не пройшов підготовку], J$3),"") | K9: =IF($B9<>"",COUNTIFS(Total_pers[З якої в/ч (ТЦК) прибув], $B9, Total_pers[Причина по якій не пройшов підготовку], K$3),"") | L9: =IF($B9<>"",COUNTIFS(Total_pers[З якої в/ч (ТЦК) прибув], $B9, Total_pers[Причина по якій не пройшов підготовку], L$3),"") | M9: =IF($B9<>"",COUNTIFS(Total_pers[З якої в/ч (ТЦК) прибув], $B9, Total_pers[Причина по якій не пройшов підготовку], M$3),"")
C10: =IF($B10<>"",COUNTIF(Total_pers[З якої в/ч (ТЦК) прибув], $B10),"") | D10: =IF($B10<>"",COUNTIFS(Total_pers[З якої в/ч (ТЦК) прибув], $B10,Total_pers[Підготовку завершив (так/ні)],"так"),"") | E10: =IF($B10<>"",COUNTIFS(Total_pers[З якої в/ч (ТЦК) прибув], $B10,Total_pers[Підготовку завершив (так/ні)],"ні"),"") | F10: =IF($B10<>"",COUNTIFS(Total_pers[З якої в/ч (ТЦК) прибув], $B10, Total_pers[Причина по якій не пройшов підготовку], Статистика!F$3),"") | G10: =IF($B10<>"",COUNTIFS(Total_pers[З якої в/ч (ТЦК) прибув], $B10, Total_pers[Причина по якій не пройшов підготовку], G$3),"") | H10: =IF($B10<>"",COUNTIFS(Total_pers[З якої в/ч (ТЦК) прибув], $B10, Total_pers[Причина по якій не пройшов підготовку], H$3),"") | I10: =IF($B10<>"",COUNTIFS(Total_pers[З якої в/ч (ТЦК) прибув], $B10, Total_pers[Причина по якій не пройшов підготовку], I$3),"") | J10: =IF($B10<>"",COUNTIFS(Total_pers[З якої в/ч (ТЦК) прибув], $B10, Total_pers[Причина по якій не пройшов підготовку], J$3),"") | K10: =IF($B10<>"",COUNTIFS(Total_pers[З якої в/ч (ТЦК) прибув], $B10, Total_pers[Причина по якій не пройшов підготовку], K$3),"") | L10: =IF($B10<>"",COUNTIFS(Total_pers[З якої в/ч (ТЦК) прибув], $B10, Total_pers[Причина по якій не пройшов підготовку], L$3),"") | M10: =IF($B10<>"",COUNTIFS(Total_pers[З якої в/ч (ТЦК) прибув], $B10, Total_pers[Причина по якій не пройшов підготовку], M$3),"")
C11: =IF($B11<>"",COUNTIF(Total_pers[З якої в/ч (ТЦК) прибув], $B11),"") | D11: =IF($B11<>"",COUNTIFS(Total_pers[З якої в/ч (ТЦК) прибув], $B11,Total_pers[Підготовку завершив (так/ні)],"так"),"") | E11: =IF($B11<>"",COUNTIFS(Total_pers[З якої в/ч (ТЦК) прибув], $B11,Total_pers[Підготовку завершив (так/ні)],"ні"),"") | F11: =IF($B11<>"",COUNTIFS(Total_pers[З якої в/ч (ТЦК) прибув], $B11, Total_pers[Причина по якій не пройшов підготовку], Статистика!F$3),"") | G11: =IF($B11<>"",COUNTIFS(Total_pers[З якої в/ч (ТЦК) прибув], $B11, Total_pers[Причина по якій не пройшов підготовку], G$3),"") | H11: =IF($B11<>"",COUNTIFS(Total_pers[З якої в/ч (ТЦК) прибув], $B11, Total_pers[Причина по якій не пройшов підготовку], H$3),"") | I11: =IF($B11<>"",COUNTIFS(Total_pers[З якої в/ч (ТЦК) прибув], $B11, Total_pers[Причина по якій не пройшов підготовку], I$3),"") | J11: =IF($B11<>"",COUNTIFS(Total_pers[З якої в/ч (ТЦК) прибув], $B11, Total_pers[Причина по якій не пройшов підготовку], J$3),"") | K11: =IF($B11<>"",COUNTIFS(Total_pers[З якої в/ч (ТЦК) прибув], $B11, Total_pers[Причина по якій не пройшов підготовку], K$3),"") | L11: =IF($B11<>"",COUNTIFS(Total_pers[З якої в/ч (ТЦК) прибув], $B11, Total_pers[Причина по якій не пройшов підготовку], L$3),"") | M11: =IF($B11<>"",COUNTIFS(Total_pers[З якої в/ч (ТЦК) прибув], $B11, Total_pers[Причина по якій не пройшов підготовку], M$3),"")
C12: =IF($B12<>"",COUNTIF(Total_pers[З якої в/ч (ТЦК) прибув], $B12),"") | D12: =IF($B12<>"",COUNTIFS(Total_pers[З якої в/ч (ТЦК) прибув], $B12,Total_pers[Підготовку завершив (так/ні)],"так"),"") | E12: =IF($B12<>"",COUNTIFS(Total_pers[З якої в/ч (ТЦК) прибув], $B12,Total_pers[Підготовку завершив (так/ні)],"ні"),"") | F12: =IF($B12<>"",COUNTIFS(Total_pers[З якої в/ч (ТЦК) прибув], $B12, Total_pers[Причина по якій не пройшов підготовку], Статистика!F$3),"") | G12: =IF($B12<>"",COUNTIFS(Total_pers[З якої в/ч (ТЦК) прибув], $B12, Total_pers[Причина по якій не пройшов підготовку], G$3),"") | H12: =IF($B12<>"",COUNTIFS(Total_pers[З якої в/ч (ТЦК) прибув], $B12, Total_pers[Причина по якій не пройшов підготовку], H$3),"") | I12: =IF($B12<>"",COUNTIFS(Total_pers[З якої в/ч (ТЦК) прибув], $B12, Total_pers[Причина по якій не пройшов підготовку], I$3),"") | J12: =IF($B12<>"",COUNTIFS(Total_pers[З якої в/ч (ТЦК) прибув], $B12, Total_pers[Причина по якій не пройшов підготовку], J$3),"") | K12: =IF($B12<>"",COUNTIFS(Total_pers[З якої в/ч (ТЦК) прибув], $B12, Total_pers[Причина по якій не пройшов підготовку], K$3),"") | L12: =IF($B12<>"",COUNTIFS(Total_pers[З якої в/ч (ТЦК) прибув], $B12, Total_pers[Причина по якій не пройшов підготовку], L$3),"") | M12: =IF($B12<>"",COUNTIFS(Total_pers[З якої в/ч (ТЦК) прибув], $B12, Total_pers[Причина по якій не пройшов підготовку], M$3),"")
C13: =IF($B13<>"",COUNTIF(Total_pers[З якої в/ч (ТЦК) прибув], $B13),"") | D13: =IF($B13<>"",COUNTIFS(Total_pers[З якої в/ч (ТЦК) прибув], $B13,Total_pers[Підготовку завершив (так/ні)],"так"),"") | E13: =IF($B13<>"",COUNTIFS(Total_pers[З якої в/ч (ТЦК) прибув], $B13,Total_pers[Підготовку завершив (так/ні)],"ні"),"") | F13: =IF($B13<>"",COUNTIFS(Total_pers[З якої в/ч (ТЦК) прибув], $B13, Total_pers[Причина по якій не пройшов підготовку], Статистика!F$3),"") | G13: =IF($B13<>"",COUNTIFS(Total_pers[З якої в/ч (ТЦК) прибув], $B13, Total_pers[Причина по якій не пройшов підготовку], G$3),"") | H13: =IF($B13<>"",COUNTIFS(Total_pers[З якої в/ч (ТЦК) прибув], $B13, Total_pers[Причина по якій не пройшов підготовку], H$3),"") | I13: =IF($B13<>"",COUNTIFS(Total_pers[З якої в/ч (ТЦК) прибув], $B13, Total_pers[Причина по якій не пройшов підготовку], I$3),"") | J13: =IF($B13<>"",COUNTIFS(Total_pers[З якої в/ч (ТЦК) прибув], $B13, Total_pers[Причина по якій не пройшов підготовку], J$3),"") | K13: =IF($B13<>"",COUNTIFS(Total_pers[З якої в/ч (ТЦК) прибув], $B13, Total_pers[Причина по якій не пройшов підготовку], K$3),"") | L13: =IF($B13<>"",COUNTIFS(Total_pers[З якої в/ч (ТЦК) прибув], $B13, Total_pers[Причина по якій не пройшов підготовку], L$3),"") | M13: =IF($B13<>"",COUNTIFS(Total_pers[З якої в/ч (ТЦК) прибув], $B13, Total_pers[Причина по якій не пройшов підготовку], M$3),"")
C14: =IF($B14<>"",COUNTIF(Total_pers[З якої в/ч (ТЦК) прибув], $B14),"") | D14: =IF($B14<>"",COUNTIFS(Total_pers[З якої в/ч (ТЦК) прибув], $B14,Total_pers[Підготовку завершив (так/ні)],"так"),"") | E14: =IF($B14<>"",COUNTIFS(Total_pers[З якої в/ч (ТЦК) прибув], $B14,Total_pers[Підготовку завершив (так/ні)],"ні"),"") | F14: =IF($B14<>"",COUNTIFS(Total_pers[З якої в/ч (ТЦК) прибув], $B14, Total_pers[Причина по якій не пройшов підготовку], Статистика!F$3),"") | G14: =IF($B14<>"",COUNTIFS(Total_pers[З якої в/ч (ТЦК) прибув], $B14, Total_pers[Причина по якій не пройшов підготовку], G$3),"") | H14: =IF($B14<>"",COUNTIFS(Total_pers[З якої в/ч (ТЦК) прибув], $B14, Total_pers[Причина по якій не пройшов підготовку], H$3),"") | I14: =IF($B14<>"",COUNTIFS(Total_pers[З якої в/ч (ТЦК) прибув], $B14, Total_pers[Причина по якій не пройшов підготовку], I$3),"") | J14: =IF($B14<>"",COUNTIFS(Total_pers[З якої в/ч (ТЦК) прибув], $B14, Total_pers[Причина по якій не пройшов підготовку], J$3),"") | K14: =IF($B14<>"",COUNTIFS(Total_pers[З якої в/ч (ТЦК) прибув], $B14, Total_pers[Причина по якій не пройшов підготовку], K$3),"") | L14: =IF($B14<>"",COUNTIFS(Total_pers[З якої в/ч (ТЦК) прибув], $B14, Total_pers[Причина по якій не пройшов підготовку], L$3),"") | M14: =IF($B14<>"",COUNTIFS(Total_pers[З якої в/ч (ТЦК) прибув], $B14, Total_pers[Причина по якій не пройшов підготовку], M$3),"")
C15: =IF($B15<>"",COUNTIF(Total_pers[З якої в/ч (ТЦК) прибув], $B15),"") | D15: =IF($B15<>"",COUNTIFS(Total_pers[З якої в/ч (ТЦК) прибув], $B15,Total_pers[Підготовку завершив (так/ні)],"так"),"") | E15: =IF($B15<>"",COUNTIFS(Total_pers[З якої в/ч (ТЦК) прибув], $B15,Total_pers[Підготовку завершив (так/ні)],"ні"),"") | F15: =IF($B15<>"",COUNTIFS(Total_pers[З якої в/ч (ТЦК) прибув], $B15, Total_pers[Причина по якій не пройшов підготовку], Статистика!F$3),"") | G15: =IF($B15<>"",COUNTIFS(Total_pers[З якої в/ч (ТЦК) прибув], $B15, Total_pers[Причина по якій не пройшов підготовку], G$3),"") | H15: =IF($B15<>"",COUNTIFS(Total_pers[З якої в/ч (ТЦК) прибув], $B15, Total_pers[Причина по якій не пройшов підготовку], H$3),"") | I15: =IF($B15<>"",COUNTIFS(Total_pers[З якої в/ч (ТЦК) прибув], $B15, Total_pers[Причина по якій не пройшов підготовку], I$3),"") | J15: =IF($B15<>"",COUNTIFS(Total_pers[З якої в/ч (ТЦК) прибув], $B15, Total_pers[Причина по якій не пройшов підготовку], J$3),"") | K15: =IF($B15<>"",COUNTIFS(Total_pers[З якої в/ч (ТЦК) прибув], $B15, Total_pers[Причина по якій не пройшов підготовку], K$3),"") | L15: =IF($B15<>"",COUNTIFS(Total_pers[З якої в/ч (ТЦК) прибув], $B15, Total_pers[Причина по якій не пройшов підготовку], L$3),"") | M15: =IF($B15<>"",COUNTIFS(Total_pers[З якої в/ч (ТЦК) прибув], $B15, Total_pers[Причина по якій не пройшов підготовку], M$3),"")
