Workbook

Sheet Інструкції
A2: Загальне
B3: Список особового складу, який зайшов на підготовку на курс та зкінчив/не закінчив його. По всім, хто курс пройшов - вказуємо оцінки. Хто не пройшов - вказуємо причину непроходження і, за необхідності, коментар.
A4: Заповнення шапки
B5: Підрозділ | D5: Вказати назву підрозділу з номером батальйону і роти (за наявності)
B6: Дата випуску | D6: Дата випуску, ця дата буде в сертифікаті
B7: Початок підготовки | D7: Перший день підготовки (адаптаційний день, якщо відсутня, то з адміністративного дня)/ Якщо дата буде виділена жовтим кольором - значить в даті присутня помилка (занадто далека в минулому чи майбутньому, чи невалідне значення).
B8: Закінчення підготовки | D8: Адміністративний день в кінці курсу (попередній день до випуску, якщо ранній випуск). Якщо дата буде виділена жовтим кольором - значить в даті присутня помилка (занадто далека в минулому чи майбутньому, чи невалідне значення), або дата закінчення менше дати початку підготовки.
B9: Назва підготовки | D9: Назва підготовки згідно затвердженої програми
B10: ВОС | D10: Номер ВОС, тільки число (без абревіатури "ВОС")
B11: Техніка / озброєння | D11: Для фахової підготовки: техніка та/або озброєння яки вивчалось протягом курсу
B12: Спеціальність | D12: Отримана спеціальність згідно програми
B13: Викладач | D13: Командир роти / підрозділу який проводив курс. Посада, звання, ПІБ.
A14: Заповнення таблиці
B15: Звання (без скорочень) | D15: Зверніть увагу, що звання має бути вказано повністю і без скорочень.
B16: ПІБ | D16: Прізвище І'мя По батькові повністю без скорочень
B17: Дата народження | D17: Якщо дата народження буде виділена жовтим - значить в даті присутня помилка (занадто молодий чи старий вік, чи значення не формату Дата)
B18: ІПН | D18: Код має перевірку на: - невідповідність до дати народження та валідность контрольної суми (виділить жовтим), - на дублюючі значення у всьому списку (виділить червоним). В такому випадку уважно перевірте правильність введених даних. Якщо код у в/с відсутній чи він від нього відмовився - вказати "відсутній", "відмова" чи порожню комірку
B19: З якої в/ч прибув | D19: Вказуємо номер частини по типу "А0000", якщо з ППОС - вказуємо "ТЦК"
B20: Підготовку завершив | D20: Вказати з наступних варіантів: "Так", "Ні"
B21: Причина по якій не пройшов підготовку | D21: Вказати з випадаючого списку: "СЗЧ", "Шпиталь", "Відмова", "Звільнений", "Помер", "Вибув за станом здоров'я", "Відпустка", "Вибув / інші причини". Якщо в/с курс пройшов, то в цій колонці нічого не ставимо.
B22: В яку частину вибув | D22: Вказуємо номер частини по типу "А0000", (за наявності інформації)
B23: Примітки | D23: Інша інформація, стосовно причин, чому не завершив курс, якщо необхідно ("СЗЧ 10.12.2025", "Хворів 10-23.12.2025", "Відпустка по реабілтації 30.11-29.12.2025", "Низький морально-псих. стан, вибув в бригаду 10.12.2025")
B24: Загальна оцінка | D24: Загальна оцінка за курс в числовому відображенні: 2, 3, 4, 5. Якщо оцінка підсвічується жовтим - не відповідає встановленим значенням
B25: Оцінка1, Оцінка2, Оцінка3 | D25: Вказується в числовому відображенні: 2, 3, 4, 5. Для різних видів підготовок кожна оцінка відповідає за певні критерії оцінювання: за теорію, практику, та інше. Відповідають оцінкам згідно програми підготовки і фінальним оцінкам за курс. Наприклад: - БЗВП: тільки загальна оцінка; - Підготовка стрілка-санітара: загальна оцінка, теорія, практика; - і т.д.
A35: password
A36: 199
A39: не задовільно
A40: задовільно
A41: добре
A42: відмінно
A45: СЗЧ
A46: Звільнення
A47: Шпиталь
A48: Відмова
A49: Помер
A50: Вибув - стан здор.
A51: Відпустка
A52: Вибув / інші причини
... A55: Ні

Sheet Курсанти
B1: Підрозділ | C1: 1 НБ 1 НР
B2: Дата випуску | C2: 46053
B3: Початок підготовки | C3: 46000
B4: Закінчення підготовки | C4: 46052
B5: Назва підготовки | C5: БЗВП
B6: ВОС | C6: 100
B7: Техніка / озброєння
B8: Спеціальність | C8: стрілок | J8: БЗВП: | K8: Загальна | L8: ----- | M8: ----- | N8: -----
B9: Викладач | C9: командир 1НР 1НБ майор Степанюк Дмитро Миколайович | J9: Такмед: | K9: Загальна | L9: теорія | M9: практика | N9: -----
J10: Безпілотники: | K10: Загальна | L10: спеціальна | M10: технічна | N10: льотна
A11: № | B11: Звання (без скорочень) | C11: П.І.Б. | D11: Дата народження | E11: ІПН | F11: З якої в/ч (ТЦК) прибув | G11: Підготовку завершив (так/ні) | H11: Причина по якій не пройшов підготовку | I11: В яку частину вибув | J11: Примітки | K11: Загальна оцінка | L11: Оцінка 1 | M11: Оцінка 2 | N11: Оцінка 3
A12: 1 | B12: солдат | C12: Алікін Ігор Валерійович | D12: 29183 | E12: 2918214695 | F12: ТЦК | G12: Так | I12: А0224 | K12: 4
A13: 2 | B13: старший солдат | C13: Андрійченко Павло Валентинович | D13: 36025 | E13: 3602408693 | F13: ТЦК | G13: Так | I13: А3091 | K13: 3
A14: 3 | B14: солдат | C14: Балега Сергій Андрійович | D14: 34318 | E14: 3431710992 | F14: ТЦК | G14: Ні | H14: Шпиталь
A15: 4 | B15: солдат | C15: Безверхий Микола Олександрович | D15: 31941 | E15: 3194014372 | F15: ТЦК | G15: Ні | H15: Шпиталь
A16: 5 | B16: солдат | C16: Бєднов Максим Олександрович | D16: 31762 | E16: 3176100554 | F16: ТЦК | G16: Так | I16: А0281 | K16: 4
A17: 6 | B17: солдат | C17: Бойко Денис Андрійович | D17: 34115 | E17: 3411407798 | F17: ТЦК | G17: Ні | H17: СЗЧ
A18: 7 | B18: солдат | C18: Буга Іван Іванович | D18: 32150 | E18: 3214909813 | F18: ТЦК | G18: Так | I18: А2582 | K18: 4
A19: 8 | B19: солдат | C19: Бур'ян Євгеній Юрійович | D19: 36164 | E19: 3616310470 | F19: ТЦК | G19: Ні | H19: СЗЧ
A20: 9 | B20: солдат | C20: Бурбелко Юрій Володимирович | D20: 33350 | E20: 3334902513 | F20: ТЦК | G20: Так | I20: А0281 | K20: 4
A21: 10 | B21: старший солдат | C21: Буткевич Олександр Вікторович | D21: 34339 | E21: 3433805653 | F21: ТЦК | G21: Так | I21: А2298 | K21: 3
A22: 11 | B22: солдат | C22: Буховський Леонід Валентинович | D22: 29119 | E22: 2911812013 | F22: ТЦК | H22: Шпиталь | K22: 3
A23: 12 | B23: солдат | C23: Василишин Михайло Васильович | D23: 29184 | E23: 2918303531 | F23: ТЦК | G23: Так | I23: А2120 | K23: 3
A24: 13 | B24: солдат | C24: Вдовиченко Дмитро Васильович | D24: 33643 | E24: 3364211033 | F24: ТЦК | G24: Ні | H24: СЗЧ
A25: 14 | B25: солдат | C25: Вержанський Віталій Анатолійович | D25: 35945 | E25: 3594412331 | F25: ТЦК | G25: Ні | H25: СЗЧ
A26: 15 | B26: солдат | C26: Вистороп Віталій Миколайович | D26: 28722 | E26: 2872303676 | F26: ТЦК | G26: Так | I26: А0281 | K26: 4
A27: 16 | B27: солдат | C27: Войтюк Олександр Михайлович | D27: 31643 | E27: 3164222753 | F27: ТЦК | G27: Так | I27: А 4030 | K27: 4
A28: 17 | B28: солдат | C28: Волковінський Анатолій Васильович | D28: 34774 | E28: 3477301797 | F28: ТЦК | G28: Так | I28: А0224 | K28: 3
A29: 18 | B29: старший солдат | C29: Воловенко Андрій Володимирович | D29: 34873 | E29: 3487211117 | F29: ТЦК | G29: Так | I29: А0281 | K29: 3
A30: 19 | B30: солдат | C30: Волосовський Артур Сергійович | D30: 34917 | E30: 3491613351 | F30: ТЦК | G30: Ні | H30: СЗЧ
A31: 20 | B31: солдат | C31: Ворона Валерій Павлович | D31: 35422 | E31: 3542111894 | F31: ТЦК | G31: Ні | H31: СЗЧ
A32: 21 | B32: солдат | C32: Гарасимів Володимир Борисович | D32: 35236 | E32: 3523506614 | F32: ТЦК | G32: Так | I32: А2298 | K32: 3
A33: 22 | B33: солдат | C33: Главацький Олександр Вікторович | D33: 36434 | E33: 3643310370 | F33: ТЦК | G33: Так | I33: А2582 | K33: 3
A34: 23 | B34: солдат | C34: Глущак Ігор Васильович | D34: 35860 | E34: 3585900455 | F34: ТЦК | G34: Ні | H34: СЗЧ
A35: 24 | B35: солдат | C35: Головатий Сергій Васильович | D35: 33942 | E35: 3394102933 | F35: ТЦК | G35: Так | I35: А0281 | K35: 4
A36: 25 | B36: солдат | C36: Головін Михайло Олександрович | D36: 36769 | E36: 3676811570 | F36: ТЦК | G36: Так | I36: А2298 | K36: 4
A37: 26 | B37: старший сержант | C37: Голосовський Дмитро Олександрович | D37: 29524 | E37: 2952305138 | F37: ТЦК | G37: Ні | H37: СЗЧ
A38: 27 | B38: солдат | C38: Горецький Олександр Пилипович | D38: 31317 | E38: 3131608255 | F38: ТЦК | G38: Ні | H38: Шпиталь
A39: 28 | B39: солдат | C39: Гоцький Віталій Ігорович | D39: 31690 | E39: 3168905454 | F39: ТЦК | G39: Ні | H39: Шпиталь
A40: 29 | B40: солдат | C40: Демишкан Михайло Володимирович | D40: 31355 | E40: 3135420177 | F40: ТЦК | G40: Так | I40: А2120 | K40: 4
...

Sheet Статистика
C1: Статистика по поточному курсу підготовки
B3: Частина | C3: Всього зайшло на підготовку | D3: Пройшло підготовку | E3: Не пройшло підготовку | F3: СЗЧ | G3: Звільнення | H3: Шпиталь | I3: Відмова | J3: Помер | K3: Відпустка | L3: Вибув - стан здор. | M3: Вибув / інші причини
B4: Всього | C4: =IF(B4<>"",COUNTA(Total_pers[П.І.Б.]),"") -> 145 | D4: =IF($B4<>"",COUNTIFS(Total_pers[Підготовку завершив (так/ні)],"так"),"") -> 93 | E4: =IF($B4<>"",COUNTIFS(Total_pers[Підготовку завершив (так/ні)],"ні"),"") -> 51 | F4: =IF($B4<>"",COUNTIFS( Total_pers[Причина по якій не пройшов підготовку], Статистика!F$3),"") -> 38 | G4: =IF($B4<>"",COUNTIFS( Total_pers[Причина по якій не пройшов підготовку], G$3),"") -> 0 | H4: =IF($B4<>"",COUNTIFS( Total_pers[Причина по якій не пройшов підготовку], Статистика!H$3),"") -> 14 | I4: =IF($B4<>"",COUNTIFS( Total_pers[Причина по якій не пройшов підготовку], Статистика!I$3),"") -> 0 | J4: =IF($B4<>"",COUNTIFS( Total_pers[Причина по якій не пройшов підготовку], Статистика!J$3),"") -> 0 | K4: =IF($B4<>"",COUNTIFS( Total_pers[Причина по якій не пройшов підготовку], Статистика!K$3),"") -> 0 | L4: =IF($B4<>"",COUNTIFS( Total_pers[Причина по якій не пройшов підготовку], Статистика!L$3),"") -> 0 | M4: =IF($B4<>"",COUNTIFS( Total_pers[Причина по якій не пройшов підготовку], Статистика!M$3),"") -> 0
B5: {=_xlfn.UNIQUE(_xlfn._xlws.FILTER(Total_pers[З якої в/ч (ТЦК) прибув],Total_pers[З якої в/ч (ТЦК) прибув]<>"",""))} -> ТЦК | C5: =IF($B5<>"",COUNTIF(Total_pers[З якої в/ч (ТЦК) прибув], $B5),"") -> 143 | D5: =IF($B5<>"",COUNTIFS(Total_pers[З якої в/ч (ТЦК) прибув], $B5,Total_pers[Підготовку завершив (так/ні)],"так"),"") -> 91 | E5: =IF($B5<>"",COUNTIFS(Total_pers[З якої в/ч (ТЦК) прибув], $B5,Total_pers[Підготовку завершив (так/ні)],"ні"),"") -> 51 | F5: =IF($B5<>"",COUNTIFS(Total_pers[З якої в/ч (ТЦК) прибув], $B5, Total_pers[Причина по якій не пройшов підготовку], Статистика!F$3),"") -> 38 | G5: =IF($B5<>"",COUNTIFS(Total_pers[З якої в/ч (ТЦК) прибув], $B5, Total_pers[Причина по якій не пройшов підготовку], G$3),"") -> 0 | H5: =IF($B5<>"",COUNTIFS(Total_pers[З якої в/ч (ТЦК) прибув], $B5, Total_pers[Причина по якій не пройшов підготовку], H$3),"") -> 14 | I5: =IF($B5<>"",COUNTIFS(Total_pers[З якої в/ч (ТЦК) прибув], $B5, Total_pers[Причина по якій не пройшов підготовку], I$3),"") -> 0 | J5: =IF($B5<>"",COUNTIFS(Total_pers[З якої в/ч (ТЦК) прибув], $B5, Total_pers[Причина по якій не пройшов підготовку], J$3),"") -> 0 | K5: =IF($B5<>"",COUNTIFS(Total_pers[З якої в/ч (ТЦК) прибув], $B5, Total_pers[Причина по якій не пройшов підготовку], K$3),"") -> 0 | L5: =IF($B5<>"",COUNTIFS(Total_pers[З якої в/ч (ТЦК) прибув], $B5, Total_pers[Причина по якій не пройшов підготовку], L$3),"") -> 0 | M5: =IF($B5<>"",COUNTIFS(Total_pers[З якої в/ч (ТЦК) прибув], $B5, Total_pers[Причина по якій не пройшов підготовку], M$3),"") -> 0
C6: =IF($B6<>"",COUNTIF(Total_pers[З якої в/ч (ТЦК) прибув], $B6),"") | D6: =IF($B6<>"",COUNTIFS(Total_pers[З якої в/ч (ТЦК) прибув], $B6,Total_pers[Підготовку завершив (так/ні)],"так"),"") | E6: =IF($B6<>"",COUNTIFS(Total_pers[З якої в/ч (ТЦК) прибув], $B6,Total_pers[Підготовку завершив (так/ні)],"ні"),"") | F6: =IF($B6<>"",COUNTIFS(Total_pers[З якої в/ч (ТЦК) прибув], $B6, Total_pers[Причина по якій не пройшов підготовку], Статистика!F$3),"") | G6: =IF($B6<>"",COUNTIFS(Total_pers[З якої в/ч (ТЦК) прибув], $B6, Total_pers[Причина по якій не пройшов підготовку], G$3),"") | H6: =IF($B6<>"",COUNTIFS(Total_pers[З якої в/ч (ТЦК) прибув], $B6, Total_pers[Причина по якій не пройшов підготовку], H$3),"") | I6: =IF($B6<>"",COUNTIFS(Total_pers[З якої в/ч (ТЦК) прибув], $B6, Total_pers[Причина по якій не пройшов підготовку], I$3),"") | J6: =IF($B6<>"",COUNTIFS(Total_pers[З якої в/ч (ТЦК) прибув], $B6, Total_pers[Причина по якій не пройшов підготовку], J$3),"") | K6: =IF($B6<>"",COUNTIFS(Total_pers[З якої в/ч (ТЦК) прибув], $B6, Total_pers[Причина по якій не пройшов підготовку], K$3),"") | L6: =IF($B6<>"",COUNTIFS(Total_pers[З якої в/ч (ТЦК) прибув], $B6, Total_pers[Причина по якій не пройшов підготовку], L$3),"") | M6: =IF($B6<>"",COUNTIFS(Total_pers[З якої в/ч (ТЦК) прибув], $B6, Total_pers[Причина по якій не пройшов підготовку], M$3),"")
C7: =IF($B7<>"",COUNTIF(Total_pers[З якої в/ч (ТЦК) прибув], $B7),"") | D7: =IF($B7<>"",COUNTIFS(Total_pers[З якої в/ч (ТЦК) прибув], $B7,Total_pers[Підготовку завершив (так/ні)],"так"),"") | E7: =IF($B7<>"",COUNTIFS(Total_pers[З якої в/ч (ТЦК) прибув], $B7,Total_pers[Підготовку завершив (так/ні)],"ні"),"") | F7: =IF($B7<>"",COUNTIFS(Total_pers[З якої в/ч (ТЦК) прибув], $B7, Total_pers[Причина по якій не пройшов підготовку], Статистика!F$3),"") | G7: =IF($B7<>"",COUNTIFS(Total_pers[З якої в/ч (ТЦК) прибув], $B7, Total_pers[Причина по якій не пройшов підготовку], G$3),"") | H7: =IF($B7<>"",COUNTIFS(Total_pers[З якої в/ч (ТЦК) прибув], $B7, Total_pers[Причина по якій не пройшов підготовку], H$3),"") | I7: =IF($B7<>"",COUNTIFS(Total_pers[З якої в/ч (ТЦК) прибув], $B7, Total_pers[Причина по якій не пройшов підготовку], I$3),"") | J7: =IF($B7<>"",COUNTIFS(Total_pers[З якої в/ч (ТЦК) прибув], $B7, Total_pers[Причина по якій не пройшов підготовку], J$3),"") | K7: =IF($B7<>"",COUNTIFS(Total_pers[З якої в/ч (ТЦК) прибув], $B7, Total_pers[Причина по якій не пройшов підготовку], K$3),"") | L7: =IF($B7<>"",COUNTIFS(Total_pers[З якої в/ч (ТЦК) прибув], $B7, Total_pers[Причина по якій не пройшов підготовку], L$3),"") | M7: =IF($B7<>"",COUNTIFS(Total_pers[З якої в/ч (ТЦК) прибув], $B7, Total_pers[Причина по якій не пройшов підготовку], M$3),"")
C8: =IF($B8<>"",COUNTIF(Total_pers[З якої в/ч (ТЦК) прибув], $B8),"") | D8: =IF($B8<>"",COUNTIFS(Total_pers[З якої в/ч (ТЦК) прибув], $B8,Total_pers[Підготовку завершив (так/ні)],"так"),"") | E8: =IF($B8<>"",COUNTIFS(Total_pers[З якої в/ч (ТЦК) прибув], $B8,Total_pers[Підготовку завершив (так/ні)],"ні"),"") | F8: =IF($B8<>"",COUNTIFS(Total_pers[З якої в/ч (ТЦК) прибув], $B8, Total_pers[Причина по якій не пройшов підготовку], Статистика!F$3),"") | G8: =IF($B8<>"",COUNTIFS(Total_pers[З якої в/ч (ТЦК) прибув], $B8, Total_pers[Причина по якій не пройшов підготовку], G$3),"") | H8: =IF($B8<>"",COUNTIFS(Total_pers[З якої в/ч (ТЦК) прибув], $B8, Total_pers[Причина по якій не пройшов підготовку], H$3),"") | I8: =IF($B8<>"",COUNTIFS(Total_pers[З якої в/ч (ТЦК) прибув], $B8, Total_pers[Причина по якій не пройшов підготовку], I$3),"") | J8: =IF($B8<>"",COUNTIFS(Total_pers[З якої в/ч (ТЦК) прибув], $B8, Total_pers[Причина по якій не пройшов підготовку], J$3),"") | K8: =IF($B8<>"",COUNTIFS(Total_pers[З якої в/ч (ТЦК) прибув], $B8, Total_pers[Причина по якій не пройшов підготовку], K$3),"") | L8: =IF($B8<>"",COUNTIFS(Total_pers[З якої в/ч (ТЦК) прибув], $B8, Total_pers[Причина по якій не пройшов підготовку], L$3),"") | M8: =IF($B8<>"",COUNTIFS(Total_pers[З якої в/ч (ТЦК) прибув], $B8, Total_pers[Причина по якій не пройшов підготовку], M$3),"")
C9: =IF($B9<>"",COUNTIF(Total_pers[З якої в/ч (ТЦК) прибув], $B9),"") | D9: =IF($B9<>"",COUNTIFS(Total_pers[З якої в/ч (ТЦК) прибув], $B9,Total_pers[Підготовку завершив (так/ні)],"так"),"") | E9: =IF($B9<>"",COUNTIFS(Total_pers[З якої в/ч (ТЦК) прибув], $B9,Total_pers[Підготовку завершив (так/ні)],"ні"),"") | F9: =IF($B9<>"",COUNTIFS(Total_pers[З якої в/ч (ТЦК) прибув], $B9, Total_pers[Причина по якій не пройшов підготовку], Статистика!F$3),"") | G9: =IF($B9<>"",COUNTIFS(Total_pers[З якої в/ч (ТЦК) прибув], $B9, Total_pers[Причина по якій не пройшов підготовку], G$3),"") | H9: =IF($B9<>"",COUNTIFS(Total_pers[З якої в/ч (ТЦК) прибув], $B9, Total_pers[Причина по якій не пройшов підготовку], H$3),"") | I9: =IF($B9<>"",COUNTIFS(Total_pers[З якої в/ч (ТЦК) прибув], $B9, Total_pers[Причина по якій не пройшов підготовку], I$3),"") | J9: =IF($B9<>"",COUNTIFS(Total_pers[З якої в/ч (ТЦК) прибув], $B9, Total_pers[Причина по якій не пройшов підготовку], J$3),"") | K9: =IF($B9<>"",COUNTIFS(Total_pers[З якої в/ч (ТЦК) прибув], $B9, Total_pers[Причина по якій не пройшов підготовку], K$3),"") | L9: =IF($B9<>"",COUNTIFS(Total_pers[З якої в/ч (ТЦК) прибув], $B9, Total_pers[Причина по якій не пройшов підготовку], L$3),"") | M9: =IF($B9<>"",COUNTIFS(Total_pers[З якої в/ч (ТЦК) прибув], $B9, Total_pers[Причина по якій не пройшов підготовку], M$3),"")
C10: =IF($B10<>"",COUNTIF(Total_pers[З якої в/ч (ТЦК) прибув], $B10),"") | D10: =IF($B10<>"",COUNTIFS(Total_pers[З якої в/ч (ТЦК) прибув], $B10,Total_pers[Підготовку завершив (так/ні)],"так"),"") | E10: =IF($B10<>"",COUNTIFS(Total_pers[З якої в/ч (ТЦК) прибув], $B10,Total_pers[Підготовку завершив (так/ні)],"ні"),"") | F10: =IF($B10<>"",COUNTIFS(Total_pers[З якої в/ч (ТЦК) прибув], $B10, Total_pers[Причина по якій не пройшов підготовку], Статистика!F$3),"") | G10: =IF($B10<>"",COUNTIFS(Total_pers[З якої в/ч (ТЦК) прибув], $B10, Total_pers[Причина по якій не пройшов підготовку], G$3),"") | H10: =IF($B10<>"",COUNTIFS(Total_pers[З якої в/ч (ТЦК) прибув], $B10, Total_pers[Причина по якій не пройшов підготовку], H$3),"") | I10: =IF($B10<>"",COUNTIFS(Total_pers[З якої в/ч (ТЦК) прибув], $B10, Total_pers[Причина по якій не пройшов підготовку], I$3),"") | J10: =IF($B10<>"",COUNTIFS(Total_pers[З якої в/ч (ТЦК) прибув], $B10, Total_pers[Причина по якій не пройшов підготовку], J$3),"") | K10: =IF($B10<>"",COUNTIFS(Total_pers[З якої в/ч (ТЦК) прибув], $B10, Total_pers[Причина по якій не пройшов підготовку], K$3),"") | L10: =IF($B10<>"",COUNTIFS(Total_pers[З якої в/ч (ТЦК) прибув], $B10, Total_pers[Причина по якій не пройшов підготовку], L$3),"") | M10: =IF($B10<>"",COUNTIFS(Total_pers[З якої в/ч (ТЦК) прибув], $B10, Total_pers[Причина по якій не пройшов підготовку], M$3),"")
C11: =IF($B11<>"",COUNTIF(Total_pers[З якої в/ч (ТЦК) прибув], $B11),"") | D11: =IF($B11<>"",COUNTIFS(Total_pers[З якої в/ч (ТЦК) прибув], $B11,Total_pers[Підготовку завершив (так/ні)],"так"),"") | E11: =IF($B11<>"",COUNTIFS(Total_pers[З якої в/ч (ТЦК) прибув], $B11,Total_pers[Підготовку завершив (так/ні)],"ні"),"") | F11: =IF($B11<>"",COUNTIFS(Total_pers[З якої в/ч (ТЦК) прибув], $B11, Total_pers[Причина по якій не пройшов підготовку], Статистика!F$3),"") | G11: =IF($B11<>"",COUNTIFS(Total_pers[З якої в/ч (ТЦК) прибув], $B11, Total_pers[Причина по якій не пройшов підготовку], G$3),"") | H11: =IF($B11<>"",COUNTIFS(Total_pers[З якої в/ч (ТЦК) прибув], $B11, Total_pers[Причина по якій не пройшов підготовку], H$3),"") | I11: =IF($B11<>"",COUNTIFS(Total_pers[З якої в/ч (ТЦК) прибув], $B11, Total_pers[Причина по якій не пройшов підготовку], I$3),"") | J11: =IF($B11<>"",COUNTIFS(Total_pers[З якої в/ч (ТЦК) прибув], $B11, Total_pers[Причина по якій не пройшов підготовку], J$3),"") | K11: =IF($B11<>"",COUNTIFS(Total_pers[З якої в/ч (ТЦК) прибув], $B11, Total_pers[Причина по якій не пройшов підготовку], K$3),"") | L11: =IF($B11<>"",COUNTIFS(Total_pers[З якої в/ч (ТЦК) прибув], $B11, Total_pers[Причина по якій не пройшов підготовку], L$3),"") | M11: =IF($B11<>"",COUNTIFS(Total_pers[З якої в/ч (ТЦК) прибув], $B11, Total_pers[Причина по якій не пройшов підготовку], M$3),"")
C12: =IF($B12<>"",COUNTIF(Total_pers[З якої в/ч (ТЦК) прибув], $B12),"") | D12: =IF($B12<>"",COUNTIFS(Total_pers[З якої в/ч (ТЦК) прибув], $B12,Total_pers[Підготовку завершив (так/ні)],"так"),"") | E12: =IF($B12<>"",COUNTIFS(Total_pers[З якої в/ч (ТЦК) прибув], $B12,Total_pers[Підготовку завершив (так/ні)],"ні"),"") | F12: =IF($B12<>"",COUNTIFS(Total_pers[З якої в/ч (ТЦК) прибув], $B12, Total_pers[Причина по якій не пройшов підготовку], Статистика!F$3),"") | G12: =IF($B12<>"",COUNTIFS(Total_pers[З якої в/ч (ТЦК) прибув], $B12, Total_pers[Причина по якій не пройшов підготовку], G$3),"") | H12: =IF($B12<>"",COUNTIFS(Total_pers[З якої в/ч (ТЦК) прибув], $B12, Total_pers[Причина по якій не пройшов підготовку], H$3),"") | I12: =IF($B12<>"",COUNTIFS(Total_pers[З якої в/ч (ТЦК) прибув], $B12, Total_pers[Причина по якій не пройшов підготовку], I$3),"") | J12: =IF($B12<>"",COUNTIFS(Total_pers[З якої в/ч (ТЦК) прибув], $B12, Total_pers[Причина по якій не пройшов підготовку], J$3),"") | K12: =IF($B12<>"",COUNTIFS(Total_pers[З якої в/ч (ТЦК) прибув], $B12, Total_pers[Причина по якій не пройшов підготовку], K$3),"") | L12: =IF($B12<>"",COUNTIFS(Total_pers[З якої в/ч (ТЦК) прибув], $B12, Total_pers[Причина по якій не пройшов підготовку], L$3),"") | M12: =IF($B12<>"",COUNTIFS(Total_pers[З якої в/ч (ТЦК) прибув], $B12, Total_pers[Причина по якій не пройшов підготовку], M$3),"")
C13: =IF($B13<>"",COUNTIF(Total_pers[З якої в/ч (ТЦК) прибув], $B13),"") | D13: =IF($B13<>"",COUNTIFS(Total_pers[З якої в/ч (ТЦК) прибув], $B13,Total_pers[Підготовку завершив (так/ні)],"так"),"") | E13: =IF($B13<>"",COUNTIFS(Total_pers[З якої в/ч (ТЦК) прибув], $B13,Total_pers[Підготовку завершив (так/ні)],"ні"),"") | F13: =IF($B13<>"",COUNTIFS(Total_pers[З якої в/ч (ТЦК) прибув], $B13, Total_pers[Причина по якій не пройшов підготовку], Статистика!F$3),"") | G13: =IF($B13<>"",COUNTIFS(Total_pers[З якої в/ч (ТЦК) прибув], $B13, Total_pers[Причина по якій не пройшов підготовку], G$3),"") | H13: =IF($B13<>"",COUNTIFS(Total_pers[З якої в/ч (ТЦК) прибув], $B13, Total_pers[Причина по якій не пройшов підготовку], H$3),"") | I13: =IF($B13<>"",COUNTIFS(Total_pers[З якої в/ч (ТЦК) прибув], $B13, Total_pers[Причина по якій не пройшов підготовку], I$3),"") | J13: =IF($B13<>"",COUNTIFS(Total_pers[З якої в/ч (ТЦК) прибув], $B13, Total_pers[Причина по якій не пройшов підготовку], J$3),"") | K13: =IF($B13<>"",COUNTIFS(Total_pers[З якої в/ч (ТЦК) прибув], $B13, Total_pers[Причина по якій не пройшов підготовку], K$3),"") | L13: =IF($B13<>"",COUNTIFS(Total_pers[З якої в/ч (ТЦК) прибув], $B13, Total_pers[Причина по якій не пройшов підготовку], L$3),"") | M13: =IF($B13<>"",COUNTIFS(Total_pers[З якої в/ч (ТЦК) прибув], $B13, Total_pers[Причина по якій не пройшов підготовку], M$3),"")
C14: =IF($B14<>"",COUNTIF(Total_pers[З якої в/ч (ТЦК) прибув], $B14),"") | D14: =IF($B14<>"",COUNTIFS(Total_pers[З якої в/ч (ТЦК) прибув], $B14,Total_pers[Підготовку завершив (так/ні)],"так"),"") | E14: =IF($B14<>"",COUNTIFS(Total_pers[З якої в/ч (ТЦК) прибув], $B14,Total_pers[Підготовку завершив (так/ні)],"ні"),"") | F14: =IF($B14<>"",COUNTIFS(Total_pers[З якої в/ч (ТЦК) прибув], $B14, Total_pers[Причина по якій не пройшов підготовку], Статистика!F$3),"") | G14: =IF($B14<>"",COUNTIFS(Total_pers[З якої в/ч (ТЦК) прибув], $B14, Total_pers[Причина по якій не пройшов підготовку], G$3),"") | H14: =IF($B14<>"",COUNTIFS(Total_pers[З якої в/ч (ТЦК) прибув], $B14, Total_pers[Причина по якій не пройшов підготовку], H$3),"") | I14: =IF($B14<>"",COUNTIFS(Total_pers[З якої в/ч (ТЦК) прибув], $B14, Total_pers[Причина по якій не пройшов підготовку], I$3),"") | J14: =IF($B14<>"",COUNTIFS(Total_pers[З якої в/ч (ТЦК) прибув], $B14, Total_pers[Причина по якій не пройшов підготовку], J$3),"") | K14: =IF($B14<>"",COUNTIFS(Total_pers[З якої в/ч (ТЦК) прибув], $B14, Total_pers[Причина по якій не пройшов підготовку], K$3),"") | L14: =IF($B14<>"",COUNTIFS(Total_pers[З якої в/ч (ТЦК) прибув], $B14, Total_pers[Причина по якій не пройшов підготовку], L$3),"") | M14: =IF($B14<>"",COUNTIFS(Total_pers[З якої в/ч (ТЦК) прибув], $B14, Total_pers[Причина по якій не пройшов підготовку], M$3),"")
C15: =IF($B15<>"",COUNTIF(Total_pers[З якої в/ч (ТЦК) прибув], $B15),"") | D15: =IF($B15<>"",COUNTIFS(Total_pers[З якої в/ч (ТЦК) прибув], $B15,Total_pers[Підготовку завершив (так/ні)],"так"),"") | E15: =IF($B15<>"",COUNTIFS(Total_pers[З якої в/ч (ТЦК) прибув], $B15,Total_pers[Підготовку завершив (так/ні)],"ні"),"") | F15: =IF($B15<>"",COUNTIFS(Total_pers[З якої в/ч (ТЦК) прибув], $B15, Total_pers[Причина по якій не пройшов підготовку], Статистика!F$3),"") | G15: =IF($B15<>"",COUNTIFS(Total_pers[З якої в/ч (ТЦК) прибув], $B15, Total_pers[Причина по якій не пройшов підготовку], G$3),"") | H15: =IF($B15<>"",COUNTIFS(Total_pers[З якої в/ч (ТЦК) прибув], $B15, Total_pers[Причина по якій не пройшов підготовку], H$3),"") | I15: =IF($B15<>"",COUNTIFS(Total_pers[З якої в/ч (ТЦК) прибув], $B15, Total_pers[Причина по якій не пройшов підготовку], I$3),"") | J15: =IF($B15<>"",COUNTIFS(Total_pers[З якої в/ч (ТЦК) прибув], $B15, Total_pers[Причина по якій не пройшов підготовку], J$3),"") | K15: =IF($B15<>"",COUNTIFS(Total_pers[З якої в/ч (ТЦК) прибув], $B15, Total_pers[Причина по якій не пройшов підготовку], K$3),"") | L15: =IF($B15<>"",COUNTIFS(Total_pers[З якої в/ч (ТЦК) прибув], $B15, Total_pers[Причина по якій не пройшов підготовку], L$3),"") | M15: =IF($B15<>"",COUNTIFS(Total_pers[З якої в/ч (ТЦК) прибув], $B15, Total_pers[Причина по якій не пройшов підготовку], M$3),"")
