Workbook

Sheet Основний
Z2: Додаток
Z3: (Форма 5.10. ОС)
A4: ДОНЕСЕННЯ
A5: про зарахування військовослужбовців військової служби за контрактом на навчання до навчального центру (ВВНЗ, ВНП ЗВО)
A6: військова частина А2900
A7: найменування навчального центру (ВВНЗ, ВНЗ ЗВО)
A9: 1. Список військовослужбовців військової служби за контрактом, які зараховані на навчання
A10: № з/п | B10: Військове звання | C10: {=SUMPRODUCT(--(TRIM(C12:C1000)<>""))} -> 2 | D10: Військова частина, ТЦК та СП | E10: Місто | F10: Область | G10: Дата народження | H10: ідентифікаційний код | I10: Тип документа (військовий квиток, приписне, тимчасове посвідчення) | J10: Номер додумента (військовий квиток, приписне, тимчасове посвідчення) | K10: Паспорт, ким і коли виданий | L10: Місце народження | M10: адреса (фактична) | N10: Рівень освіти | O10: Заклад який закінчив Рік закінчення Професія | P10: Професійний досвід Права | Q10: склад сім’ї | R10: № телефону | S10: ВОС (попередній) | T10: Спеціальність, за якою зарахований на навчання | W10: Найменування підготовки (курсу) | X10: Термін підготовки | Y10: Дата та № наказу про зарахування | Z10: присяга | AA10: Довідка про відсунтість вагітності (для жінок) | AB10: Дата висновку ВЛК | AC10: Придатність | AD10: Примітка | AE10: =COUNT(AE12:AE9962) -> 2 | AF10: =COUNT(AF12:AF9962) -> 0 | AG10: =COUNT(AG12:AG9962) -> 0 | AH10: =COUNT(AH12:AH9962) -> 0 | AI10: =IFERROR(AVERAGE(AE12:AH9962),0) -> 22
T11: посада | U11: ВОС | V11: код посади | AE11: до 30 | AF11: 31-35 | AG11: 36-40 | AH11: 41-45 | AI11: Середній вік
A12: 1 | B12: солдат | C12: Теньов Михайло Віталійович | D12: Первомайський РТЦК та СП | F12: Миколаївська | G12: 37190 | H12: 3718906110 | I12: Військово-обліковий документ | J12: №171020249340449460311 Первомайський РТЦК та СП (в Миколаївській обл.) 17.04.2025 | K12: 007795096 виданий 8025 18.06.2022 | L12: м. Київ | M12: Миколаївська обл., Первомайський р-н, с. Врадіївка, вул. Правди, 97 | N12: повна загальна середня | O12: Спеціальна загальноосвітня школа з поглибленим вивченням іноземних мов, №329, 2017р | P12: Продавець-консультант | Q12: неодружений мати: Теньова Марія Леонідівна, м. Київ, вул. Урлівська, 15, 257, 0677791688 друг: Буденко Микита Олександрович, м. Київ, 0985707362 | R12: 0506589420 | T12: курсант | U12: 100 | Y12: 24.04.2025 №125-РС | Z12: ні | AB12: 45765 | AC12: Придатний до військової служби | AD12: А4165 по розподілу рекомендаційний лист | AE12: =IF(INT(YEARFRAC(G12,TODAY()))<=30,INT(YEARFRAC(G12,TODAY())),"") -> 23 | AF12: =IF(AND(INT(YEARFRAC(G12,TODAY()))>=31,INT(YEARFRAC(G12,TODAY()))<=35),INT(YEARFRAC(G12,TODAY())),"") | AG12: =IF(AND(INT(YEARFRAC(G12,TODAY()))>=36,INT(YEARFRAC(G12,TODAY()))<=40),INT(YEARFRAC(G12,TODAY())),"") | AH12: =IF(AND(INT(YEARFRAC(G12,TODAY()))>=41,INT(YEARFRAC(G12,TODAY()))<=45),INT(YEARFRAC(G12,TODAY())),"")
A13: 2 | B13: солдат | C13: Гривцов Дмитро Андрійович | D13: Миколаївський РТЦК та СП | F13: Миколаївська | G13: 37819 | H13: 3781802819 | I13: Посвідчення про приписку до призовної дільниці | J13: Г-7/03 Миколаївський РВК Миколаївської обл. 28.01.2020 | K13: 009312616 виданий 4812 27.06.2023 | L13: м. Миколаїв | M13: с. Петрівка, Миколаївська обл., Миколаївський р-н, вул. Гагаріна, 29 | N13: професійно- технічна | O13: Надбуйський аграрний ліцей (с. Надбуйське), 2018р слюсар з ремонту автомобілей | P13: на розборці (на СТО) | Q13: неодружений мати: Гривцова Ольга Володимирівна, с. Петрівка, Миколаївська обл., Миколаївський р-н, вул. Гагаріна, 29, 0683094826 друг: Гривцова Наталія Володимирівна, Миколаївська обл, Корабельний р-н, с. Октябрське, 0986354481 | R13: 0683926395 | T13: курсант | U13: 100 | Y13: 24.04.2025 №125-РС | Z13: ні | AB13: 07.0.2025 | AC13: Придатний до військової служби за контрактом в ДШВ | AD13: А0224 по розподілу рекомендаційний лист | AE13: =IF(INT(YEARFRAC(G13,TODAY()))<=30,INT(YEARFRAC(G13,TODAY())),"") -> 21 | AF13: =IF(AND(INT(YEARFRAC(G13,TODAY()))>=31,INT(YEARFRAC(G13,TODAY()))<=35),INT(YEARFRAC(G13,TODAY())),"") | AG13: =IF(AND(INT(YEARFRAC(G13,TODAY()))>=36,INT(YEARFRAC(G13,TODAY()))<=40),INT(YEARFRAC(G13,TODAY())),"") | AH13: =IF(AND(INT(YEARFRAC(G13,TODAY()))>=41,INT(YEARFRAC(G13,TODAY()))<=45),INT(YEARFRAC(G13,TODAY())),"")
F14: {=IF( ISBLANK(D14), "", IF( COUNTIF(Settings!G$1:G$609, D14) = 1, INDEX(Settings!H$1:H$609, MATCH(D14, Settings!G$1:G$609, 0)), IFERROR( INDEX(Settings!H$1:H$609, MATCH(1, (Settings!G$1:G$609=D14) * (Settings!D$1:D$609=E14), 0 ) ), "" ) ) )} | AA14: =IF(C14="","",IF(S14="","ні","так")) | AE14: =IF(INT(YEARFRAC(G14,TODAY()))<=30,INT(YEARFRAC(G14,TODAY())),"") | AF14: =IF(AND(INT(YEARFRAC(G14,TODAY()))>=31,INT(YEARFRAC(G14,TODAY()))<=35),INT(YEARFRAC(G14,TODAY())),"") | AG14: =IF(AND(INT(YEARFRAC(G14,TODAY()))>=36,INT(YEARFRAC(G14,TODAY()))<=40),INT(YEARFRAC(G14,TODAY())),"") | AH14: =IF(AND(INT(YEARFRAC(G14,TODAY()))>=41,INT(YEARFRAC(G14,TODAY()))<=45),INT(YEARFRAC(G14,TODAY())),"")
F15: {=IF( ISBLANK(D15), "", IF( COUNTIF(Settings!G$1:G$609, D15) = 1, INDEX(Settings!H$1:H$609, MATCH(D15, Settings!G$1:G$609, 0)), IFERROR( INDEX(Settings!H$1:H$609, MATCH(1, (Settings!G$1:G$609=D15) * (Settings!D$1:D$609=E15), 0 ) ), "" ) ) )} | AA15: =IF(C15="","",IF(S15="","ні","так")) | AE15: =IF(INT(YEARFRAC(G15,TODAY()))<=30,INT(YEARFRAC(G15,TODAY())),"") | AF15: =IF(AND(INT(YEARFRAC(G15,TODAY()))>=31,INT(YEARFRAC(G15,TODAY()))<=35),INT(YEARFRAC(G15,TODAY())),"") | AG15: =IF(AND(INT(YEARFRAC(G15,TODAY()))>=36,INT(YEARFRAC(G15,TODAY()))<=40),INT(YEARFRAC(G15,TODAY())),"") | AH15: =IF(AND(INT(YEARFRAC(G15,TODAY()))>=41,INT(YEARFRAC(G15,TODAY()))<=45),INT(YEARFRAC(G15,TODAY())),"")
F16: {=IF( ISBLANK(D16), "", IF( COUNTIF(Settings!G$1:G$609, D16) = 1, INDEX(Settings!H$1:H$609, MATCH(D16, Settings!G$1:G$609, 0)), IFERROR( INDEX(Settings!H$1:H$609, MATCH(1, (Settings!G$1:G$609=D16) * (Settings!D$1:D$609=E16), 0 ) ), "" ) ) )} | AA16: =IF(C16="","",IF(S16="","ні","так")) | AE16: =IF(INT(YEARFRAC(G16,TODAY()))<=30,INT(YEARFRAC(G16,TODAY())),"") | AF16: =IF(AND(INT(YEARFRAC(G16,TODAY()))>=31,INT(YEARFRAC(G16,TODAY()))<=35),INT(YEARFRAC(G16,TODAY())),"") | AG16: =IF(AND(INT(YEARFRAC(G16,TODAY()))>=36,INT(YEARFRAC(G16,TODAY()))<=40),INT(YEARFRAC(G16,TODAY())),"") | AH16: =IF(AND(INT(YEARFRAC(G16,TODAY()))>=41,INT(YEARFRAC(G16,TODAY()))<=45),INT(YEARFRAC(G16,TODAY())),"")
F17: {=IF( ISBLANK(D17), "", IF( COUNTIF(Settings!G$1:G$609, D17) = 1, INDEX(Settings!H$1:H$609, MATCH(D17, Settings!G$1:G$609, 0)), IFERROR( INDEX(Settings!H$1:H$609, MATCH(1, (Settings!G$1:G$609=D17) * (Settings!D$1:D$609=E17), 0 ) ), "" ) ) )} | AA17: =IF(C17="","",IF(S17="","ні","так")) | AE17: =IF(INT(YEARFRAC(G17,TODAY()))<=30,INT(YEARFRAC(G17,TODAY())),"") | AF17: =IF(AND(INT(YEARFRAC(G17,TODAY()))>=31,INT(YEARFRAC(G17,TODAY()))<=35),INT(YEARFRAC(G17,TODAY())),"") | AG17: =IF(AND(INT(YEARFRAC(G17,TODAY()))>=36,INT(YEARFRAC(G17,TODAY()))<=40),INT(YEARFRAC(G17,TODAY())),"") | AH17: =IF(AND(INT(YEARFRAC(G17,TODAY()))>=41,INT(YEARFRAC(G17,TODAY()))<=45),INT(YEARFRAC(G17,TODAY())),"")
F18: {=IF( ISBLANK(D18), "", IF( COUNTIF(Settings!G$1:G$609, D18) = 1, INDEX(Settings!H$1:H$609, MATCH(D18, Settings!G$1:G$609, 0)), IFERROR( INDEX(Settings!H$1:H$609, MATCH(1, (Settings!G$1:G$609=D18) * (Settings!D$1:D$609=E18), 0 ) ), "" ) ) )} | AA18: =IF(C18="","",IF(S18="","ні","так")) | AE18: =IF(INT(YEARFRAC(G18,TODAY()))<=30,INT(YEARFRAC(G18,TODAY())),"") | AF18: =IF(AND(INT(YEARFRAC(G18,TODAY()))>=31,INT(YEARFRAC(G18,TODAY()))<=35),INT(YEARFRAC(G18,TODAY())),"") | AG18: =IF(AND(INT(YEARFRAC(G18,TODAY()))>=36,INT(YEARFRAC(G18,TODAY()))<=40),INT(YEARFRAC(G18,TODAY())),"") | AH18: =IF(AND(INT(YEARFRAC(G18,TODAY()))>=41,INT(YEARFRAC(G18,TODAY()))<=45),INT(YEARFRAC(G18,TODAY())),"")
F19: {=IF( ISBLANK(D19), "", IF( COUNTIF(Settings!G$1:G$609, D19) = 1, INDEX(Settings!H$1:H$609, MATCH(D19, Settings!G$1:G$609, 0)), IFERROR( INDEX(Settings!H$1:H$609, MATCH(1, (Settings!G$1:G$609=D19) * (Settings!D$1:D$609=E19), 0 ) ), "" ) ) )} | AA19: =IF(C19="","",IF(S19="","ні","так")) | AE19: =IF(INT(YEARFRAC(G19,TODAY()))<=30,INT(YEARFRAC(G19,TODAY())),"") | AF19: =IF(AND(INT(YEARFRAC(G19,TODAY()))>=31,INT(YEARFRAC(G19,TODAY()))<=35),INT(YEARFRAC(G19,TODAY())),"") | AG19: =IF(AND(INT(YEARFRAC(G19,TODAY()))>=36,INT(YEARFRAC(G19,TODAY()))<=40),INT(YEARFRAC(G19,TODAY())),"") | AH19: =IF(AND(INT(YEARFRAC(G19,TODAY()))>=41,INT(YEARFRAC(G19,TODAY()))<=45),INT(YEARFRAC(G19,TODAY())),"")
F20: {=IF( ISBLANK(D20), "", IF( COUNTIF(Settings!G$1:G$609, D20) = 1, INDEX(Settings!H$1:H$609, MATCH(D20, Settings!G$1:G$609, 0)), IFERROR( INDEX(Settings!H$1:H$609, MATCH(1, (Settings!G$1:G$609=D20) * (Settings!D$1:D$609=E20), 0 ) ), "" ) ) )} | AA20: =IF(C20="","",IF(S20="","ні","так")) | AE20: =IF(INT(YEARFRAC(G20,TODAY()))<=30,INT(YEARFRAC(G20,TODAY())),"") | AF20: =IF(AND(INT(YEARFRAC(G20,TODAY()))>=31,INT(YEARFRAC(G20,TODAY()))<=35),INT(YEARFRAC(G20,TODAY())),"") | AG20: =IF(AND(INT(YEARFRAC(G20,TODAY()))>=36,INT(YEARFRAC(G20,TODAY()))<=40),INT(YEARFRAC(G20,TODAY())),"") | AH20: =IF(AND(INT(YEARFRAC(G20,TODAY()))>=41,INT(YEARFRAC(G20,TODAY()))<=45),INT(YEARFRAC(G20,TODAY())),"")
F21: {=IF( ISBLANK(D21), "", IF( COUNTIF(Settings!G$1:G$609, D21) = 1, INDEX(Settings!H$1:H$609, MATCH(D21, Settings!G$1:G$609, 0)), IFERROR( INDEX(Settings!H$1:H$609, MATCH(1, (Settings!G$1:G$609=D21) * (Settings!D$1:D$609=E21), 0 ) ), "" ) ) )} | AA21: =IF(C21="","",IF(S21="","ні","так")) | AE21: =IF(INT(YEARFRAC(G21,TODAY()))<=30,INT(YEARFRAC(G21,TODAY())),"") | AF21: =IF(AND(INT(YEARFRAC(G21,TODAY()))>=31,INT(YEARFRAC(G21,TODAY()))<=35),INT(YEARFRAC(G21,TODAY())),"") | AG21: =IF(AND(INT(YEARFRAC(G21,TODAY()))>=36,INT(YEARFRAC(G21,TODAY()))<=40),INT(YEARFRAC(G21,TODAY())),"") | AH21: =IF(AND(INT(YEARFRAC(G21,TODAY()))>=41,INT(YEARFRAC(G21,TODAY()))<=45),INT(YEARFRAC(G21,TODAY())),"")
F22: {=IF( ISBLANK(D22), "", IF( COUNTIF(Settings!G$1:G$609, D22) = 1, INDEX(Settings!H$1:H$609, MATCH(D22, Settings!G$1:G$609, 0)), IFERROR( INDEX(Settings!H$1:H$609, MATCH(1, (Settings!G$1:G$609=D22) * (Settings!D$1:D$609=E22), 0 ) ), "" ) ) )} | AA22: =IF(C22="","",IF(S22="","ні","так")) | AE22: =IF(INT(YEARFRAC(G22,TODAY()))<=30,INT(YEARFRAC(G22,TODAY())),"") | AF22: =IF(AND(INT(YEARFRAC(G22,TODAY()))>=31,INT(YEARFRAC(G22,TODAY()))<=35),INT(YEARFRAC(G22,TODAY())),"") | AG22: =IF(AND(INT(YEARFRAC(G22,TODAY()))>=36,INT(YEARFRAC(G22,TODAY()))<=40),INT(YEARFRAC(G22,TODAY())),"") | AH22: =IF(AND(INT(YEARFRAC(G22,TODAY()))>=41,INT(YEARFRAC(G22,TODAY()))<=45),INT(YEARFRAC(G22,TODAY())),"")
F23: {=IF( ISBLANK(D23), "", IF( COUNTIF(Settings!G$1:G$609, D23) = 1, INDEX(Settings!H$1:H$609, MATCH(D23, Settings!G$1:G$609, 0)), IFERROR( INDEX(Settings!H$1:H$609, MATCH(1, (Settings!G$1:G$609=D23) * (Settings!D$1:D$609=E23), 0 ) ), "" ) ) )} | AA23: =IF(C23="","",IF(S23="","ні","так")) | AE23: =IF(INT(YEARFRAC(G23,TODAY()))<=30,INT(YEARFRAC(G23,TODAY())),"") | AF23: =IF(AND(INT(YEARFRAC(G23,TODAY()))>=31,INT(YEARFRAC(G23,TODAY()))<=35),INT(YEARFRAC(G23,TODAY())),"") | AG23: =IF(AND(INT(YEARFRAC(G23,TODAY()))>=36,INT(YEARFRAC(G23,TODAY()))<=40),INT(YEARFRAC(G23,TODAY())),"") | AH23: =IF(AND(INT(YEARFRAC(G23,TODAY()))>=41,INT(YEARFRAC(G23,TODAY()))<=45),INT(YEARFRAC(G23,TODAY())),"")
F24: {=IF( ISBLANK(D24), "", IF( COUNTIF(Settings!G$1:G$609, D24) = 1, INDEX(Settings!H$1:H$609, MATCH(D24, Settings!G$1:G$609, 0)), IFERROR( INDEX(Settings!H$1:H$609, MATCH(1, (Settings!G$1:G$609=D24) * (Settings!D$1:D$609=E24), 0 ) ), "" ) ) )} | AA24: =IF(C24="","",IF(S24="","ні","так")) | AE24: =IF(INT(YEARFRAC(G24,TODAY()))<=30,INT(YEARFRAC(G24,TODAY())),"") | AF24: =IF(AND(INT(YEARFRAC(G24,TODAY()))>=31,INT(YEARFRAC(G24,TODAY()))<=35),INT(YEARFRAC(G24,TODAY())),"") | AG24: =IF(AND(INT(YEARFRAC(G24,TODAY()))>=36,INT(YEARFRAC(G24,TODAY()))<=40),INT(YEARFRAC(G24,TODAY())),"") | AH24: =IF(AND(INT(YEARFRAC(G24,TODAY()))>=41,INT(YEARFRAC(G24,TODAY()))<=45),INT(YEARFRAC(G24,TODAY())),"")
F25: {=IF( ISBLANK(D25), "", IF( COUNTIF(Settings!G$1:G$609, D25) = 1, INDEX(Settings!H$1:H$609, MATCH(D25, Settings!G$1:G$609, 0)), IFERROR( INDEX(Settings!H$1:H$609, MATCH(1, (Settings!G$1:G$609=D25) * (Settings!D$1:D$609=E25), 0 ) ), "" ) ) )} | AA25: =IF(C25="","",IF(S25="","ні","так")) | AE25: =IF(INT(YEARFRAC(G25,TODAY()))<=30,INT(YEARFRAC(G25,TODAY())),"") | AF25: =IF(AND(INT(YEARFRAC(G25,TODAY()))>=31,INT(YEARFRAC(G25,TODAY()))<=35),INT(YEARFRAC(G25,TODAY())),"") | AG25: =IF(AND(INT(YEARFRAC(G25,TODAY()))>=36,INT(YEARFRAC(G25,TODAY()))<=40),INT(YEARFRAC(G25,TODAY())),"") | AH25: =IF(AND(INT(YEARFRAC(G25,TODAY()))>=41,INT(YEARFRAC(G25,TODAY()))<=45),INT(YEARFRAC(G25,TODAY())),"")
... F161: {=IF( ISBLANK(D161), "", IF( COUNTIF(Settings!G$1:G$609, D161) = 1, INDEX(Settings!H$1:H$609, MATCH(D161, Settings!G$1:G$609, 0)), IFERROR( INDEX(Settings!H$1:H$609, MATCH(1, (Settings!G$1:G$609=D161) * (Settings!D$1:D$609=E161), 0 ) ), "" ) ) )} | AA161: =IF(C161="","",IF(S161="","ні","так")) | AE161: =IF(INT(YEARFRAC(G161,TODAY()))<=30,INT(YEARFRAC(G161,TODAY())),"") | AF161: =IF(AND(INT(YEARFRAC(G161,TODAY()))>=31,INT(YEARFRAC(G161,TODAY()))<=35),INT(YEARFRAC(G161,TODAY())),"") | AG161: =IF(AND(INT(YEARFRAC(G161,TODAY()))>=36,INT(YEARFRAC(G161,TODAY()))<=40),INT(YEARFRAC(G161,TODAY())),"") | AH161: =IF(AND(INT(YEARFRAC(G161,TODAY()))>=41,INT(YEARFRAC(G161,TODAY()))<=45),INT(YEARFRAC(G161,TODAY())),"")
AE162: =IF(INT(YEARFRAC(G162,TODAY()))<=30,INT(YEARFRAC(G162,TODAY())),"") | AF162: =IF(AND(INT(YEARFRAC(G162,TODAY()))>=31,INT(YEARFRAC(G162,TODAY()))<=35),INT(YEARFRAC(G162,TODAY())),"") | AG162: =IF(AND(INT(YEARFRAC(G162,TODAY()))>=36,INT(YEARFRAC(G162,TODAY()))<=40),INT(YEARFRAC(G162,TODAY())),"") | AH162: =IF(AND(INT(YEARFRAC(G162,TODAY()))>=41,INT(YEARFRAC(G162,TODAY()))<=45),INT(YEARFRAC(G162,TODAY())),"")
AE163: =IF(INT(YEARFRAC(G163,TODAY()))<=30,INT(YEARFRAC(G163,TODAY())),"") | AF163: =IF(AND(INT(YEARFRAC(G163,TODAY()))>=31,INT(YEARFRAC(G163,TODAY()))<=35),INT(YEARFRAC(G163,TODAY())),"") | AG163: =IF(AND(INT(YEARFRAC(G163,TODAY()))>=36,INT(YEARFRAC(G163,TODAY()))<=40),INT(YEARFRAC(G163,TODAY())),"") | AH163: =IF(AND(INT(YEARFRAC(G163,TODAY()))>=41,INT(YEARFRAC(G163,TODAY()))<=45),INT(YEARFRAC(G163,TODAY())),"")
AE164: =IF(INT(YEARFRAC(G164,TODAY()))<=30,INT(YEARFRAC(G164,TODAY())),"") | AF164: =IF(AND(INT(YEARFRAC(G164,TODAY()))>=31,INT(YEARFRAC(G164,TODAY()))<=35),INT(YEARFRAC(G164,TODAY())),"") | AG164: =IF(AND(INT(YEARFRAC(G164,TODAY()))>=36,INT(YEARFRAC(G164,TODAY()))<=40),INT(YEARFRAC(G164,TODAY())),"") | AH164: =IF(AND(INT(YEARFRAC(G164,TODAY()))>=41,INT(YEARFRAC(G164,TODAY()))<=45),INT(YEARFRAC(G164,TODAY())),"")
AE165: =IF(INT(YEARFRAC(G165,TODAY()))<=30,INT(YEARFRAC(G165,TODAY())),"") | AF165: =IF(AND(INT(YEARFRAC(G165,TODAY()))>=31,INT(YEARFRAC(G165,TODAY()))<=35),INT(YEARFRAC(G165,TODAY())),"") | AG165: =IF(AND(INT(YEARFRAC(G165,TODAY()))>=36,INT(YEARFRAC(G165,TODAY()))<=40),INT(YEARFRAC(G165,TODAY())),"") | AH165: =IF(AND(INT(YEARFRAC(G165,TODAY()))>=41,INT(YEARFRAC(G165,TODAY()))<=45),INT(YEARFRAC(G165,TODAY())),"")
AE166: =IF(INT(YEARFRAC(G166,TODAY()))<=30,INT(YEARFRAC(G166,TODAY())),"") | AF166: =IF(AND(INT(YEARFRAC(G166,TODAY()))>=31,INT(YEARFRAC(G166,TODAY()))<=35),INT(YEARFRAC(G166,TODAY())),"") | AG166: =IF(AND(INT(YEARFRAC(G166,TODAY()))>=36,INT(YEARFRAC(G166,TODAY()))<=40),INT(YEARFRAC(G166,TODAY())),"") | AH166: =IF(AND(INT(YEARFRAC(G166,TODAY()))>=41,INT(YEARFRAC(G166,TODAY()))<=45),INT(YEARFRAC(G166,TODAY())),"")
AE167: =IF(INT(YEARFRAC(G167,TODAY()))<=30,INT(YEARFRAC(G167,TODAY())),"") | AF167: =IF(AND(INT(YEARFRAC(G167,TODAY()))>=31,INT(YEARFRAC(G167,TODAY()))<=35),INT(YEARFRAC(G167,TODAY())),"") | AG167: =IF(AND(INT(YEARFRAC(G167,TODAY()))>=36,INT(YEARFRAC(G167,TODAY()))<=40),INT(YEARFRAC(G167,TODAY())),"") | AH167: =IF(AND(INT(YEARFRAC(G167,TODAY()))>=41,INT(YEARFRAC(G167,TODAY()))<=45),INT(YEARFRAC(G167,TODAY())),"")
AE168: =IF(INT(YEARFRAC(G168,TODAY()))<=30,INT(YEARFRAC(G168,TODAY())),"") | AF168: =IF(AND(INT(YEARFRAC(G168,TODAY()))>=31,INT(YEARFRAC(G168,TODAY()))<=35),INT(YEARFRAC(G168,TODAY())),"") | AG168: =IF(AND(INT(YEARFRAC(G168,TODAY()))>=36,INT(YEARFRAC(G168,TODAY()))<=40),INT(YEARFRAC(G168,TODAY())),"") | AH168: =IF(AND(INT(YEARFRAC(G168,TODAY()))>=41,INT(YEARFRAC(G168,TODAY()))<=45),INT(YEARFRAC(G168,TODAY())),"")
AE169: =IF(INT(YEARFRAC(G169,TODAY()))<=30,INT(YEARFRAC(G169,TODAY())),"") | AF169: =IF(AND(INT(YEARFRAC(G169,TODAY()))>=31,INT(YEARFRAC(G169,TODAY()))<=35),INT(YEARFRAC(G169,TODAY())),"") | AG169: =IF(AND(INT(YEARFRAC(G169,TODAY()))>=36,INT(YEARFRAC(G169,TODAY()))<=40),INT(YEARFRAC(G169,TODAY())),"") | AH169: =IF(AND(INT(YEARFRAC(G169,TODAY()))>=41,INT(YEARFRAC(G169,TODAY()))<=45),INT(YEARFRAC(G169,TODAY())),"")
AE170: =IF(INT(YEARFRAC(G170,TODAY()))<=30,INT(YEARFRAC(G170,TODAY())),"") | AF170: =IF(AND(INT(YEARFRAC(G170,TODAY()))>=31,INT(YEARFRAC(G170,TODAY()))<=35),INT(YEARFRAC(G170,TODAY())),"") | AG170: =IF(AND(INT(YEARFRAC(G170,TODAY()))>=36,INT(YEARFRAC(G170,TODAY()))<=40),INT(YEARFRAC(G170,TODAY())),"") | AH170: =IF(AND(INT(YEARFRAC(G170,TODAY()))>=41,INT(YEARFRAC(G170,TODAY()))<=45),INT(YEARFRAC(G170,TODAY())),"")
AE171: =IF(INT(YEARFRAC(G171,TODAY()))<=30,INT(YEARFRAC(G171,TODAY())),"") | AF171: =IF(AND(INT(YEARFRAC(G171,TODAY()))>=31,INT(YEARFRAC(G171,TODAY()))<=35),INT(YEARFRAC(G171,TODAY())),"") | AG171: =IF(AND(INT(YEARFRAC(G171,TODAY()))>=36,INT(YEARFRAC(G171,TODAY()))<=40),INT(YEARFRAC(G171,TODAY())),"") | AH171: =IF(AND(INT(YEARFRAC(G171,TODAY()))>=41,INT(YEARFRAC(G171,TODAY()))<=45),INT(YEARFRAC(G171,TODAY())),"")
AE172: =IF(INT(YEARFRAC(G172,TODAY()))<=30,INT(YEARFRAC(G172,TODAY())),"") | AF172: =IF(AND(INT(YEARFRAC(G172,TODAY()))>=31,INT(YEARFRAC(G172,TODAY()))<=35),INT(YEARFRAC(G172,TODAY())),"") | AG172: =IF(AND(INT(YEARFRAC(G172,TODAY()))>=36,INT(YEARFRAC(G172,TODAY()))<=40),INT(YEARFRAC(G172,TODAY())),"") | AH172: =IF(AND(INT(YEARFRAC(G172,TODAY()))>=41,INT(YEARFRAC(G172,TODAY()))<=45),INT(YEARFRAC(G172,TODAY())),"")
AE173: =IF(INT(YEARFRAC(G173,TODAY()))<=30,INT(YEARFRAC(G173,TODAY())),"") | AF173: =IF(AND(INT(YEARFRAC(G173,TODAY()))>=31,INT(YEARFRAC(G173,TODAY()))<=35),INT(YEARFRAC(G173,TODAY())),"") | AG173: =IF(AND(INT(YEARFRAC(G173,TODAY()))>=36,INT(YEARFRAC(G173,TODAY()))<=40),INT(YEARFRAC(G173,TODAY())),"") | AH173: =IF(AND(INT(YEARFRAC(G173,TODAY()))>=41,INT(YEARFRAC(G173,TODAY()))<=45),INT(YEARFRAC(G173,TODAY())),"")
... AE500: =IF(INT(YEARFRAC(G500,TODAY()))<=30,INT(YEARFRAC(G500,TODAY())),"") | AF500: =IF(AND(INT(YEARFRAC(G500,TODAY()))>=31,INT(YEARFRAC(G500,TODAY()))<=35),INT(YEARFRAC(G500,TODAY())),"") | AG500: =IF(AND(INT(YEARFRAC(G500,TODAY()))>=36,INT(YEARFRAC(G500,TODAY()))<=40),INT(YEARFRAC(G500,TODAY())),"") | AH500: =IF(AND(INT(YEARFRAC(G500,TODAY()))>=41,INT(YEARFRAC(G500,TODAY()))<=45),INT(YEARFRAC(G500,TODAY())),"")

Sheet Settings
A1: базова загальна середня | C1: Придатний до військової служби | J1: Вінницька | K1: солдат | L1: Військово-обліковий документ
A2: повна загальна середня | C2: Придатний до служби в частинах забезпечення, ТЦК та СП | E2: Вінниця | F2: 1 відділ Хмільницький РТЦК | G2: першого відділу Хмільницького районного | H2: Вінницька | I2: Вінницького ОТЦК та СП | J2: Волинь | K2: старший солдат | L2: Військовий квиток
A3: професійно- технічна | C3: Придатний до військової служби в ДШВ | E3: Вінниця | F3: 2 відділ Хмільницький РТЦК | G3: другого відділу Хмільницького районного | H3: Вінницька | I3: Вінницького ОТЦК та СП | J3: Дніпро | K3: молодший сержант | L3: Посвідчення про приписку до призовної дільниці
A4: вища | C4: Придатний до військової служби за контрактом в ДШВ | E4: Вінниця | F4: 7 відділ Вінницький РТЦК | G4: сьомого відділу Вінницького районного | H4: Вінницька | I4: Вінницького ОТЦК та СП | J4: Донецьк | K4: сержант
E5: Вінниця | F5: Вінницький ОМТЦК | G5: Вінницького об'єднаного міського | H5: Вінницька | I5: Вінницького ОТЦК та СП | J5: Житомир | K5: старший сержант
E6: Вінниця | F6: 1 відділ Вінницький РТЦК | G6: першого відділу Вінницького районного | H6: Вінницька | I6: Вінницького ОТЦК та СП | J6: Закарпаття | K6: матрос
E7: Вінниця | F7: 1 відділ Жмеринський РТЦК | G7: першого відділу Жмеринського районного | H7: Вінницька | I7: Вінницького ОТЦК та СП | J7: Запоріжжя
E8: Вінниця | F8: Тульчинський РТЦК | G8: Тульчинського районного | H8: Вінницька | I8: Вінницького ОТЦК та СП | J8: Івано-Франківськ
E9: Вінниця | F9: Хмільницький РТЦК | G9: Хмільницького районного | H9: Вінницька | I9: Вінницького ОТЦК та СП | J9: Київ місто
E10: Вінниця | F10: 1 відділ Могилів-Подільський РТЦК | G10: першого відділу Могилів-Подільського районного | H10: Вінницька | I10: Вінницького ОТЦК та СП | J10: Київ обл
E11: Вінниця | F11: 1 відділ Тульчинський РТЦК | G11: першого відділу Тульчинського районного | H11: Вінницька | I11: Вінницького ОТЦК та СП | J11: Кропивницький
E12: Вінниця | F12: 2 відділ Вінницький РТЦК | G12: другого відділу Вінницького районного | H12: Вінницька | I12: Вінницького ОТЦК та СП | J12: Луганськ
E13: Вінниця | F13: 2 відділ Жмеринський РТЦК | G13: другого відділу Жмеринського районного | H13: Вінницька | I13: Вінницького ОТЦК та СП | J13: Львів
E14: Вінниця | F14: 2 відділ Могилів-Подільський РТЦК | G14: другого відділу Могилів-Подільського районного | H14: Вінницька | I14: Вінницького ОТЦК та СП | J14: Миколаїв
E15: Вінниця | F15: 2 відділ Тульчинський РТЦК | G15: другого відділу Тульчинського районного | H15: Вінницька | I15: Вінницького ОТЦК та СП | J15: Одеса
E16: Вінниця | F16: 3 відділ Вінницький РТЦК | G16: третього відділу Вінницького районного | H16: Вінницька | I16: Вінницького ОТЦК та СП | J16: Полтава
E17: Вінниця | F17: 3 відділ Могилів-Подільський РТЦК | G17: третього відділу Могилів-Подільського районного | H17: Вінницька | I17: Вінницького ОТЦК та СП | J17: Рівне
E18: Вінниця | F18: 3 відділ Тульчинський РТЦК | G18: третього відділу Тульчинського районного | H18: Вінницька | I18: Вінницького ОТЦК та СП | J18: Суми
... E25: Вінниця | F25: Жмеринський РТЦК | G25: Жмеринського районного | H25: Вінницька | I25: Вінницького ОТЦК та СП | J25: Чернігів
E26: Вінниця | F26: Могилів-Подільський РТЦК | G26: Могилів-Подільського районного | H26: Вінницька | I26: Вінницького ОТЦК та СП
E27: Волинь | F27: 1 відділ Камінь-Каширський РТЦК | G27: першого відділу Камінь-Каширського районного | H27: Волинська | I27: Волинського ОТЦК та СП
E28: Волинь | F28: 1 відділ Ковельський РТЦК | G28: першого відділу Ковельського районного | H28: Волинська | I28: Волинського ОТЦК та СП
E29: Волинь | F29: 2 відділ Ковельський РТЦК | G29: другого відділу Ковельського районного | H29: Волинська | I29: Волинського ОТЦК та СП
E30: Волинь | F30: 4 відділ Ковельський РТЦК | G30: четвертого відділу Ковельського районного | H30: Волинська | I30: Волинського ОТЦК та СП
E31: Волинь | F31: 3 відділ Ковельський РТЦК | G31: третього відділу Ковельського районного | H31: Волинська | I31: Волинського ОТЦК та СП
E32: Волинь | F32: Луцький ОМТЦК | G32: Луцького об'єднаного міського | H32: Волинська | I32: Волинського ОТЦК та СП
E33: Волинь | F33: 2 відділ Камінь-Каширський РТЦК | G33: другого відділу Камінь-Каширського районного | H33: Волинська | I33: Волинського ОТЦК та СП
E34: Волинь | F34: 1 відділ Луцький РТЦК | G34: першого відділу Луцького районного | H34: Волинська | I34: Волинського ОТЦК та СП
E35: Волинь | F35: 2 відділ Луцький РТЦК | G35: другого відділу Луцького районного | H35: Волинська | I35: Волинського ОТЦК та СП
E36: Волинь | F36: Волинський ОТЦК | G36: Волинського обласного | H36: Волинська | I36: Волинського ОТЦК та СП
E37: Волинь | F37: 2 відділ Володимир-Волинський РТЦК | G37: другого відділу Володимир-Волинського районного | H37: Волинська | I37: Волинського ОТЦК та СП
... E53: Дніпро | F53: 2 відділ Дніпровського РТЦК та СП | G53: другого відділу Дніпровського районного | H53: Дніпропетровська | I53: Дніпропетровського ОТЦК та СП
D54: міста Дніпра | E54: Дніпро | F54: Дніпровський РТЦК та СП | G54: Дніпровського районного | H54: Дніпропетровська | I54: Дніпропетровського ОТЦК та СП
D55: міста Дніпра | E55: Дніпро | F55: Індустріальний РТЦК та СП | G55: Індустріального районного | H55: Дніпропетровська | I55: Дніпропетровського ОТЦК та СП
E56: Дніпро | F56: Кам'янського РТЦК та СП | G56: Кам'янського районного | H56: Дніпропетровська | I56: Дніпропетровського ОТЦК та СП
E57: Дніпро | F57: 2 відділ Криворізького РТЦК та СП | G57: другого відділу Криворізького районного | H57: Дніпропетровська | I57: Дніпропетровського ОТЦК та СП
E58: Дніпро | F58: Криворізький РТЦК та СП | G58: Криворізького районного | H58: Дніпропетровська | I58: Дніпропетровського ОТЦК та СП
E59: Дніпро | F59: 2 відділ Синельниківського РТЦК та СП | G59: другого відділу Синельниківського районного | H59: Дніпропетровська | I59: Дніпропетровського ОТЦК та СП
E60: Дніпро | F60: Новокодацький РТЦК та СП | G60: Новокодацького районного | H60: Дніпропетровська | I60: Дніпропетровського ОТЦК та СП
E61: Дніпро | F61: Покровсько-Тернівський РТЦК та СП | G61: Покровсько-Тернівського районного | H61: Дніпропетровська | I61: Дніпропетровського ОТЦК та СП
E62: Дніпро | F62: Самарський РТЦК та СП | G62: Самарського районного | H62: Дніпропетровська | I62: Дніпропетровського ОТЦК та СП
E63: Дніпро | F63: Соборний РТЦК та СП | G63: Соборного районного | H63: Дніпропетровська | I63: Дніпропетровського ОТЦК та СП
E64: Дніпро | F64: 3 відділ Дніпровського РТЦК та СП | G64: третього відділу Дніпровського районного | H64: Дніпропетровська | I64: Дніпропетровського ОТЦК та СП
D65: міста Дніпра | E65: Дніпро | F65: Шевченківський РТЦК та СП | G65: Шевченківського районного | H65: Дніпропетровська | I65: Дніпропетровського ОТЦК та СП
E66: Дніпро | F66: 3 відділ Криворізького РТЦК та СП | G66: третього відділу Криворізького районного | H66: Дніпропетровська | I66: Дніпропетровського ОТЦК та СП
E67: Дніпро | F67: 3 відділ Нікопольський РТЦК та СП | G67: третього відділу Нікопольського районного | H67: Дніпропетровська | I67: Дніпропетровського ОТЦК та СП
E68: Дніпро | F68: 3 відділ Нікопольського РТЦК та СП | G68: третього відділу Нікопольського районного | H68: Дніпропетровська | I68: Дніпропетровського ОТЦК та СП
E69: Дніпро | F69: 3 відділ Синельниківського РТЦК та СП | G69: третього відділу Синельниківського районного | H69: Дніпропетровська | I69: Дніпропетровського ОТЦК та СП
E70: Дніпро | F70: 4 відділ Синельниківського РТЦК та СП | G70: четвертого відділу Синельниківського районного | H70: Дніпропетровська | I70: Дніпропетровського ОТЦК та СП
E71: Дніпро | F71: 5 відділ Синельниківського РТЦК та СП | G71: п'ятого відділу Синельниківського районного | H71: Дніпропетровська | I71: Дніпропетровського ОТЦК та СП
E72: Дніпро | F72: Дніпровський ОТЦК та СП | G72: Дніпровського обласного | H72: Дніпропетровська | I72: Дніпропетровського ОТЦК та СП
E73: Дніпро | F73: Інгулецький ОРТЦК та СП | G73: Інгулецького об'єднаного районного | H73: Дніпропетровська | I73: Дніпропетровського ОТЦК та СП
E74: Дніпро | F74: Криворізький РТЦК та СП | G74: Криворізького районного | H74: Дніпропетровська | I74: Дніпропетровського ОТЦК та СП
E75: Дніпро | F75: Металургійно-Довгинцівський ОРТЦК та СП | G75: Металургійно-Довгинцівського об'єднаного районного | H75: Дніпропетровська | I75: Дніпропетровського ОТЦК та СП
E76: Дніпро | F76: Нікопольський РТЦК та СП | G76: Нікопольського районного | H76: Дніпропетровська | I76: Дніпропетровського ОТЦК та СП
E77: Дніпро | F77: Новомосковський РТЦК та СП | G77: Новомосковського районного | H77: Дніпропетровська | I77: Дніпропетровського ОТЦК та СП
... E130: Запоріжжя | F130: Василівський РТЦК та СП | G130: Василівського районного | H130: Запорізька | I130: Запорізького ОТЦК та СП
D131: міста Запоріжжя | E131: Запоріжжя | F131: Заводський РТЦК та СП | G131: Заводського районного | H131: Запорізька | I131: Запорізького ОТЦК та СП
E132: Запоріжжя | F132: Запорізький РТЦК та СП | G132: Запорізького районного | H132: Запорізька | I132: Запорізького ОТЦК та СП
E133: Запоріжжя | F133: Комунарський РТЦК та СП | G133: Комунарського районного | H133: Запорізька | I133: Запорізького ОТЦК та СП
E134: Запоріжжя | F134: 1 відділ Мелітопольський РТЦК та СП | G134: першого відділу Мелітопольського районного | H134: Запорізька | I134: Запорізького ОТЦК та СП
E135: Запоріжжя | F135: Мелітопольський РТЦК та СП | G135: Мелітопольського районного | H135: Запорізька | I135: Запорізького ОТЦК та СП
E136: Запоріжжя | F136: Пологівський РТЦК та СП | G136: Пологівського районного | H136: Запорізька | I136: Запорізького ОТЦК та СП
E137: Запоріжжя | F137: Хортицький РТЦК та СП | G137: Хортицького районного | H137: Запорізька | I137: Запорізького ОТЦК та СП
E138: Запоріжжя | F138: Центральний ОРТЦК та СП | G138: Центрального об'єднаного районного | H138: Запорізька | I138: Запорізького ОТЦК та СП
D139: міста Запоріжжя | E139: Запоріжжя | F139: Шевченківський РТЦК та СП | G139: Шевченківського районного | H139: Запорізька | I139: Запорізького ОТЦК та СП
E140: Івано-Франківськ | F140: 1 відділ Івано-Франківський РТЦК | G140: першого відділу Івано-Франківського районного | H140: Івано-Франківська | I140: Івано-Франківського ОТЦК та СП
E141: Івано-Франківськ | F141: 1 відділ Калуський РТЦК | G141: першого відділу Калуського районного | H141: Івано-Франківська | I141: Івано-Франківського ОТЦК та СП
E142: Івано-Франківськ | F142: 1 відділ Коломийський РТЦК | G142: першого відділу Коломийського районного | H142: Івано-Франківська | I142: Івано-Франківського ОТЦК та СП
E143: Івано-Франківськ | F143: 2 відділ Івано-Франківський РТЦК | G143: другого відділу Івано-Франківського районного | H143: Івано-Франківська | I143: Івано-Франківського ОТЦК та СП
E144: Івано-Франківськ | F144: 2 відділ Калуський РТЦК | G144: другого відділу Калуського районного | H144: Івано-Франківська | I144: Івано-Франківського ОТЦК та СП
E145: Івано-Франківськ | F145: 2 відділ Коломийський РТЦК | G145: другого відділу Коломийського районного | H145: Івано-Франківська | I145: Івано-Франківського ОТЦК та СП
E146: Івано-Франківськ | F146: 3 відділ Івано-Франківський РТЦК | G146: третього відділу Івано-Франківського районного | H146: Івано-Франківська | I146: Івано-Франківського ОТЦК та СП
E147: Івано-Франківськ | F147: 4 відділ Івано-Франківський РТЦК | G147: четвертого відділу Івано-Франківського районного | H147: Івано-Франківська | I147: Івано-Франківського ОТЦК та СП
E148: Івано-Франківськ | F148: Верховинський РТЦК | G148: Верховинського районного | H148: Івано-Франківська | I148: Івано-Франківського ОТЦК та СП
E149: Івано-Франківськ | F149: Івано-Франківський МТЦК | G149: Івано-Франківського міського | H149: Івано-Франківська | I149: Івано-Франківського ОТЦК та СП
E150: Івано-Франківськ | F150: Івано-Франківський ОТЦК | G150: Івано-Франківського обласного | H150: Івано-Франківська | I150: Івано-Франківського ОТЦК та СП
E151: Івано-Франківськ | F151: Івано-Франківський РТЦК | G151: Івано-Франківського районного | H151: Івано-Франківська | I151: Івано-Франківського ОТЦК та СП
... E158: Київ місто | F158: Деснянський РТЦК | G158: Деснянського районного | H158: Київ місто | I158: Київського МТЦК та СП
D159: міста Києва | E159: Київ місто | F159: Дніпровський РТЦК | G159: Дніпровського районного | H159: Київ місто | I159: Київського МТЦК та СП
E160: Київ місто | F160: Оболонський РТЦК | G160: Оболонського районного | H160: Київ місто | I160: Київського МТЦК та СП
E161: Київ місто | F161: Печерський РТЦК | G161: Печерського районного | H161: Київ місто | I161: Київського МТЦК та СП
D162: міста Києва | E162: Київ місто | F162: Подільський РТЦК | G162: Подільського районного | H162: Київ місто | I162: Київського МТЦК та СП
E163: Київ місто | F163: Святошинський РТЦК | G163: Святошинського районного | H163: Київ місто | I163: Київського МТЦК та СП
E164: Київ місто | F164: Солом'янський РТЦК | G164: Солом'янського районного | H164: Київ місто | I164: Київського МТЦК та СП
D165: міста Києва | E165: Київ місто | F165: Шевченківський РТЦК | G165: Шевченківського районного | H165: Київ місто | I165: Київського МТЦК та СП
E166: Київ обл | F166: 1 відділ Бориспільський РТЦК | G166: першого відділу Бориспільського районного | H166: Київ обл | I166: Київського ОТЦК та СП
E167: Київ обл | F167: 1 відділ Бучанський РТЦК | G167: першого відділу Бучанського районного | H167: Київ обл | I167: Київського ОТЦК та СП
E168: Київ обл | F168: 1 відділ Вишгородський РТЦК | G168: першого відділу Вишгородського районного | H168: Київ обл | I168: Київського ОТЦК та СП
E169: Київ обл | F169: 1 відділ Обухівський РТЦК | G169: першого відділу Обухівського районного | H169: Київ обл | I169: Київського ОТЦК та СП
E170: Київ обл | F170: 1 відділ Білоцерківський РТЦК | G170: першого відділу Білоцерківського районного | H170: Київ обл | I170: Київського ОТЦК та СП
E171: Київ обл | F171: 2 відділ Білоцерківський РТЦК | G171: другого відділу Білоцерківського районного | H171: Київ обл | I171: Київського ОТЦК та СП
E172: Київ обл | F172: 2 відділ Бориспільський РТЦК | G172: другого відділу Бориспільського районного | H172: Київ обл | I172: Київського ОТЦК та СП
E173: Київ обл | F173: 2 відділ Броварський РТЦК | G173: другого відділу Броварського районного | H173: Київ обл | I173: Київського ОТЦК та СП
E174: Київ обл | F174: 2 відділ Бучанський РТЦК | G174: другого відділу Бучанського районного | H174: Київ обл | I174: Київського ОТЦК та СП
E175: Київ обл | F175: 2 відділ Вишгородський РТЦК | G175: другого відділу Вишгородського районного | H175: Київ обл | I175: Київського ОТЦК та СП
E176: Київ обл | F176: 2 відділ Обухівський РТЦК | G176: другого відділу Обухівського районного | H176: Київ обл | I176: Київського ОТЦК та СП
E177: Київ обл | F177: 3 відділ Білоцерківський РТЦК | G177: третього відділу Білоцерківського районного | H177: Київ обл | I177: Київського ОТЦК та СП
... E238: Львів | F238: Червоноградський РТЦК | G238: Червоноградського районного | H238: Львівська | I238: Львівського ОТЦК та СП
D239: міста Львова | E239: Львів | F239: Шевченківський РТЦК | G239: Шевченківського районного | H239: Львівська | I239: Львівського ОТЦК та СП
...

Sheet перевірки
A2: Ахоян Артур Вазирович | C2: =Основний!C12 -> Теньов Михайло Віталійович | E2: =C2=G2 -> FALSE
A3: Байрактар Василь Романович | C3: =Основний!C13 -> Гривцов Дмитро Андрійович | E3: =C3=G3 -> FALSE
A4: Берлев Юлій Денисович | C4: =Основний!C14 -> 0 | E4: =C4=G4 -> TRUE
A5: Біндіч Ігор Євгенійович | C5: =Основний!C15 -> 0 | E5: =C5=G5 -> TRUE
A6: Борщ Іван Вікторович | C6: =Основний!C16 -> 0 | E6: =C6=G6 -> TRUE
A7: Бурачковський Максим Олегович | C7: =Основний!C17 -> 0 | E7: =C7=G7 -> TRUE
A8: Бургела Олександр Олександрович | C8: =Основний!C18 -> 0 | E8: =C8=G8 -> TRUE
A9: Войцишин Володимир Іванович | C9: =Основний!C19 -> 0 | E9: =C9=G9 -> TRUE
A10: Воложанінов Дмитро Юрійович | C10: =Основний!C20 -> 0 | E10: =C10=G10 -> TRUE
A11: Гавучак Петро Петрович | C11: =Основний!C21 -> 0 | E11: =C11=G11 -> TRUE
A12: Ган Іван Петрович | C12: =Основний!C22 -> 0 | E12: =C12=G12 -> TRUE
A13: Григоренко Артур Юрійович | C13: =Основний!C23 -> 0 | E13: =C13=G13 -> TRUE
... A54: Штереверя Сергій Анатолійович | C54: =Основний!C64 -> 0 | E54: =C54=G54 -> TRUE
C55: =Основний!C65 -> 0 | E55: =C55=G55 -> TRUE
C56: =Основний!C66 -> 0 | E56: =C56=G56 -> TRUE
C57: =Основний!C67 -> 0 | E57: =C57=G57 -> TRUE
C58: =Основний!C68 -> 0 | E58: =C58=G58 -> TRUE
C59: =Основний!C69 -> 0 | E59: =C59=G59 -> TRUE
C60: =Основний!C70 -> 0 | E60: =C60=G60 -> TRUE
C61: =Основний!C71 -> 0 | E61: =C61=G61 -> TRUE
C62: =Основний!C72 -> 0 | E62: =C62=G62 -> TRUE
C63: =Основний!C73 -> 0 | E63: =C63=G63 -> TRUE
C64: =Основний!C74 -> 0 | E64: =C64=G64 -> TRUE
C65: =Основний!C75 -> 0 | E65: =C65=G65 -> TRUE
C66: =Основний!C76 -> 0 | E66: =C66=G66 -> TRUE
... C93: =Основний!C103 -> 0 | E93: =C93=G93 -> TRUE
C94: =Основний!C104 -> 0
C95: =Основний!C105 -> 0
C96: =Основний!C106 -> 0
C97: =Основний!C107 -> 0
C98: =Основний!C108 -> 0
C99: =Основний!C109 -> 0
C100: =Основний!C110 -> 0
C101: =Основний!C111 -> 0
C102: =Основний!C112 -> 0
C103: =Основний!C113 -> 0
C104: =Основний!C114 -> 0
C105: =Основний!C115 -> 0
C106: =Основний!C116 -> 0

Sheet Перевірка
A1: {=Основний!A10:A181} -> № з/п | B1: {=CONCATENATE("", Основний!C10:C181)} -> 2 | C1: {=CONCATENATE("", TEXT(Основний!G10:G181,"dd.mm.yyyy"))} -> Дата народження | D1: {=CONCATENATE("", Основний!H10:H181)} -> ідентифікаційний код | E1: Перевірка | F1: {=CONCATENATE("", Основний!J10:J181)} -> Номер додумента (військовий квиток, приписне, тимчасове посвідчення) | G1: Перевірка | H1: {=CONCATENATE("", Основний!K10:K181)} -> Паспорт, ким і коли виданий | I1: Перевірка | J1: Алфавітка | K1: Д = А | L1: Поіменний Список | M1: Д = ПС | N1: А = ПС
A2: 0 | C2: 00.01.1900 | J2: - | K2: - | L2: - | M2: - | N2: - | O2: =DATEVALUE(C2) <> INT(LEFT(D2,5)) +1 -> #VALUE!
A3: 1 | B3: Теньов Михайло Віталійович | C3: 26.10.2001 | D3: 3718906110 | E3: =IF(D3="", "", LEN(D3)) -> 10 | F3: №171020249340449460311 Первомайський РТЦК та СП (в Миколаївській обл.) 17.04.2025 | G3: =IF(F3="", "", LEN(F3)) -> 81 | H3: 007795096 виданий 8025 18.06.2022 | I3: =IF(H3="", "", LEN(H3)) -> 33 | J3: Антоненко Руслан Олександрович | K3: =IF(J3="", "", B3=J3) -> FALSE | M3: =IF(L3="", "", B3=L3) | N3: =IF(L3="", "", J3=L3) | O3: =DATEVALUE(C3) <> INT(LEFT(D3,5)) +1 -> FALSE | P3: =DATEVALUE(C3) -> 37190
A4: 2 | B4: Гривцов Дмитро Андрійович | C4: 17.07.2003 | D4: 3781802819 | E4: =IF(D4="", "", LEN(D4)) -> 10 | F4: Г-7/03 Миколаївський РВК Миколаївської обл. 28.01.2020 | G4: =IF(F4="", "", LEN(F4)) -> 54 | H4: 009312616 виданий 4812 27.06.2023 | I4: =IF(H4="", "", LEN(H4)) -> 33 | J4: Баранов Дмитро Геннадійович | K4: =IF(J4="", "", B4=J4) -> FALSE | M4: =IF(L4="", "", B4=L4) | N4: =IF(L4="", "", J4=L4) | O4: =DATEVALUE(C4) <> INT(LEFT(D4,5)) +1 -> FALSE
A5: 0 | C5: 00.01.1900 | E5: =IF(D5="", "", LEN(D5)) | G5: =IF(F5="", "", LEN(F5)) | I5: =IF(H5="", "", LEN(H5)) | J5: Боровик Юрій Володимирович | K5: =IF(J5="", "", B5=J5) -> FALSE | M5: =IF(L5="", "", B5=L5) | N5: =IF(L5="", "", J5=L5) | O5: =DATEVALUE(C5) <> INT(LEFT(D5,5)) +1 -> #VALUE!
A6: 0 | C6: 00.01.1900 | E6: =IF(D6="", "", LEN(D6)) | G6: =IF(F6="", "", LEN(F6)) | I6: =IF(H6="", "", LEN(H6)) | J6: Горбатенко Олександр Олегович | K6: =IF(J6="", "", B6=J6) -> FALSE | M6: =IF(L6="", "", B6=L6) | N6: =IF(L6="", "", J6=L6)
A7: 0 | C7: 00.01.1900 | E7: =IF(D7="", "", LEN(D7)) | G7: =IF(F7="", "", LEN(F7)) | I7: =IF(H7="", "", LEN(H7)) | J7: Жестовський Сергій Сергійович | K7: =IF(J7="", "", B7=J7) -> FALSE | M7: =IF(L7="", "", B7=L7) | N7: =IF(L7="", "", J7=L7)
A8: 0 | C8: 00.01.1900 | E8: =IF(D8="", "", LEN(D8)) | G8: =IF(F8="", "", LEN(F8)) | I8: =IF(H8="", "", LEN(H8)) | J8: Ісаков Олександр Сергійович | K8: =IF(J8="", "", B8=J8) -> FALSE | M8: =IF(L8="", "", B8=L8) | N8: =IF(L8="", "", J8=L8)
A9: 0 | C9: 00.01.1900 | E9: =IF(D9="", "", LEN(D9)) | G9: =IF(F9="", "", LEN(F9)) | I9: =IF(H9="", "", LEN(H9)) | J9: Клімчук Олександр Олександрович | K9: =IF(J9="", "", B9=J9) -> FALSE | M9: =IF(L9="", "", B9=L9) | N9: =IF(L9="", "", J9=L9)
A10: 0 | C10: 00.01.1900 | E10: =IF(D10="", "", LEN(D10)) | G10: =IF(F10="", "", LEN(F10)) | I10: =IF(H10="", "", LEN(H10)) | J10: Колесніков Сергій Сергійович | K10: =IF(J10="", "", B10=J10) -> FALSE | M10: =IF(L10="", "", B10=L10) | N10: =IF(L10="", "", J10=L10)
A11: 0 | C11: 00.01.1900 | E11: =IF(D11="", "", LEN(D11)) | G11: =IF(F11="", "", LEN(F11)) | I11: =IF(H11="", "", LEN(H11)) | J11: Опанасюк Ігор Петрович | K11: =IF(J11="", "", B11=J11) -> FALSE | M11: =IF(L11="", "", B11=L11) | N11: =IF(L11="", "", J11=L11)
A12: 0 | C12: 00.01.1900 | E12: =IF(D12="", "", LEN(D12)) | G12: =IF(F12="", "", LEN(F12)) | I12: =IF(H12="", "", LEN(H12)) | J12: Ручин Дмитро Вікторович | K12: =IF(J12="", "", B12=J12) -> FALSE | M12: =IF(L12="", "", B12=L12) | N12: =IF(L12="", "", J12=L12)
A13: 0 | C13: 00.01.1900 | E13: =IF(D13="", "", LEN(D13)) | G13: =IF(F13="", "", LEN(F13)) | I13: =IF(H13="", "", LEN(H13)) | J13: Солоденко Анатолій Сергійович | K13: =IF(J13="", "", B13=J13) -> FALSE | M13: =IF(L13="", "", B13=L13) | N13: =IF(L13="", "", J13=L13)
A14: 0 | C14: 00.01.1900 | E14: =IF(D14="", "", LEN(D14)) | G14: =IF(F14="", "", LEN(F14)) | I14: =IF(H14="", "", LEN(H14)) | J14: Фістікан Василь Петрович | K14: =IF(J14="", "", B14=J14) -> FALSE | M14: =IF(L14="", "", B14=L14) | N14: =IF(L14="", "", J14=L14)
A15: 0 | C15: 00.01.1900 | E15: =IF(D15="", "", LEN(D15)) | G15: =IF(F15="", "", LEN(F15)) | I15: =IF(H15="", "", LEN(H15)) | J15: Чабан Михайло Григорович | K15: =IF(J15="", "", B15=J15) -> FALSE | M15: =IF(L15="", "", B15=L15) | N15: =IF(L15="", "", J15=L15)
A16: 0 | C16: 00.01.1900 | E16: =IF(D16="", "", LEN(D16)) | G16: =IF(F16="", "", LEN(F16)) | I16: =IF(H16="", "", LEN(H16)) | K16: =IF(J16="", "", B16=J16) | M16: =IF(L16="", "", B16=L16) | N16: =IF(L16="", "", J16=L16)
A17: 0 | C17: 00.01.1900 | E17: =IF(D17="", "", LEN(D17)) | G17: =IF(F17="", "", LEN(F17)) | I17: =IF(H17="", "", LEN(H17)) | K17: =IF(J17="", "", B17=J17) | M17: =IF(L17="", "", B17=L17) | N17: =IF(L17="", "", J17=L17)
A18: 0 | C18: 00.01.1900 | E18: =IF(D18="", "", LEN(D18)) | G18: =IF(F18="", "", LEN(F18)) | I18: =IF(H18="", "", LEN(H18)) | K18: =IF(J18="", "", B18=J18) | M18: =IF(L18="", "", B18=L18) | N18: =IF(L18="", "", J18=L18)
A19: 0 | C19: 00.01.1900 | E19: =IF(D19="", "", LEN(D19)) | G19: =IF(F19="", "", LEN(F19)) | I19: =IF(H19="", "", LEN(H19)) | K19: =IF(J19="", "", B19=J19) | M19: =IF(L19="", "", B19=L19) | N19: =IF(L19="", "", J19=L19)
A20: 0 | C20: 00.01.1900 | E20: =IF(D20="", "", LEN(D20)) | G20: =IF(F20="", "", LEN(F20)) | I20: =IF(H20="", "", LEN(H20)) | K20: =IF(J20="", "", B20=J20) | M20: =IF(L20="", "", B20=L20) | N20: =IF(L20="", "", J20=L20)
A21: 0 | C21: 00.01.1900 | E21: =IF(D21="", "", LEN(D21)) | G21: =IF(F21="", "", LEN(F21)) | I21: =IF(H21="", "", LEN(H21)) | K21: =IF(J21="", "", B21=J21) | M21: =IF(L21="", "", B21=L21) | N21: =IF(L21="", "", J21=L21)
A22: 0 | C22: 00.01.1900 | E22: =IF(D22="", "", LEN(D22)) | G22: =IF(F22="", "", LEN(F22)) | I22: =IF(H22="", "", LEN(H22)) | K22: =IF(J22="", "", B22=J22) | M22: =IF(L22="", "", B22=L22) | N22: =IF(L22="", "", J22=L22)
A23: 0 | C23: 00.01.1900 | E23: =IF(D23="", "", LEN(D23)) | G23: =IF(F23="", "", LEN(F23)) | I23: =IF(H23="", "", LEN(H23)) | K23: =IF(J23="", "", B23=J23) | M23: =IF(L23="", "", B23=L23) | N23: =IF(L23="", "", J23=L23)
A24: 0 | C24: 00.01.1900 | E24: =IF(D24="", "", LEN(D24)) | G24: =IF(F24="", "", LEN(F24)) | I24: =IF(H24="", "", LEN(H24)) | K24: =IF(J24="", "", B24=J24) | M24: =IF(L24="", "", B24=L24) | N24: =IF(L24="", "", J24=L24)
A25: 0 | C25: 00.01.1900 | E25: =IF(D25="", "", LEN(D25)) | G25: =IF(F25="", "", LEN(F25)) | I25: =IF(H25="", "", LEN(H25)) | K25: =IF(J25="", "", B25=J25) | M25: =IF(L25="", "", B25=L25) | N25: =IF(L25="", "", J25=L25)
A26: 0 | C26: 00.01.1900 | E26: =IF(D26="", "", LEN(D26)) | G26: =IF(F26="", "", LEN(F26)) | I26: =IF(H26="", "", LEN(H26)) | K26: =IF(J26="", "", B26=J26) | M26: =IF(L26="", "", B26=L26) | N26: =IF(L26="", "", J26=L26)
A27: 0 | C27: 00.01.1900 | E27: =IF(D27="", "", LEN(D27)) | G27: =IF(F27="", "", LEN(F27)) | I27: =IF(H27="", "", LEN(H27)) | K27: =IF(J27="", "", B27=J27) | M27: =IF(L27="", "", B27=L27) | N27: =IF(L27="", "", J27=L27)
... A172: 0 | C172: 00.01.1900 | E172: =IF(D172="", "", LEN(D172)) | G172: =IF(F172="", "", LEN(F172)) | I172: =IF(H172="", "", LEN(H172)) | K172: =IF(J172="", "", B172=J172) | M172: =IF(L172="", "", B172=L172) | N172: =IF(L172="", "", J172=L172)
E173: =IF(D173="", "", LEN(D173)) | G173: =IF(F173="", "", LEN(F173)) | I173: =IF(H173="", "", LEN(H173)) | K173: =IF(J173="", "", B173=J173) | M173: =IF(L173="", "", B173=L173) | N173: =IF(L173="", "", J173=L173)
E174: =IF(D174="", "", LEN(D174)) | G174: =IF(F174="", "", LEN(F174)) | I174: =IF(H174="", "", LEN(H174)) | K174: =IF(J174="", "", B174=J174) | M174: =IF(L174="", "", B174=L174) | N174: =IF(L174="", "", J174=L174)
E175: =IF(D175="", "", LEN(D175)) | G175: =IF(F175="", "", LEN(F175)) | I175: =IF(H175="", "", LEN(H175)) | K175: =IF(J175="", "", B175=J175) | M175: =IF(L175="", "", B175=L175) | N175: =IF(L175="", "", J175=L175)
E176: =IF(D176="", "", LEN(D176)) | G176: =IF(F176="", "", LEN(F176)) | I176: =IF(H176="", "", LEN(H176)) | K176: =IF(J176="", "", B176=J176) | M176: =IF(L176="", "", B176=L176) | N176: =IF(L176="", "", J176=L176)
E177: =IF(D177="", "", LEN(D177)) | G177: =IF(F177="", "", LEN(F177)) | I177: =IF(H177="", "", LEN(H177)) | K177: =IF(J177="", "", B177=J177) | M177: =IF(L177="", "", B177=L177) | N177: =IF(L177="", "", J177=L177)
E178: =IF(D178="", "", LEN(D178)) | G178: =IF(F178="", "", LEN(F178)) | I178: =IF(H178="", "", LEN(H178)) | K178: =IF(J178="", "", B178=J178) | M178: =IF(L178="", "", B178=L178) | N178: =IF(L178="", "", J178=L178)
E179: =IF(D179="", "", LEN(D179)) | G179: =IF(F179="", "", LEN(F179)) | I179: =IF(H179="", "", LEN(H179)) | K179: =IF(J179="", "", B179=J179) | M179: =IF(L179="", "", B179=L179) | N179: =IF(L179="", "", J179=L179)
E180: =IF(D180="", "", LEN(D180)) | G180: =IF(F180="", "", LEN(F180)) | I180: =IF(H180="", "", LEN(H180)) | K180: =IF(J180="", "", B180=J180) | M180: =IF(L180="", "", B180=L180) | N180: =IF(L180="", "", J180=L180)
E181: =IF(D181="", "", LEN(D181)) | G181: =IF(F181="", "", LEN(F181)) | I181: =IF(H181="", "", LEN(H181)) | K181: =IF(J181="", "", B181=J181) | M181: =IF(L181="", "", B181=L181) | N181: =IF(L181="", "", J181=L181)
E182: =IF(D182="", "", LEN(D182)) | G182: =IF(F182="", "", LEN(F182)) | I182: =IF(H182="", "", LEN(H182)) | K182: =IF(J182="", "", B182=J182) | M182: =IF(L182="", "", B182=L182) | N182: =IF(L182="", "", J182=L182)
E183: =IF(D183="", "", LEN(D183)) | G183: =IF(F183="", "", LEN(F183)) | I183: =IF(H183="", "", LEN(H183)) | K183: =IF(J183="", "", B183=J183) | M183: =IF(L183="", "", B183=L183) | N183: =IF(L183="", "", J183=L183)
E184: =IF(D184="", "", LEN(D184)) | G184: =IF(F184="", "", LEN(F184)) | I184: =IF(H184="", "", LEN(H184)) | K184: =IF(J184="", "", B184=J184) | M184: =IF(L184="", "", B184=L184) | N184: =IF(L184="", "", J184=L184)
... E202: =IF(D202="", "", LEN(D202)) | G202: =IF(F202="", "", LEN(F202)) | I202: =IF(H202="", "", LEN(H202)) | K202: =IF(J202="", "", B202=J202) | M202: =IF(L202="", "", B202=L202) | N202: =IF(L202="", "", J202=L202)
K203: =IF(J203="", "", B203=J203)
K204: =IF(J204="", "", B204=J204)
K205: =IF(J205="", "", B205=J205)
K206: =IF(J206="", "", B206=J206)
K207: =IF(J207="", "", B207=J207)
K208: =IF(J208="", "", B208=J208)
K209: =IF(J209="", "", B209=J209)
K210: =IF(J210="", "", B210=J210)
K211: =IF(J211="", "", B211=J211)
K212: =IF(J212="", "", B212=J212)
K213: =IF(J213="", "", B213=J213)
K214: =IF(J214="", "", B214=J214)
... K627: =IF(J627="", "", B627=J627)

Sheet Аркуш1
C2: `=MOD(MOD(-MID(D2;1;1) + MID(D2;2;1)*5 + MID(D2;3;1)*7 + MID(D2;4;1)*9 + MID(D2;5;1)*4 + MID(D2;6;1)*6 + MID(D2;7;1)*10 + MID(D2;8;1)*5 + MID(D2;9;1)*7; 11);10) <> VALUE( MID(D2;10;1))
C6: `=DATEVALUE( C2) <> INT(LEFT(D2;5)) +1

Sheet Алфавітки
A1: № з/п | B1: В/звання | D1: Місце народження | E1: адреса (фактична) | F1: Освіта | G1: склад сім’ї | H1: № телефону
A2: 1 | B2: солдат | C2: Антоненко Руслан Олександрович | D2: Миколаївська обл. Миколаївський р-н, с. Весняне | E2: м. Миколаїв вул. Айвазовського буд. 6 кв. 809-809 | F2: середня-спеціальна, ПТУ №1 м. Миколаїв 2005 судобудівельник, зварювальник (права категорії Б, ФОП Парус, будівельник 18р.) | G2: Розлучений Мати: Калага Лідія Миронівна, м. Миколаїв вул. Айвазовського буд. 6 кв. 809-809, 0663420925 | H2: 660263238
A3: 8 | B3: солдат | C3: Баранов Дмитро Генащдійович | D3: с. Кірове Базарський р-н Херсонської обл. | E3: Херсонської обл. Базарський р-н, с. Олександрівка вул. Мельнична 5 | F3: середньо-спеціальна Судобудівельний ліцей 2018р. Зварювальник Содозбірник (Категорія прав Б, С1, С, СЕ, далекобійник 4р.) | G3: неодружений Батько: Баранов Генадій Анатолійович Херсонської обл. Базарський р-н, с. Олександрівка вул. Мельнична 5, тел. 0668290286 | H3: 505059149
A4: 12 | B4: солдат | C4: Боровик Юрій Володимирович | D4: м. Миколаїв | E4: м. Миколаїв вул. Восьма Лінія буд. 68 | F4: середньо-спеціальна Теплодарський професійний ліцей 2011р. Кухар (категорія прав Б, автоелектрик 1р) | G4: цивільний шлюб Цивільна дружина: Голубченко Юлія Вадимівна, м. Миколаїв вул. Восьма Лінія буд. 68, тел. 0950975840 | H4: 993803701
A5: 7 | B5: солдат | C5: Горбатенко Олександр Олегович | D5: м. Миколаїв | E5: м. Миколаїв вул. Архітектора Староба 3 кв.1 | F5: повна середня ЗОШ № 64 2009р.(кухар 7р) | G5: неодружений Бабуся: Горбатенко Людмила Іванівна м. Миколаїв вул. Архітектора Староба 6б кв. 24, тел. 0966366295 | H5: 677153559
A6: 4 | B6: солдат | C6: Жестовський Сергій Сергійович | D6: Миколаївська обл. Первомайський р-н, с. Новопавлівка | E6: Миколаївська обл. Первомайський р-н, с. Новопавлівка вул. Роднікова 18 | F6: середньо-спеціальна Одеський професійний ліцей морського транспорту 2008р. електрозварювальник (категорія прав Б, Будівельник 2р.) | G6: Одружений Дружина: Жестовська Ірина Анатоліївна Миколаївська обл. Первомайський р-н, с. Новопавлівка вул. Роднікова 18, 0974890880 | H6: 683977036
A7: 6 | B7: солдат | C7: Ісаков Олександ Сергійович | D7: Кропивницька обл. Новоархангельський р-н с. Скалівські Хутори | E7: Миколаївська обл. Баштанський р-н с. Поляне, вул. Садова, буд. 22 | F7: середньо-спеціальна ЧПБЛ №4 2013р. Маляр-штукатур (Фермерське господарство немировський) | G7: Одружений Дружина: Ісакова Оксана Миколаївна, Миколаївська обл. Баштанський р-н с. Поляне, вул. Садова, буд. 22, тел. 0988180989 | H7: 682269805
A8: 13 | B8: солдат | C8: Клімчкук Олександ Олександрович | D8: Вінницька обл. Хмільницький р-н, смт Бродецьке | E8: Вінницька обл. Хмільницький р-н, смт Бродецьке вул. Першотравнева 72 | F8: повна середня ЗОШ смт. Бродецьке 2007р. (Мясний мультикомплекс транспортувальник 1р.) | G8: одружений Дружина: Клімчук Алла Вадимівна, Вінницька обл. Хмільницький р-н, смт Бродецьке вул. Першотравнева 72, тел. 0631960845 | H8: 990631915
A9: 9 | B9: солдат | C9: Колесніков Сергій Сергійович | D9: с. Балтазарівка Чуплинський р-н, Херсонської обл. | E9: Микорлаївська обл. м. Первомайськ вул. Марія Демченка 33 | F9: середньо-спеціальна Електротехнічний ліцей №7 2013р.електрогазозварювальник (пожежний рятувальник 3р.) | G9: одружений Дружина: Колеснікова Ганна Миколаївна, Микорлаївська обл. м. Первомайськ вул. Марія Демченка 33, тел. 0683767312 | H9: 956741071
A10: 3 | B10: солдат | C10: Опанасюк Ігор Перрович | D10: Миколаївська обл. м. Новий Буг | E10: Миколаївська обл. Новобузький р-н с. Нова Хрестофорівка буд. 65 | F10: середньо-спеціальна Новобузький аграрний професійний ліцей 2013р. (права категорії Б, С, СЕ, Фермерське господарство Орбіта Водій) | G10: Розлучений Мати: Опанасюк Валентина Ігорівна, Миколаївська обл. Новобузький р-н с. Нова Хрестофорівка буд. 65, тел. 0508511843 | H10: 934248356
A11: 11 | B11: солдат | C11: Ручин Дмитро Вікторович | D11: Миколаївська обл. м. Баштанка | E11: Миколаївська обл. м. Баштанка вул. Грушевського 46 | F11: середньо-спеціальна ПТУ №9 м. Баштанка 2015р. Кухар (пекарня 1р) | G11: неодружений Мати: Дмитренко Алла Петрівна, Миколаївська обл. м. Баштанка вул. Грушевського 46, тел, 0636322801 | H11: 983438936
A12: 5 | B12: солдат | C12: Солоденко Анатолій Сергійович | D12: Миколаївська обл. Вознесенський р-н, с. Яструбинове | E12: Миколаївська обл. Вознесенський р-н, с. Яструбинове вул. Першотравнева 20 | F12: середньо-спеціальна ПТУ №18 2016р. будівельник (Гружчик 1р.) | G12: неодружений Сестрат: Черемуха Анастасія Сергіївна, тел. 0985362292 | H12: 938839470
A13: 2 | B13: солдат | C13: Фістікан Василь Петрович | D13: Миколаївська обл. Первомайський р-н, с. Софіївка | E13: Миколаївська обл. Первомайський р-н, с. Синюшин Брід, вул. Перемоги 38 | F13: середньо-спеціальна ПТУ №22 м. Первомайськ 2018р. Маляр-Штукатур (Сканувальник на новій пошті) | G13: Неодружений Мати: Фістікан Марія Вікторівна, Миколаївська обл. Первомайський р-н, с. Синюшин Брід, вул. Молодіжна 8, тел. 0967926486 | H13: 967927329
A14: 10 | B14: солдат | C14: Чабан Михайло Григорович | D14: Миколаївська обл. Березанського р-н, с. Новоподілля | E14: м. Миколаїв, 12 Повздовжня 47а, кв. 59 | F14: середньо-спеціальна ліцей №13 2012р. Автослюсар (СТО 9р) | G14: одружений Дружина: Чабан Влада Владиславівна, м. Миколаїв, 12 Повздовжня 47а, кв. 59, тел. 0971910656 | H14: 967953093
A15: 14 | B15: солдат
A16: 15 | B16: солдат
A17: 16 | B17: солдат
A18: 17 | B18: солдат
A19: 18 | B19: солдат
A20: 19 | B20: солдат
A21: 20 | B21: солдат
A22: 21 | B22: солдат
A23: 22 | B23: солдат
A24: 23 | B24: солдат
A25: 24 | B25: солдат
A26: 25 | B26: солдат
... A101: 100 | B101: солдат
